{"text_format":"1","workbook":"xlsx","n_sheets":4,"sheets":["Summary","Data","Checking","Result"],"not_rendered":{"charts":0,"images":1,"macros":1,"external_links":0,"defined_names":8,"comments":3,"pivot_tables":0},"unopened":[],"bounds":{"document_bytes":16777216,"sheet_cells":100000,"rows_first":2000,"rows_last":500,"rows_between":2000,"halvings":0,"cell_chars":16384,"cell_head_chars":4096},"cells_cut":0,"cells_raw":0,"read":"whole","date_system":"1900"}

{"sheet":"Summary","index":0,"n_rows":22583,"n_cols":38,"rows_kept":2250,"cut":true,"hidden":false,"merged":[[6,10,7,10],[3,9,3,13],[3,15,3,26],[3,28,3,37],[5,17,5,18],[5,21,5,23],[5,24,5,26],[5,32,5,37],[6,30,6,31],[6,11,7,11],[6,12,7,12],[6,13,7,13],[6,15,6,16],[6,19,6,20],[6,28,6,29],[6,0,7,0],[6,5,7,5],[6,6,7,6],[6,7,7,7],[6,9,7,9]],"bounds":{"rows_first":1000,"rows_last":250,"rows_between":1000,"halvings":1}}
["Report on eHR data quality"]
["Monitoring report on eHR cases (for eHR ISO use)"]
[]
[null,null,null,null,null,null,null,null,null,"Prepared by EHP4 Team",null,null,null,null,null,"Prepared by EHP11 Team",null,null,null,null,null,null,null,null,null,null,null,null,"Prepared by EHP4 Team"]
[]
[null,null,null,null,null,null,null,null,null,null,null,null,null,null,null,null,null,"Rejected reason",null,null,null,"Regraded reason",null,null,"Regraded level of data",null,null,null,null,null,null,null,"Regraded reason"]
["Date","HCP Full Name","HCP Short Name","HCP Type","HCP ID","Domain ","Data level","System ","Connection System","Total uploaded cases","Total rejected cases","Total cases display as L1 in EVE","Total cases display as L2 in EVE","Total cases display as L3 in EVE",null,"Total rejected cases",null,"Missed mandatory data","Fail validation rule","Total regraded cases",null,"Missed RT data","Missed Codex data","Missed Other data","Level 3 to 2","Level 3 to 1","Level 2 to 1",null,"Total success uploaded level 3 cases",null,"Total regraded cases \n(Level 3 to 2)",null,"Mis-match RT name","Inappropriate hierarchy","Mis-match RT code","Mis-match RT description","Mis-match codex code","Mis-match codex description"]
[null,null,null,null,null,null,null,null,null,null,null,null,null,null,null,"No.","%","No.","No.","No.","%","No.","No.","No.","Level 3 to 2","No.","No.",null,"No.","%","No.","%","No.","No.","No.","No.","No.","No."]
["13 Mar 2016 to 20 Mar 2016","DEPARTMENT OF HEALTH CIMS1","DH","DH",8658917541,"ADR",3,"Local system","Local System",{"$f":"SUM(K9:N9)","v":7},{"$f":"P9","v":0},null,1,6,null,{"$f":"SUM(R9:S9)","v":0},{"$f":"P9/J9","v":0},0,0,{"$f":"SUM(Y9:AA9)","v":1},{"$f":"T9/J9","v":0.14285714285714285},1,0,0,1,0,null,null,6,{"$f":"AC9/J9","v":0.8571428571428571},0,{"$f":"AE9/J9","v":0},0,null,0,0,0,0]
["13 Mar 2016 to 20 Mar 2016","DEPARTMENT OF HEALTH CIMS1","DH","DH",8658917541,"AL1",3,"Local system","Local System",7,0,null,2,5,null,0,0,0,0,2,0.2857142857142857,0,2,0,2,0,null,null,5,0.7142857142857143,0,0,0,null,0,0,0,0]
["13 Mar 2016 to 20 Mar 2016","DEPARTMENT OF HEALTH CIMS1","DH","DH",8658917541,"ENCTR",3,"Local system","Local System",489,0,null,0,489,null,0,0,0,0,0,0,0,0,0,null,null,null,null,496,1.0143149284253579,0,0,0,null,0,0,0,0]
["13 Mar 2016 to 20 Mar 2016","DEPARTMENT OF HEALTH CIMS1","DH","DH",8658917541,"IMMU",3,"Local system","Local System",98,0,0,1,97,null,0,0,0,0,1,1.020408163265306E-2,1,0,0,1,0,0,null,97,0.98979591836734693,0,0,0,null,0,0,0,0]
["13 Mar 2016 to 20 Mar 2016","DEPARTMENT OF HEALTH CIMS1","DH","DH",8658917541,"PROB",3,"Local system","Local System",231,0,null,10,221,null,0,0,0,0,10,4.3290043290043288E-2,10,0,0,10,0,null,null,221,0.95670995670995673,0,0,0,0,0,0,0,0]
["13 Mar 2016 to 20 Mar 2016","DEPARTMENT OF HEALTH CIMS1","DH","DH",8658917541,"PX",3,"Local system","Local System",131,0,null,1,130,null,0,0,0,0,1,7.6335877862595417E-3,1,0,0,1,0,null,null,130,0.99236641221374045,0,0,0,0,0,0,0,0]
["13 Mar 2016 to 20 Mar 2016","DEPARTMENT OF HEALTH CIMS1","DH","DH",8658917541,"RXO",3,"Local system","Local System",321,0,null,83,238,null,0,0,0,0,83,0.25856697819314639,83,0,0,83,0,null,null,238,0.74143302180685355,0,0,0,null,0,0,0,0]
["13 Mar 2016 to 20 Mar 2016","DR WONG CHUN POR","DR CP WONG CLINIC","SOLO",5528991274,"ENCTR",3,"Local system","Local System",4,0,null,0,4,null,0,0,0,0,0,0,0,0,0,null,null,null,null,4,1,0,0,0,null,0,0,0,0]
["13 Mar 2016 to 20 Mar 2016","DR WONG CHUN POR","DR CP WONG CLINIC","SOLO",5528991274,"PROB","3,2","Local system","Local System",1,0,null,0,1,null,0,0,0,0,0,0,0,0,0,0,0,null,null,1,1,0,0,0,0,0,0,0,0]
["13 Mar 2016 to 20 Mar 2016","DR WONG CHUN POR","DR CP WONG CLINIC","SOLO",5528991274,"RXO","3,2","Local system","Local System",1,0,null,0,1,null,0,0,0,0,0,0,0,0,0,0,0,null,null,1,1,0,0,0,null,0,0,0,0]
["13 Mar 2016 to 20 Mar 2016","HONG KONG ADVENTIST HOSPITAL - STUBBS ROAD","HK ADVENTIST - SR","PH",7029571085,"RXD",2,"Local system + LAAM","Local System",3,0,null,3,0,null,0,0,0,0,0,0,0,0,0,0,0,null,null,0,0,0,0,0,null,0,0,0,0]
["13 Mar 2016 to 20 Mar 2016","HONG KONG ADVENTIST HOSPITAL - TSUEN WAN","HK ADVENTIST - TW","PH",8909436562,"AL1",3,"Local system","Local System",2,0,null,0,2,null,0,0,0,0,0,0,0,0,0,0,0,null,null,2,1,0,0,0,null,0,0,0,0]
["13 Mar 2016 to 20 Mar 2016","HONG KONG ADVENTIST HOSPITAL - TSUEN WAN","HK ADVENTIST - TW","PH",8909436562,"RAD",2,"Local system","Local System",66,0,0,66,0,null,0,0,0,0,0,0,0,0,0,0,0,0,null,{"$f":"J21-P21-T21","v":66},1,0,0,0,null,0,0,0,0]
["13 Mar 2016 to 20 Mar 2016","HONG KONG ADVENTIST HOSPITAL - TSUEN WAN","HK ADVENTIST - TW","PH",8909436562,"RXD",2,"Local system","Local System",81,0,null,81,0,null,0,0,0,0,0,0,0,0,0,0,0,null,null,{"$f":"J22-P22-T22","v":81},1,0,0,0,null,0,0,0,0]
["13 Mar 2016 to 20 Mar 2016","THE HONG KONG POLYTECHNIC UNIVERSITY","POLYU","HCAI",4578805814,"ENCTR",3,"Local system","Local System",9,0,null,0,9,null,0,0,0,0,0,0,0,0,0,null,null,null,null,9,1,0,0,0,null,0,0,0,0]
["13 Mar 2016 to 20 Mar 2016","ST.TERESA's HOSPITAL","STH","PH",7969980015,"AL1",3,"Local system","Local System",7,0,null,1,6,null,0,0,0,0,1,0.14285714285714285,0,1,0,1,0,null,null,6,0.8571428571428571,0,0,0,null,0,0,0,0]
["13 Mar 2016 to 20 Mar 2016 Total",null,null,null,null,null,null,null,null,{"$f":"SUM(J9:J24)","v":1458},{"$f":"SUM(K9:K24)","v":0},{"$f":"SUM(L9:L24)","v":0},{"$f":"SUM(M9:M24)","v":249},{"$f":"SUM(N9:N24)","v":1209},null,{"$f":"SUM(P9:P24)","v":0},0,{"$f":"SUM(R9:R24)","v":0},{"$f":"SUM(S9:S24)","v":0},{"$f":"SUM(T9:T24)","v":99},6.7901234567901231E-2,{"$f":"SUM(V9:V24)","v":96},3,0,99,0,0,null,{"$f":"SUM(AC9:AC24)","v":1363},0.93484224965706442,{"$f":"SUM(AE9:AE24)","v":0},0,{"$f":"SUM(AG9:AG24)","v":0},null,{"$f":"SUM(AI9:AI24)","v":0},{"$f":"SUM(AJ9:AJ24)","v":0},{"$f":"SUM(AK9:AK24)","v":0},{"$f":"SUM(AL9:AL24)","v":0}]
["21 Mar 2016 to 27 Mar 2016","DEPARTMENT OF HEALTH CIMS1","DH","DH",8658917541,"ADR",3,"Local system","Local System",{"$f":"SUM(K26:N26)","v":5},{"$f":"P26","v":0},null,0,5,null,0,0,0,0,0,0,0,0,0,0,0,null,null,5,1,0,0,0,null,0,0,0,0]
["21 Mar 2016 to 27 Mar 2016","DEPARTMENT OF HEALTH CIMS1","DH","DH",8658917541,"AL1",3,"Local system","Local System",14,0,null,2,12,null,0,0,0,0,2,0.14285714285714285,0,2,0,2,0,null,null,12,0.8571428571428571,0,0,0,null,0,0,0,0]
["21 Mar 2016 to 27 Mar 2016","DEPARTMENT OF HEALTH CIMS1","DH","DH",8658917541,"ENCTR",3,"Local system","Local System",523,0,null,0,523,null,0,0,0,0,0,0,0,0,0,null,null,null,null,523,1,0,0,0,null,0,0,0,0]
["21 Mar 2016 to 27 Mar 2016","DEPARTMENT OF HEALTH CIMS1","DH","DH",8658917541,"IMMU",3,"Local system","Local System",59,0,0,3,56,null,0,0,0,0,3,5.0847457627118647E-2,3,0,0,3,0,0,null,56,0.94915254237288138,0,0,0,null,0,0,0,0]
["21 Mar 2016 to 27 Mar 2016","DEPARTMENT OF HEALTH CIMS1","DH","DH",8658917541,"PROB",3,"Local system","Local System",338,0,null,14,324,null,0,0,0,0,14,4.142011834319527E-2,14,0,0,14,0,null,null,324,0.95857988165680474,0,0,0,0,0,0,0,0]
["21 Mar 2016 to 27 Mar 2016","DEPARTMENT OF HEALTH CIMS1","DH","DH",8658917541,"PX",3,"Local system","Local System",122,0,null,1,121,null,0,0,0,0,1,8.1967213114754103E-3,1,0,0,1,0,null,null,121,0.99180327868852458,0,0,0,0,0,0,0,0]
["21 Mar 2016 to 27 Mar 2016","DEPARTMENT OF HEALTH CIMS1","DH","DH",8658917541,"RXO",3,"Local system","Local System",450,0,null,69,381,null,0,0,0,0,69,0.15333333333333332,69,0,0,69,0,null,null,381,0.84666666666666668,0,0,0,null,0,0,0,0]
["21 Mar 2016 to 27 Mar 2016","DR WONG CHUN POR","DR CP WONG CLINIC","SOLO",5528991274,"ENCTR",3,"Local system","Local System",5,0,null,0,5,null,0,0,0,0,0,0,0,0,0,null,null,null,null,5,1,0,0,0,null,0,0,0,0]
["21 Mar 2016 to 27 Mar 2016","DR WONG CHUN POR","DR CP WONG CLINIC","SOLO",5528991274,"PROB","3,2","Local system","Local System",20,0,null,0,20,null,0,0,0,0,0,0,0,0,0,0,0,null,null,20,1,0,0,0,0,0,0,0,0]
["21 Mar 2016 to 27 Mar 2016","DR WONG CHUN POR","DR CP WONG CLINIC","SOLO",5528991274,"RXD","3,2","Local system","Local System",9,0,null,0,9,null,0,0,0,0,0,0,0,0,0,0,0,null,null,9,1,0,0,0,null,0,0,0,0]
["21 Mar 2016 to 27 Mar 2016","DR WONG CHUN POR","DR CP WONG CLINIC","SOLO",5528991274,"RXO","3,2","Local system","Local System",10,0,null,0,10,null,0,0,0,0,0,0,0,0,0,0,0,null,null,10,1,0,0,0,null,0,0,0,0]
["21 Mar 2016 to 27 Mar 2016","HONG KONG ADVENTIST HOSPITAL - STUBBS ROAD","HK ADVENTIST - SR","PH",7029571085,"AL1",3,"Local system","Local System",1,0,null,0,1,null,0,0,0,0,0,0,0,0,0,0,0,null,null,1,1,0,0,0,null,0,0,0,0]
["21 Mar 2016 to 27 Mar 2016","HONG KONG ADVENTIST HOSPITAL - STUBBS ROAD","HK ADVENTIST - SR","PH",7029571085,"RAD",2,"Local system","Local System",6,0,0,6,0,null,0,0,0,0,0,0,0,0,0,0,0,null,null,0,0,0,0,0,null,0,0,0,0]
["21 Mar 2016 to 27 Mar 2016","HONG KONG ADVENTIST HOSPITAL - STUBBS ROAD","HK ADVENTIST - SR","PH",7029571085,"RXD",2,"Local system + LAAM","Local System",5,0,null,5,0,null,0,0,0,0,0,0,0,0,0,0,0,null,null,0,0,0,0,0,null,0,0,0,0]
["21 Mar 2016 to 27 Mar 2016","HONG KONG ADVENTIST HOSPITAL - TSUEN WAN","HK ADVENTIST - TW","PH",8909436562,"AL1",3,"Local system","Local System",5,0,null,1,4,null,0,0,0,0,0,0,0,0,0,0,0,null,null,4,0.8,0,0,0,null,0,0,0,0]
["21 Mar 2016 to 27 Mar 2016","HONG KONG ADVENTIST HOSPITAL - TSUEN WAN","HK ADVENTIST - TW","PH",8909436562,"RAD",2,"Local system","Local System",123,0,0,123,0,null,0,0,0,0,0,0,0,0,0,0,0,0,null,0,0,0,0,0,null,0,0,0,0]
["21 Mar 2016 to 27 Mar 2016","HONG KONG ADVENTIST HOSPITAL - TSUEN WAN","HK ADVENTIST - TW","PH",8909436562,"RXD",2,"Local system","Local System",45,0,null,45,0,null,0,0,0,0,0,0,0,0,0,0,0,null,null,0,0,0,0,0,null,0,0,0,0]
["21 Mar 2016 to 27 Mar 2016","THE HONG KONG POLYTECHNIC UNIVERSITY","POLYU","HCAI",4578805814,"ENCTR",3,"Local system","Local System",14,0,null,0,14,null,0,0,0,0,0,0,0,0,0,null,null,null,null,14,1,0,0,0,null,0,0,0,0]
["21 Mar 2016 to 27 Mar 2016","ST.TERESA's HOSPITAL","STH","PH",7969980015,"AL1",3,"Local system","Local System",13,0,null,8,5,null,0,0,0,0,8,0.61538461538461542,0,8,0,8,0,null,null,5,0.38461538461538464,0,0,0,null,0,0,0,0]
["21 Mar 2016 to 27 Mar 2016 Total",null,null,null,null,null,null,null,null,{"$f":"SUM(J26:J44)","v":1767},{"$f":"SUM(K26:K44)","v":0},{"$f":"SUM(L26:L44)","v":0},{"$f":"SUM(M26:M44)","v":277},{"$f":"SUM(N26:O44)","v":1490},null,{"$f":"SUM(P26:P44)","v":0},0,{"$f":"SUM(R26:R44)","v":0},{"$f":"SUM(S26:S44)","v":0},{"$f":"SUM(T26:T44)","v":97},5.4895302773061684E-2,{"$f":"SUM(V26:V44)","v":87},10,0,97,0,0,null,{"$f":"SUM(AC26:AC44)","v":1490},0.84323712507074133,{"$f":"SUM(AE26:AE44)","v":0},0,{"$f":"SUM(AG26:AG44)","v":0},null,{"$f":"SUM(AI26:AI44)","v":0},{"$f":"SUM(AJ26:AJ44)","v":0},{"$f":"SUM(AK26:AK44)","v":0},{"$f":"SUM(AL26:AL44)","v":0}]
["28 Mar 2016 to 3 Apr 2016","CHIRON HEALTHCARE GROUP LIMITED","CHIRON HEALTHCARE","GROUP",9451612824,"ENCTR",3,"Local system","Local System",{"$f":"SUM(K46:N46)","v":2},0,null,0,2,null,0,0,0,0,0,0,0,0,0,null,null,null,null,2,1,0,0,0,null,0,0,0,0]
["28 Mar 2016 to 3 Apr 2016","CHIRON HEALTHCARE GROUP LIMITED","CHIRON HEALTHCARE","GROUP",9451612824,"PROB","3,2","Local system","Local System",1,0,null,0,1,null,0,0,0,0,0,0,0,0,0,0,0,null,null,1,1,0,0,0,0,0,0,0,0]
["28 Mar 2016 to 3 Apr 2016","DEPARTMENT OF HEALTH CIMS1","DH","DH",8658917541,"ADR",3,"Local system","Local System",14,0,null,3,11,null,0,0,0,0,3,0.21428571428571427,3,0,0,3,0,null,null,11,0.7857142857142857,0,0,0,null,0,0,0,0]
["28 Mar 2016 to 3 Apr 2016","DEPARTMENT OF HEALTH CIMS1","DH","DH",8658917541,"AL1",3,"Local system","Local System",17,0,null,3,14,null,0,0,0,0,3,0.17647058823529413,0,3,0,3,0,null,null,14,0.82352941176470584,0,0,0,null,0,0,0,0]
["28 Mar 2016 to 3 Apr 2016","DEPARTMENT OF HEALTH CIMS1","DH","DH",8658917541,"ENCTR",3,"Local system","Local System",528,0,null,0,528,null,0,0,0,0,0,0,0,0,0,null,null,null,null,528,1,0,0,0,null,0,0,0,0]
["28 Mar 2016 to 3 Apr 2016","DEPARTMENT OF HEALTH CIMS1","DH","DH",8658917541,"IMMU",3,"Local system","Local System",189,0,0,5,184,null,0,0,0,0,5,2.6455026455026454E-2,5,0,0,5,0,0,null,184,0.97354497354497349,0,0,0,null,0,0,0,0]
["28 Mar 2016 to 3 Apr 2016","DEPARTMENT OF HEALTH CIMS1","DH","DH",8658917541,"PROB",3,"Local system","Local System",298,0,null,18,280,null,0,0,0,0,18,6.0402684563758392E-2,18,0,0,18,0,null,null,280,0.93959731543624159,0,0,0,0,0,0,0,0]
["28 Mar 2016 to 3 Apr 2016","DEPARTMENT OF HEALTH CIMS1","DH","DH",8658917541,"PX",3,"Local system","Local System",147,0,null,3,144,null,0,0,0,0,3,2.0408163265306121E-2,3,0,0,3,0,null,null,144,0.97959183673469385,0,0,0,0,0,0,0,0]
["28 Mar 2016 to 3 Apr 2016","DEPARTMENT OF HEALTH CIMS1","DH","DH",8658917541,"RXO",3,"Local system","Local System",429,0,null,94,335,null,0,0,0,0,94,0.21911421911421911,94,0,0,94,0,null,null,335,0.78088578088578087,0,0,0,null,0,0,0,0]
["28 Mar 2016 to 3 Apr 2016","DR WONG CHUN POR","DR CP WONG CLINIC","SOLO",5528991274,"ENCTR",3,"Local system","Local System",12,0,null,0,12,null,0,0,0,0,0,0,0,0,0,null,null,null,null,12,1,0,0,0,null,0,0,0,0]
["28 Mar 2016 to 3 Apr 2016","DR WONG CHUN POR","DR CP WONG CLINIC","SOLO",5528991274,"IMMU","3,2","Local system","Local System",2,0,0,2,0,null,0,0,0,0,0,0,0,0,0,0,0,0,null,0,0,0,0,0,null,0,0,0,0]
["28 Mar 2016 to 3 Apr 2016","DR WONG CHUN POR","DR CP WONG CLINIC","SOLO",5528991274,"PROB","3,2","Local system","Local System",23,0,null,1,22,null,0,0,0,0,0,0,0,0,0,0,0,null,null,22,0.95652173913043481,0,0,0,0,0,0,0,0]
["28 Mar 2016 to 3 Apr 2016","DR WONG CHUN POR","DR CP WONG CLINIC","SOLO",5528991274,"RXD","3,2","Local system","Local System",15,0,null,3,12,null,0,0,0,0,0,0,0,0,0,0,0,null,null,12,0.8,0,0,0,null,0,0,0,0]
["28 Mar 2016 to 3 Apr 2016","DR WONG CHUN POR","DR CP WONG CLINIC","SOLO",5528991274,"RXO","3,2","Local system","Local System",20,0,null,5,15,null,0,0,0,0,0,0,0,0,0,0,0,null,null,15,0.75,0,0,0,null,0,0,0,0]
["28 Mar 2016 to 3 Apr 2016","HONG KONG ADVENTIST HOSPITAL - STUBBS ROAD","HK ADVENTIST - SR","PH",7029571085,"RXD",2,"Local system + LAAM","Local System",4,0,null,4,0,null,0,0,0,0,0,0,0,0,0,0,0,null,null,0,0,0,0,0,null,0,0,0,0]
["28 Mar 2016 to 3 Apr 2016","HONG KONG ADVENTIST HOSPITAL - TSUEN WAN","HK ADVENTIST - TW","PH",8909436562,"AL1",3,"Local system","Local System",4,0,null,1,3,null,0,0,0,0,1,0.25,0,1,0,0,0,null,null,3,0.75,0,0,0,null,0,0,0,0]
["28 Mar 2016 to 3 Apr 2016","HONG KONG ADVENTIST HOSPITAL - TSUEN WAN","HK ADVENTIST - TW","PH",8909436562,"RAD",2,"Local system","Local System",105,0,0,105,0,null,0,0,0,0,0,0,0,0,0,0,0,0,null,0,0,0,0,0,null,0,0,0,0]
["28 Mar 2016 to 3 Apr 2016","HONG KONG ADVENTIST HOSPITAL - TSUEN WAN","HK ADVENTIST - TW","PH",8909436562,"RXD",2,"Local system","Local System",63,0,null,63,0,null,0,0,0,0,0,0,0,0,0,0,0,null,null,0,0,0,0,0,null,0,0,0,0]
["28 Mar 2016 to 3 Apr 2016","ST.TERESA's HOSPITAL","STH","PH",7969980015,"AL1",3,"Local system","Local System",2,0,null,1,1,null,0,0,0,0,1,0.5,0,1,0,1,0,0,null,1,0.5,0,0,0,null,0,0,0,0]
["28 Mar 2016 to 3 Apr 2016 Total",null,null,null,null,null,null,null,null,{"$f":"SUM(J46:J64)","v":1875},{"$f":"SUM(K46:K64)","v":0},{"$f":"SUM(L46:L64)","v":0},{"$f":"SUM(M46:M64)","v":311},{"$f":"SUM(N46:N64)","v":1564},null,{"$f":"SUM(P46:P64)","v":0},0,{"$f":"SUM(R46:R64)","v":0},{"$f":"SUM(S46:S64)","v":0},{"$f":"SUM(T46:T64)","v":128},6.826666666666667E-2,{"$f":"SUM(V46:V64)","v":123},5,0,127,0,0,null,{"$f":"SUM(AC46:AC64)","v":1564},0.83413333333333328,{"$f":"SUM(AE46:AE64)","v":0},0,{"$f":"SUM(AG46:AG64)","v":0},null,{"$f":"SUM(AI46:AI64)","v":0},{"$f":"SUM(AJ46:AJ64)","v":0},{"$f":"SUM(AK46:AK64)","v":0},{"$f":"SUM(AL46:AL64)","v":0}]
["4 Apr 2016 to 10 Apr 2016","DEPARTMENT OF HEALTH CIMS1","DH","DH",8658917541,"ADR",3,"Local system","Local System",{"$f":"SUM(K66:N66)","v":13},{"$f":"P66","v":0},null,2,11,null,0,0,0,0,{"$f":"SUM(Y66:AA66)","v":2},0.15384615384615385,2,0,0,2,0,null,null,11,0.84615384615384615,0,0,0,null,0,0,0,0]
["4 Apr 2016 to 10 Apr 2016","DEPARTMENT OF HEALTH CIMS1","DH","DH",8658917541,"AL1",3,"Local system","Local System",52,0,null,12,40,null,0,0,0,0,12,0.23076923076923078,0,12,0,12,0,null,null,40,0.76923076923076927,0,0,0,null,0,0,0,0]
["4 Apr 2016 to 10 Apr 2016","DEPARTMENT OF HEALTH CIMS1","DH","DH",8658917541,"ENCTR",3,"Local system","Local System",923,0,null,0,923,null,0,0,0,0,0,0,0,0,0,null,null,null,null,923,1,0,0,0,null,0,0,0,0]
["4 Apr 2016 to 10 Apr 2016","DEPARTMENT OF HEALTH CIMS1","DH","DH",8658917541,"IMMU",3,"Local system","Local System",278,0,0,12,266,null,0,0,0,0,12,4.3165467625899283E-2,12,0,0,12,0,0,null,266,0.95683453237410077,0,0,0,null,0,0,0,0]
["4 Apr 2016 to 10 Apr 2016","DEPARTMENT OF HEALTH CIMS1","DH","DH",8658917541,"PROB",3,"Local system","Local System",658,0,null,31,627,null,0,0,0,0,31,4.7112462006079027E-2,31,0,0,31,0,null,null,627,0.95288753799392101,0,0,0,0,0,0,0,0]
["4 Apr 2016 to 10 Apr 2016","DEPARTMENT OF HEALTH CIMS1","DH","DH",8658917541,"PX",3,"Local system","Local System",160,0,null,5,155,null,0,0,0,0,5,3.125E-2,5,0,0,5,0,null,null,155,0.96875,0,0,0,0,0,0,0,0]
["4 Apr 2016 to 10 Apr 2016","DEPARTMENT OF HEALTH CIMS1","DH","DH",8658917541,"RXO",3,"Local system","Local System",927,0,null,207,720,null,0,0,0,0,207,0.22330097087378642,207,0,0,207,0,null,null,720,0.77669902912621358,0,0,0,null,0,0,0,0]
["4 Apr 2016 to 10 Apr 2016","DR WONG CHUN POR","DR CP WONG CLINIC","SOLO",5528991274,"ENCTR",3,"Local system","Local System",36,0,null,0,36,null,0,{"$f":"P73/J73","v":0},0,0,0,{"$f":"T73/J73","v":0},0,0,0,null,null,null,null,36,{"$f":"AC73/J73","v":1},0,{"$f":"AE73/J73","v":0},0,null,0,0,0,0]
["4 Apr 2016 to 10 Apr 2016","DR WONG CHUN POR","DR CP WONG CLINIC","SOLO",5528991274,"PROB","3,2","Local system","Local System",131,0,null,0,131,null,0,0,0,0,0,0,0,0,0,0,0,null,null,131,1,0,0,0,0,0,0,0,0]
["4 Apr 2016 to 10 Apr 2016","DR WONG CHUN POR","DR CP WONG CLINIC","SOLO",5528991274,"RXD","3,2","Local system","Local System",162,0,null,30,132,null,0,0,0,0,0,0,0,0,0,0,0,null,null,132,0.81481481481481477,0,0,0,null,0,0,0,0]
["4 Apr 2016 to 10 Apr 2016","DR WONG CHUN POR","DR CP WONG CLINIC","SOLO",5528991274,"RXO","3,2","Local system","Local System",162,0,null,30,132,null,0,0,0,0,0,0,0,0,0,0,0,null,null,132,0.81481481481481477,0,0,0,null,0,0,0,0]
["4 Apr 2016 to 10 Apr 2016","EVANGEL HOSPITAL","EVANGEL HOSPITAL","PH",2206285885,"ENCTR","3,2","Local system","Local System",15,0,null,0,15,null,0,0,0,0,0,0,0,0,0,0,0,null,null,15,1,0,0,0,null,0,0,0,0]
["4 Apr 2016 to 10 Apr 2016","HONG KONG ADVENTIST HOSPITAL - STUBBS ROAD","HK ADVENTIST - SR","PH",7029571085,"RXD",2,"Local system + LAAM","Local System",10,0,null,10,0,null,0,0,0,0,0,0,0,0,0,0,0,null,null,0,0,0,0,0,null,0,0,0,0]
["4 Apr 2016 to 10 Apr 2016","HONG KONG ADVENTIST HOSPITAL - TSUEN WAN","HK ADVENTIST - TW","PH",8909436562,"AL1",3,"Local system","Local System",4,0,null,0,4,null,0,0,0,0,0,0,0,0,0,0,0,null,null,4,1,0,0,0,null,0,0,0,0]
["4 Apr 2016 to 10 Apr 2016","HONG KONG ADVENTIST HOSPITAL - TSUEN WAN","HK ADVENTIST - TW","PH",8909436562,"RAD",2,"Local system","Local System",93,0,0,93,0,null,0,0,0,0,0,0,0,0,0,0,0,0,null,0,0,0,0,0,null,0,0,0,0]
["4 Apr 2016 to 10 Apr 2016","HONG KONG ADVENTIST HOSPITAL - TSUEN WAN","HK ADVENTIST - TW","PH",8909436562,"RXD",2,"Local system","Local System",74,0,null,74,0,null,0,0,0,0,0,0,0,0,0,0,0,null,null,0,0,0,0,0,null,0,0,0,0]
["4 Apr 2016 to 10 Apr 2016","THE HONG KONG POLYTECHNIC UNIVERSITY","POLYU","HCAI",4578805814,"ENCTR",3,"Local system","Local System",76,0,null,0,76,null,0,0,0,0,0,0,0,0,0,0,0,null,null,76,1,0,0,0,null,0,0,0,0]
["4 Apr 2016 to 10 Apr 2016","ST. PAUL'S HOSPITAL","SPH","PH",5156724947,"ADR",3,"Local system","Local System",10,0,null,3,7,null,0,0,0,0,3,0.3,3,0,0,3,0,null,null,7,0.7,0,0,0,null,0,0,0,0]
["4 Apr 2016 to 10 Apr 2016","ST. PAUL'S HOSPITAL","SPH","PH",5156724947,"AL1",3,"Local system","Local System",32,0,null,19,13,null,0,0,0,0,17,0.53125,0,17,0,17,0,null,null,13,0.40625,2,6.25E-2,0,null,0,2,0,0]
["4 Apr 2016 to 10 Apr 2016","ST.TERESA's HOSPITAL","STH","PH",7969980015,"AL1",3,"Local system","Local System",10,0,null,4,6,null,0,0,0,0,4,0.4,0,4,0,4,0,0,null,6,0.6,0,0,0,null,0,0,0,0]
["4 Apr 2016 to 10 Apr 2016","UNION HOSPITAL","UNION HOSPITAL","PH",5712620300,"ADR",3,"Local system","Local System",1,0,null,0,1,null,0,0,0,0,0,0,0,0,0,0,0,0,null,1,1,0,0,0,null,0,0,0,0]
["4 Apr 2016 to 10 Apr 2016","UNION HOSPITAL","UNION HOSPITAL","PH",5712620300,"AL1",3,"Local system","Local System",50,0,null,30,20,null,0,0,0,0,29,0.57999999999999996,0,29,0,29,0,0,null,20,0.4,0,0,0,null,0,0,0,0]
["4 Apr 2016 to 10 Apr 2016 Total",null,null,null,null,null,null,null,null,{"$f":"SUM(J66:J87)","v":3877},{"$f":"SUM(K66:K87)","v":0},{"$f":"SUM(L66:L87)","v":0},{"$f":"SUM(M66:M87)","v":562},{"$f":"SUM(N66:N87)","v":3315},null,{"$f":"SUM(P66:P87)","v":0},0,{"$f":"SUM(R66:R87)","v":0},{"$f":"SUM(S66:S87)","v":0},{"$f":"SUM(T66:T87)","v":322},8.3053907660562296E-2,{"$f":"SUM(V66:V87)","v":260},62,0,322,0,0,null,{"$f":"SUM(AC66:AC87)","v":3315},0.85504255867939127,{"$f":"SUM(AE66:AE87)","v":2},5.1586278050038694E-4,{"$f":"SUM(AG66:AG87)","v":0},null,{"$f":"SUM(AI66:AI87)","v":0},{"$f":"SUM(AJ66:AJ87)","v":2},{"$f":"SUM(AK66:AK87)","v":0},{"$f":"SUM(AL66:AL87)","v":0}]
["11 Apr 2016 to 30 Apr 2016","CHIRON HEALTHCARE GROUP LIMITED","CHIRON HEALTHCARE","GROUP",9451612824,"ENCTR",3,"Local system","Local System",{"$f":"SUM(K89:N89)","v":2},{"$f":"P89","v":0},null,0,2,null,{"$f":"SUM(R89:S89)","v":0},0,0,0,0,0,0,0,0,null,null,null,null,2,1,0,0,0,null,0,0,0,0]
["11 Apr 2016 to 30 Apr 2016","CHIRON HEALTHCARE GROUP LIMITED","CHIRON HEALTHCARE","GROUP",9451612824,"PROB","3,2","Local system","Local System",1,0,null,0,1,null,0,0,0,0,0,0,0,0,0,null,null,null,null,1,1,0,0,0,0,0,0,0,0]
["11 Apr 2016 to 30 Apr 2016","DEPARTMENT OF HEALTH CIMS1","DH","DH",8658917541,"ADR",3,"Local system","Local System",94,0,null,17,77,null,0,0,0,0,{"$f":"SUM(Y91:AA91)","v":17},0.18085106382978725,16,1,0,17,0,null,null,77,0.81914893617021278,0,0,0,null,0,0,0,0]
["11 Apr 2016 to 30 Apr 2016","DEPARTMENT OF HEALTH CIMS1","DH","DH",8658917541,"AL1",3,"Local system","Local System",195,0,null,31,164,null,0,0,0,0,30,0.15384615384615385,0,30,0,30,0,null,null,164,0.84102564102564104,0,0,0,null,0,0,0,0]
["11 Apr 2016 to 30 Apr 2016","DEPARTMENT OF HEALTH CIMS1","DH","DH",8658917541,"ENCTR",3,"Local system","Local System",4879,0,null,0,4879,null,0,0,0,0,0,0,0,0,0,null,null,null,null,4879,1,0,0,0,null,0,0,0,0]
["11 Apr 2016 to 30 Apr 2016","DEPARTMENT OF HEALTH CIMS1","DH","DH",8658917541,"IMMU",3,"Local system","Local System",901,2,0,16,883,null,2,2.2197558268590455E-3,0,2,16,1.7758046614872364E-2,16,0,0,16,0,0,null,883,0.98002219755826858,0,0,0,null,0,0,0,0]
["11 Apr 2016 to 30 Apr 2016","DEPARTMENT OF HEALTH CIMS1","DH","DH",8658917541,"PROB",3,"Local system","Local System",3504,0,null,134,3370,null,0,0,0,0,134,3.8242009132420089E-2,134,0,0,134,0,null,null,3370,0.96175799086757996,0,0,0,0,0,0,0,0]
["11 Apr 2016 to 30 Apr 2016","DEPARTMENT OF HEALTH CIMS1","DH","DH",8658917541,"PX",3,"Local system","Local System",1439,0,null,29,1410,null,0,0,0,0,29,2.0152883947185545E-2,29,0,0,29,0,null,null,1410,0.97984711605281449,0,0,0,0,0,0,0,0]
["11 Apr 2016 to 30 Apr 2016","DEPARTMENT OF HEALTH CIMS1","DH","DH",8658917541,"RXO",3,"Local system","Local System",4740,1,null,969,3770,null,1,2.109704641350211E-4,1,0,969,0.20443037974683545,969,0,0,969,0,null,null,3770,0.79535864978902948,0,0,0,null,0,0,0,0]
["11 Apr 2016 to 30 Apr 2016","DR WONG CHUN POR","DR CP WONG CLINIC","SOLO",5528991274,"AL1","3,2","Local system","Local System",1,0,null,0,1,null,0,0,0,0,0,0,0,0,0,0,0,null,null,1,1,0,0,0,null,0,0,0,0]
["11 Apr 2016 to 30 Apr 2016","DR WONG CHUN POR","DR CP WONG CLINIC","SOLO",5528991274,"ENCTR",3,"Local system","Local System",64,0,null,0,64,null,0,0,0,0,0,0,0,0,0,null,null,null,null,64,1,0,0,0,null,0,0,0,0]
["11 Apr 2016 to 30 Apr 2016","DR WONG CHUN POR","DR CP WONG CLINIC","SOLO",5528991274,"PROB","3,2","Local system","Local System",153,0,null,0,153,null,0,0,0,0,0,0,0,0,0,null,null,null,null,153,1,0,0,0,0,0,0,0,0]
["11 Apr 2016 to 30 Apr 2016","DR WONG CHUN POR","DR CP WONG CLINIC","SOLO",5528991274,"RXD","3,2","Local system","Local System",142,0,null,22,120,null,0,0,0,0,0,0,0,0,0,0,0,null,null,120,0.84507042253521125,0,0,0,null,0,0,0,0]
["11 Apr 2016 to 30 Apr 2016","DR WONG CHUN POR","DR CP WONG CLINIC","SOLO",5528991274,"RXO","3,2","Local system","Local System",163,0,null,28,135,null,0,0,0,0,0,0,0,0,0,0,0,null,null,135,0.82822085889570551,0,0,0,null,0,0,0,0]
["11 Apr 2016 to 30 Apr 2016","EVANGEL HOSPITAL","EVANGEL HOSPITAL","PH",2206285885,"ENCTR","3,2","Local system","Local System",97,0,null,0,97,null,0,0,0,0,0,0,0,0,0,null,null,null,null,97,1,0,0,0,null,0,0,0,0]
["11 Apr 2016 to 30 Apr 2016","HONG KONG ADVENTIST HOSPITAL - STUBBS ROAD","HK ADVENTIST - SR","PH",7029571085,"RXD",2,"Local system + LAAM","Local System",38,0,null,38,0,null,0,0,0,0,0,0,0,0,0,0,0,null,null,0,0,0,0,0,null,0,0,0,0]
["11 Apr 2016 to 30 Apr 2016","HONG KONG ADVENTIST HOSPITAL - TSUEN WAN","HK ADVENTIST - TW","PH",8909436562,"ADR",3,"Local system","Local System",5,0,null,0,5,null,0,0,0,0,0,0,0,0,0,0,0,null,null,5,1,0,0,0,null,0,0,0,0]
["11 Apr 2016 to 30 Apr 2016","HONG KONG ADVENTIST HOSPITAL - TSUEN WAN","HK ADVENTIST - TW","PH",8909436562,"AL1",3,"Local system","Local System",11,0,null,1,10,null,0,0,0,0,1,9.0909090909090912E-2,0,1,0,1,0,null,null,10,0.90909090909090906,0,0,0,null,0,0,0,0]
["11 Apr 2016 to 30 Apr 2016","HONG KONG ADVENTIST HOSPITAL - TSUEN WAN","HK ADVENTIST - TW","PH",8909436562,"RAD",2,"Local system","Local System",489,0,0,489,0,null,0,0,0,0,0,0,0,0,0,0,0,0,null,0,0,0,0,0,null,0,0,0,0]
["11 Apr 2016 to 30 Apr 2016","HONG KONG ADVENTIST HOSPITAL - TSUEN WAN","HK ADVENTIST - TW","PH",8909436562,"RXD",2,"Local system","Local System",490,0,null,490,0,null,0,0,0,0,0,0,0,0,0,0,0,null,null,0,0,0,0,0,null,0,0,0,0]
["11 Apr 2016 to 30 Apr 2016","HONG KONG BAPTIST HOSPITAL","HK BAPTIST HOSPITAL","PH",3650324540,"ENCTR",3,"Local system","Local System",21,0,null,0,21,null,null,0,null,null,null,0,null,null,null,null,null,null,null,21,1,0,0,0,null,0,0,0,0]
["11 Apr 2016 to 30 Apr 2016","THE HONG KONG POLYTECHNIC UNIVERSITY","POLYU","HCAI",4578805814,"ENCTR",3,"Local system","Local System",251,0,null,0,251,null,0,0,0,0,0,0,0,0,0,null,null,null,null,251,1,0,0,0,null,0,0,0,0]
["11 Apr 2016 to 30 Apr 2016","ST. PAUL'S HOSPITAL","SPH","PH",5156724947,"ADR",3,"Local system","Local System",7,0,null,3,4,null,0,0,0,0,3,0.42857142857142855,3,0,0,3,0,null,null,4,0.5714285714285714,0,0,0,null,0,0,0,0]
["11 Apr 2016 to 30 Apr 2016","ST. PAUL'S HOSPITAL","SPH","PH",5156724947,"AL1",3,"Local system","Local System",54,0,null,14,40,null,0,0,0,0,19,0.35185185185185186,0,19,0,19,0,null,null,40,0.7407407407407407,0,0,0,null,0,0,0,0]
["11 Apr 2016 to 30 Apr 2016","ST.TERESA's HOSPITAL","STH","PH",7969980015,"ADR",3,"Local system","Local System",1,0,null,0,1,null,0,0,0,0,0,0,0,0,0,0,0,null,null,1,1,0,0,0,null,0,0,0,0]
["11 Apr 2016 to 30 Apr 2016","ST.TERESA's HOSPITAL","STH","PH",7969980015,"AL1",3,"Local system","Local System",44,0,null,15,29,null,0,0,0,0,16,0.36363636363636365,0,16,0,16,0,null,null,29,0.65909090909090906,0,0,0,null,0,0,0,0]
["11 Apr 2016 to 30 Apr 2016","ST.TERESA's HOSPITAL","STH","PH",7969980015,"BIRTH",3,"Local system","Local System",8,4,null,0,4,null,4,0.5,4,0,0,0,0,0,0,0,0,0,null,4,0.5,0,0,0,null,0,0,0,0]
["11 Apr 2016 to 30 Apr 2016","UNION HOSPITAL","UNION HOSPITAL","PH",5712620300,"ADR",3,"Local system","Local System",6,0,null,2,4,null,0,0,0,0,2,0.33333333333333331,2,0,0,2,0,null,null,4,0.66666666666666663,0,0,0,null,0,0,0,0]
["11 Apr 2016 to 30 Apr 2016","UNION HOSPITAL","UNION HOSPITAL","PH",5712620300,"AL1",3,"Local system","Local System",67,0,null,33,34,null,0,0,0,0,31,0.46268656716417911,0,31,0,31,0,null,null,34,0.5074626865671642,0,0,0,null,0,0,0,0]
["11 Apr 2016 to 30 Apr 2016","UNION HOSPITAL","UNION HOSPITAL","PH",5712620300,"ENCTR",3,"Local system","Local System",53,0,null,0,53,null,0,0,0,0,0,0,0,0,0,null,null,null,null,53,1,0,0,0,null,0,0,0,0]
["11 Apr 2016 to 30 Apr 2016 Total",null,null,null,null,null,null,null,null,{"$f":"SUM(J89:J118)","v":17920},{"$f":"SUM(K89:K118)","v":7},{"$f":"SUM(L89:L118)","v":0},{"$f":"SUM(M89:M118)","v":2331},{"$f":"SUM(N89:N118)","v":15582},null,{"$f":"SUM(P89:P118)","v":7},3.9062500000000002E-4,{"$f":"SUM(R89:R118)","v":5},{"$f":"SUM(S89:S118)","v":2},{"$f":"SUM(T89:T118)","v":1267},7.0703125000000006E-2,{"$f":"SUM(V89:V118)","v":1169},98,0,1267,0,0,null,{"$f":"SUM(AC89:AC118)","v":15582},0.86953124999999998,{"$f":"SUM(AE89:AE118)","v":0},0,{"$f":"SUM(AG89:AG118)","v":0},null,{"$f":"SUM(AI89:AI118)","v":0},{"$f":"SUM(AJ89:AJ118)","v":0},{"$f":"SUM(AK89:AK118)","v":0},{"$f":"SUM(AL89:AL118)","v":0}]
["1 May 2016 to 31 May 2016","CHIRON HEALTHCARE GROUP LIMITED","CHIRON HEALTHCARE","GROUP",9451612824,"ENCTR",3,"Local system","Local System",{"$f":"SUM(K120:N120)","v":8},{"$f":"P120","v":0},null,0,8,null,{"$f":"SUM(R120:S120)","v":0},0,0,0,0,0,0,0,0,null,null,null,null,8,1,0,0,0,null,0,0,0,0]
["1 May 2016 to 31 May 2016","CHIRON HEALTHCARE GROUP LIMITED","CHIRON HEALTHCARE","GROUP",9451612824,"PROB","3,2","Local system","Local System",4,0,null,1,3,null,0,0,0,0,0,0,0,0,0,null,null,null,null,3,0.75,0,0,0,0,0,0,0,0]
["1 May 2016 to 31 May 2016","DEPARTMENT OF HEALTH CIMS1","DH","DH",8658917541,"ADR",3,"Local system","Local System",240,0,null,27,213,null,0,0,0,0,{"$f":"SUM(Y122:AA122)","v":27},0.1125,27,0,0,27,0,null,null,213,0.88749999999999996,0,0,0,null,0,0,0,0]
["1 May 2016 to 31 May 2016","DEPARTMENT OF HEALTH CIMS1","DH","DH",8658917541,"AL1",3,"Local system","Local System",414,0,null,94,320,null,0,0,0,0,88,0.21256038647342995,0,88,0,88,0,null,null,320,0.77294685990338163,0,0,0,null,0,0,0,0]
["1 May 2016 to 31 May 2016","DEPARTMENT OF HEALTH CIMS1","DH","DH",8658917541,"ENCTR",3,"Local system","Local System",9378,0,null,0,9378,null,0,0,0,0,0,0,0,0,0,null,null,null,null,9378,1,0,0,0,null,0,0,0,0]
["1 May 2016 to 31 May 2016","DEPARTMENT OF HEALTH CIMS1","DH","DH",8658917541,"IMMU",3,"Local system","Local System",1912,41,0,56,1815,null,41,2.1443514644351465E-2,0,41,56,2.9288702928870293E-2,56,0,0,56,0,0,null,1815,0.94926778242677823,0,0,0,null,0,0,0,0]
["1 May 2016 to 31 May 2016","DEPARTMENT OF HEALTH CIMS1","DH","DH",8658917541,"PROB",3,"Local system","Local System",9374,0,null,353,9021,null,0,0,0,0,353,3.7657350117345847E-2,353,0,0,353,0,null,null,9021,0.96234264988265417,0,0,0,0,0,0,0,0]
["1 May 2016 to 31 May 2016","DEPARTMENT OF HEALTH CIMS1","DH","DH",8658917541,"PX",3,"Local system","Local System",2524,0,null,55,2469,null,0,0,0,0,55,2.1790808240887482E-2,55,0,0,55,0,null,null,2469,0.97820919175911247,0,0,0,0,0,0,0,0]
["1 May 2016 to 31 May 2016","DEPARTMENT OF HEALTH CIMS1","DH","DH",8658917541,"RXO",3,"Local system","Local System",12779,0,null,2355,10424,null,0,0,0,0,2355,0.18428672040065733,2355,0,0,2355,0,null,null,10424,0.8157132795993427,0,0,0,null,0,0,0,0]
["1 May 2016 to 31 May 2016","DR WONG CHUN POR","DR CP WONG CLINIC","SOLO",5528991274,"ADR","3,2","Local system","Local System",1,0,null,0,1,null,0,0,0,0,0,0,0,0,0,0,0,null,null,1,1,0,0,0,null,0,0,0,0]
["1 May 2016 to 31 May 2016","DR WONG CHUN POR","DR CP WONG CLINIC","SOLO",5528991274,"AL1","3,2","Local system","Local System",1,0,null,0,1,null,0,0,0,0,0,0,0,0,0,0,0,null,null,1,1,0,0,0,null,0,0,0,0]
["1 May 2016 to 31 May 2016","DR WONG CHUN POR","DR CP WONG CLINIC","SOLO",5528991274,"ENCTR",3,"Local system","Local System",119,0,null,0,119,null,0,0,0,0,0,0,0,0,0,null,null,null,null,119,1,0,0,0,null,0,0,0,0]
["1 May 2016 to 31 May 2016","DR WONG CHUN POR","DR CP WONG CLINIC","SOLO",5528991274,"IMMU","3,2","Local system","Local System",4,0,0,4,0,null,0,0,0,0,0,0,0,0,0,0,0,0,null,0,0,1,0.25,0,null,0,0,1,1]
["1 May 2016 to 31 May 2016","DR WONG CHUN POR","DR CP WONG CLINIC","SOLO",5528991274,"PROB","3,2","Local system","Local System",303,0,null,0,303,null,0,0,0,0,0,0,0,0,0,null,null,null,null,303,1,0,0,0,0,0,0,0,0]
["1 May 2016 to 31 May 2016","DR WONG CHUN POR","DR CP WONG CLINIC","SOLO",5528991274,"RXD","3,2","Local system","Local System",327,0,null,103,224,null,0,0,0,0,0,0,0,0,0,0,0,null,null,224,0.68501529051987764,0,0,0,null,0,0,0,0]
["1 May 2016 to 31 May 2016","DR WONG CHUN POR","DR CP WONG CLINIC","SOLO",5528991274,"RXO","3,2","Local system","Local System",362,0,null,109,253,null,0,0,0,0,0,0,0,0,0,0,0,null,null,253,0.69889502762430944,0,0,0,null,0,0,0,0]
["1 May 2016 to 31 May 2016","DR. YEE YUK KEI","DR. YK YEE","SOLO",2310917092,"AL1","3,2","Local system","Local System",1,0,null,0,1,null,0,0,0,0,0,0,0,0,0,0,0,null,null,1,1,0,0,0,null,0,0,0,0]
["1 May 2016 to 31 May 2016","EVANGEL HOSPITAL","EVANGEL HOSPITAL","PH",2206285885,"ENCTR","3,2","Local system","Local System",195,0,null,0,195,null,0,{"$f":"P137/J137","v":0},0,0,0,{"$f":"T137/J137","v":0},0,0,0,null,null,null,null,195,{"$f":"AC137/J137","v":1},0,{"$f":"AE137/J137","v":0},0,null,0,0,0,0]
["1 May 2016 to 31 May 2016","EVANGEL HOSPITAL","EVANGEL HOSPITAL","PH",2206285885,"AL1","3,2","Local system","Local System",5,0,null,4,1,null,0,0,0,0,4,0.8,0,4,0,4,0,null,null,1,0.2,0,0,0,null,0,0,0,0]
["1 May 2016 to 31 May 2016","EVANGEL HOSPITAL","EVANGEL HOSPITAL","PH",2206285885,"ADR","3,2","Local system","Local System",1,0,null,0,1,null,0,0,0,0,0,0,0,0,0,0,0,null,null,1,1,0,0,0,null,0,0,0,0]
["1 May 2016 to 31 May 2016","HONG KONG ADVENTIST HOSPITAL - STUBBS ROAD","HK ADVENTIST - SR","PH",7029571085,"AL1",3,"Local system","Local System",1,0,null,0,1,null,0,0,0,0,0,0,0,0,0,0,0,null,null,1,1,0,0,0,null,0,0,0,0]
["1 May 2016 to 31 May 2016","HONG KONG ADVENTIST HOSPITAL - STUBBS ROAD","HK ADVENTIST - SR","PH",7029571085,"RXD",2,"Local system + LAAM","Local System",223,0,null,223,0,null,0,0,0,0,0,0,0,0,0,0,0,null,null,0,0,0,0,0,null,0,0,0,0]
["1 May 2016 to 31 May 2016","HONG KONG ADVENTIST HOSPITAL - TSUEN WAN","HK ADVENTIST - TW","PH",8909436562,"ADR",3,"Local system","Local System",1,0,null,0,1,null,0,0,0,0,0,0,0,0,0,0,0,null,null,1,1,0,0,0,null,0,0,0,0]
["1 May 2016 to 31 May 2016","HONG KONG ADVENTIST HOSPITAL - TSUEN WAN","HK ADVENTIST - TW","PH",8909436562,"AL1",3,"Local system","Local System",17,0,null,5,12,null,0,0,0,0,5,0.29411764705882354,0,5,0,5,0,null,null,12,0.70588235294117652,0,0,0,null,0,0,0,0]
["1 May 2016 to 31 May 2016","HONG KONG ADVENTIST HOSPITAL - TSUEN WAN","HK ADVENTIST - TW","PH",8909436562,"RAD",2,"Local system","Local System",599,0,0,599,0,null,0,0,0,0,0,0,0,0,0,0,0,0,null,0,0,0,0,0,null,0,0,0,0]
["1 May 2016 to 31 May 2016","HONG KONG ADVENTIST HOSPITAL - TSUEN WAN","HK ADVENTIST - TW","PH",8909436562,"RXD",2,"Local system","Local System",715,0,null,715,0,null,0,0,0,0,0,0,0,0,0,0,0,null,null,0,0,0,0,0,null,0,0,0,0]
["1 May 2016 to 31 May 2016","HONG KONG BAPTIST HOSPITAL","HK BAPTIST HOSPITAL","PH",3650324540,"ENCTR",3,"Local system","Local System",31,0,null,0,31,null,0,0,null,null,0,0,null,null,null,null,null,null,null,31,1,0,0,0,null,0,0,0,0]
["1 May 2016 to 31 May 2016","THE HONG KONG POLYTECHNIC UNIVERSITY","POLYU","HCAI",4578805814,"ENCTR",3,"Local system","Local System",673,0,null,0,673,null,0,0,0,0,0,0,0,0,0,null,null,null,null,673,1,0,0,0,null,0,0,0,0]
["1 May 2016 to 31 May 2016","ST. PAUL'S HOSPITAL","SPH","PH",5156724947,"ADR",3,"Local system","Local System",2,0,null,1,1,null,0,0,0,0,2,1,2,0,0,1,0,null,null,1,0.5,0,0,0,null,0,0,0,0]
["1 May 2016 to 31 May 2016","ST. PAUL'S HOSPITAL","SPH","PH",5156724947,"AL1",3,"Local system","Local System",35,0,null,13,22,null,0,0,0,0,16,0.45714285714285713,0,16,0,14,0,null,null,22,0.62857142857142856,0,0,0,null,0,0,0,0]
["1 May 2016 to 31 May 2016","ST.TERESA's HOSPITAL","STH","PH",7969980015,"ADR",3,"Local system","Local System",6,0,null,1,5,null,0,0,0,0,1,0.16666666666666666,1,0,0,1,0,null,null,5,0.83333333333333337,0,0,0,null,0,0,0,0]
["1 May 2016 to 31 May 2016","ST.TERESA's HOSPITAL","STH","PH",7969980015,"AL1",3,"Local system","Local System",58,0,null,27,31,null,0,0,0,0,29,0.5,0,29,0,24,0,null,null,31,0.53448275862068961,0,0,0,null,0,0,0,0]
["1 May 2016 to 31 May 2016","ST.TERESA's HOSPITAL","STH","PH",7969980015,"BIRTH",3,"Local system","Local System",2,0,null,0,2,null,0,0,0,0,0,0,0,0,0,0,0,0,null,2,1,0,0,0,null,0,0,0,0]
["1 May 2016 to 31 May 2016","UNION HOSPITAL","UNION HOSPITAL","PH",5712620300,"ADR",3,"Local system","Local System",5,0,null,0,5,null,0,0,0,0,0,0,0,0,0,0,0,null,null,5,1,0,0,0,null,0,0,0,0]
["1 May 2016 to 31 May 2016","UNION HOSPITAL","UNION HOSPITAL","PH",5712620300,"AL1",3,"Local system","Local System",135,0,null,73,62,null,0,0,0,0,73,0.54074074074074074,0,73,0,73,0,null,null,62,0.45925925925925926,0,0,0,null,0,0,0,0]
["1 May 2016 to 31 May 2016","UNION HOSPITAL","UNION HOSPITAL","PH",5712620300,"ENCTR",3,"Local system","Local System",72,0,null,0,72,null,0,0,0,0,0,0,0,0,0,null,null,null,null,72,1,0,0,0,null,0,0,0,0]
["1 May 2016 to 31 May 2016 Total",null,null,null,null,null,null,null,null,{"$f":"SUM(J120:J155)","v":40527},{"$f":"SUM(K120:K155)","v":41},{"$f":"SUM(L120:L155)","v":0},{"$f":"SUM(M120:M155)","v":4818},{"$f":"SUM(N120:N155)","v":35668},null,{"$f":"SUM(P120:P155)","v":41},1.0116712315246625E-3,{"$f":"SUM(R120:R155)","v":0},{"$f":"SUM(S120:S155)","v":41},{"$f":"SUM(T120:T155)","v":3064},7.5603918375404047E-2,{"$f":"SUM(V120:V155)","v":2849},215,0,3056,0,0,null,{"$f":"SUM(AC120:AC155)","v":35668},0.88010462161028447,{"$f":"SUM(AE120:AE155)","v":1},2.4674908085967381E-5,{"$f":"SUM(AG120:AG155)","v":0},null,{"$f":"SUM(AI120:AI155)","v":0},{"$f":"SUM(AJ120:AJ155)","v":0},{"$f":"SUM(AK120:AK155)","v":1},{"$f":"SUM(AL120:AL155)","v":1}]
["1 June 2016 to 30 June 2016","CANOSSA HOSPITAL (CARITAS)","CANNOSSA HOSPITAL","PH",8252506240,"ADR",3,"Local system","Local System",{"$f":"SUM(K157:N157)","v":0},{"$f":"P157","v":0},null,null,null,null,{"$f":"SUM(R157:S157)","v":0},{"$error":"#DIV/0!"},0,0,{"$f":"SUM(Y157:AA157)","v":0},{"$error":"#DIV/0!"},0,0,0,0,0,null,null,0,{"$error":"#DIV/0!"},0,{"$error":"#DIV/0!"},0,null,0,0,0,0]
["1 June 2016 to 30 June 2016","CANOSSA HOSPITAL (CARITAS)","CANNOSSA HOSPITAL","PH",8252506240,"AL1",3,"Local system","Local System",11,0,null,3,8,null,0,0,0,0,3,0.27272727272727271,0,3,0,3,0,null,null,8,0.72727272727272729,0,0,0,null,0,0,0,0]
["1 June 2016 to 30 June 2016","CHIRON HEALTHCARE GROUP LIMITED","CHIRON HEALTHCARE","GROUP",9451612824,"ENCTR",3,"Local system","Local System",10,0,null,null,10,null,0,0,0,0,0,0,0,0,0,null,null,null,null,10,1,0,0,0,null,0,0,0,0]
["1 June 2016 to 30 June 2016","CHIRON HEALTHCARE GROUP LIMITED","CHIRON HEALTHCARE","GROUP",9451612824,"PROB","3,2","Local system","Local System",8,0,null,null,8,null,0,0,0,0,0,0,0,0,0,null,null,null,null,8,1,0,0,0,0,0,0,0,0]
["1 June 2016 to 30 June 2016","CHIRON HEALTHCARE GROUP LIMITED","CHIRON HEALTHCARE","GROUP",9451612824,"RXD","3,2","Local system","Local System",1,0,null,null,1,null,0,0,0,0,0,0,0,0,0,0,0,null,null,1,1,0,0,0,null,0,0,0,0]
["1 June 2016 to 30 June 2016","CHIRON HEALTHCARE GROUP LIMITED","CHIRON HEALTHCARE","GROUP",9451612824,"RXO","3,2","Local system","Local System",1,0,null,null,1,null,0,0,0,0,0,0,0,0,0,0,0,null,null,1,1,0,0,0,null,0,0,0,0]
["1 June 2016 to 30 June 2016","DEPARTMENT OF HEALTH CIMS1","DH","DH",8658917541,"ADR",3,"Local system","Local System",145,0,null,14,131,null,0,0,0,0,14,9.6551724137931033E-2,14,0,0,14,0,null,null,131,0.90344827586206899,0,0,0,null,0,0,0,0]
["1 June 2016 to 30 June 2016","DEPARTMENT OF HEALTH CIMS1","DH","DH",8658917541,"AL1",3,"Local system","Local System",207,0,null,33,174,null,0,0,0,0,32,0.15458937198067632,9,23,0,32,0,null,null,174,0.84057971014492749,0,0,0,null,0,0,0,0]
["1 June 2016 to 30 June 2016","DEPARTMENT OF HEALTH CIMS1","DH","DH",8658917541,"ENCTR",3,"Local system","Local System",6883,0,null,null,6883,null,0,0,0,0,0,0,0,0,0,null,null,null,null,6883,1,0,0,0,null,0,0,0,0]
["1 June 2016 to 30 June 2016","DEPARTMENT OF HEALTH CIMS1","DH","DH",8658917541,"IMMU",3,"Local system","Local System",1650,0,null,39,1611,null,0,0,0,0,39,2.3636363636363636E-2,39,0,0,39,0,0,null,1611,0.97636363636363632,0,0,0,null,0,0,0,0]
["1 June 2016 to 30 June 2016","DEPARTMENT OF HEALTH CIMS1","DH","DH",8658917541,"PROB",3,"Local system","Local System",5178,0,null,207,4971,null,0,0,0,0,207,3.9976825028968717E-2,207,0,0,207,0,null,null,4971,0.96002317497103129,0,0,0,0,0,0,0,0]
["1 June 2016 to 30 June 2016","DEPARTMENT OF HEALTH CIMS1","DH","DH",8658917541,"PX",3,"Local system","Local System",2033,0,null,58,1975,null,0,0,0,0,58,2.8529267092966059E-2,58,0,0,58,0,null,null,1975,0.9714707329070339,0,0,0,0,0,0,0,0]
["1 June 2016 to 30 June 2016","DEPARTMENT OF HEALTH CIMS1","DH","DH",8658917541,"RXO",3,"Local system","Local System",7145,0,null,1274,5871,null,0,0,0,0,1274,0.17830650804758572,1274,0,0,1274,0,null,null,5871,0.82169349195241426,0,0,0,null,0,0,0,0]
["1 June 2016 to 30 June 2016","DR WONG CHUN POR","DR CP WONG CLINIC","SOLO",5528991274,"ADR","3,2","Local system","Local System",0,0,null,null,null,null,0,{"$error":"#DIV/0!"},0,0,0,{"$error":"#DIV/0!"},0,0,0,0,0,null,null,0,{"$error":"#DIV/0!"},0,{"$error":"#DIV/0!"},0,null,0,0,0,0]
["1 June 2016 to 30 June 2016","DR WONG CHUN POR","DR CP WONG CLINIC","SOLO",5528991274,"AL1","3,2","Local system","Local System",0,0,null,null,null,null,0,{"$error":"#DIV/0!"},0,0,0,{"$error":"#DIV/0!"},0,0,0,0,0,null,null,0,{"$error":"#DIV/0!"},0,{"$error":"#DIV/0!"},0,null,0,0,0,0]
["1 June 2016 to 30 June 2016","DR WONG CHUN POR","DR CP WONG CLINIC","SOLO",5528991274,"ENCTR",3,"Local system","Local System",104,0,null,null,104,null,0,0,0,0,0,0,0,0,0,null,null,null,null,104,1,0,0,0,null,0,0,0,0]
["1 June 2016 to 30 June 2016","DR WONG CHUN POR","DR CP WONG CLINIC","SOLO",5528991274,"IMMU","3,2","Local system","Local System",1,0,null,1,null,null,0,0,0,0,0,0,0,0,0,0,0,0,null,0,0,1,1,0,null,0,0,1,1]
["1 June 2016 to 30 June 2016","DR WONG CHUN POR","DR CP WONG CLINIC","SOLO",5528991274,"PROB","3,2","Local system","Local System",275,0,null,null,275,null,0,0,0,0,0,0,0,0,0,null,null,null,null,275,1,0,0,0,0,0,0,0,0]
["1 June 2016 to 30 June 2016","DR WONG CHUN POR","DR CP WONG CLINIC","SOLO",5528991274,"RXD","3,2","Local system","Local System",236,0,null,64,172,null,0,0,0,0,0,0,0,0,0,0,0,null,null,172,0.72881355932203384,0,0,0,null,0,0,0,0]
["1 June 2016 to 30 June 2016","DR WONG CHUN POR","DR CP WONG CLINIC","SOLO",5528991274,"RXO","3,2","Local system","Local System",247,0,null,64,183,null,0,0,0,0,0,0,0,0,0,0,0,null,null,183,0.74089068825910931,0,0,0,null,0,0,0,0]
["1 June 2016 to 30 June 2016","DR. YEE YUK KEI","DR. YK YEE","SOLO",2310917092,"AL1","3,2","Local system","Local System",0,0,null,null,null,null,0,{"$error":"#DIV/0!"},0,0,0,{"$error":"#DIV/0!"},0,0,0,0,0,null,null,0,{"$error":"#DIV/0!"},0,{"$error":"#DIV/0!"},0,null,0,0,0,0]
["1 June 2016 to 30 June 2016","EVANGEL HOSPITAL","EVANGEL HOSPITAL","PH",2206285885,"ENCTR","3,2","Local system","Local System",191,0,null,null,191,null,0,0,0,0,0,0,0,0,0,null,null,null,null,191,1,0,0,0,null,0,0,0,0]
["1 June 2016 to 30 June 2016","EVANGEL HOSPITAL","EVANGEL HOSPITAL","PH",2206285885,"AL1","3,2","Local system","Local System",1,0,null,1,null,null,0,0,0,0,1,1,0,1,0,1,0,null,null,0,0,0,0,0,null,0,0,0,0]
["1 June 2016 to 30 June 2016","EVANGEL HOSPITAL","EVANGEL HOSPITAL","PH",2206285885,"ADR","3,2","Local system","Local System",0,0,null,null,null,null,0,{"$error":"#DIV/0!"},0,0,0,{"$error":"#DIV/0!"},0,0,0,0,0,null,null,0,{"$error":"#DIV/0!"},0,{"$error":"#DIV/0!"},0,null,0,0,0,0]
["1 June 2016 to 30 June 2016","HONG KONG ADVENTIST HOSPITAL - STUBBS ROAD","HK ADVENTIST - SR","PH",7029571085,"AL1",3,"Local system","Local System",9,0,null,3,6,null,0,0,0,0,3,0.33333333333333331,0,3,0,3,0,null,null,6,0.66666666666666663,0,0,0,null,0,0,0,0]
["1 June 2016 to 30 June 2016","HONG KONG ADVENTIST HOSPITAL - STUBBS ROAD","HK ADVENTIST - SR","PH",7029571085,"RXD",2,"Local system + LAAM","Local System",166,0,null,166,null,null,0,0,0,0,0,0,0,0,0,0,0,null,null,0,0,0,0,0,null,0,0,0,0]
["1 June 2016 to 30 June 2016","HONG KONG ADVENTIST HOSPITAL - TSUEN WAN","HK ADVENTIST - TW","PH",8909436562,"ADR",3,"Local system","Local System",0,0,null,null,null,null,0,{"$error":"#DIV/0!"},0,0,0,{"$error":"#DIV/0!"},0,0,0,0,0,null,null,0,{"$error":"#DIV/0!"},0,{"$error":"#DIV/0!"},0,null,0,0,0,0]
["1 June 2016 to 30 June 2016","HONG KONG ADVENTIST HOSPITAL - TSUEN WAN","HK ADVENTIST - TW","PH",8909436562,"AL1",3,"Local system","Local System",11,0,null,1,10,null,0,0,0,0,1,9.0909090909090912E-2,0,1,0,1,0,null,null,10,0.90909090909090906,0,0,0,null,0,0,0,0]
["1 June 2016 to 30 June 2016","HONG KONG ADVENTIST HOSPITAL - TSUEN WAN","HK ADVENTIST - TW","PH",8909436562,"RAD",2,"Local system","Local System",624,0,null,624,null,null,0,0,0,0,0,0,0,0,0,0,0,0,null,0,0,0,0,0,null,0,0,0,0]
["1 June 2016 to 30 June 2016","HONG KONG ADVENTIST HOSPITAL - TSUEN WAN","HK ADVENTIST - TW","PH",8909436562,"RXD",2,"Local system","Local System",712,0,null,712,null,null,0,0,0,0,0,0,0,0,0,0,0,null,null,0,0,0,0,0,null,0,0,0,0]
["1 June 2016 to 30 June 2016","HONG KONG BAPTIST HOSPITAL","HK BAPTIST HOSPITAL","PH",3650324540,"ENCTR",3,"Local system","Local System",24,0,null,null,24,null,0,0,null,null,0,0,null,null,null,null,null,null,null,24,1,0,0,0,null,0,0,0,0]
["1 June 2016 to 30 June 2016","THE HONG KONG POLYTECHNIC UNIVERSITY","POLYU","HCAI",4578805814,"ENCTR",3,"Local system","Local System",422,0,null,null,422,null,0,0,0,0,0,0,0,0,0,null,null,null,null,422,1,0,0,0,null,0,0,0,0]
["1 June 2016 to 30 June 2016","ST. PAUL'S HOSPITAL","SPH","PH",5156724947,"ADR",3,"Local system","Local System",7,0,null,null,7,null,0,0,0,0,0,0,0,0,0,0,0,null,null,7,1,0,0,0,null,0,0,0,0]
["1 June 2016 to 30 June 2016","ST. PAUL'S HOSPITAL","SPH","PH",5156724947,"AL1",3,"Local system","Local System",71,0,null,38,33,null,0,0,0,0,39,0.54929577464788737,12,27,0,39,0,null,null,33,0.46478873239436619,0,0,0,null,0,0,0,0]
["1 June 2016 to 30 June 2016","ST. PAUL'S HOSPITAL","SPH","PH",5156724947,"ENCTR",3,"Local system","Local System",3,0,null,null,3,null,0,0,0,0,0,0,0,0,0,null,null,null,null,3,1,0,0,0,null,0,0,0,0]
["1 June 2016 to 30 June 2016","ST.TERESA's HOSPITAL","STH","PH",7969980015,"ADR",3,"Local system","Local System",5,0,null,1,4,null,0,0,0,0,1,0.2,1,0,0,1,0,null,null,4,0.8,0,0,0,null,0,0,0,0]
["1 June 2016 to 30 June 2016","ST.TERESA's HOSPITAL","STH","PH",7969980015,"AL1",3,"Local system","Local System",68,0,null,25,43,null,0,0,0,0,26,0.38235294117647056,5,21,0,26,0,null,null,43,0.63235294117647056,0,0,0,null,0,0,0,0]
["1 June 2016 to 30 June 2016","ST.TERESA's HOSPITAL","STH","PH",7969980015,"BIRTH",3,"Local system","Local System",2,0,null,null,2,null,0,0,0,0,0,0,0,0,0,0,0,0,null,2,1,0,0,0,null,0,0,0,0]
["1 June 2016 to 30 June 2016","UNION HOSPITAL","UNION HOSPITAL","PH",5712620300,"ADR",3,"Local system","Local System",8,0,null,4,4,null,0,0,0,0,3,0.375,3,0,0,3,0,null,null,4,0.5,1,0.125,0,null,0,0,1,0]
["1 June 2016 to 30 June 2016","UNION HOSPITAL","UNION HOSPITAL","PH",5712620300,"AL1",3,"Local system","Local System",142,0,null,78,64,null,0,0,0,0,78,0.54929577464788737,24,54,0,78,0,null,null,64,0.45070422535211269,0,0,0,null,0,0,0,0]
["1 June 2016 to 30 June 2016","UNION HOSPITAL","UNION HOSPITAL","PH",5712620300,"ENCTR",3,"Local system","Local System",108,0,null,null,108,null,0,0,0,0,0,0,0,0,0,null,null,null,null,108,1,0,0,0,null,0,0,0,0]
["1 June 2016 to 30 June 2016 Total",null,null,null,null,null,null,null,null,{"$f":"SUM(J157:J197)","v":26709},{"$f":"SUM(K157:K197)","v":0},{"$f":"SUM(L157:L197)","v":0},{"$f":"SUM(M157:M197)","v":3410},{"$f":"SUM(N157:N197)","v":23299},null,{"$f":"SUM(P157:P197)","v":0},0,{"$f":"SUM(R157:R197)","v":0},{"$f":"SUM(S157:S197)","v":0},{"$f":"SUM(T157:T197)","v":1779},6.6606761765696951E-2,{"$f":"SUM(V157:V197)","v":1646},133,0,1779,0,0,null,{"$f":"SUM(AC157:AC197)","v":23299},0.87232767980830428,{"$f":"SUM(AE157:AE197)","v":2},7.4881126212138224E-5,{"$f":"SUM(AG157:AG197)","v":0},null,{"$f":"SUM(AI157:AI197)","v":0},{"$f":"SUM(AJ157:AJ197)","v":0},{"$f":"SUM(AK157:AK197)","v":2},{"$f":"SUM(AL157:AL197)","v":1}]
["1 July 2016 to 31 July 2016","DEPARTMENT OF HEALTH CIMS1","DH","DH",8658917541,"ADR",3,"Local system","Local System",{"$f":"SUM(K199:N199)","v":77},{"$f":"P199","v":0},null,5,72,null,{"$f":"SUM(R199:S199)","v":0},0,0,0,{"$f":"SUM(Y199:AA199)","v":5},6.4935064935064929E-2,5,0,0,5,0,null,null,72,0.93506493506493504,0,0,0,null,0,0,0,0]
["1 July 2016 to 31 July 2016","DEPARTMENT OF HEALTH CIMS1","DH","DH",8658917541,"AL1",3,"Local system","Local System",154,0,null,31,123,null,0,0,0,0,29,0.18831168831168832,29,0,0,29,0,null,null,123,0.79870129870129869,0,0,0,null,0,0,0,0]
["1 July 2016 to 31 July 2016","DEPARTMENT OF HEALTH CIMS1","DH","DH",8658917541,"IMMU",3,"Local system","Local System",1141,0,null,22,1119,null,0,{"$f":"P201/J201","v":0},0,0,22,{"$f":"T201/J201","v":1.9281332164767746E-2},22,0,0,22,0,0,null,1119,{"$f":"AC201/J201","v":0.98071866783523221},0,{"$f":"AE201/J201","v":0},0,null,0,0,0,0]
["1 July 2016 to 31 July 2016","DEPARTMENT OF HEALTH CIMS1","DH","DH",8658917541,"PROB",3,"Local system","Local System",4468,0,null,105,4363,null,0,0,0,0,105,2.3500447627573858E-2,105,0,0,105,0,null,null,4363,0.97649955237242614,0,0,0,0,0,0,0,0]
["1 July 2016 to 31 July 2016","DEPARTMENT OF HEALTH CIMS1","DH","DH",8658917541,"PX",3,"Local system","Local System",1581,0,null,38,1543,null,0,0,0,0,38,2.4035420619860848E-2,38,0,0,38,0,null,null,1543,0.97596457938013914,0,0,0,0,0,0,0,0]
["1 July 2016 to 31 July 2016","DEPARTMENT OF HEALTH CIMS1","DH","DH",8658917541,"RXO",3,"Local system","Local System",6312,0,null,1211,5101,null,0,0,0,0,1211,0.19185678073510773,1211,0,0,1211,0,null,null,5101,0.8081432192648923,0,0,0,null,0,0,0,0]
["1 July 2016 to 31 July 2016","HONG KONG ADVENTIST HOSPITAL - TSUEN WAN","HK ADVENTIST - TW","PH",8909436562,"AL1",3,"Local system","Local System",26,0,null,11,15,null,0,0,0,0,9,0.34615384615384615,9,0,0,9,0,null,null,15,0.57692307692307687,0,0,0,null,0,0,0,0]
["1 July 2016 to 31 July 2016","ST. PAUL'S HOSPITAL","SPH","PH",5156724947,"ADR",3,"Local system","Local System",13,0,null,2,11,null,0,0,0,0,3,0.23076923076923078,3,0,0,3,0,null,null,11,0.84615384615384615,0,0,0,null,0,0,0,0]
["1 July 2016 to 31 July 2016","ST. PAUL'S HOSPITAL","SPH","PH",5156724947,"AL1",3,"Local system","Local System",50,0,null,18,32,null,0,0,0,0,18,0.36,18,0,0,18,0,null,null,32,0.64,0,0,0,null,0,0,0,0]
["1 July 2016 to 31 July 2016","ST.TERESA's HOSPITAL","STH","PH",7969980015,"AL1",3,"Local system","Local System",63,0,null,29,34,null,0,0,0,0,26,0.41269841269841268,26,0,0,26,0,null,null,34,0.53968253968253965,0,0,0,null,0,0,0,0]
["1 July 2016 to 31 July 2016","UNION HOSPITAL","UNION HOSPITAL","PH",5712620300,"ADR",3,"Local system","Local System",8,0,null,2,6,null,0,0,0,0,1,0.125,1,0,0,1,0,null,null,6,0.75,1,0.125,0,null,0,0,1,0]
["1 July 2016 to 31 July 2016","UNION HOSPITAL","UNION HOSPITAL","PH",5712620300,"AL1",3,"Local system","Local System",115,0,null,65,50,null,0,0,0,0,67,0.58260869565217388,67,0,0,67,0,null,null,50,0.43478260869565216,0,0,0,null,0,0,0,0]
["1 July 2016 to 31 July 2016","CANOSSA HOSPITAL (CARITAS)","CANNOSSA HOSPITAL","PH",8252506240,"ADR",3,"Local system","Local System",0,0,null,null,null,null,0,{"$error":"#DIV/0!"},0,0,0,{"$error":"#DIV/0!"},0,0,0,0,0,null,null,0,{"$error":"#DIV/0!"},0,{"$error":"#DIV/0!"},0,null,0,0,0,0]
["1 July 2016 to 31 July 2016","CANOSSA HOSPITAL (CARITAS)","CANNOSSA HOSPITAL","PH",8252506240,"AL1",3,"Local system","Local System",0,0,null,null,null,null,0,{"$error":"#DIV/0!"},0,0,0,{"$error":"#DIV/0!"},0,0,0,0,0,null,null,0,{"$error":"#DIV/0!"},0,{"$error":"#DIV/0!"},0,null,0,0,0,0]
["1 July 2016 to 31 July 2016","CHIRON HEALTHCARE GROUP LIMITED","CHIRON HEALTHCARE","GROUP",9451612824,"ENCTR",3,"Local system","Local System",12,0,null,null,12,null,0,0,0,0,0,0,0,0,0,null,null,null,null,12,1,0,0,0,null,0,0,0,0]
["1 July 2016 to 31 July 2016","CHIRON HEALTHCARE GROUP LIMITED","CHIRON HEALTHCARE","GROUP",9451612824,"IMMU","3,2","Local system","Local System",1,0,null,null,1,null,0,0,0,0,0,0,0,0,0,null,null,null,null,1,1,0,0,0,null,0,0,0,0]
["1 July 2016 to 31 July 2016","CHIRON HEALTHCARE GROUP LIMITED","CHIRON HEALTHCARE","GROUP",9451612824,"PROB","3,2","Local system","Local System",11,0,null,null,11,null,0,0,0,0,0,0,0,0,0,null,null,null,null,11,1,0,0,0,0,0,0,0,0]
["1 July 2016 to 31 July 2016","CHIRON HEALTHCARE GROUP LIMITED","CHIRON HEALTHCARE","GROUP",9451612824,"RXD","3,2","Local system","Local System",6,0,null,1,5,null,0,0,0,0,0,0,0,0,0,0,0,null,null,5,0.83333333333333337,0,0,0,null,0,0,0,0]
["1 July 2016 to 31 July 2016","CHIRON HEALTHCARE GROUP LIMITED","CHIRON HEALTHCARE","GROUP",9451612824,"RXO","3,2","Local system","Local System",6,0,null,1,5,null,0,0,0,0,0,0,0,0,0,0,0,null,null,5,0.83333333333333337,0,0,0,null,0,0,0,0]
["1 July 2016 to 31 July 2016","DEPARTMENT OF HEALTH CIMS1","DH","DH",8658917541,"ENCTR",3,"Local system","Local System",5554,0,null,null,5554,null,0,0,0,0,0,0,0,0,0,null,null,null,null,5554,1,0,0,0,null,0,0,0,0]
["1 July 2016 to 31 July 2016","DR WONG CHUN POR","DR CP WONG CLINIC","SOLO",5528991274,"ADR","3,2","Local system","Local System",4,0,null,null,4,null,0,0,0,0,0,0,0,0,0,0,0,null,null,4,1,0,0,0,null,0,0,0,0]
["1 July 2016 to 31 July 2016","DR WONG CHUN POR","DR CP WONG CLINIC","SOLO",5528991274,"AL1","3,2","Local system","Local System",6,0,null,null,6,null,0,0,0,0,0,0,0,0,0,0,0,null,null,6,1,0,0,0,null,0,0,0,0]
["1 July 2016 to 31 July 2016","DR WONG CHUN POR","DR CP WONG CLINIC","SOLO",5528991274,"ENCTR",3,"Local system","Local System",90,0,null,null,90,null,0,0,0,0,0,0,0,0,0,null,null,null,null,90,1,0,0,0,null,0,0,0,0]
["1 July 2016 to 31 July 2016","DR WONG CHUN POR","DR CP WONG CLINIC","SOLO",5528991274,"IMMU","3,2","Local system","Local System",0,0,null,null,null,null,0,{"$error":"#DIV/0!"},0,0,0,{"$error":"#DIV/0!"},0,0,0,0,0,0,null,0,{"$error":"#DIV/0!"},0,{"$error":"#DIV/0!"},0,null,0,0,0,0]
["1 July 2016 to 31 July 2016","DR WONG CHUN POR","DR CP WONG CLINIC","SOLO",5528991274,"PROB","3,2","Local system","Local System",399,0,null,null,399,null,0,0,0,0,0,0,0,0,0,null,null,null,null,399,1,0,0,0,0,0,0,0,0]
["1 July 2016 to 31 July 2016","DR WONG CHUN POR","DR CP WONG CLINIC","SOLO",5528991274,"RXD","3,2","Local system","Local System",185,0,null,59,126,null,0,0,0,0,0,0,0,0,0,0,0,null,null,126,0.68108108108108112,0,0,0,null,0,0,0,0]
["1 July 2016 to 31 July 2016","DR WONG CHUN POR","DR CP WONG CLINIC","SOLO",5528991274,"RXO","3,2","Local system","Local System",199,0,null,62,137,null,0,0,0,0,0,0,0,0,0,0,0,null,null,137,0.68844221105527637,0,0,0,null,0,0,0,0]
["1 July 2016 to 31 July 2016","DR. YEE YUK KEI","DR. YK YEE","SOLO",2310917092,"AL1","3,2","Local system","Local System",1,0,null,1,null,null,0,0,0,0,1,1,1,0,0,1,0,null,null,0,0,0,0,0,null,0,0,0,0]
["1 July 2016 to 31 July 2016","EVANGEL HOSPITAL","EVANGEL HOSPITAL","PH",2206285885,"ENCTR","3,2","Local system","Local System",38,0,null,null,38,null,0,0,0,0,0,0,0,0,0,null,null,null,null,38,1,0,0,0,null,0,0,0,0]
["1 July 2016 to 31 July 2016","EVANGEL HOSPITAL","EVANGEL HOSPITAL","PH",2206285885,"AL1","3,2","Local system","Local System",0,0,null,null,null,null,0,{"$error":"#DIV/0!"},0,0,0,{"$error":"#DIV/0!"},0,0,0,0,0,null,null,0,{"$error":"#DIV/0!"},0,{"$error":"#DIV/0!"},0,null,0,0,0,0]
["1 July 2016 to 31 July 2016","EVANGEL HOSPITAL","EVANGEL HOSPITAL","PH",2206285885,"ADR","3,2","Local system","Local System",0,0,null,null,null,null,0,{"$error":"#DIV/0!"},0,0,0,{"$error":"#DIV/0!"},0,0,0,0,0,null,null,0,{"$error":"#DIV/0!"},0,{"$error":"#DIV/0!"},0,null,0,0,0,0]
["1 July 2016 to 31 July 2016","HONG KONG ADVENTIST HOSPITAL - STUBBS ROAD","HK ADVENTIST - SR","PH",7029571085,"AL1",3,"Local system","Local System",0,0,null,null,null,null,0,{"$error":"#DIV/0!"},0,0,0,{"$error":"#DIV/0!"},0,0,0,0,0,null,null,0,{"$error":"#DIV/0!"},0,{"$error":"#DIV/0!"},0,null,0,0,0,0]
["1 July 2016 to 31 July 2016","HONG KONG ADVENTIST HOSPITAL - STUBBS ROAD","HK ADVENTIST - SR","PH",7029571085,"RXD",2,"Local system + LAAM","Local System",91,0,null,91,null,null,0,0,0,0,0,0,0,0,0,0,0,null,null,0,0,0,0,0,null,0,0,0,0]
["1 July 2016 to 31 July 2016","HONG KONG ADVENTIST HOSPITAL - TSUEN WAN","HK ADVENTIST - TW","PH",8909436562,"ADR",3,"Local system","Local System",0,0,null,null,null,null,0,{"$error":"#DIV/0!"},0,0,0,{"$error":"#DIV/0!"},0,0,0,0,0,null,null,0,{"$error":"#DIV/0!"},0,{"$error":"#DIV/0!"},0,null,0,0,0,0]
["1 July 2016 to 31 July 2016","HONG KONG ADVENTIST HOSPITAL - TSUEN WAN","HK ADVENTIST - TW","PH",8909436562,"RAD",2,"Local system","Local System",690,0,null,690,null,null,0,0,0,0,0,0,0,0,0,0,0,0,null,0,0,0,0,0,null,0,0,0,0]
["1 July 2016 to 31 July 2016","HONG KONG ADVENTIST HOSPITAL - TSUEN WAN","HK ADVENTIST - TW","PH",8909436562,"RXD",2,"Local system","Local System",932,0,null,932,null,null,0,0,0,0,0,0,0,0,0,0,0,null,null,0,0,0,0,0,null,0,0,0,0]
["1 July 2016 to 31 July 2016","HONG KONG BAPTIST HOSPITAL","HK BAPTIST HOSPITAL","PH",3650324540,"ENCTR",3,"Local system","Local System",38,0,null,null,38,null,0,0,null,null,0,0,null,null,null,null,null,null,null,38,1,0,0,0,null,0,0,0,0]
["1 July 2016 to 31 July 2016","THE HONG KONG POLYTECHNIC UNIVERSITY","POLYU","HCAI",4578805814,"ENCTR",3,"Local system","Local System",594,0,null,null,594,null,0,0,0,0,0,0,0,0,0,null,null,null,null,594,1,0,0,0,null,0,0,0,0]
["1 July 2016 to 31 July 2016","ST. PAUL'S HOSPITAL","SPH","PH",5156724947,"ENCTR",3,"Local system","Local System",4,0,null,null,4,null,0,0,0,0,0,0,0,0,0,null,null,null,null,4,1,0,0,0,null,0,0,0,0]
["1 July 2016 to 31 July 2016","ST.TERESA's HOSPITAL","STH","PH",7969980015,"ADR",3,"Local system","Local System",7,0,null,null,7,null,0,0,0,0,0,0,0,0,0,0,0,null,null,7,1,0,0,0,null,0,0,0,0]
["1 July 2016 to 31 July 2016","ST.TERESA's HOSPITAL","STH","PH",7969980015,"BIRTH",3,"Local system","Local System",5,0,null,null,5,null,0,0,0,0,0,0,0,0,0,0,0,0,null,5,1,0,0,0,null,0,0,0,0]
["1 July 2016 to 31 July 2016","UNION HOSPITAL","UNION HOSPITAL","PH",5712620300,"ENCTR",3,"Local system","Local System",114,0,null,null,114,null,0,0,0,0,0,0,0,0,0,null,null,null,null,114,1,0,0,0,null,0,0,0,0]
["1 July 2016 to 31 July 2016 Total",null,null,null,null,null,null,null,null,{"$f":"SUM(J199:J240)","v":22995},{"$f":"SUM(K199:K240)","v":0},{"$f":"SUM(L199:L240)","v":0},{"$f":"SUM(M199:M240)","v":3376},{"$f":"SUM(N199:N240)","v":19619},null,{"$f":"SUM(P199:P240)","v":0},0,{"$f":"SUM(R199:R240)","v":0},{"$f":"SUM(S199:S240)","v":0},{"$f":"SUM(T199:T240)","v":1535},6.6753642096107846E-2,{"$f":"SUM(V199:V240)","v":1535},0,0,1535,0,0,null,{"$f":"SUM(AC199:AC240)","v":19619},0.85318547510328335,{"$f":"SUM(AE199:AE240)","v":1},4.3487714720591432E-5,{"$f":"SUM(AG199:AG240)","v":0},null,{"$f":"SUM(AI199:AI240)","v":0},{"$f":"SUM(AJ199:AJ240)","v":0},{"$f":"SUM(AK199:AK240)","v":1},{"$f":"SUM(AL199:AL240)","v":0}]
["1 Aug 2016 to 31 Aug 2016","DEPARTMENT OF HEALTH CIMS1","DH","DH",8658917541,"ADR",3,"Local system","Local System",{"$f":"SUM(K242:N242)","v":165},{"$f":"P242","v":0},null,13,152,null,{"$f":"SUM(R242:S242)","v":0},0,0,0,{"$f":"SUM(Y242:AA242)","v":13},7.8787878787878782E-2,13,0,0,13,0,null,null,152,0.92121212121212126,0,0,0,null,0,0,0,0]
["1 Aug 2016 to 31 Aug 2016","DEPARTMENT OF HEALTH CIMS1","DH","DH",8658917541,"AL1",3,"Local system","Local System",259,0,null,41,218,null,0,0,0,0,41,0.15830115830115829,41,0,0,41,0,null,null,218,0.84169884169884168,0,0,0,null,0,0,0,0]
["1 Aug 2016 to 31 Aug 2016","DEPARTMENT OF HEALTH CIMS1","DH","DH",8658917541,"ENCTR",3,"Local system","Local System",12460,0,null,null,12460,null,0,0,0,0,0,0,0,0,0,null,null,null,null,12460,1,0,0,0,null,0,0,0,0]
["1 Aug 2016 to 31 Aug 2016","DEPARTMENT OF HEALTH CIMS1","DH","DH",8658917541,"IMMU",3,"Local system","Local System",2571,0,null,49,2522,null,0,0,0,0,49,1.9058732010890703E-2,49,0,0,49,0,0,null,2522,0.9809412679891093,0,0,0,null,0,0,0,0]
["1 Aug 2016 to 31 Aug 2016","DEPARTMENT OF HEALTH CIMS1","DH","DH",8658917541,"PROB",3,"Local system","Local System",8227,0,null,185,8042,null,0,0,0,0,185,2.2486933268506138E-2,185,0,0,185,0,null,null,8042,0.97751306673149385,0,0,0,0,0,0,0,0]
["1 Aug 2016 to 31 Aug 2016","DEPARTMENT OF HEALTH CIMS1","DH","DH",8658917541,"PX",3,"Local system","Local System",3917,0,null,109,3808,null,0,0,0,0,109,2.7827418943068675E-2,109,0,0,109,0,null,null,3808,0.97217258105693127,0,0,0,0,0,0,0,0]
["1 Aug 2016 to 31 Aug 2016","DEPARTMENT OF HEALTH CIMS1","DH","DH",8658917541,"RXO",3,"Local system","Local System",12480,0,null,1805,10675,null,0,0,0,0,1805,0.14463141025641027,1805,0,0,1805,0,null,null,10675,0.85536858974358976,0,0,0,null,0,0,0,0]
["1 Aug 2016 to 31 Aug 2016","CANOSSA HOSPITAL (CARITAS)","CANNOSSA HOSPITAL","PH",8252506240,"ADR",3,"Local system","Local System",0,0,null,null,0,null,0,{"$error":"#DIV/0!"},0,0,0,{"$error":"#DIV/0!"},0,0,0,0,0,null,null,0,{"$error":"#DIV/0!"},0,{"$error":"#DIV/0!"},0,null,0,0,0,0]
["1 Aug 2016 to 31 Aug 2016","CANOSSA HOSPITAL (CARITAS)","CANNOSSA HOSPITAL","PH",8252506240,"AL1",3,"Local system","Local System",0,0,null,null,0,null,0,{"$error":"#DIV/0!"},0,0,0,{"$error":"#DIV/0!"},0,0,0,0,0,null,null,0,{"$error":"#DIV/0!"},0,{"$error":"#DIV/0!"},0,null,0,0,0,0]
["1 Aug 2016 to 31 Aug 2016","CHIRON HEALTHCARE GROUP LIMITED","CHIRON HEALTHCARE","GROUP",9451612824,"ENCTR",3,"Local system","Local System",10,0,null,null,10,null,0,0,0,0,0,0,0,0,0,null,null,null,null,10,1,0,0,0,null,0,0,0,0]
["1 Aug 2016 to 31 Aug 2016","CHIRON HEALTHCARE GROUP LIMITED","CHIRON HEALTHCARE","GROUP",9451612824,"IMMU","3,2","Local system","Local System",2,0,null,null,2,null,0,0,0,0,0,0,0,0,0,null,null,null,null,2,1,0,0,0,null,0,0,0,0]
["1 Aug 2016 to 31 Aug 2016","CHIRON HEALTHCARE GROUP LIMITED","CHIRON HEALTHCARE","GROUP",9451612824,"PROB","3,2","Local system","Local System",4,0,null,null,4,null,0,0,0,0,0,0,0,0,0,null,null,null,null,4,1,0,0,0,0,0,0,0,0]
["1 Aug 2016 to 31 Aug 2016","CHIRON HEALTHCARE GROUP LIMITED","CHIRON HEALTHCARE","GROUP",9451612824,"RXD","3,2","Local system","Local System",5,0,null,null,5,null,0,0,0,0,0,0,0,0,0,0,0,null,null,5,1,0,0,0,null,0,0,0,0]
["1 Aug 2016 to 31 Aug 2016","CHIRON HEALTHCARE GROUP LIMITED","CHIRON HEALTHCARE","GROUP",9451612824,"RXO","3,2","Local system","Local System",5,0,null,null,5,null,0,0,0,0,0,0,0,0,0,0,0,null,null,5,1,0,0,0,null,0,0,0,0]
["1 Aug 2016 to 31 Aug 2016","DR WONG CHUN POR","DR CP WONG CLINIC","SOLO",5528991274,"ADR","3,2","Local system","Local System",0,0,null,null,0,null,0,{"$error":"#DIV/0!"},0,0,0,{"$error":"#DIV/0!"},0,0,0,0,0,null,null,0,{"$error":"#DIV/0!"},0,{"$error":"#DIV/0!"},0,null,0,0,0,0]
["1 Aug 2016 to 31 Aug 2016","DR WONG CHUN POR","DR CP WONG CLINIC","SOLO",5528991274,"AL1","3,2","Local system","Local System",3,0,null,null,3,null,0,0,0,0,0,0,0,0,0,0,0,null,null,3,1,0,0,0,null,0,0,0,0]
["1 Aug 2016 to 31 Aug 2016","DR WONG CHUN POR","DR CP WONG CLINIC","SOLO",5528991274,"ENCTR",3,"Local system","Local System",77,0,null,null,77,null,0,0,0,0,0,0,0,0,0,null,null,null,null,77,1,0,0,0,null,0,0,0,0]
["1 Aug 2016 to 31 Aug 2016","DR WONG CHUN POR","DR CP WONG CLINIC","SOLO",5528991274,"IMMU","3,2","Local system","Local System",1,0,null,1,0,null,0,0,0,0,0,0,0,0,0,0,0,0,null,0,0,0,0,0,null,0,0,0,0]
["1 Aug 2016 to 31 Aug 2016","DR WONG CHUN POR","DR CP WONG CLINIC","SOLO",5528991274,"PROB","3,2","Local system","Local System",188,0,null,1,187,null,0,0,0,0,0,0,0,0,0,null,null,null,null,187,0.99468085106382975,0,0,0,0,0,0,0,0]
["1 Aug 2016 to 31 Aug 2016","DR WONG CHUN POR","DR CP WONG CLINIC","SOLO",5528991274,"RXD","3,2","Local system","Local System",171,0,null,45,126,null,0,0,0,0,0,0,0,0,0,0,0,null,null,126,0.73684210526315785,0,0,0,null,0,0,0,0]
["1 Aug 2016 to 31 Aug 2016","DR WONG CHUN POR","DR CP WONG CLINIC","SOLO",5528991274,"RXO","3,2","Local system","Local System",188,0,null,51,137,null,0,0,0,0,0,0,0,0,0,0,0,null,null,137,0.72872340425531912,0,0,0,null,0,0,0,0]
["1 Aug 2016 to 31 Aug 2016","DR. YEE YUK KEI","DR. YK YEE","SOLO",2310917092,"AL1","3,2","Local system","Local System",1,0,null,null,1,null,0,0,0,0,0,0,0,0,0,0,0,null,null,1,1,0,0,0,null,0,0,0,0]
["1 Aug 2016 to 31 Aug 2016","EVANGEL HOSPITAL","EVANGEL HOSPITAL","PH",2206285885,"ENCTR","3,2","Local system","Local System",504,0,null,null,504,null,0,0,0,0,0,0,0,0,0,null,null,null,null,504,1,0,0,0,null,0,0,0,0]
["1 Aug 2016 to 31 Aug 2016","EVANGEL HOSPITAL","EVANGEL HOSPITAL","PH",2206285885,"AL1","3,2","Local system","Local System",10,0,null,8,2,null,0,{"$f":"P265/J265","v":0},0,0,8,{"$f":"T265/J265","v":0.8},8,0,0,8,0,null,null,2,{"$f":"AC265/J265","v":0.2},0,{"$f":"AE265/J265","v":0},0,null,0,0,0,0]
["1 Aug 2016 to 31 Aug 2016","EVANGEL HOSPITAL","EVANGEL HOSPITAL","PH",2206285885,"ADR","3,2","Local system","Local System",5,0,null,2,3,null,0,0,0,0,2,0.4,2,0,0,2,0,null,null,3,0.6,0,0,0,null,0,0,0,0]
["1 Aug 2016 to 31 Aug 2016","HONG KONG ADVENTIST HOSPITAL - STUBBS ROAD","HK ADVENTIST - SR","PH",7029571085,"ADR",3,"Local system","Local System",1,0,null,null,1,null,0,0,0,0,1,1,1,0,0,1,0,null,null,1,1,0,0,0,null,0,0,0,0]
["1 Aug 2016 to 31 Aug 2016","HONG KONG ADVENTIST HOSPITAL - STUBBS ROAD","HK ADVENTIST - SR","PH",7029571085,"AL1",3,"Local system","Local System",4,0,null,1,3,null,0,0,0,0,0,0,0,0,0,0,0,null,null,3,0.75,0,0,0,null,0,0,0,0]
["1 Aug 2016 to 31 Aug 2016","HONG KONG ADVENTIST HOSPITAL - STUBBS ROAD","HK ADVENTIST - SR","PH",7029571085,"RAD",2,"Local system","Local System",100,0,null,100,0,null,0,0,0,0,0,0,0,0,0,0,0,null,null,0,0,0,0,0,null,0,0,0,0]
["1 Aug 2016 to 31 Aug 2016","HONG KONG ADVENTIST HOSPITAL - STUBBS ROAD","HK ADVENTIST - SR","PH",7029571085,"RXD",2,"Local system + LAAM","Local System",144,0,null,144,0,null,0,0,0,0,0,0,0,0,0,0,0,null,null,0,0,0,0,0,null,0,0,0,0]
["1 Aug 2016 to 31 Aug 2016","HONG KONG ADVENTIST HOSPITAL - TSUEN WAN","HK ADVENTIST - TW","PH",8909436562,"ADR",3,"Local system","Local System",6,0,null,2,4,null,0,0,0,0,2,0.33333333333333331,2,0,0,2,0,null,null,4,0.66666666666666663,0,0,0,null,0,0,0,0]
["1 Aug 2016 to 31 Aug 2016","HONG KONG ADVENTIST HOSPITAL - TSUEN WAN","HK ADVENTIST - TW","PH",8909436562,"AL1",3,"Local system","Local System",23,0,null,5,18,null,0,0,0,0,5,0.21739130434782608,5,0,0,5,0,null,null,18,0.78260869565217395,0,0,0,null,0,0,0,0]
["1 Aug 2016 to 31 Aug 2016","HONG KONG ADVENTIST HOSPITAL - TSUEN WAN","HK ADVENTIST - TW","PH",8909436562,"BIRTH",3,"Local system","Local System",4,2,null,null,2,null,2,0.5,2,0,0,0,0,0,0,0,0,null,null,2,0.5,0,0,0,null,0,0,0,0]
["1 Aug 2016 to 31 Aug 2016","HONG KONG ADVENTIST HOSPITAL - TSUEN WAN","HK ADVENTIST - TW","PH",8909436562,"RAD",2,"Local system","Local System",668,0,null,668,0,null,0,0,0,0,0,0,0,0,0,0,0,0,null,0,0,0,0,0,null,0,0,0,0]
["1 Aug 2016 to 31 Aug 2016","HONG KONG ADVENTIST HOSPITAL - TSUEN WAN","HK ADVENTIST - TW","PH",8909436562,"RXD",2,"Local system","Local System",1041,0,null,1041,0,null,0,0,0,0,0,0,0,0,0,0,0,null,null,0,0,0,0,0,null,0,0,0,0]
["1 Aug 2016 to 31 Aug 2016","HONG KONG BAPTIST HOSPITAL","HK BAPTIST HOSPITAL","PH",3650324540,"ENCTR",3,"Local system","Local System",34,0,null,null,34,null,0,0,null,null,0,0,null,null,null,null,null,null,null,34,1,0,0,0,null,0,0,0,0]
["1 Aug 2016 to 31 Aug 2016","THE HONG KONG POLYTECHNIC UNIVERSITY","POLYU","HCAI",4578805814,"ENCTR",3,"Local system","Local System",462,0,null,null,462,null,0,0,0,0,0,0,0,0,0,null,null,null,null,462,1,0,0,0,null,0,0,0,0]
["1 Aug 2016 to 31 Aug 2016","ST. PAUL'S HOSPITAL","SPH","PH",5156724947,"ADR",3,"Local system","Local System",7,0,null,null,7,null,0,0,0,0,0,0,0,0,0,0,0,null,null,7,1,0,0,0,null,0,0,0,0]
["1 Aug 2016 to 31 Aug 2016","ST. PAUL'S HOSPITAL","SPH","PH",5156724947,"AL1",3,"Local system","Local System",44,0,null,15,29,null,0,0,0,0,16,0.36363636363636365,16,0,0,16,0,null,null,29,0.65909090909090906,0,0,0,null,0,0,0,0]
["1 Aug 2016 to 31 Aug 2016","ST. PAUL'S HOSPITAL","SPH","PH",5156724947,"ENCTR",3,"Local system","Local System",10,0,null,null,10,null,0,0,0,0,0,0,0,0,0,null,null,null,null,10,1,0,0,0,null,0,0,0,0]
["1 Aug 2016 to 31 Aug 2016","ST.TERESA's HOSPITAL","STH","PH",7969980015,"ADR",3,"Local system","Local System",7,0,null,3,4,null,0,0,0,0,3,0.42857142857142855,3,0,0,3,0,null,null,4,0.5714285714285714,0,0,0,null,0,0,0,0]
["1 Aug 2016 to 31 Aug 2016","ST.TERESA's HOSPITAL","STH","PH",7969980015,"AL1",3,"Local system","Local System",41,0,null,19,22,null,0,0,0,0,19,0.46341463414634149,19,0,0,19,0,null,null,22,0.53658536585365857,0,0,0,null,0,0,0,0]
["1 Aug 2016 to 31 Aug 2016","ST.TERESA's HOSPITAL","STH","PH",7969980015,"BIRTH",3,"Local system","Local System",1,0,null,null,1,null,0,0,0,0,0,0,0,0,0,0,0,0,null,1,1,0,0,0,null,0,0,0,0]
["1 Aug 2016 to 31 Aug 2016","UNION HOSPITAL","UNION HOSPITAL","PH",5712620300,"ADR",3,"Local system","Local System",12,0,null,4,8,null,0,0,0,0,2,0.16666666666666666,2,0,0,2,0,null,null,8,0.66666666666666663,2,0.16666666666666666,0,null,0,0,2,0]
["1 Aug 2016 to 31 Aug 2016","UNION HOSPITAL","UNION HOSPITAL","PH",5712620300,"AL1",3,"Local system","Local System",152,0,null,83,69,null,0,0,0,0,87,0.57236842105263153,87,0,0,87,0,null,null,69,0.45394736842105265,0,0,0,null,0,0,0,0]
["1 Aug 2016 to 31 Aug 2016","UNION HOSPITAL","UNION HOSPITAL","PH",5712620300,"ENCTR",3,"Local system","Local System",107,0,null,null,107,null,0,0,0,0,0,0,0,0,0,null,null,null,null,107,1,0,0,0,null,0,0,0,0]
["1 Aug 2016 to 31 AUg 2016 Total",null,null,null,null,null,null,null,null,{"$f":"SUM(J242:J286)","v":44121},{"$f":"SUM(K242:K286)","v":2},{"$f":"SUM(L242:L286)","v":0},{"$f":"SUM(M242:M286)","v":4395},{"$f":"SUM(N242:N286)","v":39724},null,{"$f":"SUM(P242:P286)","v":2},4.5329888261825434E-5,{"$f":"SUM(R242:R286)","v":2},{"$f":"SUM(S242:S286)","v":0},{"$f":"SUM(T242:T286)","v":2347},5.3194623875252145E-2,{"$f":"SUM(V242:V286)","v":2347},0,0,2347,0,0,null,{"$f":"SUM(AC242:AC286)","v":39724},0.9003422406563768,{"$f":"SUM(AE242:AE286)","v":2},4.5329888261825434E-5,{"$f":"SUM(AG242:AG286)","v":0},null,{"$f":"SUM(AI242:AI286)","v":0},{"$f":"SUM(AJ242:AJ286)","v":0},{"$f":"SUM(AK242:AK286)","v":2},{"$f":"SUM(AL242:AL286)","v":0}]
["1 Sep 2016 to 30 Sep 2016","DEPARTMENT OF HEALTH CIMS1","DH","DH",8658917541,"ADR",3,"Local system","Local System",{"$f":"SUM(K288:N288)","v":89},{"$f":"P288","v":0},null,15,74,null,{"$f":"SUM(R288:S288)","v":0},0,0,0,{"$f":"SUM(Y288:AA288)","v":15},0.16853932584269662,15,0,0,15,0,null,null,74,0.8314606741573034,0,0,0,null,0,0,0,0]
["1 Sep 2016 to 30 Sep 2016","DEPARTMENT OF HEALTH CIMS1","DH","DH",8658917541,"AL1",3,"Local system","Local System",198,0,null,33,165,null,0,0,0,0,32,0.16161616161616163,32,0,0,32,0,null,null,165,0.83333333333333337,0,0,0,null,0,0,0,0]
["1 Sep 2016 to 30 Sep 2016","DEPARTMENT OF HEALTH CIMS1","DH","DH",8658917541,"ENCTR",3,"Local system + LAAM","Local System",11735,0,null,null,11735,null,0,0,0,0,0,0,0,0,0,null,null,null,null,11735,1,0,0,0,null,0,0,0,0]
["1 Sep 2016 to 30 Sep 2016","DEPARTMENT OF HEALTH CIMS1","DH","DH",8658917541,"IMMU",3,"Local system + LAAM","Local System",2863,0,null,79,2784,null,0,0,0,0,77,2.6894865525672371E-2,77,0,0,77,0,0,null,2784,0.97240656653859592,0,0,0,null,0,0,0,0]
["1 Sep 2016 to 30 Sep 2016","DEPARTMENT OF HEALTH CIMS1","DH","DH",8658917541,"PROB",3,"Local system + LAAM","Local System",5331,0,null,167,5164,null,0,0,0,0,167,3.1326205214781466E-2,167,0,0,167,0,null,null,5164,0.96867379478521853,0,0,0,0,0,0,0,0]
["1 Sep 2016 to 30 Sep 2016","DEPARTMENT OF HEALTH CIMS1","DH","DH",8658917541,"PX",3,"Local system + LAAM","Local System",4265,0,null,105,4160,null,0,0,0,0,105,2.4618991793669401E-2,105,0,0,105,0,null,null,4160,0.97538100820633056,0,0,0,0,0,0,0,0]
["1 Sep 2016 to 30 Sep 2016","DEPARTMENT OF HEALTH CIMS1","DH","DH",8658917541,"RXO",3,"MOE","Local System",7415,0,null,1097,6318,null,0,0,0,0,1097,0.14794335805799055,1097,0,0,1097,0,null,null,6318,0.85205664194200947,0,0,0,null,0,0,0,0]
["1 Sep 2016 to 30 Sep 2016","CANOSSA HOSPITAL (CARITAS)","CANNOSSA HOSPITAL","PH",8252506240,"ADR",3,"Local system","Local System",0,0,null,null,0,null,0,{"$error":"#DIV/0!"},0,0,0,{"$error":"#DIV/0!"},0,0,0,0,0,null,null,0,{"$error":"#DIV/0!"},0,{"$error":"#DIV/0!"},0,null,0,0,0,0]
["1 Sep 2016 to 30 Sep 2016","CANOSSA HOSPITAL (CARITAS)","CANNOSSA HOSPITAL","PH",8252506240,"AL1",3,"Local system","Local System",1,0,null,1,0,null,0,0,0,0,1,1,1,0,0,1,0,null,null,0,0,0,0,0,null,0,0,0,0]
["1 Sep 2016 to 30 Sep 2016","CHIRON HEALTHCARE GROUP LIMITED","CHIRON HEALTHCARE","GROUP",9451612824,"AL1","3,2","Local system","Local System",3,0,null,1,2,null,0,0,0,0,1,0.33333333333333331,1,0,0,1,0,null,null,2,0.66666666666666663,0,0,0,null,0,0,0,0]
["1 Sep 2016 to 30 Sep 2016","CHIRON HEALTHCARE GROUP LIMITED","CHIRON HEALTHCARE","GROUP",9451612824,"ENCTR",3,"Local system","Local System",65,0,null,null,65,null,0,0,0,0,0,0,0,0,0,null,null,null,null,65,1,0,0,0,null,0,0,0,0]
["1 Sep 2016 to 30 Sep 2016","CHIRON HEALTHCARE GROUP LIMITED","CHIRON HEALTHCARE","GROUP",9451612824,"IMMU","3,2","Local system","Local System",3,0,null,0,3,null,0,0,0,0,0,0,0,0,0,0,0,0,null,3,1,0,0,0,null,0,0,0,0]
["1 Sep 2016 to 30 Sep 2016","CHIRON HEALTHCARE GROUP LIMITED","CHIRON HEALTHCARE","GROUP",9451612824,"PROB","3,2","Local system","Local System",71,0,null,2,69,null,0,0,0,0,0,0,0,0,0,null,null,null,null,69,0.971830985915493,0,0,0,0,0,0,0,0]
["1 Sep 2016 to 30 Sep 2016","CHIRON HEALTHCARE GROUP LIMITED","CHIRON HEALTHCARE","GROUP",9451612824,"RXD","3,2","Local system","Local System",37,0,null,3,34,null,0,0,0,0,0,0,0,0,0,0,0,null,null,34,0.91891891891891897,0,0,0,null,0,0,0,0]
["1 Sep 2016 to 30 Sep 2016","CHIRON HEALTHCARE GROUP LIMITED","CHIRON HEALTHCARE","GROUP",9451612824,"RXO","3,2","Local system","Local System",37,0,null,3,34,null,0,0,0,0,0,0,0,0,0,0,0,null,null,34,0.91891891891891897,0,0,0,null,0,0,0,0]
["1 Sep 2016 to 30 Sep 2016","DR WONG CHUN POR","DR CP WONG CLINIC","SOLO",5528991274,"ADR","3,2","Local system","Local System",0,0,null,0,0,null,0,{"$error":"#DIV/0!"},0,0,0,{"$error":"#DIV/0!"},0,0,0,0,0,null,null,0,{"$error":"#DIV/0!"},0,{"$error":"#DIV/0!"},0,null,0,0,0,0]
["1 Sep 2016 to 30 Sep 2016","DR WONG CHUN POR","DR CP WONG CLINIC","SOLO",5528991274,"AL1","3,2","Local system","Local System",0,0,null,0,0,null,0,{"$error":"#DIV/0!"},0,0,0,{"$error":"#DIV/0!"},0,0,0,0,0,null,null,0,{"$error":"#DIV/0!"},0,{"$error":"#DIV/0!"},0,null,0,0,0,0]
["1 Sep 2016 to 30 Sep 2016","DR WONG CHUN POR","DR CP WONG CLINIC","SOLO",5528991274,"ENCTR",3,"Local system","Local System",128,0,null,null,128,null,0,0,0,0,0,0,0,0,0,null,null,null,null,128,1,0,0,0,null,0,0,0,0]
["1 Sep 2016 to 30 Sep 2016","DR WONG CHUN POR","DR CP WONG CLINIC","SOLO",5528991274,"IMMU","3,2","Local system","Local System",4,0,null,4,0,null,0,0,0,0,0,0,0,0,0,0,0,0,null,0,0,0,0,0,null,0,0,0,0]
["1 Sep 2016 to 30 Sep 2016","DR WONG CHUN POR","DR CP WONG CLINIC","SOLO",5528991274,"PROB","3,2","Local system","Local System",347,0,null,0,347,null,0,0,0,0,0,0,0,0,0,0,0,null,null,347,1,0,0,0,0,0,0,0,0]
["1 Sep 2016 to 30 Sep 2016","DR WONG CHUN POR","DR CP WONG CLINIC","SOLO",5528991274,"PX","3,2","Local system","Local System",1,0,null,0,1,null,0,0,0,0,0,0,0,0,0,0,0,null,null,1,1,0,0,0,0,0,0,0,0]
["1 Sep 2016 to 30 Sep 2016","DR WONG CHUN POR","DR CP WONG CLINIC","SOLO",5528991274,"RXD","3,2","Local system","Local System",192,0,null,55,137,null,0,0,0,0,0,0,0,0,0,0,0,null,null,137,0.71354166666666663,0,0,0,null,0,0,0,0]
["1 Sep 2016 to 30 Sep 2016","DR WONG CHUN POR","DR CP WONG CLINIC","SOLO",5528991274,"RXO","3,2","Local system","Local System",229,0,null,65,164,null,0,0,0,0,0,0,0,0,0,0,0,null,null,164,0.71615720524017468,0,0,0,null,0,0,0,0]
["1 Sep 2016 to 30 Sep 2016","DR. YEE YUK KEI","DR. YK YEE","SOLO",2310917092,"AL1","3,2","Local system","Local System",1,0,null,0,1,null,0,0,0,0,0,0,0,0,0,0,0,null,null,1,1,0,0,0,null,0,0,0,0]
["1 Sep 2016 to 30 Sep 2016","EVANGEL HOSPITAL","EVANGEL HOSPITAL","PH",2206285885,"ENCTR","3,2","Local system","Local System",289,0,null,null,289,null,0,0,0,0,0,0,0,0,0,null,null,null,null,289,1,0,0,0,null,0,0,0,0]
["1 Sep 2016 to 30 Sep 2016","EVANGEL HOSPITAL","EVANGEL HOSPITAL","PH",2206285885,"AL1","3,2","Local system","Local System",6,0,null,2,4,null,0,0,0,0,2,0.33333333333333331,2,0,0,2,0,null,null,4,0.66666666666666663,0,0,0,null,0,0,0,0]
["1 Sep 2016 to 30 Sep 2016","EVANGEL HOSPITAL","EVANGEL HOSPITAL","PH",2206285885,"ADR","3,2","Local system","Local System",1,0,null,0,1,null,0,0,0,0,0,0,0,0,0,0,0,null,null,1,1,0,0,0,null,0,0,0,0]
["1 Sep 2016 to 30 Sep 2016","HONG KONG ADVENTIST HOSPITAL - STUBBS ROAD","HK ADVENTIST - SR","PH",7029571085,"ADR",3,"Local system","Local System",0,0,null,null,0,null,0,{"$error":"#DIV/0!"},0,0,0,{"$error":"#DIV/0!"},0,0,0,0,0,null,null,0,{"$error":"#DIV/0!"},0,{"$error":"#DIV/0!"},0,null,0,0,0,0]
["1 Sep 2016 to 30 Sep 2016","HONG KONG ADVENTIST HOSPITAL - STUBBS ROAD","HK ADVENTIST - SR","PH",7029571085,"AL1",3,"Local system","Local System",3,0,null,null,3,null,0,0,0,0,0,0,0,0,0,0,0,null,null,3,1,0,0,0,null,0,0,0,0]
["1 Sep 2016 to 30 Sep 2016","HONG KONG ADVENTIST HOSPITAL - STUBBS ROAD","HK ADVENTIST - SR","PH",7029571085,"RAD",2,"Local system","Local System",21,0,null,21,0,null,0,0,0,0,0,0,0,0,0,0,0,null,null,0,0,0,0,0,null,0,0,0,0]
["1 Sep 2016 to 30 Sep 2016","HONG KONG ADVENTIST HOSPITAL - STUBBS ROAD","HK ADVENTIST - SR","PH",7029571085,"RXD",2,"Local system + LAAM","Local System",123,0,null,123,0,null,0,0,0,0,0,0,0,0,0,0,0,null,null,0,0,0,0,0,null,0,0,0,0]
["1 Sep 2016 to 30 Sep 2016","HONG KONG ADVENTIST HOSPITAL - TSUEN WAN","HK ADVENTIST - TW","PH",8909436562,"ADR",3,"Local system","Local System",5,0,null,null,5,null,0,0,0,0,0,0,0,0,0,0,0,null,null,5,1,0,0,0,null,0,0,0,0]
["1 Sep 2016 to 30 Sep 2016","HONG KONG ADVENTIST HOSPITAL - TSUEN WAN","HK ADVENTIST - TW","PH",8909436562,"AL1",3,"Local system","Local System",41,0,null,6,35,null,0,0,0,0,6,0.14634146341463414,6,0,0,6,0,null,null,35,0.85365853658536583,0,0,0,null,0,0,0,0]
["1 Sep 2016 to 30 Sep 2016","HONG KONG ADVENTIST HOSPITAL - TSUEN WAN","HK ADVENTIST - TW","PH",8909436562,"BIRTH",3,"Local system","Local System",2,0,null,null,2,null,0,0,0,0,0,0,0,0,0,0,0,null,null,2,1,0,0,0,null,0,0,0,0]
["1 Sep 2016 to 30 Sep 2016","HONG KONG ADVENTIST HOSPITAL - TSUEN WAN","HK ADVENTIST - TW","PH",8909436562,"RAD",2,"Local system","Local System",642,0,null,642,0,null,0,0,0,0,0,0,0,0,0,0,0,0,null,0,0,0,0,0,null,0,0,0,0]
["1 Sep 2016 to 30 Sep 2016","HONG KONG ADVENTIST HOSPITAL - TSUEN WAN","HK ADVENTIST - TW","PH",8909436562,"RXD",2,"Local system","Local System",1056,0,null,1056,0,null,0,0,0,0,0,0,0,0,0,0,0,null,null,0,0,0,0,0,null,0,0,0,0]
["1 Sep 2016 to 30 Sep 2016","HONG KONG BAPTIST HOSPITAL","HK BAPTIST HOSPITAL","PH",3650324540,"ENCTR",3,"Local system","Local System",38,0,null,null,38,null,0,0,null,null,0,0,null,null,null,null,null,null,null,38,1,0,0,0,null,0,0,0,0]
["1 Sep 2016 to 30 Sep 2016","THE HONG KONG POLYTECHNIC UNIVERSITY","POLYU","HCAI",4578805814,"ENCTR",3,"Local system","Local System",542,0,null,null,542,null,0,0,0,0,0,0,0,0,0,null,null,null,null,542,1,0,0,0,null,0,0,0,0]
["1 Sep 2016 to 30 Sep 2016","ST. PAUL'S HOSPITAL","SPH","PH",5156724947,"ADR",3,"Local system","Local System",4,0,null,1,3,null,0,0,0,0,1,0.25,1,0,0,1,0,null,null,3,0.75,0,0,0,null,0,0,0,0]
["1 Sep 2016 to 30 Sep 2016","ST. PAUL'S HOSPITAL","SPH","PH",5156724947,"AL1",3,"Local system","Local System",36,0,null,7,29,null,0,0,0,0,9,0.25,9,0,0,9,0,null,null,29,0.80555555555555558,0,0,0,null,0,0,0,0]
["1 Sep 2016 to 30 Sep 2016","ST. PAUL'S HOSPITAL","SPH","PH",5156724947,"ENCTR",3,"Local system + LAAM","Local System",4,0,null,null,4,null,0,0,0,0,0,0,0,0,0,null,null,null,null,4,1,0,0,0,null,0,0,0,0]
["1 Sep 2016 to 30 Sep 2016","ST.TERESA's HOSPITAL","STH","PH",7969980015,"ADR",3,"Local system","Local System",6,0,null,1,5,null,0,{"$f":"P329/J329","v":0},0,0,1,{"$f":"T329/J329","v":0.16666666666666666},1,0,0,1,0,null,null,5,{"$f":"AC329/J329","v":0.83333333333333337},0,{"$f":"AE329/J329","v":0},0,null,0,0,0,0]
["1 Sep 2016 to 30 Sep 2016","ST.TERESA's HOSPITAL","STH","PH",7969980015,"AL1",3,"Local system","Local System",72,0,null,26,46,null,0,0,0,0,25,0.34722222222222221,25,0,0,25,0,null,null,46,0.63888888888888884,0,0,0,null,0,0,0,0]
["1 Sep 2016 to 30 Sep 2016","ST.TERESA's HOSPITAL","STH","PH",7969980015,"BIRTH",3,"Local system + LAAM","Local System",5,0,null,null,5,null,0,0,0,0,0,0,0,0,0,0,0,0,null,5,1,0,0,0,null,0,0,0,0]
["1 Sep 2016 to 30 Sep 2016","UNION HOSPITAL","UNION HOSPITAL","PH",5712620300,"ADR",3,"Local system","Local System",12,0,null,2,10,null,0,0,0,0,2,0.16666666666666666,2,0,0,2,0,null,null,10,0.83333333333333337,0,0,0,null,0,0,0,0]
["1 Sep 2016 to 30 Sep 2016","UNION HOSPITAL","UNION HOSPITAL","PH",5712620300,"AL1",3,"Local system","Local System",113,0,null,51,62,null,0,0,0,0,50,0.44247787610619471,50,0,0,50,0,null,null,62,0.54867256637168138,0,0,0,null,0,0,0,0]
["1 Sep 2016 to 30 Sep 2016","UNION HOSPITAL","UNION HOSPITAL","PH",5712620300,"ENCTR",3,"Local system","Local System",81,0,null,null,81,null,0,0,0,0,0,0,0,0,0,null,null,null,null,81,1,0,0,0,null,0,0,0,0]
["1 Sep 2016 to 30 Sep 2016","DIAGNOSTIX MEDICAL CENTRE LIMITED","DIAGNOSTIX MEDICAL","GROUP",4905639327,"LABGEN",3,"Adaptation","Adaptaion",16,0,null,null,16,null,0,0,0,0,0,0,0,0,0,null,null,null,null,16,1,0,0,0,null,0,0,0,0]
["1 Sep 2016 to 30 Sep 2016 Total",null,null,null,null,null,null,null,null,{"$f":"SUM(J288:J334)","v":36117},{"$f":"SUM(K288:K334)","v":0},{"$f":"SUM(L288:L334)","v":0},{"$f":"SUM(M288:M334)","v":3568},{"$f":"SUM(N288:N334)","v":32549},null,{"$f":"SUM(P288:P334)","v":0},0,{"$f":"SUM(R288:R334)","v":0},{"$f":"SUM(S288:S334)","v":0},{"$f":"SUM(T288:T334)","v":1591},4.4051277791621671E-2,{"$f":"SUM(V288:V334)","v":1591},0,0,1591,0,0,null,{"$f":"SUM(AC288:AC334)","v":32549},0.90120995653016589,{"$f":"SUM(AE288:AE334)","v":0},0,{"$f":"SUM(AG288:AG334)","v":0},null,{"$f":"SUM(AI288:AI334)","v":0},{"$f":"SUM(AJ288:AJ334)","v":0},{"$f":"SUM(AK288:AK334)","v":0},{"$f":"SUM(AL288:AL334)","v":0}]
["1 Oct 2016 to 31 Oct 2016","DEPARTMENT OF HEALTH CIMS1","DH","DH",8658917541,"ADR",3,"Local system","Local System",{"$f":"SUM(K337:N337)","v":46},{"$f":"P337","v":0},null,8,38,null,{"$f":"SUM(R337:S337)","v":0},0,0,0,{"$f":"SUM(Y337:AA337)","v":8},0.17391304347826086,8,0,0,8,0,null,null,38,0.82608695652173914,0,0,0,null,0,0,0,0]
["1 Oct 2016 to 31 Oct 2016","DEPARTMENT OF HEALTH CIMS1","DH","DH",8658917541,"AL1",3,"Local system","Local System",169,0,null,34,135,null,0,0,0,0,31,0.18343195266272189,31,0,0,31,0,null,null,135,0.79881656804733725,0,0,0,null,0,0,0,0]
["1 Oct 2016 to 31 Oct 2016","DEPARTMENT OF HEALTH CIMS1","DH","DH",8658917541,"ENCTR",3,"Local system + LAAM","Local System",12615,0,null,null,12615,null,0,0,0,0,0,0,0,0,0,null,null,null,null,12615,1,0,0,0,null,0,0,0,0]
["1 Oct 2016 to 31 Oct 2016","DEPARTMENT OF HEALTH CIMS1","DH","DH",8658917541,"IMMU",3,"Local system + LAAM","Local System",4118,0,null,77,4041,null,0,0,0,0,77,1.8698397280233123E-2,77,0,0,77,0,0,null,4041,0.98130160271976685,0,0,0,null,0,0,0,0]
["1 Oct 2016 to 31 Oct 2016","DEPARTMENT OF HEALTH CIMS1","DH","DH",8658917541,"PROB",3,"Local system + LAAM","Local System",4136,0,null,125,4011,null,0,0,0,0,125,3.0222437137330756E-2,125,0,0,125,0,null,null,4011,0.96977756286266925,0,0,0,0,0,0,0,0]
["1 Oct 2016 to 31 Oct 2016","DEPARTMENT OF HEALTH CIMS1","DH","DH",8658917541,"PX",3,"Local system + LAAM","Local System",3549,0,null,74,3475,null,0,0,0,0,74,2.0850943927867006E-2,74,0,0,74,0,null,null,3475,0.97914905607213298,0,0,0,0,0,0,0,0]
["1 Oct 2016 to 31 Oct 2016","DEPARTMENT OF HEALTH CIMS1","DH","DH",8658917541,"RXO",3,"MOE","Local System",6206,0,null,885,5321,null,0,0,0,0,885,0.1426039316790203,885,0,0,885,0,null,null,5321,0.8573960683209797,0,0,0,null,0,0,0,0]
["1 Oct 2016 to 31 Oct 2016","CANOSSA HOSPITAL (CARITAS)","CANNOSSA HOSPITAL","PH",8252506240,"ADR",3,"Local system","Local System",0,0,null,null,0,null,0,{"$error":"#DIV/0!"},0,0,0,{"$error":"#DIV/0!"},0,0,0,0,0,null,null,0,{"$error":"#DIV/0!"},0,{"$error":"#DIV/0!"},0,null,0,0,0,0]
["1 Oct 2016 to 31 Oct 2016","CANOSSA HOSPITAL (CARITAS)","CANNOSSA HOSPITAL","PH",8252506240,"AL1",3,"Local system","Local System",0,0,null,null,0,null,0,{"$error":"#DIV/0!"},0,0,0,{"$error":"#DIV/0!"},0,0,0,0,0,null,null,0,{"$error":"#DIV/0!"},0,{"$error":"#DIV/0!"},0,null,0,0,0,0]
["1 Oct 2016 to 31 Oct 2016","CHIRON HEALTHCARE GROUP LIMITED","CHIRON HEALTHCARE","GROUP",9451612824,"ADR","3,2","Local system","Local System",1,0,null,0,1,null,0,0,0,0,0,0,0,0,0,0,0,null,null,1,1,0,0,0,null,0,0,0,0]
["1 Oct 2016 to 31 Oct 2016","CHIRON HEALTHCARE GROUP LIMITED","CHIRON HEALTHCARE","GROUP",9451612824,"AL1","3,2","Local system","Local System",8,0,null,0,8,null,0,0,0,0,0,0,0,0,0,0,0,null,null,8,1,0,0,0,null,0,0,0,0]
["1 Oct 2016 to 31 Oct 2016","CHIRON HEALTHCARE GROUP LIMITED","CHIRON HEALTHCARE","GROUP",9451612824,"ENCTR",3,"Local system","Local System",25,0,null,null,25,null,0,0,0,0,0,0,0,0,0,null,null,null,null,25,1,0,0,0,null,0,0,0,0]
["1 Oct 2016 to 31 Oct 2016","CHIRON HEALTHCARE GROUP LIMITED","CHIRON HEALTHCARE","GROUP",9451612824,"IMMU","3,2","Local system","Local System",0,0,null,0,0,null,0,{"$error":"#DIV/0!"},0,0,0,{"$error":"#DIV/0!"},0,0,0,0,0,0,null,0,{"$error":"#DIV/0!"},0,{"$error":"#DIV/0!"},0,null,0,0,0,0]
["1 Oct 2016 to 31 Oct 2016","CHIRON HEALTHCARE GROUP LIMITED","CHIRON HEALTHCARE","GROUP",9451612824,"PROB","3,2","Local system","Local System",12,0,null,0,12,null,0,0,0,0,0,0,0,0,0,null,null,null,null,12,1,0,0,0,0,0,0,0,0]
["1 Oct 2016 to 31 Oct 2016","CHIRON HEALTHCARE GROUP LIMITED","CHIRON HEALTHCARE","GROUP",9451612824,"RXD","3,2","Local system","Local System",10,0,null,0,10,null,0,0,0,0,0,0,0,0,0,0,0,null,null,10,1,0,0,0,null,0,0,0,0]
["1 Oct 2016 to 31 Oct 2016","CHIRON HEALTHCARE GROUP LIMITED","CHIRON HEALTHCARE","GROUP",9451612824,"RXO","3,2","Local system","Local System",12,0,null,0,12,null,0,0,0,0,0,0,0,0,0,0,0,null,null,12,1,0,0,0,null,0,0,0,0]
["1 Oct 2016 to 31 Oct 2016","DR WONG CHUN POR","DR CP WONG CLINIC","SOLO",5528991274,"ADR","3,2","Local system","Local System",0,0,null,0,0,null,0,{"$error":"#DIV/0!"},0,0,0,{"$error":"#DIV/0!"},0,0,0,0,0,null,null,0,{"$error":"#DIV/0!"},0,{"$error":"#DIV/0!"},0,null,0,0,0,0]
["1 Oct 2016 to 31 Oct 2016","DR WONG CHUN POR","DR CP WONG CLINIC","SOLO",5528991274,"AL1","3,2","Local system","Local System",3,0,null,0,3,null,0,0,0,0,0,0,0,0,0,0,0,null,null,3,1,0,0,0,null,0,0,0,0]
["1 Oct 2016 to 31 Oct 2016","DR WONG CHUN POR","DR CP WONG CLINIC","SOLO",5528991274,"ENCTR",3,"Local system","Local System",95,0,null,null,95,null,0,0,0,0,0,0,0,0,0,null,null,null,null,95,1,0,0,0,null,0,0,0,0]
["1 Oct 2016 to 31 Oct 2016","DR WONG CHUN POR","DR CP WONG CLINIC","SOLO",5528991274,"IMMU","3,2","Local system","Local System",4,0,null,4,0,null,0,0,0,0,0,0,0,0,0,0,0,0,null,0,0,1,0.25,0,null,0,0,1,1]
["1 Oct 2016 to 31 Oct 2016","DR WONG CHUN POR","DR CP WONG CLINIC","SOLO",5528991274,"PROB","3,2","Local system","Local System",214,0,null,1,213,null,0,0,0,0,0,0,0,0,0,0,0,null,null,213,0.99532710280373837,0,0,0,0,0,0,0,0]
["1 Oct 2016 to 31 Oct 2016","DR WONG CHUN POR","DR CP WONG CLINIC","SOLO",5528991274,"PX","3,2","Local system","Local System",0,0,null,0,0,null,0,{"$error":"#DIV/0!"},0,0,0,{"$error":"#DIV/0!"},0,0,0,0,0,null,null,0,{"$error":"#DIV/0!"},0,{"$error":"#DIV/0!"},0,0,0,0,0,0]
["1 Oct 2016 to 31 Oct 2016","DR WONG CHUN POR","DR CP WONG CLINIC","SOLO",5528991274,"RXD","3,2","Local system","Local System",172,0,null,55,117,null,0,0,0,0,0,0,0,0,0,0,0,null,null,117,0.68023255813953487,0,0,0,null,0,0,0,0]
["1 Oct 2016 to 31 Oct 2016","DR WONG CHUN POR","DR CP WONG CLINIC","SOLO",5528991274,"RXO","3,2","Local system","Local System",184,0,null,59,125,null,0,0,0,0,0,0,0,0,0,0,0,null,null,125,0.67934782608695654,0,0,0,null,0,0,0,0]
["1 Oct 2016 to 31 Oct 2016","DR. YEE YUK KEI","DR. YK YEE","SOLO",2310917092,"AL1","3,2","Local system","Local System",3,0,null,0,3,null,0,0,0,0,0,0,0,0,0,0,0,null,null,3,1,0,0,0,null,0,0,0,0]
["1 Oct 2016 to 31 Oct 2016","EVANGEL HOSPITAL","EVANGEL HOSPITAL","PH",2206285885,"ENCTR","3,2","Local system","Local System",1559,0,null,null,1559,null,0,0,0,0,0,0,0,0,0,null,null,null,null,1559,1,0,0,0,null,0,0,0,0]
["1 Oct 2016 to 31 Oct 2016","EVANGEL HOSPITAL","EVANGEL HOSPITAL","PH",2206285885,"AL1","3,2","Local system","Local System",31,0,null,20,11,null,0,0,0,0,17,0.54838709677419351,17,0,0,17,0,null,null,11,0.35483870967741937,0,0,0,null,0,0,0,0]
["1 Oct 2016 to 31 Oct 2016","EVANGEL HOSPITAL","EVANGEL HOSPITAL","PH",2206285885,"ADR","3,2","Local system","Local System",5,0,null,0,5,null,0,0,0,0,0,0,0,0,0,0,0,null,null,5,1,0,0,0,null,0,0,0,0]
["1 Oct 2016 to 31 Oct 2016","EVANGEL HOSPITAL","EVANGEL HOSPITAL","PH",2206285885,"RXO","3,2","Local system","Local System",89,0,null,32,57,null,0,0,0,0,0,0,0,0,0,0,0,null,null,57,0.6404494382022472,0,0,0,null,0,0,0,0]
["1 Oct 2016 to 31 Oct 2016","HONG KONG ADVENTIST HOSPITAL - STUBBS ROAD","HK ADVENTIST - SR","PH",7029571085,"ADR",3,"Local system","Local System",0,0,null,null,0,null,0,{"$error":"#DIV/0!"},0,0,0,{"$error":"#DIV/0!"},0,0,0,0,0,null,null,0,{"$error":"#DIV/0!"},0,{"$error":"#DIV/0!"},0,null,0,0,0,0]
["1 Oct 2016 to 31 Oct 2016","HONG KONG ADVENTIST HOSPITAL - STUBBS ROAD","HK ADVENTIST - SR","PH",7029571085,"AL1",3,"Local system","Local System",1,0,null,1,0,null,0,0,0,0,1,1,1,0,0,1,0,null,null,0,0,0,0,0,null,0,0,0,0]
["1 Oct 2016 to 31 Oct 2016","HONG KONG ADVENTIST HOSPITAL - STUBBS ROAD","HK ADVENTIST - SR","PH",7029571085,"RAD",2,"Local system","Local System",19,0,null,19,0,null,0,0,0,0,0,0,0,0,0,0,0,null,null,0,0,0,0,0,null,0,0,0,0]
["1 Oct 2016 to 31 Oct 2016","HONG KONG ADVENTIST HOSPITAL - STUBBS ROAD","HK ADVENTIST - SR","PH",7029571085,"RXD",2,"Local system + LAAM","Local System",182,0,null,182,0,null,0,0,0,0,0,0,0,0,0,0,0,null,null,0,0,0,0,0,null,0,0,0,0]
["1 Oct 2016 to 31 Oct 2016","HONG KONG ADVENTIST HOSPITAL - STUBBS ROAD","HK ADVENTIST - SR","PH",7029571085,"ENCTR",3,"Local system + LAAM","Local System",1,0,null,null,1,null,0,0,0,0,0,0,0,0,0,0,0,null,null,1,1,0,0,0,null,0,0,0,0]
["1 Oct 2016 to 31 Oct 2016","HONG KONG ADVENTIST HOSPITAL - TSUEN WAN","HK ADVENTIST - TW","PH",8909436562,"ADR",3,"Local system","Local System",0,0,null,null,0,null,0,{"$error":"#DIV/0!"},0,0,0,{"$error":"#DIV/0!"},0,0,0,0,0,null,null,0,{"$error":"#DIV/0!"},0,{"$error":"#DIV/0!"},0,null,0,0,0,0]
["1 Oct 2016 to 31 Oct 2016","HONG KONG ADVENTIST HOSPITAL - TSUEN WAN","HK ADVENTIST - TW","PH",8909436562,"AL1",3,"Local system","Local System",15,0,null,3,12,null,0,0,0,0,3,0.2,3,0,0,3,0,null,null,12,0.8,0,0,0,null,0,0,0,0]
["1 Oct 2016 to 31 Oct 2016","HONG KONG ADVENTIST HOSPITAL - TSUEN WAN","HK ADVENTIST - TW","PH",8909436562,"ENCTR",3,"Local system","Local System",1,0,null,null,1,null,0,0,0,0,0,0,0,0,0,0,0,null,null,1,1,0,0,0,null,0,0,0,0]
["1 Oct 2016 to 31 Oct 2016","HONG KONG ADVENTIST HOSPITAL - TSUEN WAN","HK ADVENTIST - TW","PH",8909436562,"BIRTH",3,"Local system","Local System",0,0,null,null,0,null,0,{"$error":"#DIV/0!"},0,0,0,{"$error":"#DIV/0!"},0,0,0,0,0,null,null,0,{"$error":"#DIV/0!"},0,{"$error":"#DIV/0!"},0,null,0,0,0,0]
["1 Oct 2016 to 31 Oct 2016","HONG KONG ADVENTIST HOSPITAL - TSUEN WAN","HK ADVENTIST - TW","PH",8909436562,"RAD",2,"Local system","Local System",187,0,null,187,0,null,0,0,0,0,0,0,0,0,0,0,0,0,null,0,0,0,0,0,null,0,0,0,0]
["1 Oct 2016 to 31 Oct 2016","HONG KONG ADVENTIST HOSPITAL - TSUEN WAN","HK ADVENTIST - TW","PH",8909436562,"RXD",2,"Local system","Local System",172,0,null,172,0,null,0,0,0,0,0,0,0,0,0,0,0,null,null,0,0,0,0,0,null,0,0,0,0]
["1 Oct 2016 to 31 Oct 2016","HONG KONG BAPTIST HOSPITAL","HK BAPTIST HOSPITAL","PH",3650324540,"ENCTR",3,"Local system","Local System",45,0,null,null,45,null,0,0,null,null,0,0,null,null,null,null,null,null,null,45,1,0,0,0,null,0,0,0,0]
["1 Oct 2016 to 31 Oct 2016","THE HONG KONG POLYTECHNIC UNIVERSITY","POLYU","HCAI",4578805814,"ENCTR",3,"Local system","Local System",378,14,null,null,364,null,14,3.7037037037037035E-2,0,14,0,0,0,0,0,null,null,null,null,364,0.96296296296296291,0,0,0,null,0,0,0,0]
["1 Oct 2016 to 31 Oct 2016","ST. PAUL'S HOSPITAL","SPH","PH",5156724947,"ADR",3,"Local system","Local System",12,0,null,2,10,null,0,0,0,0,2,0.16666666666666666,2,0,0,2,0,null,null,10,0.83333333333333337,0,0,0,null,0,0,0,0]
["1 Oct 2016 to 31 Oct 2016","ST. PAUL'S HOSPITAL","SPH","PH",5156724947,"AL1",3,"Local system","Local System",53,0,null,23,30,null,0,0,0,0,27,0.50943396226415094,27,0,0,27,0,null,null,30,0.56603773584905659,0,0,0,null,0,0,0,0]
["1 Oct 2016 to 31 Oct 2016","ST. PAUL'S HOSPITAL","SPH","PH",5156724947,"ENCTR",3,"Local system + LAAM","Local System",3,0,null,null,3,null,0,0,0,0,0,0,0,0,0,null,null,null,null,3,1,0,0,0,null,0,0,0,0]
["1 Oct 2016 to 31 Oct 2016","ST.TERESA's HOSPITAL","STH","PH",7969980015,"ADR",3,"Local system","Local System",8,0,null,1,7,null,0,0,0,0,1,0.125,1,0,0,1,0,null,null,7,0.875,0,0,0,null,0,0,0,0]
["1 Oct 2016 to 31 Oct 2016","ST.TERESA's HOSPITAL","STH","PH",7969980015,"AL1",3,"Local system","Local System",98,0,null,37,61,null,0,0,0,0,34,0.34693877551020408,34,0,0,34,0,null,null,61,0.62244897959183676,0,0,0,null,0,0,0,0]
["1 Oct 2016 to 31 Oct 2016","ST.TERESA's HOSPITAL","STH","PH",7969980015,"BIRTH",3,"Local system + LAAM","Local System",3,0,null,null,3,null,0,0,0,0,0,0,0,0,0,0,0,0,null,3,1,0,0,0,null,0,0,0,0]
["1 Oct 2016 to 31 Oct 2016","UNION HOSPITAL","UNION HOSPITAL","PH",5712620300,"ADR",3,"Local system","Local System",10,0,null,7,3,null,0,0,0,0,1,0.1,1,0,0,1,0,null,null,3,0.3,6,0.6,0,null,0,0,6,0]
["1 Oct 2016 to 31 Oct 2016","UNION HOSPITAL","UNION HOSPITAL","PH",5712620300,"AL1",3,"Local system","Local System",112,0,null,59,53,null,0,0,0,0,62,0.5535714285714286,62,0,0,62,0,null,null,53,0.4732142857142857,0,0,0,null,0,0,0,0]
["1 Oct 2016 to 31 Oct 2016","UNION HOSPITAL","UNION HOSPITAL","PH",5712620300,"ENCTR",3,"Local system","Local System",91,0,null,null,91,null,0,0,0,0,0,0,0,0,0,null,null,null,null,91,1,0,0,0,null,0,0,0,0]
["1 Oct 2016 to 31 Oct 2016","DIAGNOSTIX PATHOLOGY LABORATORIES LTD","DIAGNOSTIX","SOLO",3121494321,"LABAP",1,"Adaptation","Adaptaion",119,1,118,null,null,null,1,8.4033613445378148E-3,0,1,0,0,0,0,0,null,null,null,null,0,0,0,0,0,null,0,0,0,0]
["1 Oct 2016 to 31 Oct 2016","DIAGNOSTIX MEDICAL CENTRE LIMITED","DIAGNOSTIX MEDICAL","GROUP",4905639327,"LABGEN",3,"Adaptation","Adaptaion",8065,2,null,null,8063,null,2,2.4798512089274643E-4,0,2,0,0,0,0,0,null,null,null,null,8063,0.99975201487910725,0,0,0,null,0,0,0,0]
["1 Oct 2016 to 31 Oct 2016 Total",null,null,null,null,null,null,null,null,{"$f":"SUM(J337:J389)","v":42841},{"$f":"SUM(K337:K389)","v":17},{"$f":"SUM(L337:L389)","v":118},{"$f":"SUM(M337:M389)","v":2067},{"$f":"SUM(N337:N389)","v":40639},null,{"$f":"SUM(P337:P389)","v":17},3.9681613407716905E-4,{"$f":"SUM(R337:R389)","v":0},{"$f":"SUM(S337:S389)","v":17},{"$f":"SUM(T337:T389)","v":1348},3.1465185219766115E-2,{"$f":"SUM(V337:V389)","v":1348},0,0,1348,0,0,null,{"$f":"SUM(AC337:AC389)","v":40639},0.94860063957423968,{"$f":"SUM(AE337:AE389)","v":7},1.6339487873765786E-4,{"$f":"SUM(AG337:AG389)","v":0},null,{"$f":"SUM(AI337:AI389)","v":0},{"$f":"SUM(AJ337:AJ389)","v":0},{"$f":"SUM(AK337:AK389)","v":7},{"$f":"SUM(AL337:AL389)","v":1}]
["1 Nov 2016 to 30 Nov 2016","DEPARTMENT OF HEALTH CIMS1","DH","DH",8658917541,"ADR",3,"Local system","Local System",{"$f":"SUM(K391:N391)","v":48},{"$f":"P391","v":0},null,8,40,null,{"$f":"SUM(R391:S391)","v":0},0,0,0,{"$f":"SUM(Y391:AA391)","v":8},0.16666666666666666,8,0,0,8,0,null,null,40,0.83333333333333337,0,0,0,null,0,0,0,0]
["1 Nov 2016 to 30 Nov 2016","DEPARTMENT OF HEALTH CIMS1","DH","DH",8658917541,"AL1",3,"Local system","Local System",148,0,null,25,123,null,0,0,0,0,22,0.14864864864864866,22,0,0,22,0,null,null,123,0.83108108108108103,0,0,0,null,0,0,0,0]
["1 Nov 2016 to 30 Nov 2016","DEPARTMENT OF HEALTH CIMS1","DH","DH",8658917541,"ENCTR",3,"Local system + LAAM","Local System",13501,0,null,null,13501,null,0,{"$f":"P393/J393","v":0},0,0,0,{"$f":"T393/J393","v":0},0,0,0,null,null,null,null,13501,{"$f":"AC393/J393","v":1},0,{"$f":"AE393/J393","v":0},0,null,0,0,0,0]
["1 Nov 2016 to 30 Nov 2016","DEPARTMENT OF HEALTH CIMS1","DH","DH",8658917541,"IMMU",3,"Local system + LAAM","Local System",3652,0,null,52,3600,null,0,0,0,0,52,1.4238773274917854E-2,52,0,0,52,0,0,null,3600,0.98576122672508215,0,0,0,null,0,0,0,0]
["1 Nov 2016 to 30 Nov 2016","DEPARTMENT OF HEALTH CIMS1","DH","DH",8658917541,"PROB",3,"Local system + LAAM","Local System",4904,0,null,90,4814,null,0,0,0,0,90,1.8352365415986949E-2,90,0,0,90,0,null,null,4814,0.98164763458401305,0,0,0,0,0,0,0,0]
["1 Nov 2016 to 30 Nov 2016","DEPARTMENT OF HEALTH CIMS1","DH","DH",8658917541,"PX",3,"Local system + LAAM","Local System",4120,0,null,92,4028,null,0,0,0,0,92,2.2330097087378639E-2,92,0,0,92,0,null,null,4028,0.97766990291262135,0,0,0,0,0,0,0,0]
["1 Nov 2016 to 30 Nov 2016","DEPARTMENT OF HEALTH CIMS1","DH","DH",8658917541,"RXO",3,"MOE","Local System",7024,1,null,1002,6021,null,1,1.4236902050113895E-4,1,0,1002,0.14265375854214124,1002,0,0,1002,0,null,null,6021,0.85720387243735763,0,0,0,null,0,0,0,0]
["1 Nov 2016 to 30 Nov 2016","CANOSSA HOSPITAL (CARITAS)","CANNOSSA HOSPITAL","PH",8252506240,"ADR",3,"Local system","Local System",0,0,null,null,0,null,0,{"$error":"#DIV/0!"},0,0,0,{"$error":"#DIV/0!"},0,0,0,0,0,null,null,0,{"$error":"#DIV/0!"},0,{"$error":"#DIV/0!"},0,null,0,0,0,0]
["1 Nov 2016 to 30 Nov 2016","CANOSSA HOSPITAL (CARITAS)","CANNOSSA HOSPITAL","PH",8252506240,"AL1",3,"Local system","Local System",2,0,null,null,2,null,0,0,0,0,0,0,0,0,0,0,0,null,null,2,1,0,0,0,null,0,0,0,0]
["1 Nov 2016 to 30 Nov 2016","CHIRON HEALTHCARE GROUP LIMITED","CHIRON HEALTHCARE","GROUP",9451612824,"ADR","3,2","Local system","Local System",0,0,null,0,0,null,0,{"$error":"#DIV/0!"},0,0,0,{"$error":"#DIV/0!"},0,0,0,0,0,null,null,0,{"$error":"#DIV/0!"},0,{"$error":"#DIV/0!"},0,null,0,0,0,0]
["1 Nov 2016 to 30 Nov 2016","CHIRON HEALTHCARE GROUP LIMITED","CHIRON HEALTHCARE","GROUP",9451612824,"AL1","3,2","Local system","Local System",1,0,null,0,1,null,0,0,0,0,0,0,0,0,0,0,0,null,null,1,1,0,0,0,null,0,0,0,0]
["1 Nov 2016 to 30 Nov 2016","CHIRON HEALTHCARE GROUP LIMITED","CHIRON HEALTHCARE","GROUP",9451612824,"ENCTR",3,"Local system","Local System",28,0,null,null,28,null,0,0,0,0,0,0,0,0,0,null,null,null,null,28,1,0,0,0,null,0,0,0,0]
["1 Nov 2016 to 30 Nov 2016","CHIRON HEALTHCARE GROUP LIMITED","CHIRON HEALTHCARE","GROUP",9451612824,"IMMU","3,2","Local system","Local System",1,0,null,null,1,null,0,0,0,0,0,0,0,0,0,0,0,0,null,1,1,0,0,0,null,0,0,0,0]
["1 Nov 2016 to 30 Nov 2016","CHIRON HEALTHCARE GROUP LIMITED","CHIRON HEALTHCARE","GROUP",9451612824,"PROB","3,2","Local system","Local System",20,0,null,3,17,null,0,0,0,0,0,0,0,0,0,null,null,null,null,17,0.85,0,0,0,0,0,0,0,0]
["1 Nov 2016 to 30 Nov 2016","CHIRON HEALTHCARE GROUP LIMITED","CHIRON HEALTHCARE","GROUP",9451612824,"RXD","3,2","Local system","Local System",11,0,null,2,9,null,0,0,0,0,0,0,0,0,0,0,0,null,null,9,0.81818181818181823,0,0,0,null,0,0,0,0]
["1 Nov 2016 to 30 Nov 2016","CHIRON HEALTHCARE GROUP LIMITED","CHIRON HEALTHCARE","GROUP",9451612824,"RXO","3,2","Local system","Local System",11,0,null,2,9,null,0,0,0,0,0,0,0,0,0,0,0,null,null,9,0.81818181818181823,0,0,0,null,0,0,0,0]
["1 Nov 2016 to 30 Nov 2016","DR WONG CHUN POR","DR CP WONG CLINIC","SOLO",5528991274,"ADR","3,2","Local system","Local System",0,0,null,0,0,null,0,{"$error":"#DIV/0!"},0,0,0,{"$error":"#DIV/0!"},0,0,0,0,0,null,null,0,{"$error":"#DIV/0!"},0,{"$error":"#DIV/0!"},0,null,0,0,0,0]
["1 Nov 2016 to 30 Nov 2016","DR WONG CHUN POR","DR CP WONG CLINIC","SOLO",5528991274,"AL1","3,2","Local system","Local System",1,0,null,0,1,null,0,0,0,0,0,0,0,0,0,0,0,null,null,1,1,0,0,0,null,0,0,0,0]
["1 Nov 2016 to 30 Nov 2016","DR WONG CHUN POR","DR CP WONG CLINIC","SOLO",5528991274,"ENCTR",3,"Local system","Local System",94,0,null,null,94,null,0,0,0,0,0,0,0,0,0,null,null,null,null,94,1,0,0,0,null,0,0,0,0]
["1 Nov 2016 to 30 Nov 2016","DR WONG CHUN POR","DR CP WONG CLINIC","SOLO",5528991274,"IMMU","3,2","Local system","Local System",4,0,null,0,4,null,0,0,0,0,0,0,0,0,0,0,0,0,null,4,1,0,0,0,null,0,0,0,0]
["1 Nov 2016 to 30 Nov 2016","DR WONG CHUN POR","DR CP WONG CLINIC","SOLO",5528991274,"PROB","3,2","Local system","Local System",232,0,null,2,230,null,0,0,0,0,0,0,0,0,0,0,0,null,null,230,0.99137931034482762,0,0,0,0,0,0,0,0]
["1 Nov 2016 to 30 Nov 2016","DR WONG CHUN POR","DR CP WONG CLINIC","SOLO",5528991274,"PX","3,2","Local system","Local System",1,0,null,1,0,null,0,0,0,0,0,0,0,0,0,0,0,null,null,0,0,0,0,0,0,0,0,0,0]
["1 Nov 2016 to 30 Nov 2016","DR WONG CHUN POR","DR CP WONG CLINIC","SOLO",5528991274,"RXD","3,2","Local system","Local System",136,0,null,39,97,null,0,0,0,0,0,0,0,0,0,0,0,null,null,97,0.71323529411764708,0,0,0,null,0,0,0,0]
["1 Nov 2016 to 30 Nov 2016","DR WONG CHUN POR","DR CP WONG CLINIC","SOLO",5528991274,"RXO","3,2","Local system","Local System",161,0,null,45,116,null,0,0,0,0,0,0,0,0,0,0,0,null,null,116,0.72049689440993792,0,0,0,null,0,0,0,0]
["1 Nov 2016 to 30 Nov 2016","DR. YEE YUK KEI","DR. YK YEE","SOLO",2310917092,"AL1","3,2","Local system","Local System",3,0,null,0,3,null,0,0,0,0,0,0,0,0,0,0,0,null,null,3,1,0,0,0,null,0,0,0,0]
["1 Nov 2016 to 30 Nov 2016","EVANGEL HOSPITAL","EVANGEL HOSPITAL","PH",2206285885,"ENCTR","3,2","Local system","Local System",974,0,null,null,974,null,0,0,0,0,0,0,0,0,0,null,null,null,null,974,1,0,0,0,null,0,0,0,0]
["1 Nov 2016 to 30 Nov 2016","EVANGEL HOSPITAL","EVANGEL HOSPITAL","PH",2206285885,"AL1","3,2","Local system","Local System",12,0,null,7,5,null,0,0,0,0,6,0.5,6,0,0,6,0,null,null,5,0.41666666666666669,0,0,0,null,0,0,0,0]
["1 Nov 2016 to 30 Nov 2016","EVANGEL HOSPITAL","EVANGEL HOSPITAL","PH",2206285885,"ADR","3,2","Local system","Local System",5,0,null,2,3,null,0,0,0,0,2,0.4,2,0,0,2,0,null,null,3,0.6,0,0,0,null,0,0,0,0]
["1 Nov 2016 to 30 Nov 2016","EVANGEL HOSPITAL","EVANGEL HOSPITAL","PH",2206285885,"RXO","3,2","Local system","Local System",32,0,null,21,11,null,0,0,0,0,0,0,0,0,0,0,0,null,null,11,0.34375,0,0,0,null,0,0,0,0]
["1 Nov 2016 to 30 Nov 2016","HONG KONG ADVENTIST HOSPITAL - STUBBS ROAD","HK ADVENTIST - SR","PH",7029571085,"ADR",3,"Local system","Local System",0,0,null,null,0,null,0,{"$error":"#DIV/0!"},0,0,0,{"$error":"#DIV/0!"},0,0,0,0,0,null,null,0,{"$error":"#DIV/0!"},0,{"$error":"#DIV/0!"},0,null,0,0,0,0]
["1 Nov 2016 to 30 Nov 2016","HONG KONG ADVENTIST HOSPITAL - STUBBS ROAD","HK ADVENTIST - SR","PH",7029571085,"AL1",3,"Local system","Local System",0,0,null,null,0,null,0,{"$error":"#DIV/0!"},0,0,0,{"$error":"#DIV/0!"},0,0,0,0,0,null,null,0,{"$error":"#DIV/0!"},0,{"$error":"#DIV/0!"},0,null,0,0,0,0]
["1 Nov 2016 to 30 Nov 2016","HONG KONG ADVENTIST HOSPITAL - STUBBS ROAD","HK ADVENTIST - SR","PH",7029571085,"RAD",2,"Local system","Local System",39,0,null,39,0,null,0,0,0,0,0,0,0,0,0,0,0,null,null,0,0,0,0,0,null,0,0,0,0]
["1 Nov 2016 to 30 Nov 2016","HONG KONG ADVENTIST HOSPITAL - STUBBS ROAD","HK ADVENTIST - SR","PH",7029571085,"RXD",2,"Local system + LAAM","Local System",123,0,null,123,0,null,0,0,0,0,0,0,0,0,0,0,0,null,null,0,0,0,0,0,null,0,0,0,0]
["1 Nov 2016 to 30 Nov 2016","HONG KONG ADVENTIST HOSPITAL - STUBBS ROAD","HK ADVENTIST - SR","PH",7029571085,"ENCTR",3,"Local system + LAAM","Local System",0,0,null,null,0,null,0,{"$error":"#DIV/0!"},0,0,0,{"$error":"#DIV/0!"},0,0,0,0,0,null,null,0,{"$f":"AC424/I501F484","v":{"$error":"#NAME?"}},0,{"$error":"#DIV/0!"},0,null,0,0,0,0]
["1 Nov 2016 to 30 Nov 2016","HONG KONG ADVENTIST HOSPITAL - TSUEN WAN","HK ADVENTIST - TW","PH",8909436562,"ADR",3,"Local system","Local System",11,0,null,5,6,null,0,0,0,0,5,0.45454545454545453,5,0,0,5,null,null,null,6,0.54545454545454541,0,0,0,null,0,0,0,0]
["1 Nov 2016 to 30 Nov 2016","HONG KONG ADVENTIST HOSPITAL - TSUEN WAN","HK ADVENTIST - TW","PH",8909436562,"AL1",3,"Local system","Local System",90,0,null,19,71,null,0,0,0,0,16,0.17777777777777778,16,0,0,16,null,null,null,71,0.78888888888888886,0,0,0,null,0,0,0,0]
["1 Nov 2016 to 30 Nov 2016","HONG KONG ADVENTIST HOSPITAL - TSUEN WAN","HK ADVENTIST - TW","PH",8909436562,"ENCTR",3,"Local system","Local System",7,0,null,null,7,null,0,0,0,0,0,0,0,0,0,0,0,null,null,7,1,0,0,0,null,0,0,0,0]
["1 Nov 2016 to 30 Nov 2016","HONG KONG ADVENTIST HOSPITAL - TSUEN WAN","HK ADVENTIST - TW","PH",8909436562,"BIRTH",3,"Local system","Local System",6,0,null,null,6,null,0,0,0,0,0,0,0,0,0,0,0,null,null,6,1,0,0,0,null,0,0,0,0]
["1 Nov 2016 to 30 Nov 2016","HONG KONG ADVENTIST HOSPITAL - TSUEN WAN","HK ADVENTIST - TW","PH",8909436562,"RAD",2,"Local system","Local System",415,0,null,415,0,null,0,0,0,0,0,0,0,0,0,0,0,0,null,0,0,0,0,0,null,0,0,0,0]
["1 Nov 2016 to 30 Nov 2016","HONG KONG ADVENTIST HOSPITAL - TSUEN WAN","HK ADVENTIST - TW","PH",8909436562,"RXD",2,"Local system","Local System",2394,0,null,2394,0,null,0,0,0,0,0,0,0,0,0,0,0,null,null,0,0,0,0,0,null,0,0,0,0]
["1 Nov 2016 to 30 Nov 2016","HONG KONG BAPTIST HOSPITAL","HK BAPTIST HOSPITAL","PH",3650324540,"ENCTR",3,"Local system","Local System",46,0,null,null,46,null,0,0,null,null,0,0,null,null,null,null,null,null,null,46,1,0,0,0,null,0,0,0,0]
["1 Nov 2016 to 30 Nov 2016","THE HONG KONG POLYTECHNIC UNIVERSITY","POLYU","HCAI",4578805814,"ENCTR",3,"Local system","Local System",536,0,null,null,536,null,0,0,0,0,0,0,0,0,0,null,null,null,null,536,1,0,0,0,null,0,0,0,0]
["1 Nov 2016 to 30 Nov 2016","ST. PAUL'S HOSPITAL","SPH","PH",5156724947,"ADR",3,"Local system","Local System",12,0,null,3,9,null,0,0,0,0,9,0.75,9,0,0,9,0,null,null,9,0.75,0,0,0,null,0,0,0,0]
["1 Nov 2016 to 30 Nov 2016","ST. PAUL'S HOSPITAL","SPH","PH",5156724947,"AL1",3,"Local system","Local System",56,0,null,30,26,null,0,0,0,0,28,0.5,28,0,0,28,0,null,null,26,0.4642857142857143,0,0,0,null,0,0,0,0]
["1 Nov 2016 to 30 Nov 2016","ST. PAUL'S HOSPITAL","SPH","PH",5156724947,"ENCTR",3,"Local system + LAAM","Local System",12,0,null,null,12,null,0,0,0,0,0,0,0,0,0,null,null,null,null,12,1,0,0,0,null,0,0,0,0]
["1 Nov 2016 to 30 Nov 2016","ST.TERESA's HOSPITAL","STH","PH",7969980015,"ADR",3,"Local system","Local System",2,0,null,null,2,null,0,0,0,0,1,0.5,1,0,0,1,0,null,null,2,1,0,0,0,null,0,0,0,0]
["1 Nov 2016 to 30 Nov 2016","ST.TERESA's HOSPITAL","STH","PH",7969980015,"AL1",3,"Local system","Local System",85,0,null,34,51,null,0,0,0,0,32,0.37647058823529411,32,0,0,32,0,null,null,51,0.6,0,0,0,null,0,0,0,0]
["1 Nov 2016 to 30 Nov 2016","ST.TERESA's HOSPITAL","STH","PH",7969980015,"BIRTH",3,"Local system + LAAM","Local System",3,0,null,null,3,null,0,0,0,0,0,0,0,0,0,0,0,0,null,3,1,0,0,0,null,0,0,0,0]
["1 Nov 2016 to 30 Nov 2016","UNION HOSPITAL","UNION HOSPITAL","PH",5712620300,"ADR",3,"Local system","Local System",1,0,null,null,1,null,0,0,0,0,0,0,0,0,0,0,0,null,null,1,1,0,0,0,null,0,0,0,0]
["1 Nov 2016 to 30 Nov 2016","UNION HOSPITAL","UNION HOSPITAL","PH",5712620300,"AL1",3,"Local system","Local System",62,0,null,29,33,null,0,0,0,0,29,0.46774193548387094,29,0,0,29,0,null,null,33,0.532258064516129,0,0,0,null,0,0,0,0]
["1 Nov 2016 to 30 Nov 2016","UNION HOSPITAL","UNION HOSPITAL","PH",5712620300,"ENCTR",3,"Local system","Local System",114,0,null,null,114,null,0,0,0,0,0,0,0,0,0,null,null,null,null,114,1,0,0,0,null,0,0,0,0]
["1 Nov 2016 to 30 Nov 2016","DIAGNOSTIX PATHOLOGY LABORATORIES LTD","DIAGNOSTIX","SOLO",3121494321,"LABAP",1,"Adaptation","Adaptaion",389,0,389,null,0,null,0,0,0,0,0,0,0,0,0,null,null,null,null,0,0,0,0,0,null,0,0,0,0]
["1 Nov 2016 to 30 Nov 2016","DIAGNOSTIX MEDICAL CENTRE LIMITED","DIAGNOSTIX MEDICAL","GROUP",4905639327,"LABGEN",3,"Adaptation","Adaptaion",7830,0,null,null,7830,null,0,0,0,0,0,0,0,0,0,null,null,null,null,7830,1,0,0,0,null,0,0,0,0]
["1 Nov 2016 to 30 Nov 2016 Total",null,null,null,null,null,null,null,null,{"$f":"SUM(J391:J443)","v":47359},{"$f":"SUM(K391:K443)","v":1},{"$f":"SUM(L391:L443)","v":389},{"$f":"SUM(M391:M443)","v":4484},{"$f":"SUM(N391:N443)","v":42485},null,{"$f":"SUM(P391:P443)","v":1},2.1115310711797125E-5,{"$f":"SUM(R391:R443)","v":1},{"$f":"SUM(S391:S443)","v":0},{"$f":"SUM(T391:T443)","v":1394},2.943474313224519E-2,{"$f":"SUM(V391:V443)","v":1394},0,0,1394,0,0,null,{"$f":"SUM(AC391:AC443)","v":42485},0.89708397559070086,{"$f":"SUM(AE391:AE443)","v":0},0,{"$f":"SUM(AG391:AG443)","v":0},null,{"$f":"SUM(AI391:AI443)","v":0},{"$f":"SUM(AJ391:AJ443)","v":0},{"$f":"SUM(AK391:AK443)","v":0},{"$f":"SUM(AL391:AL443)","v":0}]
["1 Dec 2016 to 31 Dec 2016","DEPARTMENT OF HEALTH CIMS1","DH","DH",8658917541,"ADR",3,"Local system","Local System",{"$f":"SUM(K445:N445)","v":0},{"$f":"P445","v":0},null,null,0,null,{"$f":"SUM(R445:S445)","v":0},{"$error":"#DIV/0!"},0,0,{"$f":"SUM(Y445:AA445)","v":0},{"$error":"#DIV/0!"},0,0,0,0,0,null,null,0,{"$error":"#DIV/0!"},0,{"$error":"#DIV/0!"},0,null,0,0,0,0]
["1 Dec 2016 to 31 Dec 2016","DEPARTMENT OF HEALTH CIMS1","DH","DH",8658917541,"AL1",3,"Local system","Local System",0,0,null,null,0,null,0,{"$error":"#DIV/0!"},0,0,0,{"$error":"#DIV/0!"},0,0,0,0,0,null,null,0,{"$error":"#DIV/0!"},0,{"$error":"#DIV/0!"},0,null,0,0,0,0]
["1 Dec 2016 to 31 Dec 2016","DEPARTMENT OF HEALTH CIMS1","DH","DH",8658917541,"ENCTR",3,"Local system + LAAM","Local System",12,0,null,null,12,null,0,0,0,0,0,0,0,0,0,null,null,null,null,12,1,0,0,0,null,0,0,0,0]
["1 Dec 2016 to 31 Dec 2016","DEPARTMENT OF HEALTH CIMS1","DH","DH",8658917541,"IMMU",3,"Local system + LAAM","Local System",0,0,null,null,0,null,0,{"$error":"#DIV/0!"},0,0,0,{"$error":"#DIV/0!"},0,0,0,0,0,0,null,0,{"$error":"#DIV/0!"},0,{"$error":"#DIV/0!"},0,null,0,0,0,0]
["1 Dec 2016 to 31 Dec 2016","DEPARTMENT OF HEALTH CIMS1","DH","DH",8658917541,"PROB",3,"Local system + LAAM","Local System",0,0,null,null,0,null,0,{"$error":"#DIV/0!"},0,0,0,{"$error":"#DIV/0!"},0,0,0,0,0,null,null,0,{"$error":"#DIV/0!"},0,{"$error":"#DIV/0!"},0,0,0,0,0,0]
["1 Dec 2016 to 31 Dec 2016","DEPARTMENT OF HEALTH CIMS1","DH","DH",8658917541,"PX",3,"Local system + LAAM","Local System",0,0,null,null,0,null,0,{"$error":"#DIV/0!"},0,0,0,{"$error":"#DIV/0!"},0,0,0,0,0,null,null,0,{"$error":"#DIV/0!"},0,{"$error":"#DIV/0!"},0,0,0,0,0,0]
["1 Dec 2016 to 31 Dec 2016","DEPARTMENT OF HEALTH CIMS1","DH","DH",8658917541,"RXO",3,"MOE","Local System",0,0,null,null,0,null,0,{"$error":"#DIV/0!"},0,0,0,{"$error":"#DIV/0!"},0,0,0,0,0,null,null,0,{"$error":"#DIV/0!"},0,{"$error":"#DIV/0!"},0,null,0,0,0,0]
["1 Dec 2016 to 31 Dec 2016","CANOSSA HOSPITAL (CARITAS)","CANNOSSA HOSPITAL","PH",8252506240,"ADR",3,"Local system","Local System",0,0,null,null,0,null,0,{"$error":"#DIV/0!"},0,0,0,{"$error":"#DIV/0!"},0,0,0,0,0,null,null,0,{"$error":"#DIV/0!"},0,{"$error":"#DIV/0!"},0,null,0,0,0,0]
["1 Dec 2016 to 31 Dec 2016","CANOSSA HOSPITAL (CARITAS)","CANNOSSA HOSPITAL","PH",8252506240,"AL1",3,"Local system","Local System",0,0,null,null,0,null,0,{"$error":"#DIV/0!"},0,0,0,{"$error":"#DIV/0!"},0,0,0,0,0,null,null,0,{"$error":"#DIV/0!"},0,{"$error":"#DIV/0!"},0,null,0,0,0,0]
["1 Dec 2016 to 31 Dec 2016","CHIRON HEALTHCARE GROUP LIMITED","CHIRON HEALTHCARE","GROUP",9451612824,"ADR","3,2","Local system","Local System",0,0,null,0,0,null,0,{"$error":"#DIV/0!"},0,0,0,{"$error":"#DIV/0!"},0,0,0,0,0,null,null,0,{"$error":"#DIV/0!"},0,{"$error":"#DIV/0!"},0,null,0,0,0,0]
["1 Dec 2016 to 31 Dec 2016","CHIRON HEALTHCARE GROUP LIMITED","CHIRON HEALTHCARE","GROUP",9451612824,"AL1","3,2","Local system","Local System",3,0,null,1,2,null,0,0,0,0,1,0.33333333333333331,1,0,0,1,0,null,null,2,0.66666666666666663,0,0,0,null,0,0,0,0]
["1 Dec 2016 to 31 Dec 2016","CHIRON HEALTHCARE GROUP LIMITED","CHIRON HEALTHCARE","GROUP",9451612824,"ENCTR",3,"Local system","Local System",25,0,null,null,25,null,0,0,0,0,0,0,0,0,0,null,null,null,null,25,1,0,0,0,null,0,0,0,0]
["1 Dec 2016 to 31 Dec 2016","CHIRON HEALTHCARE GROUP LIMITED","CHIRON HEALTHCARE","GROUP",9451612824,"IMMU","3,2","Local system","Local System",0,0,null,0,0,null,0,{"$f":"P457/J457","v":{"$error":"#DIV/0!"}},0,0,0,{"$f":"T457/J457","v":{"$error":"#DIV/0!"}},0,0,0,0,0,0,null,0,{"$f":"AC457/J457","v":{"$error":"#DIV/0!"}},0,{"$f":"AE457/J457","v":{"$error":"#DIV/0!"}},0,null,0,0,0,0]
["1 Dec 2016 to 31 Dec 2016","CHIRON HEALTHCARE GROUP LIMITED","CHIRON HEALTHCARE","GROUP",9451612824,"PROB","3,2","Local system","Local System",16,0,null,4,12,null,0,0,0,0,0,0,0,0,0,null,null,null,null,12,0.75,0,0,0,0,0,0,0,0]
["1 Dec 2016 to 31 Dec 2016","CHIRON HEALTHCARE GROUP LIMITED","CHIRON HEALTHCARE","GROUP",9451612824,"RXD","3,2","Local system","Local System",22,0,null,2,20,null,0,0,0,0,0,0,0,0,0,0,0,null,null,20,0.90909090909090906,0,0,0,null,0,0,0,0]
["1 Dec 2016 to 31 Dec 2016","CHIRON HEALTHCARE GROUP LIMITED","CHIRON HEALTHCARE","GROUP",9451612824,"RXO","3,2","Local system","Local System",22,0,null,2,20,null,0,0,0,0,0,0,0,0,0,0,0,null,null,20,0.90909090909090906,0,0,0,null,0,0,0,0]
["1 Dec 2016 to 31 Dec 2016","DR WONG CHUN POR","DR CP WONG CLINIC","SOLO",5528991274,"ADR","3,2","Local system","Local System",0,0,null,0,0,null,0,{"$error":"#DIV/0!"},0,0,0,{"$error":"#DIV/0!"},0,0,0,0,0,null,null,0,{"$error":"#DIV/0!"},0,{"$error":"#DIV/0!"},0,null,0,0,0,0]
["1 Dec 2016 to 31 Dec 2016","DR WONG CHUN POR","DR CP WONG CLINIC","SOLO",5528991274,"AL1","3,2","Local system","Local System",3,0,null,0,3,null,0,0,0,0,0,0,0,0,0,0,0,null,null,3,1,0,0,0,null,0,0,0,0]
["1 Dec 2016 to 31 Dec 2016","DR WONG CHUN POR","DR CP WONG CLINIC","SOLO",5528991274,"ENCTR",3,"Local system","Local System",143,0,null,null,143,null,0,0,0,0,0,0,0,0,0,null,null,null,null,143,1,0,0,0,null,0,0,0,0]
["1 Dec 2016 to 31 Dec 2016","DR WONG CHUN POR","DR CP WONG CLINIC","SOLO",5528991274,"IMMU","3,2","Local system","Local System",0,0,null,0,0,null,0,{"$error":"#DIV/0!"},0,0,0,{"$error":"#DIV/0!"},0,0,0,0,0,0,null,0,{"$error":"#DIV/0!"},0,{"$error":"#DIV/0!"},0,null,0,0,0,0]
["1 Dec 2016 to 31 Dec 2016","DR WONG CHUN POR","DR CP WONG CLINIC","SOLO",5528991274,"PROB","3,2","Local system","Local System",432,0,null,2,430,null,0,0,0,0,0,0,0,0,0,0,0,null,null,430,0.99537037037037035,0,0,0,0,0,0,0,0]
["1 Dec 2016 to 31 Dec 2016","DR WONG CHUN POR","DR CP WONG CLINIC","SOLO",5528991274,"PX","3,2","Local system","Local System",0,0,null,0,0,null,0,{"$error":"#DIV/0!"},0,0,0,{"$error":"#DIV/0!"},0,0,0,0,0,null,null,0,{"$error":"#DIV/0!"},0,{"$error":"#DIV/0!"},0,0,0,0,0,0]
["1 Dec 2016 to 31 Dec 2016","DR WONG CHUN POR","DR CP WONG CLINIC","SOLO",5528991274,"RXD","3,2","Local system","Local System",232,0,null,58,174,null,0,0,0,0,0,0,0,0,0,0,0,null,null,174,0.75,0,0,0,null,0,0,0,0]
["1 Dec 2016 to 31 Dec 2016","DR WONG CHUN POR","DR CP WONG CLINIC","SOLO",5528991274,"RXO","3,2","Local system","Local System",267,0,null,68,199,null,0,0,0,0,0,0,0,0,0,0,0,null,null,199,0.74531835205992514,0,0,0,null,0,0,0,0]
["1 Dec 2016 to 31 Dec 2016","DR. YEE YUK KEI","DR. YK YEE","SOLO",2310917092,"AL1","3,2","Local system","Local System",0,0,null,0,0,null,0,{"$error":"#DIV/0!"},0,0,0,{"$error":"#DIV/0!"},0,0,0,0,0,null,null,0,{"$error":"#DIV/0!"},0,{"$error":"#DIV/0!"},0,null,0,0,0,0]
["1 Dec 2016 to 31 Dec 2016","EVANGEL HOSPITAL","EVANGEL HOSPITAL","PH",2206285885,"ENCTR","3,2","Local system","Local System",761,0,null,null,761,null,0,0,0,0,0,0,0,0,0,null,null,null,null,761,1,0,0,0,null,0,0,0,0]
["1 Dec 2016 to 31 Dec 2016","EVANGEL HOSPITAL","EVANGEL HOSPITAL","PH",2206285885,"AL1","3,2","Local system","Local System",13,0,null,12,1,null,0,0,0,0,8,0.61538461538461542,8,0,0,8,0,null,null,1,7.6923076923076927E-2,0,0,0,null,0,0,0,0]
["1 Dec 2016 to 31 Dec 2016","EVANGEL HOSPITAL","EVANGEL HOSPITAL","PH",2206285885,"ADR","3,2","Local system","Local System",1,0,null,0,1,null,0,0,0,0,0,0,0,0,0,0,0,null,null,1,1,0,0,0,null,0,0,0,0]
["1 Dec 2016 to 31 Dec 2016","EVANGEL HOSPITAL","EVANGEL HOSPITAL","PH",2206285885,"RXO","3,2","Local system","Local System",14,0,null,8,6,null,0,0,0,0,0,0,0,0,0,0,0,null,null,6,0.42857142857142855,0,0,0,null,0,0,0,0]
["1 Dec 2016 to 31 Dec 2016","HONG KONG ADVENTIST HOSPITAL - STUBBS ROAD","HK ADVENTIST - SR","PH",7029571085,"ADR",3,"Local system","Local System",0,0,null,null,0,null,0,{"$error":"#DIV/0!"},0,0,0,{"$error":"#DIV/0!"},0,0,0,0,0,null,null,0,{"$error":"#DIV/0!"},0,{"$error":"#DIV/0!"},0,null,0,0,0,0]
["1 Dec 2016 to 31 Dec 2016","HONG KONG ADVENTIST HOSPITAL - STUBBS ROAD","HK ADVENTIST - SR","PH",7029571085,"AL1",3,"Local system","Local System",1,0,null,null,1,null,0,0,0,0,0,0,0,0,0,0,0,null,null,1,1,0,0,0,null,0,0,0,0]
["1 Dec 2016 to 31 Dec 2016","HONG KONG ADVENTIST HOSPITAL - STUBBS ROAD","HK ADVENTIST - SR","PH",7029571085,"RAD",2,"Local system","Local System",22,0,null,22,0,null,0,0,0,0,0,0,0,0,0,0,0,null,null,0,0,0,0,0,null,0,0,0,0]
["1 Dec 2016 to 31 Dec 2016","HONG KONG ADVENTIST HOSPITAL - STUBBS ROAD","HK ADVENTIST - SR","PH",7029571085,"RXD",2,"Local system + LAAM","Local System",68,0,null,68,0,null,0,0,0,0,0,0,0,0,0,0,0,null,null,0,0,0,0,0,null,0,0,0,0]
["1 Dec 2016 to 31 Dec 2016","HONG KONG ADVENTIST HOSPITAL - STUBBS ROAD","HK ADVENTIST - SR","PH",7029571085,"ENCTR",3,"Local system + LAAM","Local System",0,0,null,null,0,null,0,{"$error":"#DIV/0!"},0,0,0,{"$error":"#DIV/0!"},0,0,0,0,0,null,null,0,{"$error":"#DIV/0!"},0,{"$error":"#DIV/0!"},0,null,0,0,0,0]
["1 Dec 2016 to 31 Dec 2016","HONG KONG ADVENTIST HOSPITAL - TSUEN WAN","HK ADVENTIST - TW","PH",8909436562,"ADR",3,"Local system","Local System",3,0,null,1,2,null,0,0,0,0,1,0.33333333333333331,1,0,0,1,null,null,null,2,0.66666666666666663,0,0,0,null,0,0,0,0]
["1 Dec 2016 to 31 Dec 2016","HONG KONG ADVENTIST HOSPITAL - TSUEN WAN","HK ADVENTIST - TW","PH",8909436562,"AL1",3,"Local system","Local System",33,0,null,11,22,null,0,0,0,0,11,0.33333333333333331,11,0,0,11,null,null,null,22,0.66666666666666663,0,0,0,null,0,0,0,0]
["1 Dec 2016 to 31 Dec 2016","HONG KONG ADVENTIST HOSPITAL - TSUEN WAN","HK ADVENTIST - TW","PH",8909436562,"ENCTR",3,"Local system","Local System",12,0,null,null,12,null,0,0,0,0,0,0,0,0,0,0,0,null,null,12,1,0,0,0,null,0,0,0,0]
["1 Dec 2016 to 31 Dec 2016","HONG KONG ADVENTIST HOSPITAL - TSUEN WAN","HK ADVENTIST - TW","PH",8909436562,"BIRTH",3,"Local system","Local System",2,0,null,null,2,null,0,0,0,0,0,0,0,0,0,0,0,null,null,2,1,0,0,0,null,0,0,0,0]
["1 Dec 2016 to 31 Dec 2016","HONG KONG ADVENTIST HOSPITAL - TSUEN WAN","HK ADVENTIST - TW","PH",8909436562,"RAD",2,"Local system","Local System",683,0,null,683,0,null,0,0,0,0,0,0,0,0,0,0,0,0,null,0,0,0,0,0,null,0,0,0,0]
["1 Dec 2016 to 31 Dec 2016","HONG KONG ADVENTIST HOSPITAL - TSUEN WAN","HK ADVENTIST - TW","PH",8909436562,"RXD",2,"Local system","Local System",1913,0,null,1913,0,null,0,0,0,0,0,0,0,0,0,0,0,null,null,0,0,0,0,0,null,0,0,0,0]
["1 Dec 2016 to 31 Dec 2016","HONG KONG BAPTIST HOSPITAL","HK BAPTIST HOSPITAL","PH",3650324540,"ENCTR",3,"Local system","Local System",47,0,null,null,47,null,0,0,null,null,0,0,null,null,null,null,null,null,null,47,1,0,0,0,null,0,0,0,0]
["1 Dec 2016 to 31 Dec 2016","THE HONG KONG POLYTECHNIC UNIVERSITY","POLYU","HCAI",4578805814,"ENCTR",3,"Local system","Local System",297,0,null,null,297,null,0,0,0,0,0,0,0,0,0,null,null,null,null,297,1,0,0,0,null,0,0,0,0]
["1 Dec 2016 to 31 Dec 2016","ST. PAUL'S HOSPITAL","SPH","PH",5156724947,"ADR",3,"Local system","Local System",12,0,null,4,8,null,0,0,0,0,5,0.41666666666666669,5,0,0,5,0,null,null,8,0.66666666666666663,0,0,0,null,0,0,0,0]
["1 Dec 2016 to 31 Dec 2016","ST. PAUL'S HOSPITAL","SPH","PH",5156724947,"AL1",3,"Local system","Local System",72,0,null,30,42,null,0,0,0,0,30,0.41666666666666669,30,0,0,30,0,null,null,42,0.58333333333333337,0,0,0,null,0,0,0,0]
["1 Dec 2016 to 31 Dec 2016","ST. PAUL'S HOSPITAL","SPH","PH",5156724947,"ENCTR",3,"Local system + LAAM","Local System",6,0,null,null,6,null,0,0,0,0,0,0,0,0,0,null,null,null,null,6,1,0,0,0,null,0,0,0,0]
["1 Dec 2016 to 31 Dec 2016","ST.TERESA's HOSPITAL","STH","PH",7969980015,"ADR",3,"Local system","Local System",6,0,null,1,5,null,0,0,0,0,1,0.16666666666666666,1,0,0,1,0,null,null,5,0.83333333333333337,0,0,0,null,0,0,0,0]
["1 Dec 2016 to 31 Dec 2016","ST.TERESA's HOSPITAL","STH","PH",7969980015,"AL1",3,"Local system","Local System",105,0,null,37,68,null,0,0,0,0,41,0.39047619047619048,41,0,0,41,0,null,null,68,0.64761904761904765,0,0,0,null,0,0,0,0]
["1 Dec 2016 to 31 Dec 2016","ST.TERESA's HOSPITAL","STH","PH",7969980015,"BIRTH",3,"Local system + LAAM","Local System",4,0,null,null,4,null,0,0,0,0,0,0,0,0,0,0,0,0,null,4,1,0,0,0,null,0,0,0,0]
["1 Dec 2016 to 31 Dec 2016","UNION HOSPITAL","UNION HOSPITAL","PH",5712620300,"ADR",3,"Local system","Local System",15,0,null,7,8,null,0,0,0,0,2,0.13333333333333333,2,0,0,2,0,null,null,8,0.53333333333333333,5,0.33333333333333331,0,null,0,0,5,0]
["1 Dec 2016 to 31 Dec 2016","UNION HOSPITAL","UNION HOSPITAL","PH",5712620300,"AL1",3,"Local system","Local System",217,0,null,120,97,null,0,0,0,0,120,0.55299539170506917,120,0,0,120,0,null,null,97,0.44700460829493088,0,0,0,null,0,0,0,0]
["1 Dec 2016 to 31 Dec 2016","UNION HOSPITAL","UNION HOSPITAL","PH",5712620300,"ENCTR",3,"Local system","Local System",115,0,null,null,115,null,0,0,0,0,0,0,0,0,0,null,null,null,null,115,1,0,0,0,null,0,0,0,0]
["1 Dec 2016 to 31 Dec 2016","DIAGNOSTIX PATHOLOGY LABORATORIES LTD","DIAGNOSTIX","SOLO",3121494321,"LABAP",1,"Adaptation","Adaptaion",403,0,403,null,0,null,0,0,0,0,0,0,0,0,0,null,null,null,null,0,0,0,0,0,null,0,0,0,0]
["1 Dec 2016 to 31 Dec 2016","DIAGNOSTIX MEDICAL CENTRE LIMITED","DIAGNOSTIX MEDICAL","GROUP",4905639327,"LABGEN",3,"Adaptation","Adaptaion",4855,0,null,null,4855,null,0,0,0,0,0,0,0,0,0,null,null,null,null,4855,1,0,0,0,null,0,0,0,0]
["1 Dec 2016 to 31 Dec 2016 Total",null,null,null,null,null,null,null,null,{"$f":"SUM(J445:J497)","v":10857},{"$f":"SUM(K445:K497)","v":0},{"$f":"SUM(L445:L497)","v":403},{"$f":"SUM(M445:M497)","v":3054},{"$f":"SUM(N445:N497)","v":7400},null,{"$f":"SUM(P445:P497)","v":0},0,{"$f":"SUM(R445:R497)","v":0},{"$f":"SUM(S445:S497)","v":0},{"$f":"SUM(T445:T497)","v":220},2.0263424518743668E-2,{"$f":"SUM(V445:V497)","v":220},0,0,220,0,0,null,{"$f":"SUM(AC445:AC497)","v":7400},0.68158791563046883,{"$f":"SUM(AE445:AE497)","v":5},4.6053237542599247E-4,{"$f":"SUM(AG445:AG497)","v":0},null,{"$f":"SUM(AI445:AI497)","v":0},{"$f":"SUM(AJ445:AJ497)","v":0},{"$f":"SUM(AK445:AK497)","v":5},{"$f":"SUM(AL445:AL497)","v":0}]
["1 Jan 2017 to 31 Jan 2017","DEPARTMENT OF HEALTH CIMS1","DH","DH",8658917541,"ADR",3,"Local system","Local System",{"$f":"SUM(K499:N499)","v":111},{"$f":"P499","v":0},null,9,102,null,{"$f":"SUM(R499:S499)","v":0},0,0,0,{"$f":"SUM(Y499:AA499)","v":9},8.1081081081081086E-2,9,0,0,9,0,null,null,102,0.91891891891891897,0,0,0,0,0,0,0,0]
["1 Jan 2017 to 31 Jan 2017","DEPARTMENT OF HEALTH CIMS1","DH","DH",8658917541,"AL1",3,"Local system","Local System",352,0,null,61,291,null,0,0,0,0,56,0.15909090909090909,56,0,0,56,0,null,null,291,0.82670454545454541,0,0,0,0,0,0,0,0]
["1 Jan 2017 to 31 Jan 2017","DEPARTMENT OF HEALTH CIMS1","DH","DH",8658917541,"ENCTR",3,"Local system + LAAM","Local System",28381,0,null,null,28381,null,0,0,0,0,0,0,0,0,0,null,null,null,null,28381,1,0,0,0,0,0,0,0,0]
["1 Jan 2017 to 31 Jan 2017","DEPARTMENT OF HEALTH CIMS1","DH","DH",8658917541,"IMMU",3,"Local system + LAAM","Local System",9891,0,null,121,9770,null,0,0,0,0,121,1.2233343443534526E-2,121,0,0,121,0,0,null,9770,0.98776665655646545,0,0,0,0,0,0,0,0]
["1 Jan 2017 to 31 Jan 2017","DEPARTMENT OF HEALTH CIMS1","DH","DH",8658917541,"PROB",3,"Local system + LAAM","Local System",11821,0,null,253,11568,null,0,0,0,0,243,2.055663649437442E-2,243,0,0,243,0,null,null,11568,0.97859741138651557,10,8.4595211911005837E-4,0,10,0,0,0,0]
["1 Jan 2017 to 31 Jan 2017","DEPARTMENT OF HEALTH CIMS1","DH","DH",8658917541,"PX",3,"Local system + LAAM","Local System",9535,0,null,257,9278,null,0,0,0,0,257,2.6953329837441007E-2,257,0,0,257,0,null,null,9278,0.97304667016255897,0,0,0,0,0,0,0,0]
["1 Jan 2017 to 31 Jan 2017","DEPARTMENT OF HEALTH CIMS1","DH","DH",8658917541,"RXO",3,"MOE","Local System",17603,0,null,2220,15383,null,0,0,0,0,2220,0.12611486678407088,2220,0,0,2220,0,null,null,15383,0.87388513321592909,0,0,0,0,0,0,0,0]
["1 Jan 2017 to 31 Jan 2017","CANOSSA HOSPITAL (CARITAS)","CANNOSSA HOSPITAL","PH",8252506240,"ADR",3,"Local system","Local System",1,0,null,1,0,null,0,0,0,0,1,1,1,0,0,1,0,null,null,0,0,0,0,0,0,0,0,0,0]
["1 Jan 2017 to 31 Jan 2017","CANOSSA HOSPITAL (CARITAS)","CANNOSSA HOSPITAL","PH",8252506240,"AL1",3,"Local system","Local System",4,0,null,1,3,null,0,0,0,0,1,0.25,1,0,0,1,0,null,null,3,0.75,0,0,0,0,0,0,0,0]
["1 Jan 2017 to 31 Jan 2017","CHIRON HEALTHCARE GROUP LIMITED","CHIRON HEALTHCARE","GROUP",9451612824,"ADR","3,2","Local system","Local System",0,0,null,0,0,null,0,{"$error":"#DIV/0!"},0,0,0,{"$error":"#DIV/0!"},0,0,0,0,0,null,null,0,{"$error":"#DIV/0!"},0,{"$error":"#DIV/0!"},0,0,0,0,0,0]
["1 Jan 2017 to 31 Jan 2017","CHIRON HEALTHCARE GROUP LIMITED","CHIRON HEALTHCARE","GROUP",9451612824,"AL1","3,2","Local system","Local System",0,0,null,0,0,null,0,{"$error":"#DIV/0!"},0,0,0,{"$error":"#DIV/0!"},0,0,0,0,0,null,null,0,{"$error":"#DIV/0!"},0,{"$error":"#DIV/0!"},0,0,0,0,0,0]
["1 Jan 2017 to 31 Jan 2017","CHIRON HEALTHCARE GROUP LIMITED","CHIRON HEALTHCARE","GROUP",9451612824,"ENCTR",3,"Local system","Local System",29,0,null,null,29,null,0,0,0,0,0,0,0,0,0,null,null,null,null,29,1,0,0,0,0,0,0,0,0]
["1 Jan 2017 to 31 Jan 2017","CHIRON HEALTHCARE GROUP LIMITED","CHIRON HEALTHCARE","GROUP",9451612824,"IMMU","3,2","Local system","Local System",1,0,null,0,1,null,0,0,0,0,0,0,0,0,0,0,0,0,null,1,1,0,0,0,0,0,0,0,0]
["1 Jan 2017 to 31 Jan 2017","CHIRON HEALTHCARE GROUP LIMITED","CHIRON HEALTHCARE","GROUP",9451612824,"PROB","3,2","Local system","Local System",21,0,null,11,10,null,0,0,0,0,0,0,0,0,0,null,null,null,null,10,0.47619047619047616,0,0,0,0,0,0,0,0]
["1 Jan 2017 to 31 Jan 2017","CHIRON HEALTHCARE GROUP LIMITED","CHIRON HEALTHCARE","GROUP",9451612824,"RXD","3,2","Local system","Local System",19,0,null,3,16,null,0,0,0,0,0,0,0,0,0,0,0,null,null,16,0.84210526315789469,0,0,0,0,0,0,0,0]
["1 Jan 2017 to 31 Jan 2017","CHIRON HEALTHCARE GROUP LIMITED","CHIRON HEALTHCARE","GROUP",9451612824,"RXO","3,2","Local system","Local System",19,0,null,3,16,null,0,0,0,0,0,0,0,0,0,0,0,null,null,16,0.84210526315789469,0,0,0,0,0,0,0,0]
["1 Jan 2017 to 31 Jan 2017","DR WONG CHUN POR","DR CP WONG CLINIC","SOLO",5528991274,"ADR","3,2","Local system","Local System",0,0,null,0,0,null,0,{"$error":"#DIV/0!"},0,0,0,{"$error":"#DIV/0!"},0,0,0,0,0,null,null,0,{"$error":"#DIV/0!"},0,{"$error":"#DIV/0!"},0,0,0,0,0,0]
["1 Jan 2017 to 31 Jan 2017","DR WONG CHUN POR","DR CP WONG CLINIC","SOLO",5528991274,"AL1","3,2","Local system","Local System",1,0,null,0,1,null,0,0,0,0,0,0,0,0,0,0,0,null,null,1,1,0,0,0,0,0,0,0,0]
["1 Jan 2017 to 31 Jan 2017","DR WONG CHUN POR","DR CP WONG CLINIC","SOLO",5528991274,"ENCTR",3,"Local system","Local System",238,0,null,null,238,null,0,0,0,0,0,0,0,0,0,null,null,null,null,238,1,0,0,0,0,0,0,0,0]
["1 Jan 2017 to 31 Jan 2017","DR WONG CHUN POR","DR CP WONG CLINIC","SOLO",5528991274,"IMMU","3,2","Local system","Local System",23,0,null,23,0,null,0,0,0,0,0,0,0,0,0,0,0,0,null,0,0,4,0.17391304347826086,0,0,0,4,0,0]
["1 Jan 2017 to 31 Jan 2017","DR WONG CHUN POR","DR CP WONG CLINIC","SOLO",5528991274,"PROB","3,2","Local system","Local System",648,0,null,6,642,null,0,0,0,0,0,0,0,0,0,0,0,null,null,642,0.9907407407407407,0,0,0,0,0,0,0,0]
["1 Jan 2017 to 31 Jan 2017","DR WONG CHUN POR","DR CP WONG CLINIC","SOLO",5528991274,"PX","3,2","Local system","Local System",2,0,null,1,1,null,0,0,0,0,0,0,0,0,0,0,0,null,null,1,0.5,0,0,0,0,0,0,0,0]
["1 Jan 2017 to 31 Jan 2017","DR WONG CHUN POR","DR CP WONG CLINIC","SOLO",5528991274,"RXD","3,2","Local system","Local System",746,0,null,534,212,null,0,{"$f":"P521/J521","v":0},0,0,0,{"$f":"T521/J521","v":0},0,0,0,0,0,null,null,212,{"$f":"AC521/J521","v":0.28418230563002683},300,{"$f":"AE521/J521","v":0.40214477211796246},0,0,0,300,0,0]
["1 Jan 2017 to 31 Jan 2017","DR WONG CHUN POR","DR CP WONG CLINIC","SOLO",5528991274,"RXO","3,2","Local system","Local System",808,0,null,584,224,null,0,0,0,0,0,0,0,0,0,0,0,null,null,224,0.27722772277227725,331,0.40965346534653463,0,0,0,331,0,0]
["1 Jan 2017 to 31 Jan 2017","DR. YEE YUK KEI","DR. YK YEE","SOLO",2310917092,"AL1","3,2","Local system","Local System",4,0,null,0,4,null,0,0,0,0,0,0,0,0,0,0,0,null,null,4,1,0,0,0,0,0,0,0,0]
["1 Jan 2017 to 31 Jan 2017","EVANGEL HOSPITAL","EVANGEL HOSPITAL","PH",2206285885,"ENCTR","3,2","Local system","Local System",716,0,null,null,716,null,0,0,0,0,0,0,0,0,0,null,null,null,null,716,1,0,0,0,0,0,0,0,0]
["1 Jan 2017 to 31 Jan 2017","EVANGEL HOSPITAL","EVANGEL HOSPITAL","PH",2206285885,"AL1","3,2","Local system","Local System",9,0,null,8,1,null,0,0,0,0,8,0.88888888888888884,8,0,0,8,0,null,null,1,0.1111111111111111,0,0,0,0,0,0,0,0]
["1 Jan 2017 to 31 Jan 2017","EVANGEL HOSPITAL","EVANGEL HOSPITAL","PH",2206285885,"ADR","3,2","Local system","Local System",8,0,null,1,7,null,0,0,0,0,1,0.125,1,0,0,1,0,null,null,7,0.875,0,0,0,0,0,0,0,0]
["1 Jan 2017 to 31 Jan 2017","EVANGEL HOSPITAL","EVANGEL HOSPITAL","PH",2206285885,"RXO","3,2","Local system","Local System",45,0,null,13,32,null,0,0,0,0,0,0,0,0,0,0,0,null,null,32,0.71111111111111114,0,0,0,0,0,0,0,0]
["1 Jan 2017 to 31 Jan 2017","HONG KONG ADVENTIST HOSPITAL - STUBBS ROAD","HK ADVENTIST - SR","PH",7029571085,"ADR",3,"Local system","Local System",0,0,null,null,0,null,0,{"$error":"#DIV/0!"},0,0,0,{"$error":"#DIV/0!"},0,0,0,0,0,null,null,0,{"$error":"#DIV/0!"},0,{"$error":"#DIV/0!"},0,0,0,0,0,0]
["1 Jan 2017 to 31 Jan 2017","HONG KONG ADVENTIST HOSPITAL - STUBBS ROAD","HK ADVENTIST - SR","PH",7029571085,"AL1",3,"Local system","Local System",3,0,null,null,3,null,0,0,0,0,0,0,0,0,0,0,0,null,null,3,1,0,0,0,0,0,0,0,0]
["1 Jan 2017 to 31 Jan 2017","HONG KONG ADVENTIST HOSPITAL - STUBBS ROAD","HK ADVENTIST - SR","PH",7029571085,"RAD",2,"Local system","Local System",3,0,null,3,0,null,0,0,0,0,0,0,0,0,0,0,0,null,null,0,0,0,0,0,0,0,0,0,0]
["1 Jan 2017 to 31 Jan 2017","HONG KONG ADVENTIST HOSPITAL - STUBBS ROAD","HK ADVENTIST - SR","PH",7029571085,"RXD",2,"Local system + LAAM","Local System",129,0,null,129,0,null,0,0,0,0,0,0,0,0,0,0,0,null,null,0,0,0,0,0,0,0,0,0,0]
["1 Jan 2017 to 31 Jan 2017","HONG KONG ADVENTIST HOSPITAL - STUBBS ROAD","HK ADVENTIST - SR","PH",7029571085,"ENCTR",3,"Local system + LAAM","Local System",0,0,null,null,0,null,0,{"$error":"#DIV/0!"},0,0,0,{"$error":"#DIV/0!"},0,0,0,0,0,null,null,0,{"$error":"#DIV/0!"},0,{"$error":"#DIV/0!"},0,0,0,0,0,0]
["1 Jan 2017 to 31 Jan 2017","HONG KONG ADVENTIST HOSPITAL - TSUEN WAN","HK ADVENTIST - TW","PH",8909436562,"ADR",3,"Local system","Local System",9,0,null,1,8,null,0,0,0,0,1,0.1111111111111111,1,0,0,1,0,null,null,8,0.88888888888888884,0,0,0,0,0,0,0,0]
["1 Jan 2017 to 31 Jan 2017","HONG KONG ADVENTIST HOSPITAL - TSUEN WAN","HK ADVENTIST - TW","PH",8909436562,"AL1",3,"Local system","Local System",48,0,null,13,35,null,0,0,0,0,11,0.22916666666666666,11,0,0,11,0,null,null,35,0.72916666666666663,0,0,0,0,0,0,0,0]
["1 Jan 2017 to 31 Jan 2017","HONG KONG ADVENTIST HOSPITAL - TSUEN WAN","HK ADVENTIST - TW","PH",8909436562,"ENCTR",3,"Local system","Local System",6,0,null,null,6,null,0,0,0,0,0,0,0,0,0,0,0,null,null,6,1,0,0,0,0,0,0,0,0]
["1 Jan 2017 to 31 Jan 2017","HONG KONG ADVENTIST HOSPITAL - TSUEN WAN","HK ADVENTIST - TW","PH",8909436562,"BIRTH",3,"Local system","Local System",2,0,null,null,2,null,0,0,0,0,0,0,0,0,0,0,0,null,null,2,1,0,0,0,0,0,0,0,0]
["1 Jan 2017 to 31 Jan 2017","HONG KONG ADVENTIST HOSPITAL - TSUEN WAN","HK ADVENTIST - TW","PH",8909436562,"RAD",2,"Local system","Local System",661,0,null,661,0,null,0,0,0,0,0,0,0,0,0,0,0,0,null,0,0,0,0,0,0,0,0,0,0]
["1 Jan 2017 to 31 Jan 2017","HONG KONG ADVENTIST HOSPITAL - TSUEN WAN","HK ADVENTIST - TW","PH",8909436562,"RXD",2,"Local system","Local System",1925,0,null,1925,0,null,0,0,0,0,0,0,0,0,0,0,0,null,null,0,0,0,0,0,0,0,0,0,0]
["1 Jan 2017 to 31 Jan 2017","HONG KONG BAPTIST HOSPITAL","HK BAPTIST HOSPITAL","PH",3650324540,"ENCTR",3,"Local system","Local System",53,0,null,null,53,null,0,0,null,null,0,0,0,0,0,null,null,null,null,53,1,0,0,0,0,0,0,0,0]
["1 Jan 2017 to 31 Jan 2017","HONG KONG BAPTIST HOSPITAL","HK BAPTIST HOSPITAL","PH",3650324540,"LABAP",1,"Local system + LAAM","Local System",1940,0,1940,null,0,null,0,0,0,0,0,0,0,0,0,0,0,0,null,0,0,0,0,0,0,0,0,0,0]
["1 Jan 2017 to 31 Jan 2017","HONG KONG BAPTIST HOSPITAL","HK BAPTIST HOSPITAL","PH",3650324540,"LABGEN",1,"Local system + LAAM","Local System",1948,8,1940,null,0,null,8,4.1067761806981521E-3,8,0,0,0,0,0,0,0,0,0,null,0,0,0,0,0,0,0,0,0,0]
["1 Jan 2017 to 31 Jan 2017","HONG KONG BAPTIST HOSPITAL","HK BAPTIST HOSPITAL","PH",3650324540,"LABMB",1,"Local system + LAAM","Local System",3285,1,3284,null,0,null,1,3.0441400304414006E-4,1,0,0,0,0,0,0,0,0,0,null,0,0,0,0,0,0,0,0,0,0]
["1 Jan 2017 to 31 Jan 2017","THE HONG KONG POLYTECHNIC UNIVERSITY","POLYU","HCAI",4578805814,"ENCTR",3,"Local system","Local System",212,0,null,null,212,null,0,0,0,0,0,0,0,0,0,null,null,null,null,212,1,0,0,0,0,0,0,0,0]
["1 Jan 2017 to 31 Jan 2017","ST. PAUL'S HOSPITAL","SPH","PH",5156724947,"ADR",3,"Local system","Local System",15,0,null,4,11,null,0,0,0,0,6,0.4,6,0,0,6,0,null,null,11,0.73333333333333328,0,0,0,0,0,0,0,0]
["1 Jan 2017 to 31 Jan 2017","ST. PAUL'S HOSPITAL","SPH","PH",5156724947,"AL1",3,"Local system","Local System",61,0,null,30,31,null,0,0,0,0,32,0.52459016393442626,32,0,0,32,0,null,null,31,0.50819672131147542,0,0,0,0,0,0,0,0]
["1 Jan 2017 to 31 Jan 2017","ST. PAUL'S HOSPITAL","SPH","PH",5156724947,"ENCTR",3,"Local system + LAAM","Local System",4,0,null,null,4,null,0,0,0,0,0,0,0,0,0,null,null,null,null,4,1,0,0,0,0,0,0,0,0]
["1 Jan 2017 to 31 Jan 2017","ST.TERESA's HOSPITAL","STH","PH",7969980015,"ADR",3,"Local system","Local System",4,0,null,0,4,null,0,0,0,0,0,0,0,0,0,0,0,null,null,4,1,0,0,0,0,0,0,0,0]
["1 Jan 2017 to 31 Jan 2017","ST.TERESA's HOSPITAL","STH","PH",7969980015,"AL1",3,"Local system","Local System",95,0,null,38,57,null,0,0,0,0,32,0.33684210526315789,32,0,0,32,0,null,null,57,0.6,0,0,0,0,0,0,0,0]
["1 Jan 2017 to 31 Jan 2017","ST.TERESA's HOSPITAL","STH","PH",7969980015,"BIRTH",3,"Local system + LAAM","Local System",4,0,null,null,4,null,0,0,0,0,0,0,0,0,0,0,0,0,null,4,1,0,0,0,0,0,0,0,0]
["1 Jan 2017 to 31 Jan 2017","UNION HOSPITAL","UNION HOSPITAL","PH",5712620300,"ADR",3,"Local system","Local System",2,0,null,1,1,null,0,0,0,0,1,0.5,1,0,0,1,0,null,null,1,0.5,0,0,0,0,0,0,0,0]
["1 Jan 2017 to 31 Jan 2017","UNION HOSPITAL","UNION HOSPITAL","PH",5712620300,"AL1",3,"Local system","Local System",59,0,null,26,33,null,0,0,0,0,26,0.44067796610169491,26,0,0,26,0,null,null,33,0.55932203389830504,0,0,0,0,0,0,0,0]
["1 Jan 2017 to 31 Jan 2017","UNION HOSPITAL","UNION HOSPITAL","PH",5712620300,"ENCTR",3,"Local system","Local System",105,0,null,null,105,null,0,0,0,0,0,0,0,0,0,null,null,null,null,105,1,0,0,0,0,0,0,0,0]
["1 Jan 2017 to 31 Jan 2017","DIAGNOSTIX PATHOLOGY LABORATORIES LTD","DIAGNOSTIX","SOLO",3121494321,"LABAP",1,"Adaptation","Adaptaion",388,0,388,null,0,null,0,0,0,0,0,0,0,0,0,null,null,null,null,0,0,0,0,0,0,0,0,0,0]
["1 Jan 2017 to 31 Jan 2017","DIAGNOSTIX MEDICAL CENTRE LIMITED","DIAGNOSTIX MEDICAL","GROUP",4905639327,"LABGEN",3,"Adaptation","Adaptaion",3082,2,null,null,3080,null,2,6.4892926670992858E-4,2,0,0,0,0,0,0,null,null,null,null,3080,0.9993510707332901,0,0,0,0,0,0,0,0]
["1 Jan 2017 to 31 Jan 2017 Total",null,null,null,null,null,null,null,null,{"$f":"SUM(J499:J554)","v":95079},{"$f":"SUM(K499:K554)","v":11},{"$f":"SUM(L499:L554)","v":7552},{"$f":"SUM(M499:M554)","v":6941},{"$f":"SUM(N499:N554)","v":80575},null,{"$f":"SUM(P499:P554)","v":11},1.1569326560018511E-4,{"$f":"SUM(R499:R554)","v":11},{"$f":"SUM(S499:S554)","v":0},{"$f":"SUM(T499:T554)","v":3026},3.1826165609650924E-2,{"$f":"SUM(V499:V554)","v":3026},0,0,3026,0,0,null,{"$f":"SUM(AC499:AC554)","v":80575},0.84745317052135594,{"$f":"SUM(AE499:AE554)","v":645},6.7838323920108544E-3,{"$f":"SUM(AG499:AG554)","v":0},10,0,635,0,0]
["1 Feb 2017 to 28 Feb 2017","DEPARTMENT OF HEALTH CIMS1","DH","DH",8658917541,"ADR",3,"Local system","Local System",{"$f":"SUM(K556:N556)","v":86},{"$f":"P556","v":0},null,10,76,null,{"$f":"SUM(R556:S556)","v":0},0,0,0,{"$f":"SUM(Y556:AA556)","v":10},0.11627906976744186,10,0,0,10,0,null,null,76,0.88372093023255816,0,0,0,0,0,0,0,0]
["1 Feb 2017 to 28 Feb 2017","DEPARTMENT OF HEALTH CIMS1","DH","DH",8658917541,"AL1",3,"Local system","Local System",201,0,null,41,160,null,0,0,0,0,39,0.19402985074626866,39,0,0,39,0,null,null,160,0.79601990049751248,0,0,0,0,0,0,0,0]
["1 Feb 2017 to 28 Feb 2017","DEPARTMENT OF HEALTH CIMS1","DH","DH",8658917541,"ENCTR",3,"Local system + LAAM","Local System",14296,0,null,null,14296,null,0,0,0,0,0,0,0,0,0,null,null,null,null,14296,1,0,0,0,0,0,0,0,0]
["1 Feb 2017 to 28 Feb 2017","DEPARTMENT OF HEALTH CIMS1","DH","DH",8658917541,"IMMU",3,"Local system + LAAM","Local System",3769,0,null,39,3730,null,0,0,0,0,38,1.0082249933669409E-2,38,0,0,38,0,0,null,3730,0.98965242769965511,0,0,0,0,0,0,0,0]
["1 Feb 2017 to 28 Feb 2017","DEPARTMENT OF HEALTH CIMS1","DH","DH",8658917541,"PROB",3,"Local system + LAAM","Local System",6246,0,null,151,6095,null,0,0,0,0,143,2.2894652577649697E-2,143,0,0,143,0,null,null,6095,0.97582452769772654,8,1.2808197246237591E-3,0,8,0,0,0,0]
["1 Feb 2017 to 28 Feb 2017","DEPARTMENT OF HEALTH CIMS1","DH","DH",8658917541,"PX",3,"Local system + LAAM","Local System",4901,0,null,109,4792,null,0,0,0,0,109,2.2240359110385636E-2,109,0,0,109,0,null,null,4792,0.97775964088961431,0,0,0,0,0,0,0,0]
["1 Feb 2017 to 28 Feb 2017","DEPARTMENT OF HEALTH CIMS1","DH","DH",8658917541,"RXO",3,"MOE","Local System",8914,0,null,1184,7730,null,0,0,0,0,1184,0.13282477002468027,1184,0,0,1184,0,null,null,7730,0.86717522997531971,0,0,0,0,0,0,0,0]
["1 Feb 2017 to 28 Feb 2017","CANOSSA HOSPITAL (CARITAS)","CANNOSSA HOSPITAL","PH",8252506240,"ADR",3,"Local system","Local System",2,0,null,1,1,null,0,0,0,0,1,0.5,1,0,0,1,0,null,null,1,0.5,0,0,0,0,0,0,0,0]
["1 Feb 2017 to 28 Feb 2017","CANOSSA HOSPITAL (CARITAS)","CANNOSSA HOSPITAL","PH",8252506240,"AL1",3,"Local system","Local System",17,0,null,6,11,null,0,0,0,0,6,0.35294117647058826,6,0,0,6,0,null,null,11,0.6470588235294118,0,0,0,0,0,0,0,0]
["1 Feb 2017 to 28 Feb 2017","CHIRON HEALTHCARE GROUP LIMITED","CHIRON HEALTHCARE","GROUP",9451612824,"ADR","3,2","Local system","Local System",0,0,null,0,0,null,0,{"$error":"#DIV/0!"},0,0,0,{"$error":"#DIV/0!"},0,0,0,0,0,null,null,0,{"$error":"#DIV/0!"},0,{"$error":"#DIV/0!"},0,0,0,0,0,0]
["1 Feb 2017 to 28 Feb 2017","CHIRON HEALTHCARE GROUP LIMITED","CHIRON HEALTHCARE","GROUP",9451612824,"AL1","3,2","Local system","Local System",0,0,null,0,0,null,0,{"$error":"#DIV/0!"},0,0,0,{"$error":"#DIV/0!"},0,0,0,0,0,null,null,0,{"$error":"#DIV/0!"},0,{"$error":"#DIV/0!"},0,0,0,0,0,0]
["1 Feb 2017 to 28 Feb 2017","CHIRON HEALTHCARE GROUP LIMITED","CHIRON HEALTHCARE","GROUP",9451612824,"ENCTR",3,"Local system","Local System",17,0,null,null,17,null,0,0,0,0,0,0,0,0,0,null,null,null,null,17,1,0,0,0,0,0,0,0,0]
["1 Feb 2017 to 28 Feb 2017","CHIRON HEALTHCARE GROUP LIMITED","CHIRON HEALTHCARE","GROUP",9451612824,"IMMU","3,2","Local system","Local System",0,0,null,0,0,null,0,{"$error":"#DIV/0!"},0,0,0,{"$error":"#DIV/0!"},0,0,0,0,0,0,null,0,{"$error":"#DIV/0!"},0,{"$error":"#DIV/0!"},0,0,0,0,0,0]
["1 Feb 2017 to 28 Feb 2017","CHIRON HEALTHCARE GROUP LIMITED","CHIRON HEALTHCARE","GROUP",9451612824,"PROB","3,2","Local system","Local System",20,0,null,6,14,null,0,0,0,0,0,0,0,0,0,null,null,null,null,14,0.7,0,0,0,0,0,0,0,0]
["1 Feb 2017 to 28 Feb 2017","CHIRON HEALTHCARE GROUP LIMITED","CHIRON HEALTHCARE","GROUP",9451612824,"RXD","3,2","Local system","Local System",22,0,null,0,22,null,0,0,0,0,0,0,0,0,0,0,0,null,null,22,1,0,0,0,0,0,0,0,0]
["1 Feb 2017 to 28 Feb 2017","CHIRON HEALTHCARE GROUP LIMITED","CHIRON HEALTHCARE","GROUP",9451612824,"RXO","3,2","Local system","Local System",22,0,null,0,22,null,0,0,0,0,0,0,0,0,0,0,0,null,null,22,1,0,0,0,0,0,0,0,0]
["1 Feb 2017 to 28 Feb 2017","DR WONG CHUN POR","DR CP WONG CLINIC","SOLO",5528991274,"ADR","3,2","Local system","Local System",0,0,null,0,0,null,0,{"$error":"#DIV/0!"},0,0,0,{"$error":"#DIV/0!"},0,0,0,0,0,null,null,0,{"$error":"#DIV/0!"},0,{"$error":"#DIV/0!"},0,0,0,0,0,0]
["1 Feb 2017 to 28 Feb 2017","DR WONG CHUN POR","DR CP WONG CLINIC","SOLO",5528991274,"AL1","3,2","Local system","Local System",6,0,null,0,6,null,0,0,0,0,0,0,0,0,0,0,0,null,null,6,1,0,0,0,0,0,0,0,0]
["1 Feb 2017 to 28 Feb 2017","DR WONG CHUN POR","DR CP WONG CLINIC","SOLO",5528991274,"ENCTR",3,"Local system","Local System",171,0,null,null,171,null,0,0,0,0,0,0,0,0,0,null,null,null,null,171,1,0,0,0,0,0,0,0,0]
["1 Feb 2017 to 28 Feb 2017","DR WONG CHUN POR","DR CP WONG CLINIC","SOLO",5528991274,"IMMU","3,2","Local system","Local System",0,0,null,0,0,null,0,{"$error":"#DIV/0!"},0,0,0,{"$error":"#DIV/0!"},0,0,0,0,0,0,null,0,{"$error":"#DIV/0!"},0,{"$error":"#DIV/0!"},0,0,0,0,0,0]
["1 Feb 2017 to 28 Feb 2017","DR WONG CHUN POR","DR CP WONG CLINIC","SOLO",5528991274,"PROB","3,2","Local system","Local System",530,0,null,1,529,null,0,0,0,0,0,0,0,0,0,0,0,null,null,529,0.99811320754716981,0,0,0,0,0,0,0,0]
["1 Feb 2017 to 28 Feb 2017","DR WONG CHUN POR","DR CP WONG CLINIC","SOLO",5528991274,"PX","3,2","Local system","Local System",1,0,null,0,1,null,0,0,0,0,0,0,0,0,0,0,0,null,null,1,1,0,0,0,0,0,0,0,0]
["1 Feb 2017 to 28 Feb 2017","DR WONG CHUN POR","DR CP WONG CLINIC","SOLO",5528991274,"RXD","3,2","Local system","Local System",381,0,null,325,56,null,0,0,0,0,0,0,0,0,0,0,0,null,null,56,0.14698162729658792,294,0.77165354330708658,0,0,0,294,0,0]
["1 Feb 2017 to 28 Feb 2017","DR WONG CHUN POR","DR CP WONG CLINIC","SOLO",5528991274,"RXO","3,2","Local system","Local System",420,0,null,358,62,null,0,0,0,0,0,0,0,0,0,0,0,null,null,62,0.14761904761904762,316,0.75238095238095237,0,0,0,316,0,0]
["1 Feb 2017 to 28 Feb 2017","DR. YEE YUK KEI","DR. YK YEE","SOLO",2310917092,"AL1","3,2","Local system","Local System",4,0,null,0,4,null,0,0,0,0,0,0,0,0,0,0,0,null,null,4,1,0,0,0,0,0,0,0,0]
["1 Feb 2017 to 28 Feb 2017","EVANGEL HOSPITAL","EVANGEL HOSPITAL","PH",2206285885,"ENCTR","3,2","Local system","Local System",913,0,null,null,913,null,0,0,0,0,0,0,0,0,0,null,null,null,null,913,1,0,0,0,0,0,0,0,0]
["1 Feb 2017 to 28 Feb 2017","EVANGEL HOSPITAL","EVANGEL HOSPITAL","PH",2206285885,"AL1","3,2","Local system","Local System",15,0,null,7,8,null,0,0,0,0,7,0.46666666666666667,7,0,0,7,0,null,null,8,0.53333333333333333,0,0,0,0,0,0,0,0]
["1 Feb 2017 to 28 Feb 2017","EVANGEL HOSPITAL","EVANGEL HOSPITAL","PH",2206285885,"ADR","3,2","Local system","Local System",4,0,null,1,3,null,0,0,0,0,1,0.25,1,0,0,1,0,null,null,3,0.75,0,0,0,0,0,0,0,0]
["1 Feb 2017 to 28 Feb 2017","EVANGEL HOSPITAL","EVANGEL HOSPITAL","PH",2206285885,"RXO","3,2","Local system","Local System",98,0,null,52,46,null,0,0,0,0,0,0,0,0,0,0,0,null,null,46,0.46938775510204084,0,0,0,0,0,0,0,0]
["1 Feb 2017 to 28 Feb 2017","HONG KONG ADVENTIST HOSPITAL - STUBBS ROAD","HK ADVENTIST - SR","PH",7029571085,"ADR",3,"Local system","Local System",0,0,null,null,0,null,0,{"$f":"P585/J585","v":{"$error":"#DIV/0!"}},0,0,0,{"$f":"T585/J585","v":{"$error":"#DIV/0!"}},0,0,0,0,0,null,null,0,{"$f":"AC585/J585","v":{"$error":"#DIV/0!"}},0,{"$f":"AE585/J585","v":{"$error":"#DIV/0!"}},0,0,0,0,0,0]
["1 Feb 2017 to 28 Feb 2017","HONG KONG ADVENTIST HOSPITAL - STUBBS ROAD","HK ADVENTIST - SR","PH",7029571085,"AL1",3,"Local system","Local System",5,0,null,2,3,null,0,0,0,0,1,0.2,1,0,0,1,0,null,null,3,0.6,0,0,0,0,0,0,0,0]
["1 Feb 2017 to 28 Feb 2017","HONG KONG ADVENTIST HOSPITAL - STUBBS ROAD","HK ADVENTIST - SR","PH",7029571085,"RAD",2,"Local system","Local System",0,0,null,0,0,null,0,{"$error":"#DIV/0!"},0,0,0,{"$error":"#DIV/0!"},0,0,0,0,0,null,null,0,{"$error":"#DIV/0!"},0,{"$error":"#DIV/0!"},0,0,0,0,0,0]
["1 Feb 2017 to 28 Feb 2017","HONG KONG ADVENTIST HOSPITAL - STUBBS ROAD","HK ADVENTIST - SR","PH",7029571085,"RXD",2,"Local system + LAAM","Local System",126,0,null,126,0,null,0,0,0,0,0,0,0,0,0,0,0,null,null,0,0,0,0,0,0,0,0,0,0]
["1 Feb 2017 to 28 Feb 2017","HONG KONG ADVENTIST HOSPITAL - STUBBS ROAD","HK ADVENTIST - SR","PH",7029571085,"ENCTR",3,"Local system + LAAM","Local System",1,0,null,null,1,null,0,0,0,0,0,0,0,0,0,0,0,null,null,1,1,0,0,0,0,0,0,0,0]
["1 Feb 2017 to 28 Feb 2017","HONG KONG ADVENTIST HOSPITAL - TSUEN WAN","HK ADVENTIST - TW","PH",8909436562,"ADR",3,"Local system","Local System",2,0,null,2,0,null,0,0,0,0,2,1,2,0,0,2,0,null,null,0,0,0,0,0,0,0,0,0,0]
["1 Feb 2017 to 28 Feb 2017","HONG KONG ADVENTIST HOSPITAL - TSUEN WAN","HK ADVENTIST - TW","PH",8909436562,"AL1",3,"Local system","Local System",29,0,null,9,20,null,0,0,0,0,8,0.27586206896551724,8,0,0,8,0,null,null,20,0.68965517241379315,0,0,0,0,0,0,0,0]
["1 Feb 2017 to 28 Feb 2017","HONG KONG ADVENTIST HOSPITAL - TSUEN WAN","HK ADVENTIST - TW","PH",8909436562,"ENCTR",3,"Local system","Local System",9,0,null,null,9,null,0,0,0,0,0,0,0,0,0,0,0,null,null,9,1,0,0,0,0,0,0,0,0]
["1 Feb 2017 to 28 Feb 2017","HONG KONG ADVENTIST HOSPITAL - TSUEN WAN","HK ADVENTIST - TW","PH",8909436562,"BIRTH",3,"Local system","Local System",3,0,null,null,3,null,0,0,0,0,0,0,0,0,0,0,0,null,null,0,0,0,0,0,0,0,0,0,0]
["1 Feb 2017 to 28 Feb 2017","HONG KONG ADVENTIST HOSPITAL - TSUEN WAN","HK ADVENTIST - TW","PH",8909436562,"RAD",2,"Local system","Local System",618,0,null,618,0,null,0,0,0,0,0,0,0,0,0,0,0,0,null,0,0,0,0,0,0,0,0,0,0]
["1 Feb 2017 to 28 Feb 2017","HONG KONG ADVENTIST HOSPITAL - TSUEN WAN","HK ADVENTIST - TW","PH",8909436562,"RXD",2,"Local system","Local System",1656,0,null,1656,0,null,0,0,0,0,0,0,0,0,0,0,0,null,null,0,0,0,0,0,0,0,0,0,0]
["1 Feb 2017 to 28 Feb 2017","HONG KONG BAPTIST HOSPITAL","HK BAPTIST HOSPITAL","PH",3650324540,"ENCTR",3,"Local system","Local System",32,0,null,null,32,null,0,0,null,null,0,0,0,0,0,null,null,null,null,32,1,0,0,0,0,0,0,0,0]
["1 Feb 2017 to 28 Feb 2017","HONG KONG BAPTIST HOSPITAL","HK BAPTIST HOSPITAL","PH",3650324540,"LABAP",1,"Local system + LAAM","Local System",221,2,219,null,0,null,2,9.0497737556561094E-3,2,0,0,0,0,0,0,0,0,0,null,0,0,0,0,0,0,0,0,0,0]
["1 Feb 2017 to 28 Feb 2017","HONG KONG BAPTIST HOSPITAL","HK BAPTIST HOSPITAL","PH",3650324540,"LABGEN",1,"Local system + LAAM","Local System",2542,6,2536,null,0,null,6,2.3603461841070024E-3,6,0,0,0,0,0,0,0,0,0,null,0,0,0,0,0,0,0,0,0,0]
["1 Feb 2017 to 28 Feb 2017","HONG KONG BAPTIST HOSPITAL","HK BAPTIST HOSPITAL","PH",3650324540,"LABMB",1,"Local system + LAAM","Local System",424,4,420,null,0,null,4,9.433962264150943E-3,4,0,0,0,0,0,0,0,0,0,null,0,0,0,0,0,0,0,0,0,0]
["1 Feb 2017 to 28 Feb 2017","PRECIOUS BLOOD HOSPITAL (CARITAS)","PRECIOUS BLOOD HOSPITAL","PH",7002059678,"ADR",3,"Local system","Local System",3,0,null,null,3,null,0,0,0,0,0,0,0,0,0,0,0,null,null,3,1,0,0,0,0,0,0,0,0]
["1 Feb 2017 to 28 Feb 2017","PRECIOUS BLOOD HOSPITAL (CARITAS)","PRECIOUS BLOOD HOSPITAL","PH",7002059678,"AL1",3,"Local system","Local System",122,0,null,77,45,null,0,0,0,0,67,0.54918032786885251,67,0,0,67,0,null,null,45,0.36885245901639346,0,0,0,0,0,0,0,0]
["1 Feb 2017 to 28 Feb 2017","THE HONG KONG POLYTECHNIC UNIVERSITY","POLYU","HCAI",4578805814,"ENCTR",3,"Local system","Local System",758,0,null,null,758,null,0,0,0,0,0,0,0,0,0,null,null,null,null,758,1,0,0,0,0,0,0,0,0]
["1 Feb 2017 to 28 Feb 2017","ST. PAUL'S HOSPITAL","SPH","PH",5156724947,"ADR",3,"Local system","Local System",1,0,null,1,0,null,0,0,0,0,0,0,0,0,0,0,0,null,null,0,0,0,0,0,0,0,0,0,0]
["1 Feb 2017 to 28 Feb 2017","ST. PAUL'S HOSPITAL","SPH","PH",5156724947,"AL1",3,"Local system","Local System",47,0,null,29,18,null,0,0,0,0,0,0,0,0,0,0,0,null,null,18,0.38297872340425532,0,0,0,0,0,0,0,0]
["1 Feb 2017 to 28 Feb 2017","ST. PAUL'S HOSPITAL","SPH","PH",5156724947,"ENCTR",3,"Local system + LAAM","Local System",4,0,null,null,4,null,0,0,0,0,0,0,0,0,0,null,null,null,null,4,1,0,0,0,0,0,0,0,0]
["1 Feb 2017 to 28 Feb 2017","ST.TERESA's HOSPITAL","STH","PH",7969980015,"ADR",3,"Local system","Local System",4,0,null,0,4,null,0,0,0,0,2,0.5,2,0,0,2,0,null,null,4,1,0,0,0,0,0,0,0,0]
["1 Feb 2017 to 28 Feb 2017","ST.TERESA's HOSPITAL","STH","PH",7969980015,"AL1",3,"Local system","Local System",89,0,null,32,57,null,0,0,0,0,24,0.2696629213483146,24,0,0,24,0,null,null,57,0.6404494382022472,0,0,0,0,0,0,0,0]
["1 Feb 2017 to 28 Feb 2017","ST.TERESA's HOSPITAL","STH","PH",7969980015,"BIRTH",3,"Local system + LAAM","Local System",6,0,null,null,6,null,0,0,0,0,0,0,0,0,0,0,0,0,null,0,0,0,0,0,0,0,0,0,0]
["1 Feb 2017 to 28 Feb 2017","UNION HOSPITAL","UNION HOSPITAL","PH",5712620300,"ADR",3,"Local system","Local System",17,0,null,3,14,null,0,0,0,0,3,0.17647058823529413,3,0,0,3,0,null,null,14,0.82352941176470584,0,0,0,0,0,0,0,0]
["1 Feb 2017 to 28 Feb 2017","UNION HOSPITAL","UNION HOSPITAL","PH",5712620300,"AL1",3,"Local system","Local System",159,0,null,79,80,null,0,0,0,0,80,0.50314465408805031,80,0,0,80,0,null,null,80,0.50314465408805031,0,0,0,0,0,0,0,0]
["1 Feb 2017 to 28 Feb 2017","UNION HOSPITAL","UNION HOSPITAL","PH",5712620300,"ENCTR",3,"Local system","Local System",75,0,null,null,75,null,0,0,0,0,0,0,0,0,0,null,null,null,null,75,1,0,0,0,0,0,0,0,0]
["1 Feb 2017 to 28 Feb 2017","DIAGNOSTIX PATHOLOGY LABORATORIES LTD","DIAGNOSTIX","SOLO",3121494321,"LABAP",1,"Adaptation","Adaptaion",291,0,291,null,0,null,0,0,0,0,0,0,0,0,0,null,null,null,null,0,0,0,0,0,0,0,0,0,0]
["1 Feb 2017 to 28 Feb 2017","DIAGNOSTIX MEDICAL CENTRE LIMITED","DIAGNOSTIX MEDICAL","GROUP",4905639327,"LABGEN",3,"Adaptation","Adaptaion",2784,0,null,null,2784,null,0,0,0,0,1,3.5919540229885057E-4,0,0,1,1,0,0,null,2784,1,0,0,0,0,0,0,0,0]
["1 Feb 2017 to 28 Feb 2017 Total",null,null,null,null,null,null,null,null,{"$f":"SUM(J556:J613)","v":51084},{"$f":"SUM(K556:K613)","v":12},{"$f":"SUM(L556:L613)","v":3466},{"$f":"SUM(M556:M613)","v":4925},{"$f":"SUM(N556:N613)","v":42681},null,{"$f":"SUM(P556:P613)","v":12},2.3490721165139771E-4,{"$f":"SUM(R556:R613)","v":12},{"$f":"SUM(S556:S613)","v":0},{"$f":"SUM(T556:T613)","v":1726},3.3787487275859368E-2,{"$f":"SUM(V556:V613)","v":1725},0,1,1726,0,0,null,{"$f":"SUM(AC556:AC613)","v":42672},0.83533004463237026,{"$f":"SUM(AE556:AE613)","v":618},1.2097721400046982E-2,{"$f":"SUM(AG556:AG613)","v":0},8,0,610,0,0]
["1 Mar 2017 to 31 Mar 2017","DEPARTMENT OF HEALTH CIMS1","DH","DH",8658917541,"ADR",3,"Local system","Local System",{"$f":"SUM(K615:N615)","v":136},{"$f":"P615","v":0},null,23,113,null,{"$f":"SUM(R615:S615)","v":0},0,0,0,{"$f":"SUM(Y615:AA615)","v":23},0.16911764705882354,23,0,0,23,0,null,null,113,0.83088235294117652,0,0,0,0,0,0,0,0]
["1 Mar 2017 to 31 Mar 2017","DEPARTMENT OF HEALTH CIMS1","DH","DH",8658917541,"AL1",3,"Local system","Local System",316,0,null,52,264,null,0,0,0,0,49,0.1550632911392405,49,0,0,49,0,null,null,264,0.83544303797468356,0,0,0,0,0,0,0,0]
["1 Mar 2017 to 31 Mar 2017","DEPARTMENT OF HEALTH CIMS1","DH","DH",8658917541,"ENCTR",3,"Local system + LAAM","Local System",19816,0,null,null,19816,null,0,0,0,0,0,0,0,0,0,null,null,null,null,19816,1,0,0,0,0,0,0,0,0]
["1 Mar 2017 to 31 Mar 2017","DEPARTMENT OF HEALTH CIMS1","DH","DH",8658917541,"IMMU",3,"Local system + LAAM","Local System",5356,0,null,72,5284,null,0,0,0,0,72,1.344286781179985E-2,72,0,0,72,0,0,null,5284,0.98655713218820018,0,0,0,0,0,0,0,0]
["1 Mar 2017 to 31 Mar 2017","DEPARTMENT OF HEALTH CIMS1","DH","DH",8658917541,"PROB",3,"Local system + LAAM","Local System",8535,0,null,233,8302,null,0,0,0,0,233,2.7299355594610428E-2,233,0,0,233,0,null,null,8302,0.97270064440538961,0,0,0,0,0,0,0,0]
["1 Mar 2017 to 31 Mar 2017","DEPARTMENT OF HEALTH CIMS1","DH","DH",8658917541,"PX",3,"Local system + LAAM","Local System",7068,0,null,205,6863,null,0,0,0,0,205,2.9003961516694963E-2,205,0,0,205,0,null,null,6863,0.97099603848330507,0,0,0,0,0,0,0,0]
["1 Mar 2017 to 31 Mar 2017","DEPARTMENT OF HEALTH CIMS1","DH","DH",8658917541,"RXO",3,"MOE","Local System",11082,0,null,1569,9513,null,0,0,0,0,1569,0.14158094206821872,1569,0,0,1569,0,null,null,9513,0.8584190579317813,0,0,0,0,0,0,0,0]
["1 Mar 2017 to 31 Mar 2017","DEPARTMENT OF HEALTH CIMS1","DH","DH",8658917541,"LABMB",1,"Local system + LAAM","Local System",621,0,621,null,0,null,0,0,0,0,0,0,0,0,0,0,0,0,null,0,0,0,0,0,0,0,0,0,0]
["1 Mar 2017 to 31 Mar 2017","CANOSSA HOSPITAL (CARITAS)","CANNOSSA HOSPITAL","PH",8252506240,"ADR",3,"Local system","Local System",0,0,null,0,0,null,0,{"$error":"#DIV/0!"},0,0,0,{"$error":"#DIV/0!"},0,0,0,null,0,null,null,0,{"$error":"#DIV/0!"},0,{"$error":"#DIV/0!"},0,0,0,0,0,0]
["1 Mar 2017 to 31 Mar 2017","CANOSSA HOSPITAL (CARITAS)","CANNOSSA HOSPITAL","PH",8252506240,"AL1",3,"Local system","Local System",1,0,null,1,0,null,0,0,0,0,1,1,1,0,0,1,0,null,null,0,0,0,0,0,0,0,0,0,0]
["1 Mar 2017 to 31 Mar 2017","CHIRON HEALTHCARE GROUP LIMITED","CHIRON HEALTHCARE","GROUP",9451612824,"ADR","3,2","Local system","Local System",0,0,null,0,0,null,0,{"$error":"#DIV/0!"},0,0,0,{"$error":"#DIV/0!"},0,0,0,0,0,null,null,0,{"$error":"#DIV/0!"},0,{"$error":"#DIV/0!"},0,0,0,0,0,0]
["1 Mar 2017 to 31 Mar 2017","CHIRON HEALTHCARE GROUP LIMITED","CHIRON HEALTHCARE","GROUP",9451612824,"AL1","3,2","Local system","Local System",1,0,null,0,1,null,0,0,0,0,0,0,0,0,0,0,0,null,null,1,1,0,0,0,0,0,0,0,0]
["1 Mar 2017 to 31 Mar 2017","CHIRON HEALTHCARE GROUP LIMITED","CHIRON HEALTHCARE","GROUP",9451612824,"ENCTR",3,"Local system","Local System",49,0,null,null,49,null,0,0,0,0,0,0,0,0,0,null,null,null,null,49,1,0,0,0,0,0,0,0,0]
["1 Mar 2017 to 31 Mar 2017","CHIRON HEALTHCARE GROUP LIMITED","CHIRON HEALTHCARE","GROUP",9451612824,"IMMU","3,2","Local system","Local System",0,0,null,0,0,null,0,{"$error":"#DIV/0!"},0,0,0,{"$error":"#DIV/0!"},0,0,0,0,0,0,null,0,{"$error":"#DIV/0!"},0,{"$error":"#DIV/0!"},0,0,0,0,0,0]
["1 Mar 2017 to 31 Mar 2017","CHIRON HEALTHCARE GROUP LIMITED","CHIRON HEALTHCARE","GROUP",9451612824,"PROB","3,2","Local system","Local System",56,0,null,11,45,null,0,0,0,0,0,0,0,0,0,null,null,null,null,45,0.8035714285714286,0,0,0,0,0,0,0,0]
["1 Mar 2017 to 31 Mar 2017","CHIRON HEALTHCARE GROUP LIMITED","CHIRON HEALTHCARE","GROUP",9451612824,"RXD","3,2","Local system","Local System",52,0,null,1,51,null,0,0,0,0,0,0,0,0,0,0,0,null,null,51,0.98076923076923073,0,0,0,0,0,0,0,0]
["1 Mar 2017 to 31 Mar 2017","CHIRON HEALTHCARE GROUP LIMITED","CHIRON HEALTHCARE","GROUP",9451612824,"RXO","3,2","Local system","Local System",49,0,null,1,48,null,0,0,0,0,0,0,0,0,0,0,0,null,null,48,0.97959183673469385,0,0,0,0,0,0,0,0]
["1 Mar 2017 to 31 Mar 2017","DR WONG CHUN POR","DR CP WONG CLINIC","SOLO",5528991274,"ADR","3,2","Local system","Local System",0,0,null,0,0,null,0,{"$error":"#DIV/0!"},0,0,0,{"$error":"#DIV/0!"},0,0,0,0,0,null,null,0,{"$error":"#DIV/0!"},0,{"$error":"#DIV/0!"},0,0,0,0,0,0]
["1 Mar 2017 to 31 Mar 2017","DR WONG CHUN POR","DR CP WONG CLINIC","SOLO",5528991274,"AL1","3,2","Local system","Local System",14,0,null,1,13,null,0,0,0,0,1,7.1428571428571425E-2,1,0,0,1,0,null,null,13,0.9285714285714286,0,0,0,0,0,0,0,0]
["1 Mar 2017 to 31 Mar 2017","DR WONG CHUN POR","DR CP WONG CLINIC","SOLO",5528991274,"ENCTR",3,"Local system","Local System",745,0,null,null,745,null,0,0,0,0,0,0,0,0,0,null,null,null,null,745,1,0,0,0,0,0,0,0,0]
["1 Mar 2017 to 31 Mar 2017","DR WONG CHUN POR","DR CP WONG CLINIC","SOLO",5528991274,"IMMU","3,2","Local system","Local System",25,0,null,20,5,null,0,0,0,0,1,0.04,1,0,0,1,0,0,null,5,0.2,0,0,0,0,0,0,0,0]
["1 Mar 2017 to 31 Mar 2017","DR WONG CHUN POR","DR CP WONG CLINIC","SOLO",5528991274,"PROB","3,2","Local system","Local System",2359,0,null,7,2352,null,0,0,0,0,0,0,0,0,0,0,0,null,null,2352,0.9970326409495549,0,0,0,0,0,0,0,0]
["1 Mar 2017 to 31 Mar 2017","DR WONG CHUN POR","DR CP WONG CLINIC","SOLO",5528991274,"PX","3,2","Local system","Local System",3,0,null,1,2,null,0,0,0,0,0,0,0,0,0,0,0,null,null,2,0.66666666666666663,0,0,0,0,0,0,0,0]
["1 Mar 2017 to 31 Mar 2017","DR WONG CHUN POR","DR CP WONG CLINIC","SOLO",5528991274,"RXD","3,2","Local system","Local System",1911,0,null,405,1506,null,0,0,0,0,1,5.2328623757195189E-4,1,0,0,1,0,null,null,1506,0.78806907378335955,0,0,0,0,0,0,0,0]
["1 Mar 2017 to 31 Mar 2017","DR WONG CHUN POR","DR CP WONG CLINIC","SOLO",5528991274,"RXO","3,2","Local system","Local System",2103,0,null,455,1648,null,0,0,0,0,1,4.7551117451260106E-4,1,0,0,1,0,null,null,1648,0.78364241559676651,0,0,0,0,0,0,0,0]
["1 Mar 2017 to 31 Mar 2017","DR. YEE YUK KEI","DR. YK YEE","SOLO",2310917092,"AL1","3,2","Local system","Local System",0,0,null,0,0,null,0,{"$error":"#DIV/0!"},0,0,0,{"$error":"#DIV/0!"},0,0,0,0,0,null,null,0,{"$error":"#DIV/0!"},0,{"$error":"#DIV/0!"},0,0,0,0,0,0]
["1 Mar 2017 to 31 Mar 2017","EVANGEL HOSPITAL","EVANGEL HOSPITAL","PH",2206285885,"ENCTR","3,2","Local system","Local System",1066,0,null,null,1066,null,0,0,0,0,0,0,0,0,0,null,null,null,null,1066,1,0,0,0,0,0,0,0,0]
["1 Mar 2017 to 31 Mar 2017","EVANGEL HOSPITAL","EVANGEL HOSPITAL","PH",2206285885,"AL1","3,2","Local system","Local System",14,0,null,6,8,null,0,0,0,0,6,0.42857142857142855,6,0,0,6,0,null,null,8,0.5714285714285714,0,0,0,0,0,0,0,0]
["1 Mar 2017 to 31 Mar 2017","EVANGEL HOSPITAL","EVANGEL HOSPITAL","PH",2206285885,"ADR","3,2","Local system","Local System",1,0,null,0,1,null,0,0,0,0,0,0,0,0,0,0,0,null,null,1,1,0,0,0,0,0,0,0,0]
["1 Mar 2017 to 31 Mar 2017","EVANGEL HOSPITAL","EVANGEL HOSPITAL","PH",2206285885,"RXO","3,2","Local system","Local System",129,0,null,50,79,null,0,0,0,0,0,0,0,0,0,0,0,null,null,79,0.61240310077519378,0,0,0,0,0,0,0,0]
["1 Mar 2017 to 31 Mar 2017","HONG KONG ADVENTIST HOSPITAL - STUBBS ROAD","HK ADVENTIST - SR","PH",7029571085,"ADR",3,"Local system","Local System",1,0,null,null,1,null,0,0,0,0,0,0,0,0,0,0,0,null,null,1,1,0,0,0,0,0,0,0,0]
["1 Mar 2017 to 31 Mar 2017","HONG KONG ADVENTIST HOSPITAL - STUBBS ROAD","HK ADVENTIST - SR","PH",7029571085,"AL1",3,"Local system","Local System",2,0,null,0,2,null,0,0,0,0,0,0,0,0,0,0,0,null,null,2,1,0,0,0,0,0,0,0,0]
["1 Mar 2017 to 31 Mar 2017","HONG KONG ADVENTIST HOSPITAL - STUBBS ROAD","HK ADVENTIST - SR","PH",7029571085,"RAD",2,"Local system","Local System",0,0,null,0,0,null,0,{"$error":"#DIV/0!"},0,0,0,{"$error":"#DIV/0!"},0,0,0,0,0,null,null,0,{"$error":"#DIV/0!"},0,{"$error":"#DIV/0!"},0,0,0,0,0,0]
["1 Mar 2017 to 31 Mar 2017","HONG KONG ADVENTIST HOSPITAL - STUBBS ROAD","HK ADVENTIST - SR","PH",7029571085,"RXD",2,"Local system + LAAM","Local System",224,0,null,224,0,null,0,0,0,0,0,0,0,0,0,0,0,null,null,0,0,0,0,0,0,0,0,0,0]
["1 Mar 2017 to 31 Mar 2017","HONG KONG ADVENTIST HOSPITAL - STUBBS ROAD","HK ADVENTIST - SR","PH",7029571085,"ENCTR",3,"Local system + LAAM","Local System",0,0,null,null,0,null,0,{"$f":"P649/J649","v":{"$error":"#DIV/0!"}},0,0,0,{"$f":"T649/J649","v":{"$error":"#DIV/0!"}},0,0,0,0,0,null,null,0,{"$f":"AC649/J649","v":{"$error":"#DIV/0!"}},0,{"$f":"AE649/J649","v":{"$error":"#DIV/0!"}},0,0,0,0,0,0]
["1 Mar 2017 to 31 Mar 2017","HONG KONG ADVENTIST HOSPITAL - TSUEN WAN","HK ADVENTIST - TW","PH",8909436562,"ADR",3,"Local system","Local System",5,0,null,1,4,null,0,0,0,0,1,0.2,1,0,0,1,0,null,null,4,0.8,0,0,0,0,0,0,0,0]
["1 Mar 2017 to 31 Mar 2017","HONG KONG ADVENTIST HOSPITAL - TSUEN WAN","HK ADVENTIST - TW","PH",8909436562,"AL1",3,"Local system","Local System",47,0,null,12,35,null,0,0,0,0,12,0.25531914893617019,12,0,0,12,0,null,null,35,0.74468085106382975,0,0,0,0,0,0,0,0]
["1 Mar 2017 to 31 Mar 2017","HONG KONG ADVENTIST HOSPITAL - TSUEN WAN","HK ADVENTIST - TW","PH",8909436562,"ENCTR",3,"Local system","Local System",11,0,null,null,11,null,0,0,0,0,0,0,0,0,0,0,0,null,null,11,1,0,0,0,0,0,0,0,0]
["1 Mar 2017 to 31 Mar 2017","HONG KONG ADVENTIST HOSPITAL - TSUEN WAN","HK ADVENTIST - TW","PH",8909436562,"BIRTH",3,"Local system","Local System",1,0,null,null,1,null,0,0,0,0,0,0,0,0,0,0,0,null,null,1,1,0,0,0,0,0,0,0,0]
["1 Mar 2017 to 31 Mar 2017","HONG KONG ADVENTIST HOSPITAL - TSUEN WAN","HK ADVENTIST - TW","PH",8909436562,"RAD",2,"Local system","Local System",740,0,null,740,0,null,0,0,0,0,0,0,0,0,0,0,0,0,null,0,0,0,0,0,0,0,0,0,0]
["1 Mar 2017 to 31 Mar 2017","HONG KONG ADVENTIST HOSPITAL - TSUEN WAN","HK ADVENTIST - TW","PH",8909436562,"RXD",2,"Local system","Local System",2293,0,null,2293,0,null,0,0,0,0,0,0,0,0,0,0,0,null,null,0,0,0,0,0,0,0,0,0,0]
["1 Mar 2017 to 31 Mar 2017","HONG KONG BAPTIST HOSPITAL","HK BAPTIST HOSPITAL","PH",3650324540,"ENCTR",3,"Local system","Local System",49,0,null,null,49,null,0,0,null,null,0,0,0,0,0,null,null,null,null,49,1,0,0,0,0,0,0,0,0]
["1 Mar 2017 to 31 Mar 2017","HONG KONG BAPTIST HOSPITAL","HK BAPTIST HOSPITAL","PH",3650324540,"LABAP",1,"Local system + LAAM","Local System",265,0,265,null,0,null,0,0,0,0,0,0,0,0,0,0,0,0,null,0,0,0,0,0,0,0,0,0,0]
["1 Mar 2017 to 31 Mar 2017","HONG KONG BAPTIST HOSPITAL","HK BAPTIST HOSPITAL","PH",3650324540,"LABGEN",1,"Local system + LAAM","Local System",3269,21,3248,null,0,null,21,6.4239828693790149E-3,21,0,0,0,0,0,0,0,0,0,null,0,0,0,0,0,0,0,0,0,0]
["1 Mar 2017 to 31 Mar 2017","HONG KONG BAPTIST HOSPITAL","HK BAPTIST HOSPITAL","PH",3650324540,"LABMB",1,"Local system + LAAM","Local System",675,5,670,null,0,null,5,7.4074074074074077E-3,5,0,0,0,0,0,0,0,0,0,null,0,0,0,0,0,0,0,0,0,0]
["1 Mar 2017 to 31 Mar 2017","PRECIOUS BLOOD HOSPITAL (CARITAS)","PRECIOUS BLOOD HOSPITAL","PH",7002059678,"ADR",3,"Local system","Local System",0,0,null,0,0,null,0,{"$error":"#DIV/0!"},0,0,0,{"$error":"#DIV/0!"},0,0,0,0,0,0,null,0,{"$error":"#DIV/0!"},0,{"$error":"#DIV/0!"},0,0,0,0,0,0]
["1 Mar 2017 to 31 Mar 2017","PRECIOUS BLOOD HOSPITAL (CARITAS)","PRECIOUS BLOOD HOSPITAL","PH",7002059678,"AL1",3,"Local system","Local System",24,0,null,12,12,null,0,0,0,0,11,0.45833333333333331,11,0,0,11,0,null,null,12,0.5,0,0,0,0,0,0,0,0]
["1 Mar 2017 to 31 Mar 2017","THE HONG KONG POLYTECHNIC UNIVERSITY","POLYU","HCAI",4578805814,"ENCTR",3,"Local system","Local System",407,0,null,null,407,null,0,0,0,0,0,0,0,0,0,null,null,null,null,407,1,0,0,0,0,0,0,0,0]
["1 Mar 2017 to 31 Mar 2017","ST. PAUL'S HOSPITAL","SPH","PH",5156724947,"ADR",3,"Local system","Local System",11,0,null,2,9,null,0,0,0,0,4,0.36363636363636365,4,0,0,4,0,null,null,9,0.81818181818181823,0,0,0,0,0,0,0,0]
["1 Mar 2017 to 31 Mar 2017","ST. PAUL'S HOSPITAL","SPH","PH",5156724947,"AL1",3,"Local system","Local System",74,0,null,25,49,null,0,0,0,0,25,0.33783783783783783,25,0,0,25,0,null,null,49,0.66216216216216217,0,0,0,0,0,0,0,0]
["1 Mar 2017 to 31 Mar 2017","ST. PAUL'S HOSPITAL","SPH","PH",5156724947,"ENCTR",3,"Local system + LAAM","Local System",4,0,null,null,4,null,0,0,0,0,0,0,0,0,0,null,null,null,null,4,1,0,0,0,0,0,0,0,0]
["1 Mar 2017 to 31 Mar 2017","ST.TERESA's HOSPITAL","STH","PH",7969980015,"ADR",3,"Local system","Local System",7,0,null,2,5,null,0,0,0,0,2,0.2857142857142857,2,0,0,2,0,null,null,5,0.7142857142857143,0,0,0,0,0,0,0,0]
["1 Mar 2017 to 31 Mar 2017","ST.TERESA's HOSPITAL","STH","PH",7969980015,"AL1",3,"Local system","Local System",105,0,null,35,70,null,0,0,0,0,36,0.34285714285714286,36,0,0,36,0,null,null,70,0.66666666666666663,0,0,0,0,0,0,0,0]
["1 Mar 2017 to 31 Mar 2017","ST.TERESA's HOSPITAL","STH","PH",7969980015,"BIRTH",3,"Local system + LAAM","Local System",1,0,null,null,1,null,0,0,0,0,0,0,0,0,0,0,0,0,null,1,1,0,0,0,0,0,0,0,0]
["1 Mar 2017 to 31 Mar 2017","TUNG WAH GROUP OF HOSPITALS","TUNG WAH GROUP. OF HOSPITALS","NGO",4471430786,"RAD",3,"Local system + LAAM","Local System",2,0,null,0,2,null,0,0,0,0,0,0,0,0,0,0,0,0,null,2,1,0,0,0,0,0,0,0,0]
["1 Mar 2017 to 31 Mar 2017","UNION HOSPITAL","UNION HOSPITAL","PH",5712620300,"ADR",3,"Local system","Local System",21,0,null,7,14,null,0,0,0,0,7,0.33333333333333331,7,0,0,7,0,null,null,14,0.66666666666666663,0,0,0,0,0,0,0,0]
["1 Mar 2017 to 31 Mar 2017","UNION HOSPITAL","UNION HOSPITAL","PH",5712620300,"AL1",3,"Local system","Local System",139,0,null,56,83,null,0,0,0,0,56,0.40287769784172661,56,0,0,56,0,null,null,83,0.59712230215827333,0,0,0,0,0,0,0,0]
["1 Mar 2017 to 31 Mar 2017","UNION HOSPITAL","UNION HOSPITAL","PH",5712620300,"ENCTR",3,"Local system","Local System",109,0,null,null,109,null,0,0,0,0,0,0,0,0,0,null,null,null,null,109,1,0,0,0,0,0,0,0,0]
["1 Mar 2017 to 31 Mar 2017","DIAGNOSTIX PATHOLOGY LABORATORIES LTD","DIAGNOSTIX","SOLO",3121494321,"LABAP",1,"Adaptation","Adaptaion",788,1,787,null,0,null,1,1.2690355329949238E-3,1,0,0,0,0,0,0,null,null,null,null,0,0,0,0,0,0,0,0,0,0]
["1 Mar 2017 to 31 Mar 2017","DIAGNOSTIX MEDICAL CENTRE LIMITED","DIAGNOSTIX MEDICAL","GROUP",4905639327,"LABGEN",3,"Adaptation","Adaptaion",20667,7,null,null,20660,null,7,3.3870421444815406E-4,7,0,0,0,0,0,0,0,0,0,null,20660,0.99966129578555185,0,0,0,0,0,0,0,0]
["1 Mar 2017 to 31 Mar 2017 Total",null,null,null,null,null,null,null,null,{"$f":"SUM(J615:J674)","v":91449},{"$f":"SUM(K615:K674)","v":34},{"$f":"SUM(L615:L674)","v":5591},{"$f":"SUM(M615:M674)","v":6522},{"$f":"SUM(N615:N674)","v":79302},null,{"$f":"SUM(P615:P674)","v":34},3.7179192774114536E-4,{"$f":"SUM(R615:R674)","v":34},{"$f":"SUM(S615:S674)","v":0},{"$f":"SUM(T615:T674)","v":2316},2.5325591313190957E-2,{"$f":"SUM(V615:V674)","v":2316},0,0,2316,0,0,null,{"$f":"SUM(AC615:AC674)","v":79302},0.86717186628612675,{"$f":"SUM(AE615:AE674)","v":0},0,{"$f":"SUM(AG615:AG674)","v":0},0,0,0,0,0]
["1 Apr 2017 to 30 Apr 2017","DEPARTMENT OF HEALTH CIMS1","DH","DH",8658917541,"ADR",3,"Local system","Local System",{"$f":"SUM(K676:N676)","v":73},{"$f":"P676","v":0},null,10,63,null,{"$f":"SUM(R676:S676)","v":0},0,0,0,{"$f":"SUM(Y676:AA676)","v":10},0.13698630136986301,10,0,0,10,0,null,null,63,0.86301369863013699,0,0,0,0,0,0,0,0]
["1 Apr 2017 to 30 Apr 2017","DEPARTMENT OF HEALTH CIMS1","DH","DH",8658917541,"AL1",3,"Local system","Local System",207,0,null,37,170,null,0,0,0,0,31,0.14975845410628019,31,0,0,31,0,null,null,170,0.82125603864734298,0,0,0,0,0,0,0,0]
["1 Apr 2017 to 30 Apr 2017","DEPARTMENT OF HEALTH CIMS1","DH","DH",8658917541,"ENCTR",3,"Local system + LAAM","Local System",17001,0,null,null,17001,null,0,0,0,0,0,0,0,0,0,null,null,null,null,17001,1,0,0,0,0,0,0,0,0]
["1 Apr 2017 to 30 Apr 2017","DEPARTMENT OF HEALTH CIMS1","DH","DH",8658917541,"IMMU",3,"Local system + LAAM","Local System",4187,0,null,45,4142,null,0,0,0,0,44,1.0508717458801052E-2,44,0,0,44,0,0,null,4142,0.98925244805349888,0,0,0,0,0,0,0,0]
["1 Apr 2017 to 30 Apr 2017","DEPARTMENT OF HEALTH CIMS1","DH","DH",8658917541,"PROB",3,"Local system + LAAM","Local System",7436,0,null,171,7265,null,0,0,0,0,171,2.2996234534696073E-2,171,0,0,171,0,null,null,7265,0.97700376546530388,0,0,0,0,0,0,0,0]
["1 Apr 2017 to 30 Apr 2017","DEPARTMENT OF HEALTH CIMS1","DH","DH",8658917541,"PX",3,"Local system + LAAM","Local System",5396,0,null,154,5242,null,0,0,0,0,154,2.853965900667161E-2,154,0,0,154,0,null,null,5242,0.97146034099332834,0,0,0,0,0,0,0,0]
["1 Apr 2017 to 30 Apr 2017","DEPARTMENT OF HEALTH CIMS1","DH","DH",8658917541,"RXO",3,"MOE","Local System",5363,0,null,1414,3949,null,0,0,0,0,1414,0.26365840014917025,1414,0,0,1414,0,null,null,3949,0.73634159985082981,0,0,0,0,0,0,0,0]
["1 Apr 2017 to 30 Apr 2017","DEPARTMENT OF HEALTH CIMS1","DH","DH",8658917541,"LABMB",1,"Local system + LAAM","Local System",432,0,432,null,0,null,0,0,0,0,0,0,0,0,0,0,0,0,null,0,0,0,0,0,0,0,0,0,0]
["1 Apr 2017 to 30 Apr 2017","CANOSSA HOSPITAL (CARITAS)","CANNOSSA HOSPITAL","PH",8252506240,"ADR",3,"Local system","Local System",0,0,null,0,0,null,0,{"$error":"#DIV/0!"},0,0,0,{"$error":"#DIV/0!"},0,0,0,0,0,null,null,0,{"$error":"#DIV/0!"},0,{"$error":"#DIV/0!"},0,0,0,0,0,0]
["1 Apr 2017 to 30 Apr 2017","CANOSSA HOSPITAL (CARITAS)","CANNOSSA HOSPITAL","PH",8252506240,"AL1",3,"Local system","Local System",0,0,null,0,0,null,0,{"$error":"#DIV/0!"},0,0,0,{"$error":"#DIV/0!"},0,0,0,0,0,null,null,0,{"$error":"#DIV/0!"},0,{"$error":"#DIV/0!"},0,0,0,0,0,0]
["1 Apr 2017 to 30 Apr 2017","CHIRON HEALTHCARE GROUP LIMITED","CHIRON HEALTHCARE","GROUP",9451612824,"ADR","3,2","Local system","Local System",2,0,null,1,1,null,0,0,0,0,1,0.5,1,0,0,1,0,null,null,1,0.5,0,0,0,0,0,0,0,0]
["1 Apr 2017 to 30 Apr 2017","CHIRON HEALTHCARE GROUP LIMITED","CHIRON HEALTHCARE","GROUP",9451612824,"AL1","3,2","Local system","Local System",5,0,null,1,4,null,0,0,0,0,1,0.2,1,0,0,1,0,null,null,4,0.8,0,0,0,0,0,0,0,0]
["1 Apr 2017 to 30 Apr 2017","CHIRON HEALTHCARE GROUP LIMITED","CHIRON HEALTHCARE","GROUP",9451612824,"ENCTR",3,"Local system","Local System",72,0,null,null,72,null,0,0,0,0,0,0,0,0,0,null,null,null,null,72,1,0,0,0,0,0,0,0,0]
["1 Apr 2017 to 30 Apr 2017","CHIRON HEALTHCARE GROUP LIMITED","CHIRON HEALTHCARE","GROUP",9451612824,"IMMU","3,2","Local system","Local System",0,0,null,0,0,null,0,{"$error":"#DIV/0!"},0,0,0,{"$error":"#DIV/0!"},0,0,0,0,0,0,null,0,{"$error":"#DIV/0!"},0,{"$error":"#DIV/0!"},0,0,0,0,0,0]
["1 Apr 2017 to 30 Apr 2017","CHIRON HEALTHCARE GROUP LIMITED","CHIRON HEALTHCARE","GROUP",9451612824,"PROB","3,2","Local system","Local System",77,0,null,9,68,null,0,0,0,0,0,0,0,0,0,null,null,null,null,68,0.88311688311688308,0,0,0,0,0,0,0,0]
["1 Apr 2017 to 30 Apr 2017","CHIRON HEALTHCARE GROUP LIMITED","CHIRON HEALTHCARE","GROUP",9451612824,"RXD","3,2","Local system","Local System",62,0,null,6,56,null,0,0,0,0,0,0,0,0,0,0,0,null,null,56,0.90322580645161288,0,0,0,0,0,0,0,0]
["1 Apr 2017 to 30 Apr 2017","CHIRON HEALTHCARE GROUP LIMITED","CHIRON HEALTHCARE","GROUP",9451612824,"RXO","3,2","Local system","Local System",55,0,null,6,49,null,0,0,0,0,0,0,0,0,0,0,0,null,null,49,0.89090909090909087,0,0,0,0,0,0,0,0]
["1 Apr 2017 to 30 Apr 2017","DR WONG CHUN POR","DR CP WONG CLINIC","SOLO",5528991274,"ADR","3,2","Local system","Local System",0,0,null,0,0,null,0,{"$error":"#DIV/0!"},0,0,0,{"$error":"#DIV/0!"},0,0,0,0,0,null,null,0,{"$error":"#DIV/0!"},0,{"$error":"#DIV/0!"},0,0,0,0,0,0]
["1 Apr 2017 to 30 Apr 2017","DR WONG CHUN POR","DR CP WONG CLINIC","SOLO",5528991274,"AL1","3,2","Local system","Local System",1,0,null,0,1,null,0,0,0,0,0,0,0,0,0,0,0,null,null,1,1,0,0,0,0,0,0,0,0]
["1 Apr 2017 to 30 Apr 2017","DR WONG CHUN POR","DR CP WONG CLINIC","SOLO",5528991274,"ENCTR",3,"Local system","Local System",163,0,null,null,163,null,0,0,0,0,0,0,0,0,0,null,null,null,null,163,1,0,0,0,0,0,0,0,0]
["1 Apr 2017 to 30 Apr 2017","DR WONG CHUN POR","DR CP WONG CLINIC","SOLO",5528991274,"IMMU","3,2","Local system","Local System",2,0,null,1,1,null,0,0,0,0,0,0,0,0,0,0,0,0,null,1,0.5,0,0,0,0,0,0,0,0]
["1 Apr 2017 to 30 Apr 2017","DR WONG CHUN POR","DR CP WONG CLINIC","SOLO",5528991274,"PROB","3,2","Local system","Local System",458,0,null,2,456,null,0,0,0,0,0,0,0,0,0,0,0,null,null,456,0.99563318777292575,0,0,0,0,0,0,0,0]
["1 Apr 2017 to 30 Apr 2017","DR WONG CHUN POR","DR CP WONG CLINIC","SOLO",5528991274,"PX","3,2","Local system","Local System",0,0,null,0,0,null,0,{"$error":"#DIV/0!"},0,0,0,{"$error":"#DIV/0!"},0,0,0,0,0,null,null,0,{"$error":"#DIV/0!"},0,{"$error":"#DIV/0!"},0,0,0,0,0,0]
["1 Apr 2017 to 30 Apr 2017","DR WONG CHUN POR","DR CP WONG CLINIC","SOLO",5528991274,"RXD","3,2","Local system","Local System",444,0,null,24,420,null,0,0,0,0,0,0,0,0,0,0,0,null,null,420,0.94594594594594594,0,0,0,0,0,0,0,0]
["1 Apr 2017 to 30 Apr 2017","DR WONG CHUN POR","DR CP WONG CLINIC","SOLO",5528991274,"RXO","3,2","Local system","Local System",476,0,null,30,446,null,0,0,0,0,0,0,0,0,0,0,0,null,null,446,0.93697478991596639,0,0,0,0,0,0,0,0]
["1 Apr 2017 to 30 Apr 2017","DR. YEE YUK KEI","DR. YK YEE","SOLO",2310917092,"AL1","3,2","Local system","Local System",2,0,null,0,2,null,0,0,0,0,0,0,0,0,0,0,0,null,null,2,1,0,0,0,0,0,0,0,0]
["1 Apr 2017 to 30 Apr 2017","EVANGEL HOSPITAL","EVANGEL HOSPITAL","PH",2206285885,"ENCTR","3,2","Local system","Local System",1251,0,null,null,1251,null,0,0,0,0,0,0,0,0,0,null,null,null,null,1251,1,0,0,0,0,0,0,0,0]
["1 Apr 2017 to 30 Apr 2017","EVANGEL HOSPITAL","EVANGEL HOSPITAL","PH",2206285885,"AL1","3,2","Local system","Local System",23,0,null,15,8,null,0,0,0,0,15,0.65217391304347827,15,0,0,15,0,null,null,8,0.34782608695652173,0,0,0,0,0,0,0,0]
["1 Apr 2017 to 30 Apr 2017","EVANGEL HOSPITAL","EVANGEL HOSPITAL","PH",2206285885,"ADR","3,2","Local system","Local System",5,0,null,2,3,null,0,0,0,0,2,0.4,2,0,0,2,0,null,null,3,0.6,0,0,0,0,0,0,0,0]
["1 Apr 2017 to 30 Apr 2017","EVANGEL HOSPITAL","EVANGEL HOSPITAL","PH",2206285885,"RXO","3,2","Local system","Local System",205,0,null,92,113,null,0,0,0,0,0,0,0,0,0,0,0,null,null,113,0.551219512195122,0,0,0,0,0,0,0,0]
["1 Apr 2017 to 30 Apr 2017","HONG KONG ADVENTIST HOSPITAL - STUBBS ROAD","HK ADVENTIST - SR","PH",7029571085,"ADR",3,"Local system","Local System",0,0,null,null,0,null,0,{"$error":"#DIV/0!"},0,0,0,{"$error":"#DIV/0!"},0,0,0,0,0,null,null,0,{"$error":"#DIV/0!"},0,{"$error":"#DIV/0!"},0,0,0,0,0,0]
["1 Apr 2017 to 30 Apr 2017","HONG KONG ADVENTIST HOSPITAL - STUBBS ROAD","HK ADVENTIST - SR","PH",7029571085,"AL1",3,"Local system","Local System",3,0,null,1,2,null,0,0,0,0,1,0.33333333333333331,1,0,0,1,0,null,null,2,0.66666666666666663,0,0,0,0,0,0,0,0]
["1 Apr 2017 to 30 Apr 2017","HONG KONG ADVENTIST HOSPITAL - STUBBS ROAD","HK ADVENTIST - SR","PH",7029571085,"RAD",2,"Local system","Local System",0,0,null,0,0,null,0,{"$error":"#DIV/0!"},0,0,0,{"$error":"#DIV/0!"},0,0,0,0,0,null,null,0,{"$error":"#DIV/0!"},0,{"$error":"#DIV/0!"},0,0,0,0,0,0]
["1 Apr 2017 to 30 Apr 2017","HONG KONG ADVENTIST HOSPITAL - STUBBS ROAD","HK ADVENTIST - SR","PH",7029571085,"RXD",2,"Local system + LAAM","Local System",148,0,null,148,0,null,0,0,0,0,0,0,0,0,0,0,0,null,null,0,0,0,0,0,0,0,0,0,0]
["1 Apr 2017 to 30 Apr 2017","HONG KONG ADVENTIST HOSPITAL - STUBBS ROAD","HK ADVENTIST - SR","PH",7029571085,"ENCTR",3,"Local system + LAAM","Local System",0,0,null,null,0,null,0,{"$error":"#DIV/0!"},0,0,0,{"$error":"#DIV/0!"},0,0,0,0,0,null,null,0,{"$error":"#DIV/0!"},0,{"$error":"#DIV/0!"},0,0,0,0,0,0]
["1 Apr 2017 to 30 Apr 2017","HONG KONG ADVENTIST HOSPITAL - TSUEN WAN","HK ADVENTIST - TW","PH",8909436562,"ADR",3,"Local system","Local System",5,0,null,1,4,null,0,0,0,0,1,0.2,1,0,0,1,0,null,null,4,0.8,0,0,0,0,0,0,0,0]
["1 Apr 2017 to 30 Apr 2017","HONG KONG ADVENTIST HOSPITAL - TSUEN WAN","HK ADVENTIST - TW","PH",8909436562,"AL1",3,"Local system","Local System",40,0,null,7,33,null,0,0,0,0,7,0.17499999999999999,7,0,0,7,0,null,null,33,0.82499999999999996,0,0,0,0,0,0,0,0]
["1 Apr 2017 to 30 Apr 2017","HONG KONG ADVENTIST HOSPITAL - TSUEN WAN","HK ADVENTIST - TW","PH",8909436562,"ENCTR",3,"Local system + Adaptation","Local System",9,0,null,null,9,null,0,{"$f":"P713/J713","v":0},0,0,0,{"$f":"T713/J713","v":0},0,0,0,0,0,null,null,9,{"$f":"AC713/J713","v":1},0,{"$f":"AE713/J713","v":0},0,0,0,0,0,0]
["1 Apr 2017 to 30 Apr 2017","HONG KONG ADVENTIST HOSPITAL - TSUEN WAN","HK ADVENTIST - TW","PH",8909436562,"BIRTH",3,"Local system","Local System",2,0,null,null,2,null,0,0,0,0,0,0,0,0,0,0,0,null,null,2,1,0,0,0,0,0,0,0,0]
["1 Apr 2017 to 30 Apr 2017","HONG KONG ADVENTIST HOSPITAL - TSUEN WAN","HK ADVENTIST - TW","PH",8909436562,"RAD",2,"Local system","Local System",660,0,null,660,0,null,0,0,0,0,0,0,0,0,0,0,0,0,null,0,0,0,0,0,0,0,0,0,0]
["1 Apr 2017 to 30 Apr 2017","HONG KONG ADVENTIST HOSPITAL - TSUEN WAN","HK ADVENTIST - TW","PH",8909436562,"RXD",2,"Local system","Local System",2298,0,null,2298,0,null,0,0,0,0,0,0,0,0,0,0,0,null,null,0,0,0,0,0,0,0,0,0,0]
["1 Apr 2017 to 30 Apr 2017","HONG KONG BAPTIST HOSPITAL","HK BAPTIST HOSPITAL","PH",3650324540,"ENCTR",3,"Local system","Local System",45,0,null,null,45,null,0,0,null,null,0,0,0,0,0,null,null,null,null,45,1,0,0,0,0,0,0,0,0]
["1 Apr 2017 to 30 Apr 2017","HONG KONG BAPTIST HOSPITAL","HK BAPTIST HOSPITAL","PH",3650324540,"LABAP",1,"Local system + LAAM","Local System",251,0,251,null,0,null,0,0,0,0,0,0,0,0,0,0,0,0,null,0,0,0,0,0,0,0,0,0,0]
["1 Apr 2017 to 30 Apr 2017","HONG KONG BAPTIST HOSPITAL","HK BAPTIST HOSPITAL","PH",3650324540,"LABGEN",1,"Local system + LAAM","Local System",2834,8,2826,null,0,null,8,2.8228652081863093E-3,8,0,0,0,0,0,0,0,0,0,null,0,0,0,0,0,0,0,0,0,0]
["1 Apr 2017 to 30 Apr 2017","HONG KONG BAPTIST HOSPITAL","HK BAPTIST HOSPITAL","PH",3650324540,"LABMB",1,"Local system + LAAM","Local System",517,1,516,null,0,null,1,1.9342359767891683E-3,1,0,0,0,0,0,0,0,0,0,null,0,0,0,0,0,0,0,0,0,0]
["1 Apr 2017 to 30 Apr 2017","PRECIOUS BLOOD HOSPITAL (CARITAS)","PRECIOUS BLOOD HOSPITAL","PH",7002059678,"ADR",3,"Local system","Local System",1,0,null,0,1,null,0,0,0,0,0,0,0,0,0,0,0,0,null,1,1,0,0,0,0,0,0,0,0]
["1 Apr 2017 to 30 Apr 2017","PRECIOUS BLOOD HOSPITAL (CARITAS)","PRECIOUS BLOOD HOSPITAL","PH",7002059678,"AL1",3,"Local system","Local System",18,0,null,9,9,null,0,0,0,0,8,0.44444444444444442,8,0,0,8,0,null,null,9,0.5,0,0,0,0,0,0,0,0]
["1 Apr 2017 to 30 Apr 2017","THE HONG KONG POLYTECHNIC UNIVERSITY","POLYU","HCAI",4578805814,"ENCTR",3,"Local system","Local System",475,0,null,null,475,null,0,0,0,0,0,0,0,0,0,null,null,null,null,475,1,0,0,0,0,0,0,0,0]
["1 Apr 2017 to 30 Apr 2017","THE HONG KONG POLYTECHNIC UNIVERSITY","POLYU","HCAI",4578805814,"AL1",3,"Local system","Local System",50,0,null,5,45,null,0,0,0,0,5,0.1,5,0,0,5,0,null,null,45,0.9,0,0,0,0,0,0,0,0]
["1 Apr 2017 to 30 Apr 2017","ST. PAUL'S HOSPITAL","SPH","PH",5156724947,"ADR",3,"Local system","Local System",7,0,null,2,5,null,0,0,0,0,2,0.2857142857142857,2,0,0,2,0,null,null,5,0.7142857142857143,0,0,0,0,0,0,0,0]
["1 Apr 2017 to 30 Apr 2017","ST. PAUL'S HOSPITAL","SPH","PH",5156724947,"AL1",3,"Local system","Local System",42,0,null,18,24,null,0,0,0,0,20,0.47619047619047616,20,0,0,20,0,null,null,24,0.5714285714285714,0,0,0,0,0,0,0,0]
["1 Apr 2017 to 30 Apr 2017","ST. PAUL'S HOSPITAL","SPH","PH",5156724947,"ENCTR",3,"Local system + LAAM","Local System",8,0,null,null,8,null,0,0,0,0,0,0,0,0,0,null,null,null,null,8,1,0,0,0,0,0,0,0,0]
["1 Apr 2017 to 30 Apr 2017","ST.TERESA's HOSPITAL","STH","PH",7969980015,"ADR",3,"Local system","Local System",11,0,null,1,10,null,0,0,0,0,1,9.0909090909090912E-2,1,0,0,1,0,null,null,10,0.90909090909090906,0,0,0,0,0,0,0,0]
["1 Apr 2017 to 30 Apr 2017","ST.TERESA's HOSPITAL","STH","PH",7969980015,"AL1",3,"Local system","Local System",90,0,null,36,54,null,0,0,0,0,37,0.41111111111111109,37,0,0,37,0,null,null,54,0.6,0,0,0,0,0,0,0,0]
["1 Apr 2017 to 30 Apr 2017","ST.TERESA's HOSPITAL","STH","PH",7969980015,"BIRTH",3,"Local system + LAAM","Local System",6,0,null,null,6,null,0,0,0,0,0,0,0,0,0,0,0,0,null,6,1,0,0,0,0,0,0,0,0]
["1 Apr 2017 to 30 Apr 2017","TUNG WAH GROUP OF HOSPITALS","TUNG WAH GROUP. OF HOSPITALS","NGO",4471430786,"RAD",3,"Local system + LAAM","Local System",1,0,null,0,1,null,0,0,0,0,0,0,0,0,0,0,0,0,null,1,1,0,0,0,0,0,0,0,0]
["1 Apr 2017 to 30 Apr 2017","UNION HOSPITAL","UNION HOSPITAL","PH",5712620300,"ADR",3,"Local system","Local System",5,0,null,1,4,null,0,0,0,0,1,0.2,1,0,0,1,0,null,null,4,0.8,0,0,0,0,0,0,0,0]
["1 Apr 2017 to 30 Apr 2017","UNION HOSPITAL","UNION HOSPITAL","PH",5712620300,"AL1",3,"Local system","Local System",120,0,null,54,66,null,0,0,0,0,52,0.43333333333333335,52,0,0,52,0,null,null,66,0.55000000000000004,0,0,0,0,0,0,0,0]
["1 Apr 2017 to 30 Apr 2017","UNION HOSPITAL","UNION HOSPITAL","PH",5712620300,"ENCTR",3,"Local system","Local System",83,0,null,null,83,null,0,0,0,0,0,0,0,0,0,null,null,null,null,83,1,0,0,0,0,0,0,0,0]
["1 Apr 2017 to 30 Apr 2017","DIAGNOSTIX PATHOLOGY LABORATORIES LTD","DIAGNOSTIX","SOLO",3121494321,"LABAP",1,"Adaptation","Adaptaion",680,0,680,null,0,null,0,0,0,0,0,0,0,0,0,null,null,null,null,0,0,0,0,0,0,0,0,0,0]
["1 Apr 2017 to 30 Apr 2017","DIAGNOSTIX MEDICAL CENTRE LIMITED","DIAGNOSTIX MEDICAL","GROUP",4905639327,"LABGEN",3,"Adaptation","Adaptaion",8979,0,null,null,8979,null,0,0,0,0,0,0,0,0,0,0,0,0,null,8979,1,0,0,0,0,0,0,0,0]
["1 Apr 2017 to 30 Apr 2017 Total",null,null,null,null,null,null,null,null,{"$f":"SUM(J676:J736)","v":60786},{"$f":"SUM(K676:K736)","v":9},{"$f":"SUM(L676:L736)","v":4705},{"$f":"SUM(M676:M736)","v":5261},{"$f":"SUM(N676:N736)","v":50811},null,{"$f":"SUM(P676:P736)","v":9},1.4806040864672785E-4,{"$f":"SUM(R676:R736)","v":9},{"$f":"SUM(S676:S736)","v":0},{"$f":"SUM(T676:T736)","v":1978},3.2540387589247523E-2,{"$f":"SUM(V676:V736)","v":1978},0,0,1978,0,0,null,{"$f":"SUM(AC676:AC736)","v":50811},0.83589971374987659,{"$f":"SUM(AE676:AE736)","v":0},0,{"$f":"SUM(AG676:AG736)","v":0},0,0,0,0,0]
["1 May 2017 to 31 May 2017","DEPARTMENT OF HEALTH CIMS1","DH","DH",8658917541,"ADR",3,"Local system","Local System",{"$f":"SUM(K738:N738)","v":71},{"$f":"P738","v":0},null,10,61,null,{"$f":"SUM(R738:S738)","v":0},0,0,0,{"$f":"SUM(Y738:AA738)","v":10},0.14084507042253522,10,0,0,10,0,null,null,61,0.85915492957746475,0,0,0,0,0,0,0,0]
["1 May 2017 to 31 May 2017","DEPARTMENT OF HEALTH CIMS1","DH","DH",8658917541,"AL1",3,"Local system","Local System",214,0,null,30,184,null,0,0,0,0,30,0.14018691588785046,30,0,0,30,0,null,null,184,0.85981308411214952,0,0,0,0,0,0,0,0]
["1 May 2017 to 31 May 2017","DEPARTMENT OF HEALTH CIMS1","DH","DH",8658917541,"ENCTR",3,"Local system + LAAM","Local System",18480,0,null,88,18392,null,0,0,0,0,0,0,null,null,null,null,null,null,null,18392,0.99523809523809526,0,0,0,0,0,0,0,0]
["1 May 2017 to 31 May 2017","DEPARTMENT OF HEALTH CIMS1","DH","DH",8658917541,"IMMU",3,"Local system + LAAM","Local System",4302,0,null,100,4202,null,0,0,0,0,100,2.3245002324500233E-2,100,0,0,100,0,0,null,4202,0.97675499767549978,0,0,0,0,0,0,0,0]
["1 May 2017 to 31 May 2017","DEPARTMENT OF HEALTH CIMS1","DH","DH",8658917541,"PROB",3,"Local system + LAAM","Local System",7788,0,null,180,7608,null,0,0,0,0,180,2.3112480739599383E-2,180,0,0,180,null,null,null,7608,0.97688751926040063,0,0,0,0,0,0,0,0]
["1 May 2017 to 31 May 2017","DEPARTMENT OF HEALTH CIMS1","DH","DH",8658917541,"PX",3,"Local system + LAAM","Local System",6329,0,null,193,6136,null,0,0,0,0,193,3.0494548901880233E-2,193,0,0,193,null,null,null,6136,0.96950545109811981,0,0,0,0,0,0,0,0]
["1 May 2017 to 31 May 2017","DEPARTMENT OF HEALTH CIMS1","DH","DH",8658917541,"RXO",3,"MOE","Local System",12015,0,null,1510,10505,null,0,0,0,0,1510,0.12567623803578859,1510,0,0,1510,null,null,null,10505,0.87432376196421135,0,0,0,0,0,0,0,0]
["1 May 2017 to 31 May 2017","DEPARTMENT OF HEALTH CIMS1","DH","DH",8658917541,"LABMB",1,"Local system + LAAM","Local System",402,0,402,null,0,null,0,0,0,0,0,0,0,0,0,0,0,0,null,0,0,0,0,0,0,0,0,0,0]
["1 May 2017 to 31 May 2017","CANOSSA HOSPITAL (CARITAS)","CANNOSSA HOSPITAL","PH",8252506240,"ADR",3,"Local system","Local System",0,0,null,null,0,null,0,{"$error":"#DIV/0!"},0,0,0,{"$error":"#DIV/0!"},0,0,0,0,0,null,null,0,{"$error":"#DIV/0!"},0,{"$error":"#DIV/0!"},0,0,0,0,0,0]
["1 May 2017 to 31 May 2017","CANOSSA HOSPITAL (CARITAS)","CANNOSSA HOSPITAL","PH",8252506240,"AL1",3,"Local system","Local System",11,0,null,1,10,null,0,0,0,0,1,9.0909090909090912E-2,1,0,0,1,0,null,null,10,0.90909090909090906,0,0,0,0,0,0,0,0]
["1 May 2017 to 31 May 2017","CHIRON HEALTHCARE GROUP LIMITED","CHIRON HEALTHCARE","GROUP",9451612824,"ADR","3,2","Local system","Local System",8,0,null,1,7,null,0,0,0,0,0,0,0,0,0,0,0,null,null,7,0.875,0,0,0,0,0,0,0,0]
["1 May 2017 to 31 May 2017","CHIRON HEALTHCARE GROUP LIMITED","CHIRON HEALTHCARE","GROUP",9451612824,"AL1","3,2","Local system","Local System",4,0,null,null,4,null,0,0,0,0,0,0,0,0,0,0,0,null,null,4,1,0,0,0,0,0,0,0,0]
["1 May 2017 to 31 May 2017","CHIRON HEALTHCARE GROUP LIMITED","CHIRON HEALTHCARE","GROUP",9451612824,"ENCTR",3,"Local system","Local System",88,0,null,null,88,null,0,0,0,0,0,0,null,null,null,null,null,null,null,88,1,0,0,0,0,0,0,0,0]
["1 May 2017 to 31 May 2017","CHIRON HEALTHCARE GROUP LIMITED","CHIRON HEALTHCARE","GROUP",9451612824,"IMMU","3,2","Local system","Local System",0,0,null,null,0,null,0,{"$error":"#DIV/0!"},0,0,0,{"$error":"#DIV/0!"},0,0,0,0,0,0,null,0,{"$error":"#DIV/0!"},0,{"$error":"#DIV/0!"},0,0,0,0,0,0]
["1 May 2017 to 31 May 2017","CHIRON HEALTHCARE GROUP LIMITED","CHIRON HEALTHCARE","GROUP",9451612824,"PROB","3,2","Local system","Local System",89,0,null,4,85,null,0,0,0,0,0,0,0,0,0,0,null,null,null,85,0.9550561797752809,0,0,0,0,0,0,0,0]
["1 May 2017 to 31 May 2017","CHIRON HEALTHCARE GROUP LIMITED","CHIRON HEALTHCARE","GROUP",9451612824,"RXD","3,2","Local system","Local System",66,0,null,9,57,null,0,0,0,0,0,0,0,0,0,0,null,null,null,57,0.86363636363636365,0,0,0,0,0,0,0,0]
["1 May 2017 to 31 May 2017","CHIRON HEALTHCARE GROUP LIMITED","CHIRON HEALTHCARE","GROUP",9451612824,"RXO","3,2","Local system","Local System",63,0,null,8,55,null,0,0,0,0,0,0,0,0,0,0,null,null,null,55,0.87301587301587302,0,0,0,0,0,0,0,0]
["1 May 2017 to 31 May 2017","DR WONG CHUN POR","DR CP WONG CLINIC","SOLO",5528991274,"ADR","3,2","Local system","Local System",0,0,null,0,0,null,0,{"$error":"#DIV/0!"},0,0,0,{"$error":"#DIV/0!"},0,0,0,0,0,null,null,0,{"$error":"#DIV/0!"},0,{"$error":"#DIV/0!"},0,0,0,0,0,0]
["1 May 2017 to 31 May 2017","DR WONG CHUN POR","DR CP WONG CLINIC","SOLO",5528991274,"AL1","3,2","Local system","Local System",2,0,null,0,2,null,0,0,0,0,0,0,0,0,0,0,0,null,null,2,1,0,0,0,0,0,0,0,0]
["1 May 2017 to 31 May 2017","DR WONG CHUN POR","DR CP WONG CLINIC","SOLO",5528991274,"ENCTR",3,"Local system","Local System",103,0,null,null,103,null,0,0,0,0,0,0,null,null,null,null,null,null,null,103,1,0,0,0,0,0,0,0,0]
["1 May 2017 to 31 May 2017","DR WONG CHUN POR","DR CP WONG CLINIC","SOLO",5528991274,"IMMU","3,2","Local system","Local System",0,0,null,0,0,null,0,{"$error":"#DIV/0!"},0,0,0,{"$error":"#DIV/0!"},0,0,0,0,0,0,null,0,{"$error":"#DIV/0!"},0,{"$error":"#DIV/0!"},0,0,0,0,0,0]
["1 May 2017 to 31 May 2017","DR WONG CHUN POR","DR CP WONG CLINIC","SOLO",5528991274,"PROB","3,2","Local system","Local System",278,0,null,5,273,null,0,0,0,0,0,0,0,0,0,0,null,null,null,273,0.98201438848920863,0,0,0,0,0,0,0,0]
["1 May 2017 to 31 May 2017","DR WONG CHUN POR","DR CP WONG CLINIC","SOLO",5528991274,"PX","3,2","Local system","Local System",0,0,null,0,0,null,0,{"$error":"#DIV/0!"},0,0,0,{"$error":"#DIV/0!"},0,0,0,0,null,null,null,0,{"$error":"#DIV/0!"},0,{"$error":"#DIV/0!"},0,0,0,0,0,0]
["1 May 2017 to 31 May 2017","DR WONG CHUN POR","DR CP WONG CLINIC","SOLO",5528991274,"RXD","3,2","Local system","Local System",189,0,null,31,158,null,0,0,0,0,0,0,0,0,0,0,null,null,null,158,0.83597883597883593,0,0,0,0,0,0,0,0]
["1 May 2017 to 31 May 2017","DR WONG CHUN POR","DR CP WONG CLINIC","SOLO",5528991274,"RXO","3,2","Local system","Local System",222,0,null,34,188,null,0,0,0,0,0,0,0,0,0,0,null,null,null,188,0.84684684684684686,0,0,0,0,0,0,0,0]
["1 May 2017 to 31 May 2017","DR. YEE YUK KEI","DR. YK YEE","SOLO",2310917092,"AL1","3,2","Local system","Local System",1,0,null,0,1,null,0,0,0,0,0,0,0,0,0,0,0,null,null,1,1,0,0,0,0,0,0,0,0]
["1 May 2017 to 31 May 2017","EVANGEL HOSPITAL","EVANGEL HOSPITAL","PH",2206285885,"ENCTR","3,2","Local system","Local System",1226,0,null,null,1226,null,0,0,0,0,0,0,null,null,null,null,null,null,null,1226,1,0,0,0,0,0,0,0,0]
["1 May 2017 to 31 May 2017","EVANGEL HOSPITAL","EVANGEL HOSPITAL","PH",2206285885,"AL1","3,2","Local system","Local System",12,0,null,7,5,null,0,0,0,0,7,0.58333333333333337,7,0,0,7,0,null,null,5,0.41666666666666669,0,0,0,0,0,0,0,0]
["1 May 2017 to 31 May 2017","EVANGEL HOSPITAL","EVANGEL HOSPITAL","PH",2206285885,"ADR","3,2","Local system","Local System",4,0,null,0,4,null,0,0,0,0,0,0,0,0,0,0,0,null,null,4,1,0,0,0,0,0,0,0,0]
["1 May 2017 to 31 May 2017","EVANGEL HOSPITAL","EVANGEL HOSPITAL","PH",2206285885,"RXO","3,2","Local system","Local System",123,0,null,52,71,null,0,0,0,0,0,0,0,0,0,0,null,null,null,71,0.57723577235772361,0,0,0,0,0,0,0,0]
["1 May 2017 to 31 May 2017","HONG KONG ADVENTIST HOSPITAL - STUBBS ROAD","HK ADVENTIST - SR","PH",7029571085,"ADR",3,"Local system","Local System",0,0,null,null,0,null,0,{"$error":"#DIV/0!"},0,0,0,{"$error":"#DIV/0!"},0,0,0,0,0,null,null,0,{"$error":"#DIV/0!"},0,{"$error":"#DIV/0!"},0,0,0,0,0,0]
["1 May 2017 to 31 May 2017","HONG KONG ADVENTIST HOSPITAL - STUBBS ROAD","HK ADVENTIST - SR","PH",7029571085,"AL1",3,"Local system","Local System",1,0,null,1,0,null,0,0,0,0,1,1,1,0,0,1,0,null,null,0,0,0,0,0,0,0,0,0,0]
["1 May 2017 to 31 May 2017","HONG KONG ADVENTIST HOSPITAL - STUBBS ROAD","HK ADVENTIST - SR","PH",7029571085,"RAD",2,"Local system","Local System",120,0,null,120,0,null,0,0,0,0,0,0,0,0,0,0,0,0,null,0,0,0,0,0,0,0,0,0,0]
["1 May 2017 to 31 May 2017","HONG KONG ADVENTIST HOSPITAL - STUBBS ROAD","HK ADVENTIST - SR","PH",7029571085,"RXD",2,"Local system + LAAM","Local System",97,0,null,97,0,null,0,0,0,0,0,0,0,0,0,0,null,null,null,0,0,0,0,0,0,0,0,0,0]
["1 May 2017 to 31 May 2017","HONG KONG ADVENTIST HOSPITAL - STUBBS ROAD","HK ADVENTIST - SR","PH",7029571085,"ENCTR",3,"Local system + LAAM","Local System",2,0,null,null,2,null,0,0,0,0,0,0,null,null,null,null,null,null,null,2,1,0,0,0,0,0,0,0,0]
["1 May 2017 to 31 May 2017","HONG KONG ADVENTIST HOSPITAL - TSUEN WAN","HK ADVENTIST - TW","PH",8909436562,"ADR",3,"Local system","Local System",6,0,null,2,4,null,0,0,0,0,2,0.33333333333333331,2,0,0,2,0,null,null,4,0.66666666666666663,0,0,0,0,0,0,0,0]
["1 May 2017 to 31 May 2017","HONG KONG ADVENTIST HOSPITAL - TSUEN WAN","HK ADVENTIST - TW","PH",8909436562,"AL1",3,"Local system","Local System",53,0,null,11,42,null,0,0,0,0,10,0.18867924528301888,10,0,0,10,0,null,null,42,0.79245283018867929,0,0,0,0,0,0,0,0]
["1 May 2017 to 31 May 2017","HONG KONG ADVENTIST HOSPITAL - TSUEN WAN","HK ADVENTIST - TW","PH",8909436562,"ENCTR",3,"Local system + Adaptation","Local System",16,0,null,null,16,null,0,0,0,0,0,0,null,null,null,null,null,null,null,16,1,0,0,0,0,0,0,0,0]
["1 May 2017 to 31 May 2017","HONG KONG ADVENTIST HOSPITAL - TSUEN WAN","HK ADVENTIST - TW","PH",8909436562,"BIRTH",3,"Local system","Local System",2,0,null,null,2,null,0,0,0,0,0,0,null,null,null,null,null,null,null,2,1,0,0,0,0,0,0,0,0]
["1 May 2017 to 31 May 2017","HONG KONG ADVENTIST HOSPITAL - TSUEN WAN","HK ADVENTIST - TW","PH",8909436562,"RAD",2,"Local system","Local System",812,0,null,812,0,null,0,{"$f":"P777/J777","v":0},0,0,0,{"$f":"T777/J777","v":0},0,0,0,0,0,0,null,0,{"$f":"AC777/J777","v":0},0,{"$f":"AE777/J777","v":0},0,0,0,0,0,0]
["1 May 2017 to 31 May 2017","HONG KONG ADVENTIST HOSPITAL - TSUEN WAN","HK ADVENTIST - TW","PH",8909436562,"RXD",2,"Local system","Local System",2653,0,null,2653,0,null,0,0,0,0,0,0,0,0,0,0,null,null,null,0,0,0,0,0,0,0,0,0,0]
["1 May 2017 to 31 May 2017","HONG KONG BAPTIST HOSPITAL","HK BAPTIST HOSPITAL","PH",3650324540,"ENCTR",3,"Local system","Local System",54,0,null,null,54,null,0,0,null,null,0,0,null,null,null,null,null,null,null,54,1,0,0,0,0,0,0,0,0]
["1 May 2017 to 31 May 2017","HONG KONG BAPTIST HOSPITAL","HK BAPTIST HOSPITAL","PH",3650324540,"LABAP",1,"Local system + LAAM","Local System",270,5,265,null,0,null,5,1.8518518518518517E-2,5,0,0,0,null,0,0,null,null,0,null,0,0,0,0,0,0,0,0,0,0]
["1 May 2017 to 31 May 2017","HONG KONG BAPTIST HOSPITAL","HK BAPTIST HOSPITAL","PH",3650324540,"LABGEN",1,"Local system + LAAM","Local System",2845,37,2808,null,0,null,37,1.3005272407732865E-2,37,0,0,0,0,0,0,0,0,0,null,0,0,0,0,0,0,0,0,0,0]
["1 May 2017 to 31 May 2017","HONG KONG BAPTIST HOSPITAL","HK BAPTIST HOSPITAL","PH",3650324540,"LABMB",1,"Local system + LAAM","Local System",658,6,652,null,0,null,6,9.11854103343465E-3,6,0,0,0,0,0,0,0,0,0,null,0,0,0,0,0,0,0,0,0,0]
["1 May 2017 to 31 May 2017","PRECIOUS BLOOD HOSPITAL (CARITAS)","PRECIOUS BLOOD HOSPITAL","PH",7002059678,"ADR",3,"Local system","Local System",0,0,null,null,0,null,0,{"$error":"#DIV/0!"},0,0,0,{"$error":"#DIV/0!"},0,0,0,0,0,null,null,0,{"$error":"#DIV/0!"},0,{"$error":"#DIV/0!"},0,0,0,0,0,0]
["1 May 2017 to 31 May 2017","PRECIOUS BLOOD HOSPITAL (CARITAS)","PRECIOUS BLOOD HOSPITAL","PH",7002059678,"AL1",3,"Local system","Local System",19,0,null,10,9,null,0,0,0,0,8,0.42105263157894735,8,0,0,8,0,null,null,9,0.47368421052631576,0,0,0,0,0,0,0,0]
["1 May 2017 to 31 May 2017","THE HONG KONG POLYTECHNIC UNIVERSITY","POLYU","HCAI",4578805814,"ENCTR",3,"Local system","Local System",757,0,null,null,757,null,0,0,0,0,0,0,null,null,null,null,null,null,null,757,1,0,0,0,0,0,0,0,0]
["1 May 2017 to 31 May 2017","THE HONG KONG POLYTECHNIC UNIVERSITY","POLYU","HCAI",4578805814,"AL1",3,"Local system","Local System",14,0,null,3,11,null,0,0,0,0,3,0.21428571428571427,3,0,0,3,null,null,null,11,0.7857142857142857,0,0,0,0,0,0,0,0]
["1 May 2017 to 31 May 2017","ST. PAUL'S HOSPITAL","SPH","PH",5156724947,"ADR",3,"Local system","Local System",10,0,null,1,9,null,0,0,0,0,1,0.1,1,0,0,1,null,null,null,9,0.9,0,0,0,0,0,0,0,0]
["1 May 2017 to 31 May 2017","ST. PAUL'S HOSPITAL","SPH","PH",5156724947,"AL1",3,"Local system","Local System",65,0,null,25,40,null,0,0,0,0,25,0.38461538461538464,25,0,0,25,null,null,null,40,0.61538461538461542,0,0,0,0,0,0,0,0]
["1 May 2017 to 31 May 2017","ST. PAUL'S HOSPITAL","SPH","PH",5156724947,"ENCTR",3,"Local system + LAAM","Local System",5,0,null,null,5,null,0,0,null,null,0,0,null,null,null,null,null,null,null,5,1,0,0,0,0,0,0,0,0]
["1 May 2017 to 31 May 2017","ST.TERESA's HOSPITAL","STH","PH",7969980015,"ADR",3,"Local system","Local System",11,0,null,null,11,null,0,0,0,0,0,0,0,0,0,null,null,null,null,11,1,0,0,0,0,0,0,0,0]
["1 May 2017 to 31 May 2017","ST.TERESA's HOSPITAL","STH","PH",7969980015,"AL1",3,"Local system","Local System",129,0,null,43,86,null,0,0,0,0,44,0.34108527131782945,44,0,0,44,null,null,null,86,0.66666666666666663,0,0,0,0,0,0,0,0]
["1 May 2017 to 31 May 2017","ST.TERESA's HOSPITAL","STH","PH",7969980015,"BIRTH",3,"Local system + LAAM","Local System",6,0,null,null,6,null,0,0,0,0,0,0,null,null,null,null,null,null,null,6,1,0,0,0,0,0,0,0,0]
["1 May 2017 to 31 May 2017","TUNG WAH GROUP OF HOSPITALS","TUNG WAH GROUP. OF HOSPITALS","NGO",4471430786,"RAD",3,"Local system + LAAM","Local System",5,0,null,null,5,null,0,0,0,0,0,0,0,0,0,0,0,0,null,5,1,0,0,0,0,0,0,0,0]
["1 May 2017 to 31 May 2017","UNION HOSPITAL","UNION HOSPITAL","PH",5712620300,"ADR",3,"Local system","Local System",14,0,null,6,8,null,0,0,0,0,6,0.42857142857142855,6,0,0,6,0,null,null,8,0.5714285714285714,0,0,0,0,0,0,0,0]
["1 May 2017 to 31 May 2017","UNION HOSPITAL","UNION HOSPITAL","PH",5712620300,"AL1",3,"Local system","Local System",89,0,null,42,47,null,0,0,0,0,41,0.4606741573033708,41,0,0,41,0,null,null,47,0.5280898876404494,0,0,0,0,0,0,0,0]
["1 May 2017 to 31 May 2017","UNION HOSPITAL","UNION HOSPITAL","PH",5712620300,"ENCTR",3,"Local system","Local System",89,0,null,null,89,null,0,0,null,null,0,0,null,null,null,null,null,null,null,89,1,0,0,0,0,0,0,0,0]
["1 May 2017 to 31 May 2017","DIAGNOSTIX PATHOLOGY LABORATORIES LTD","DIAGNOSTIX","SOLO",3121494321,"LABAP",1,"Adaptation","Adaptaion",543,1,542,null,0,null,1,1.841620626151013E-3,1,0,0,0,null,0,0,null,null,0,null,0,0,0,0,0,0,0,0,0,0]
["1 May 2017 to 31 May 2017","DIAGNOSTIX MEDICAL CENTRE LIMITED","DIAGNOSTIX MEDICAL","GROUP",4905639327,"LABGEN",3,"Adaptation","Adaptaion",8018,0,null,null,8018,null,0,0,0,0,0,0,0,0,0,0,0,0,null,8018,1,0,0,0,0,0,0,0,0]
["1 May 2017 to 31 May 2017 Total",null,null,null,null,null,null,null,null,{"$f":"SUM(J738:J798)","v":69453},{"$f":"SUM(K738:K798)","v":49},{"$f":"SUM(L738:L798)","v":4669},{"$f":"SUM(M738:M798)","v":6089},{"$f":"SUM(N738:N798)","v":58646},null,{"$f":"SUM(P738:P798)","v":49},7.0551308078844685E-4,{"$f":"SUM(R738:R798)","v":49},{"$f":"SUM(S738:S798)","v":0},{"$f":"SUM(T738:T798)","v":2172},3.1272947172908301E-2,{"$f":"SUM(V738:V798)","v":2172},0,0,2172,0,0,null,{"$f":"SUM(AC738:AC798)","v":58646},0.8443983701208011,{"$f":"SUM(AE738:AE798)","v":0},0,{"$f":"SUM(AG738:AG798)","v":0},0,0,0,0,0]
["1 Jun 2017 to 30 Jun 2017","DEPARTMENT OF HEALTH CIMS1","DH","DH",8658917541,"ADR",3,"Local system","Local System",{"$f":"SUM(K800:N800)","v":79},{"$f":"P800","v":0},null,6,73,null,{"$f":"SUM(R800:S800)","v":0},0,0,0,{"$f":"SUM(Y800:AA800)","v":6},7.5949367088607597E-2,6,0,0,6,0,null,null,73,0.92405063291139244,0,0,0,0,0,0,0,0]
["1 Jun 2017 to 30 Jun 2017","DEPARTMENT OF HEALTH CIMS1","DH","DH",8658917541,"AL1",3,"Local system","Local System",208,0,null,33,175,null,0,0,0,0,31,0.14903846153846154,31,0,0,31,0,null,null,175,0.84134615384615385,0,0,0,0,0,0,0,0]
["1 Jun 2017 to 30 Jun 2017","DEPARTMENT OF HEALTH CIMS1","DH","DH",8658917541,"ENCTR",3,"Local system + LAAM","Local System",18779,1,null,0,18778,null,1,5.3250971830235901E-5,0,1,0,0,null,null,null,null,null,null,null,18778,0.99994674902816971,0,0,0,0,0,0,0,0]
["1 Jun 2017 to 30 Jun 2017","DEPARTMENT OF HEALTH CIMS1","DH","DH",8658917541,"IMMU",3,"Local system + LAAM","Local System",3983,0,null,8,3975,null,0,0,0,0,8,2.0085362791865428E-3,8,0,0,8,0,0,null,3975,0.99799146372081349,0,0,0,0,0,0,0,0]
["1 Jun 2017 to 30 Jun 2017","DEPARTMENT OF HEALTH CIMS1","DH","DH",8658917541,"PROB",3,"Local system + LAAM","Local System",8328,0,null,178,8150,null,0,0,0,0,178,2.1373679154658983E-2,178,0,0,178,null,null,null,8150,0.97862632084534107,0,0,0,0,0,0,0,0]
["1 Jun 2017 to 30 Jun 2017","DEPARTMENT OF HEALTH CIMS1","DH","DH",8658917541,"PX",3,"Local system + LAAM","Local System",6658,0,null,195,6463,null,0,0,0,0,195,2.9288074496845899E-2,195,0,0,195,null,null,null,6463,0.9707119255031541,0,0,0,0,0,0,0,0]
["1 Jun 2017 to 30 Jun 2017","DEPARTMENT OF HEALTH CIMS1","DH","DH",8658917541,"RXO",3,"MOE","Local System",12426,0,null,1602,10824,null,0,0,0,0,1602,0.12892322549492999,1602,0,0,1602,null,null,null,10824,0.87107677450507004,0,0,0,0,0,0,0,0]
["1 Jun 2017 to 30 Jun 2017","DEPARTMENT OF HEALTH CIMS1","DH","DH",8658917541,"LABMB",1,"Local system + LAAM","Local System",390,0,390,null,0,null,0,0,0,0,0,0,0,0,0,0,0,0,null,0,0,0,0,0,0,0,0,0,0]
["1 Jun 2017 to 30 Jun 2017","CANOSSA HOSPITAL (CARITAS)","CANNOSSA HOSPITAL","PH",8252506240,"ADR",3,"Local system","Local System",3,0,null,null,3,null,0,0,0,0,0,0,0,0,0,0,0,null,null,3,1,0,0,0,0,0,0,0,0]
["1 Jun 2017 to 30 Jun 2017","CANOSSA HOSPITAL (CARITAS)","CANNOSSA HOSPITAL","PH",8252506240,"AL1",3,"Local system","Local System",10,0,null,5,5,null,0,0,0,0,5,0.5,5,0,0,5,0,null,null,5,0.5,0,0,0,0,0,0,0,0]
["1 Jun 2017 to 30 Jun 2017","CHIRON HEALTHCARE GROUP LIMITED","CHIRON HEALTHCARE","GROUP",9451612824,"ADR","3,2","Local system","Local System",2,0,null,1,1,null,0,0,0,0,1,0.5,1,0,0,1,0,null,null,1,0.5,0,0,0,0,0,0,0,0]
["1 Jun 2017 to 30 Jun 2017","CHIRON HEALTHCARE GROUP LIMITED","CHIRON HEALTHCARE","GROUP",9451612824,"AL1","3,2","Local system","Local System",15,0,null,4,11,null,0,0,0,0,4,0.26666666666666666,4,0,0,4,0,null,null,11,0.73333333333333328,0,0,0,0,0,0,0,0]
["1 Jun 2017 to 30 Jun 2017","CHIRON HEALTHCARE GROUP LIMITED","CHIRON HEALTHCARE","GROUP",9451612824,"ENCTR",3,"Local system","Local System",141,0,null,null,141,null,0,0,0,0,0,0,null,null,null,null,null,null,null,141,1,0,0,0,0,0,0,0,0]
["1 Jun 2017 to 30 Jun 2017","CHIRON HEALTHCARE GROUP LIMITED","CHIRON HEALTHCARE","GROUP",9451612824,"IMMU","3,2","Local system","Local System",5,0,null,3,2,null,0,0,0,0,0,0,0,0,0,0,0,0,null,2,0.4,0,0,0,0,0,0,0,0]
["1 Jun 2017 to 30 Jun 2017","CHIRON HEALTHCARE GROUP LIMITED","CHIRON HEALTHCARE","GROUP",9451612824,"PROB","3,2","Local system","Local System",125,0,null,8,117,null,0,0,0,0,0,0,0,0,0,0,null,null,null,117,0.93600000000000005,0,0,0,0,0,0,0,0]
["1 Jun 2017 to 30 Jun 2017","CHIRON HEALTHCARE GROUP LIMITED","CHIRON HEALTHCARE","GROUP",9451612824,"RXD","3,2","Local system","Local System",173,0,null,11,162,null,0,0,0,0,0,0,0,0,0,0,null,null,null,162,0.93641618497109824,0,0,0,0,0,0,0,0]
["1 Jun 2017 to 30 Jun 2017","CHIRON HEALTHCARE GROUP LIMITED","CHIRON HEALTHCARE","GROUP",9451612824,"RXO","3,2","Local system","Local System",161,0,null,11,150,null,0,0,0,0,0,0,0,0,0,0,null,null,null,150,0.93167701863354035,0,0,0,0,0,0,0,0]
["1 Jun 2017 to 30 Jun 2017","DR WONG CHUN POR","DR CP WONG CLINIC","SOLO",5528991274,"ADR","3,2","Local system","Local System",0,0,null,0,0,null,0,{"$error":"#DIV/0!"},0,0,0,{"$error":"#DIV/0!"},0,0,0,0,0,null,null,0,{"$error":"#DIV/0!"},0,{"$error":"#DIV/0!"},0,0,0,0,0,0]
["1 Jun 2017 to 30 Jun 2017","DR WONG CHUN POR","DR CP WONG CLINIC","SOLO",5528991274,"AL1","3,2","Local system","Local System",4,0,null,0,4,null,0,0,0,0,0,0,0,0,0,0,0,null,null,4,1,0,0,0,0,0,0,0,0]
["1 Jun 2017 to 30 Jun 2017","DR WONG CHUN POR","DR CP WONG CLINIC","SOLO",5528991274,"ENCTR",3,"Local system","Local System",144,0,null,null,144,null,0,0,0,0,0,0,null,null,null,null,null,null,null,144,1,0,0,0,0,0,0,0,0]
["1 Jun 2017 to 30 Jun 2017","DR WONG CHUN POR","DR CP WONG CLINIC","SOLO",5528991274,"IMMU","3,2","Local system","Local System",2,0,null,0,2,null,0,0,0,0,0,0,0,0,0,0,0,0,null,2,1,0,0,0,0,0,0,0,0]
["1 Jun 2017 to 30 Jun 2017","DR WONG CHUN POR","DR CP WONG CLINIC","SOLO",5528991274,"PROB","3,2","Local system","Local System",402,0,null,1,401,null,0,0,0,0,0,0,0,0,0,0,null,null,null,401,0.99751243781094523,0,0,0,0,0,0,0,0]
["1 Jun 2017 to 30 Jun 2017","DR WONG CHUN POR","DR CP WONG CLINIC","SOLO",5528991274,"PX","3,2","Local system","Local System",0,0,null,0,0,null,0,{"$error":"#DIV/0!"},0,0,0,{"$error":"#DIV/0!"},0,0,0,0,null,null,null,0,{"$error":"#DIV/0!"},0,{"$error":"#DIV/0!"},0,0,0,0,0,0]
["1 Jun 2017 to 30 Jun 2017","DR WONG CHUN POR","DR CP WONG CLINIC","SOLO",5528991274,"RXD","3,2","Local system","Local System",283,0,null,19,264,null,0,0,0,0,0,0,0,0,0,0,null,null,null,264,0.93286219081272082,0,0,0,0,0,0,0,0]
["1 Jun 2017 to 30 Jun 2017","DR WONG CHUN POR","DR CP WONG CLINIC","SOLO",5528991274,"RXO","3,2","Local system","Local System",319,0,null,25,294,null,0,0,0,0,0,0,0,0,0,0,null,null,null,294,0.92163009404388718,0,0,0,0,0,0,0,0]
["1 Jun 2017 to 30 Jun 2017","DR. YEE YUK KEI","DR. YK YEE","SOLO",2310917092,"AL1","3,2","Local system","Local System",1,0,null,0,1,null,0,0,0,0,0,0,0,0,0,0,0,null,null,1,1,0,0,0,0,0,0,0,0]
["1 Jun 2017 to 30 Jun 2017","EVANGEL HOSPITAL","EVANGEL HOSPITAL","PH",2206285885,"ENCTR","3,2","Local system","Local System",980,0,null,null,980,null,0,0,0,0,0,0,null,null,null,null,null,null,null,980,1,0,0,0,0,0,0,0,0]
["1 Jun 2017 to 30 Jun 2017","EVANGEL HOSPITAL","EVANGEL HOSPITAL","PH",2206285885,"AL1","3,2","Local system","Local System",20,0,null,9,11,null,0,0,0,0,8,0.4,8,0,0,8,0,null,null,11,0.55000000000000004,0,0,0,0,0,0,0,0]
["1 Jun 2017 to 30 Jun 2017","EVANGEL HOSPITAL","EVANGEL HOSPITAL","PH",2206285885,"ADR","3,2","Local system","Local System",3,0,null,0,3,null,0,0,0,0,0,0,0,0,0,0,0,null,null,3,1,0,0,0,0,0,0,0,0]
["1 Jun 2017 to 30 Jun 2017","EVANGEL HOSPITAL","EVANGEL HOSPITAL","PH",2206285885,"RXO","3,2","Local system","Local System",193,0,null,84,109,null,0,0,0,0,0,0,0,0,0,0,null,null,null,109,0.56476683937823835,0,0,0,0,0,0,0,0]
["1 Jun 2017 to 30 Jun 2017","HONG KONG ADVENTIST HOSPITAL - STUBBS ROAD","HK ADVENTIST - SR","PH",7029571085,"ADR",3,"Local system","Local System",0,0,null,null,0,null,0,{"$error":"#DIV/0!"},0,0,0,{"$error":"#DIV/0!"},0,0,0,0,0,null,null,0,{"$error":"#DIV/0!"},0,{"$error":"#DIV/0!"},0,0,0,0,0,0]
["1 Jun 2017 to 30 Jun 2017","HONG KONG ADVENTIST HOSPITAL - STUBBS ROAD","HK ADVENTIST - SR","PH",7029571085,"AL1",3,"Local system","Local System",1,0,null,null,1,null,0,0,0,0,0,0,0,0,0,0,0,null,null,1,1,0,0,0,0,0,0,0,0]
["1 Jun 2017 to 30 Jun 2017","HONG KONG ADVENTIST HOSPITAL - STUBBS ROAD","HK ADVENTIST - SR","PH",7029571085,"RAD",2,"Local system","Local System",26,0,null,26,0,null,0,0,0,0,0,0,0,0,0,0,0,0,null,0,0,0,0,0,0,0,0,0,0]
["1 Jun 2017 to 30 Jun 2017","HONG KONG ADVENTIST HOSPITAL - STUBBS ROAD","HK ADVENTIST - SR","PH",7029571085,"RXD",2,"Local system + LAAM","Local System",96,0,null,96,0,null,0,0,0,0,0,0,0,0,0,0,null,null,null,0,0,0,0,0,0,0,0,0,0]
["1 Jun 2017 to 30 Jun 2017","HONG KONG ADVENTIST HOSPITAL - STUBBS ROAD","HK ADVENTIST - SR","PH",7029571085,"ENCTR",3,"Local system + LAAM","Local System",0,0,null,null,0,null,0,{"$error":"#DIV/0!"},0,0,0,{"$error":"#DIV/0!"},null,null,null,null,null,null,null,0,{"$error":"#DIV/0!"},0,{"$error":"#DIV/0!"},0,0,0,0,0,0]
["1 Jun 2017 to 30 Jun 2017","HONG KONG ADVENTIST HOSPITAL - TSUEN WAN","HK ADVENTIST - TW","PH",8909436562,"ADR",3,"Local system","Local System",4,0,null,2,2,null,0,0,0,0,2,0.5,2,0,0,2,0,null,null,2,0.5,0,0,0,0,0,0,0,0]
["1 Jun 2017 to 30 Jun 2017","HONG KONG ADVENTIST HOSPITAL - TSUEN WAN","HK ADVENTIST - TW","PH",8909436562,"AL1",3,"Local system","Local System",60,0,null,11,49,null,0,0,0,0,9,0.15,9,0,0,9,0,null,null,49,0.81666666666666665,0,0,0,0,0,0,0,0]
["1 Jun 2017 to 30 Jun 2017","HONG KONG ADVENTIST HOSPITAL - TSUEN WAN","HK ADVENTIST - TW","PH",8909436562,"ENCTR",3,"Local system + Adaptation","Local System",19,0,null,null,19,null,0,0,0,0,0,0,null,null,null,null,null,null,null,19,1,0,0,0,0,0,0,0,0]
["1 Jun 2017 to 30 Jun 2017","HONG KONG ADVENTIST HOSPITAL - TSUEN WAN","HK ADVENTIST - TW","PH",8909436562,"BIRTH",3,"Local system","Local System",5,0,null,null,5,null,0,0,0,0,0,0,null,null,null,null,null,null,null,5,1,0,0,0,0,0,0,0,0]
["1 Jun 2017 to 30 Jun 2017","HONG KONG ADVENTIST HOSPITAL - TSUEN WAN","HK ADVENTIST - TW","PH",8909436562,"RAD",2,"Local system","Local System",803,0,null,803,0,null,0,0,0,0,0,0,0,0,0,0,0,0,null,0,0,0,0,0,0,0,0,0,0]
["1 Jun 2017 to 30 Jun 2017","HONG KONG ADVENTIST HOSPITAL - TSUEN WAN","HK ADVENTIST - TW","PH",8909436562,"RXD",2,"Local system","Local System",2817,0,null,2817,0,null,0,0,0,0,0,0,0,0,0,0,null,null,null,0,0,0,0,0,0,0,0,0,0]
["1 Jun 2017 to 30 Jun 2017","HONG KONG BAPTIST HOSPITAL","HK BAPTIST HOSPITAL","PH",3650324540,"ENCTR",3,"Local system","Local System",45,0,null,null,45,null,0,{"$f":"P841/J841","v":0},null,null,0,{"$f":"T841/J841","v":0},null,null,null,null,null,null,null,45,{"$f":"AC841/J841","v":1},0,{"$f":"AE841/J841","v":0},0,0,0,0,0,0]
["1 Jun 2017 to 30 Jun 2017","HONG KONG BAPTIST HOSPITAL","HK BAPTIST HOSPITAL","PH",3650324540,"LABAP",1,"Local system + LAAM","Local System",334,3,331,null,0,null,3,8.9820359281437123E-3,3,0,0,0,null,0,0,null,null,0,null,0,0,0,0,0,0,0,0,0,0]
["1 Jun 2017 to 30 Jun 2017","HONG KONG BAPTIST HOSPITAL","HK BAPTIST HOSPITAL","PH",3650324540,"LABGEN",1,"Local system + LAAM","Local System",3692,5,3687,null,0,null,5,1.3542795232936078E-3,5,0,0,0,0,0,0,0,0,0,null,0,0,0,0,0,0,0,0,0,0]
["1 Jun 2017 to 30 Jun 2017","HONG KONG BAPTIST HOSPITAL","HK BAPTIST HOSPITAL","PH",3650324540,"LABMB",1,"Local system + LAAM","Local System",730,1,729,null,0,null,1,1.3698630136986301E-3,1,0,0,0,0,0,0,0,0,0,null,0,0,0,0,0,0,0,0,0,0]
["1 Jun 2017 to 30 Jun 2017","PRECIOUS BLOOD HOSPITAL (CARITAS)","PRECIOUS BLOOD HOSPITAL","PH",7002059678,"ADR",3,"Local system","Local System",4,0,null,null,4,null,0,0,0,0,0,0,0,0,0,0,0,null,null,4,1,0,0,0,0,0,0,0,0]
["1 Jun 2017 to 30 Jun 2017","PRECIOUS BLOOD HOSPITAL (CARITAS)","PRECIOUS BLOOD HOSPITAL","PH",7002059678,"AL1",3,"Local system","Local System",25,0,null,13,12,null,0,0,0,0,12,0.48,12,0,0,12,0,null,null,12,0.48,0,0,0,0,0,0,0,0]
["1 Jun 2017 to 30 Jun 2017","THE HONG KONG POLYTECHNIC UNIVERSITY","POLYU","HCAI",4578805814,"ENCTR",3,"Local system","Local System",1083,0,null,null,1083,null,0,0,0,0,0,0,null,null,null,null,null,null,null,1083,1,0,0,0,0,0,0,0,0]
["1 Jun 2017 to 30 Jun 2017","THE HONG KONG POLYTECHNIC UNIVERSITY","POLYU","HCAI",4578805814,"AL1",3,"Local system","Local System",10,0,null,1,9,null,0,0,0,0,1,0.1,1,0,0,1,0,null,null,9,0.9,0,0,0,0,0,0,0,0]
["1 Jun 2017 to 30 Jun 2017","ST. PAUL'S HOSPITAL","SPH","PH",5156724947,"ADR",3,"Local system","Local System",7,0,null,3,4,null,0,0,0,0,4,0.5714285714285714,4,0,0,4,0,null,null,4,0.5714285714285714,0,0,0,0,0,0,0,0]
["1 Jun 2017 to 30 Jun 2017","ST. PAUL'S HOSPITAL","SPH","PH",5156724947,"AL1",3,"Local system","Local System",69,0,null,22,47,null,0,0,0,0,21,0.30434782608695654,21,0,0,21,0,null,null,47,0.6811594202898551,0,0,0,0,0,0,0,0]
["1 Jun 2017 to 30 Jun 2017","ST. PAUL'S HOSPITAL","SPH","PH",5156724947,"ENCTR",3,"Local system + LAAM","Local System",5,0,null,null,5,null,0,0,null,null,0,0,null,null,null,null,null,null,null,5,1,0,0,0,0,0,0,0,0]
["1 Jun 2017 to 30 Jun 2017","ST.TERESA's HOSPITAL","STH","PH",7969980015,"ADR",3,"Local system","Local System",13,0,null,2,11,null,0,0,0,0,2,0.15384615384615385,2,0,0,2,0,null,null,11,0.84615384615384615,0,0,0,0,0,0,0,0]
["1 Jun 2017 to 30 Jun 2017","ST.TERESA's HOSPITAL","STH","PH",7969980015,"AL1",3,"Local system","Local System",138,0,null,52,86,null,0,0,0,0,52,0.37681159420289856,52,0,0,52,0,null,null,86,0.62318840579710144,0,0,0,0,0,0,0,0]
["1 Jun 2017 to 30 Jun 2017","ST.TERESA's HOSPITAL","STH","PH",7969980015,"BIRTH",3,"Local system + LAAM","Local System",2,0,null,null,2,null,0,0,0,0,0,0,null,null,null,null,null,null,null,2,1,0,0,0,0,0,0,0,0]
["1 Jun 2017 to 30 Jun 2017","TUNG WAH GROUP OF HOSPITALS","TUNG WAH GROUP. OF HOSPITALS","NGO",4471430786,"RAD",3,"Local system + LAAM","Local System",5,0,null,null,5,null,0,0,0,0,0,0,0,0,0,0,0,0,null,5,1,0,0,0,0,0,0,0,0]
["1 Jun 2017 to 30 Jun 2017","UNION HOSPITAL","UNION HOSPITAL","PH",5712620300,"ADR",3,"Local system","Local System",10,0,null,3,7,null,0,0,0,0,3,0.3,3,0,0,3,0,null,null,7,0.7,0,0,0,0,0,0,0,0]
["1 Jun 2017 to 30 Jun 2017","UNION HOSPITAL","UNION HOSPITAL","PH",5712620300,"AL1",3,"Local system","Local System",121,0,null,67,54,null,0,0,0,0,70,0.57851239669421484,70,0,0,70,0,null,null,54,0.4462809917355372,0,0,0,0,0,0,0,0]
["1 Jun 2017 to 30 Jun 2017","UNION HOSPITAL","UNION HOSPITAL","PH",5712620300,"ENCTR",3,"Local system","Local System",93,0,null,null,93,null,0,0,null,null,0,0,null,null,null,null,null,null,null,93,1,0,0,0,0,0,0,0,0]
["1 Jun 2017 to 30 Jun 2017","DIAGNOSTIX PATHOLOGY LABORATORIES LTD","DIAGNOSTIX","SOLO",3121494321,"LABAP",1,"Adaptation","Adaptaion",363,0,363,null,0,null,0,0,0,0,0,0,null,0,0,null,null,0,null,0,0,0,0,0,0,0,0,0,0]
["1 Jun 2017 to 30 Jun 2017","DIAGNOSTIX MEDICAL CENTRE LIMITED","DIAGNOSTIX MEDICAL","GROUP",4905639327,"LABGEN",3,"Adaptation","Adaptaion",6236,0,null,null,6236,null,0,0,0,0,0,0,0,0,0,0,0,0,null,6236,1,0,0,0,0,0,0,0,0]
["1 Jun 2017 to 30 Jun 2017 Total",null,null,null,null,null,null,null,null,{"$f":"SUM(J800:J860)","v":70653},{"$f":"SUM(K800:K860)","v":10},{"$f":"SUM(L800:L860)","v":5500},{"$f":"SUM(M800:M860)","v":6121},{"$f":"SUM(N800:N860)","v":59022},null,{"$f":"SUM(P800:P860)","v":10},1.4153680664656844E-4,{"$f":"SUM(R800:R860)","v":9},{"$f":"SUM(S800:S860)","v":1},{"$f":"SUM(T800:T860)","v":2214},3.1336248991550256E-2,{"$f":"SUM(V800:V860)","v":2214},0,0,2214,0,0,null,{"$f":"SUM(AC800:AC860)","v":59022},0.8353785401893763,{"$f":"SUM(AE800:AE860)","v":0},0,{"$f":"SUM(AG800:AG860)","v":0},0,0,0,0,0]
["1 Jul 2017 to 31 Jul 2017","DEPARTMENT OF HEALTH CIMS1","DH","DH",8658917541,"ADR",3,"Local system","Local System",{"$f":"SUM(K862:N862)","v":122},{"$f":"P862","v":0},null,11,111,null,{"$f":"SUM(R862:S862)","v":0},0,0,0,{"$f":"SUM(Y862:AA862)","v":11},9.0163934426229511E-2,11,0,0,11,0,null,null,111,0.9098360655737705,0,0,0,0,0,0,0,0]
["1 Jul 2017 to 31 Jul 2017","DEPARTMENT OF HEALTH CIMS1","DH","DH",8658917541,"AL1",3,"Local system","Local System",267,0,null,48,219,null,0,0,0,0,45,0.16853932584269662,45,0,0,45,0,null,null,219,0.8202247191011236,0,0,0,0,0,0,0,0]
["1 Jul 2017 to 31 Jul 2017","DEPARTMENT OF HEALTH CIMS1","DH","DH",8658917541,"ENCTR",3,"Local system + LAAM","Local System",23593,0,null,null,23593,null,0,0,0,0,0,0,null,null,null,null,null,null,null,23593,1,0,0,0,0,0,0,0,0]
["1 Jul 2017 to 31 Jul 2017","DEPARTMENT OF HEALTH CIMS1","DH","DH",8658917541,"IMMU",3,"Local system + LAAM","Local System",4032,0,null,1,4031,null,0,0,0,0,1,2.48015873015873E-4,1,0,0,1,0,0,null,4031,0.99975198412698407,0,0,0,0,0,0,0,0]
["1 Jul 2017 to 31 Jul 2017","DEPARTMENT OF HEALTH CIMS1","DH","DH",8658917541,"PROB",3,"Local system + LAAM","Local System",10908,0,null,201,10707,null,0,0,0,0,202,1.8518518518518517E-2,202,0,0,202,null,null,null,10707,0.98157315731573158,0,0,0,0,0,0,0,0]
["1 Jul 2017 to 31 Jul 2017","DEPARTMENT OF HEALTH CIMS1","DH","DH",8658917541,"PX",3,"Local system + LAAM","Local System",8303,0,null,223,8080,null,0,0,0,0,223,2.685776225460677E-2,223,0,0,223,null,null,null,8080,0.97314223774539321,0,0,0,0,0,0,0,0]
["1 Jul 2017 to 31 Jul 2017","DEPARTMENT OF HEALTH CIMS1","DH","DH",8658917541,"RXO",3,"MOE","Local System",17616,0,null,2168,15448,null,0,0,0,0,2168,0.12306993642143506,2168,0,0,2168,null,null,null,15448,0.87693006357856496,0,0,0,0,0,0,0,0]
["1 Jul 2017 to 31 Jul 2017","DEPARTMENT OF HEALTH CIMS1","DH","DH",8658917541,"LABMB",1,"Local system + LAAM","Local System",501,0,501,null,0,null,0,0,0,0,0,0,0,0,0,0,0,0,null,0,0,0,0,0,0,0,0,0,0]
["1 Jul 2017 to 31 Jul 2017","CANOSSA HOSPITAL (CARITAS)","CANNOSSA HOSPITAL","PH",8252506240,"ADR",3,"Local system","Local System",0,0,null,null,0,null,0,{"$error":"#DIV/0!"},0,0,0,{"$error":"#DIV/0!"},0,0,0,0,0,null,null,0,{"$error":"#DIV/0!"},0,{"$error":"#DIV/0!"},0,0,0,0,0,0]
["1 Jul 2017 to 31 Jul 2017","CANOSSA HOSPITAL (CARITAS)","CANNOSSA HOSPITAL","PH",8252506240,"AL1",3,"Local system","Local System",1,0,null,null,1,null,0,0,0,0,0,0,0,0,0,0,0,null,null,1,1,0,0,0,0,0,0,0,0]
["1 Jul 2017 to 31 Jul 2017","CHIRON HEALTHCARE GROUP LIMITED","CHIRON HEALTHCARE","GROUP",9451612824,"ADR","3,2","Local system","Local System",1,0,null,null,1,null,0,0,0,0,0,0,0,0,0,0,0,null,null,1,1,0,0,0,0,0,0,0,0]
["1 Jul 2017 to 31 Jul 2017","CHIRON HEALTHCARE GROUP LIMITED","CHIRON HEALTHCARE","GROUP",9451612824,"AL1","3,2","Local system","Local System",8,0,null,2,6,null,0,0,0,0,2,0.25,2,0,0,2,0,null,null,6,0.75,0,0,0,0,0,0,0,0]
["1 Jul 2017 to 31 Jul 2017","CHIRON HEALTHCARE GROUP LIMITED","CHIRON HEALTHCARE","GROUP",9451612824,"ENCTR",3,"Local system","Local System",143,0,null,null,143,null,0,0,0,0,0,0,null,null,null,null,null,null,null,143,1,0,0,0,0,0,0,0,0]
["1 Jul 2017 to 31 Jul 2017","CHIRON HEALTHCARE GROUP LIMITED","CHIRON HEALTHCARE","GROUP",9451612824,"IMMU","3,2","Local system","Local System",3,0,null,3,0,null,0,0,0,0,0,0,0,0,0,0,0,0,null,0,0,0,0,0,0,0,0,0,0]
["1 Jul 2017 to 31 Jul 2017","CHIRON HEALTHCARE GROUP LIMITED","CHIRON HEALTHCARE","GROUP",9451612824,"PROB","3,2","Local system","Local System",102,0,null,6,96,null,0,0,0,0,0,0,0,0,0,0,null,null,null,96,0.94117647058823528,0,0,0,0,0,0,0,0]
["1 Jul 2017 to 31 Jul 2017","CHIRON HEALTHCARE GROUP LIMITED","CHIRON HEALTHCARE","GROUP",9451612824,"RXD","3,2","Local system","Local System",157,0,null,7,150,null,0,0,0,0,0,0,0,0,0,0,null,null,null,150,0.95541401273885351,0,0,0,0,0,0,0,0]
["1 Jul 2017 to 31 Jul 2017","CHIRON HEALTHCARE GROUP LIMITED","CHIRON HEALTHCARE","GROUP",9451612824,"RXO","3,2","Local system","Local System",150,0,null,7,143,null,0,0,0,0,0,0,0,0,0,0,null,null,null,143,0.95333333333333337,0,0,0,0,0,0,0,0]
["1 Jul 2017 to 31 Jul 2017","DR WONG CHUN POR","DR CP WONG CLINIC","SOLO",5528991274,"ADR","3,2","Local system","Local System",1,0,null,null,1,null,0,0,0,0,0,0,0,0,0,0,0,null,null,1,1,0,0,0,0,0,0,0,0]
["1 Jul 2017 to 31 Jul 2017","DR WONG CHUN POR","DR CP WONG CLINIC","SOLO",5528991274,"AL1","3,2","Local system","Local System",4,0,null,null,4,null,0,0,0,0,0,0,0,0,0,0,0,null,null,4,1,0,0,0,0,0,0,0,0]
["1 Jul 2017 to 31 Jul 2017","DR WONG CHUN POR","DR CP WONG CLINIC","SOLO",5528991274,"ENCTR",3,"Local system","Local System",182,0,null,null,182,null,0,0,0,0,0,0,null,null,null,null,null,null,null,182,1,0,0,0,0,0,0,0,0]
["1 Jul 2017 to 31 Jul 2017","DR WONG CHUN POR","DR CP WONG CLINIC","SOLO",5528991274,"IMMU","3,2","Local system","Local System",3,0,null,null,3,null,0,0,0,0,0,0,0,0,0,0,0,0,null,3,1,0,0,0,0,0,0,0,0]
["1 Jul 2017 to 31 Jul 2017","DR WONG CHUN POR","DR CP WONG CLINIC","SOLO",5528991274,"PROB","3,2","Local system","Local System",425,0,null,2,423,null,0,0,0,0,0,0,0,0,0,0,null,null,null,423,0.99529411764705877,0,0,0,0,0,0,0,0]
["1 Jul 2017 to 31 Jul 2017","DR WONG CHUN POR","DR CP WONG CLINIC","SOLO",5528991274,"PX","3,2","Local system","Local System",0,0,null,null,0,null,0,{"$error":"#DIV/0!"},0,0,0,{"$error":"#DIV/0!"},0,0,0,0,null,null,null,0,{"$error":"#DIV/0!"},0,{"$error":"#DIV/0!"},0,0,0,0,0,0]
["1 Jul 2017 to 31 Jul 2017","DR WONG CHUN POR","DR CP WONG CLINIC","SOLO",5528991274,"RXD","3,2","Local system","Local System",348,0,null,13,335,null,0,0,0,0,0,0,0,0,0,0,null,null,null,335,0.96264367816091956,0,0,0,0,0,0,0,0]
["1 Jul 2017 to 31 Jul 2017","DR WONG CHUN POR","DR CP WONG CLINIC","SOLO",5528991274,"RXO","3,2","Local system","Local System",388,0,null,20,368,null,0,0,0,0,0,0,0,0,0,0,null,null,null,368,0.94845360824742264,0,0,0,0,0,0,0,0]
["1 Jul 2017 to 31 Jul 2017","DR. YEE YUK KEI","DR. YK YEE","SOLO",2310917092,"AL1","3,2","Local system","Local System",9,0,null,null,9,null,0,0,0,0,0,0,0,0,0,0,0,null,null,9,1,0,0,0,0,0,0,0,0]
["1 Jul 2017 to 31 Jul 2017","EVANGEL HOSPITAL","EVANGEL HOSPITAL","PH",2206285885,"ENCTR","3,2","Local system","Local System",863,0,null,null,863,null,0,0,0,0,0,0,null,null,null,null,null,null,null,863,1,0,0,0,0,0,0,0,0]
["1 Jul 2017 to 31 Jul 2017","EVANGEL HOSPITAL","EVANGEL HOSPITAL","PH",2206285885,"AL1","3,2","Local system","Local System",11,0,null,4,7,null,0,0,0,0,4,0.36363636363636365,4,0,0,4,0,null,null,7,0.63636363636363635,0,0,0,0,0,0,0,0]
["1 Jul 2017 to 31 Jul 2017","EVANGEL HOSPITAL","EVANGEL HOSPITAL","PH",2206285885,"ADR","3,2","Local system","Local System",7,0,null,1,6,null,0,0,0,0,1,0.14285714285714285,1,0,0,1,0,null,null,6,0.8571428571428571,0,0,0,0,0,0,0,0]
["1 Jul 2017 to 31 Jul 2017","EVANGEL HOSPITAL","EVANGEL HOSPITAL","PH",2206285885,"RXO","3,2","Local system","Local System",38,0,null,16,22,null,0,0,0,0,0,0,0,0,0,0,null,null,null,22,0.57894736842105265,0,0,0,0,0,0,0,0]
["1 Jul 2017 to 31 Jul 2017","HONG KONG ADVENTIST HOSPITAL - STUBBS ROAD","HK ADVENTIST - SR","PH",7029571085,"ADR",3,"Local system","Local System",0,0,null,null,0,null,0,{"$error":"#DIV/0!"},0,0,0,{"$error":"#DIV/0!"},0,0,0,0,0,null,null,0,{"$error":"#DIV/0!"},0,{"$error":"#DIV/0!"},0,0,0,0,0,0]
["1 Jul 2017 to 31 Jul 2017","HONG KONG ADVENTIST HOSPITAL - STUBBS ROAD","HK ADVENTIST - SR","PH",7029571085,"AL1",3,"Local system","Local System",3,0,null,null,3,null,0,0,0,0,0,0,0,0,0,0,0,null,null,3,1,0,0,0,0,0,0,0,0]
["1 Jul 2017 to 31 Jul 2017","HONG KONG ADVENTIST HOSPITAL - STUBBS ROAD","HK ADVENTIST - SR","PH",7029571085,"RAD",2,"Local system","Local System",63,0,null,63,0,null,0,0,0,0,0,0,0,0,0,0,0,0,null,0,0,0,0,0,0,0,0,0,0]
["1 Jul 2017 to 31 Jul 2017","HONG KONG ADVENTIST HOSPITAL - STUBBS ROAD","HK ADVENTIST - SR","PH",7029571085,"RXD",2,"Local system + LAAM","Local System",247,0,null,247,0,null,0,0,0,0,0,0,0,0,0,0,null,null,null,0,0,0,0,0,0,0,0,0,0]
["1 Jul 2017 to 31 Jul 2017","HONG KONG ADVENTIST HOSPITAL - STUBBS ROAD","HK ADVENTIST - SR","PH",7029571085,"ENCTR",3,"Local system + LAAM","Local System",1,0,null,null,1,null,0,0,0,0,0,0,null,null,null,null,null,null,null,1,1,0,0,0,0,0,0,0,0]
["1 Jul 2017 to 31 Jul 2017","HONG KONG ADVENTIST HOSPITAL - TSUEN WAN","HK ADVENTIST - TW","PH",8909436562,"ADR",3,"Local system","Local System",12,0,null,null,12,null,0,0,0,0,0,0,0,0,0,0,0,null,null,12,1,0,0,0,0,0,0,0,0]
["1 Jul 2017 to 31 Jul 2017","HONG KONG ADVENTIST HOSPITAL - TSUEN WAN","HK ADVENTIST - TW","PH",8909436562,"AL1",3,"Local system","Local System",63,0,null,20,43,null,0,0,0,0,19,0.30158730158730157,19,0,0,19,0,null,null,43,0.68253968253968256,0,0,0,0,0,0,0,0]
["1 Jul 2017 to 31 Jul 2017","HONG KONG ADVENTIST HOSPITAL - TSUEN WAN","HK ADVENTIST - TW","PH",8909436562,"ENCTR",3,"Local system + Adaptation","Local System",12,0,null,null,12,null,0,0,0,0,0,0,null,null,null,null,null,null,null,12,1,0,0,0,0,0,0,0,0]
["1 Jul 2017 to 31 Jul 2017","HONG KONG ADVENTIST HOSPITAL - TSUEN WAN","HK ADVENTIST - TW","PH",8909436562,"BIRTH",3,"Local system","Local System",3,0,null,null,3,null,0,0,0,0,0,0,null,null,null,null,null,null,null,3,1,0,0,0,0,0,0,0,0]
["1 Jul 2017 to 31 Jul 2017","HONG KONG ADVENTIST HOSPITAL - TSUEN WAN","HK ADVENTIST - TW","PH",8909436562,"RAD",2,"Local system","Local System",861,0,null,861,0,null,0,0,0,0,0,0,0,0,0,0,0,0,null,0,0,0,0,0,0,0,0,0,0]
["1 Jul 2017 to 31 Jul 2017","HONG KONG ADVENTIST HOSPITAL - TSUEN WAN","HK ADVENTIST - TW","PH",8909436562,"RXD",2,"Local system","Local System",2583,0,null,2583,0,null,0,0,0,0,0,0,0,0,0,0,null,null,null,0,0,0,0,0,0,0,0,0,0]
["1 Jul 2017 to 31 Jul 2017","HONG KONG BAPTIST HOSPITAL","HK BAPTIST HOSPITAL","PH",3650324540,"ENCTR",3,"Local system","Local System",44,0,null,null,44,null,0,0,null,null,0,0,null,null,null,null,null,null,null,44,1,0,0,0,0,0,0,0,0]
["1 Jul 2017 to 31 Jul 2017","HONG KONG BAPTIST HOSPITAL","HK BAPTIST HOSPITAL","PH",3650324540,"LABAP",1,"Local system + LAAM","Local System",281,0,281,null,0,null,0,0,0,0,0,0,null,0,0,null,null,0,null,0,0,0,0,0,0,0,0,0,0]
["1 Jul 2017 to 31 Jul 2017","HONG KONG BAPTIST HOSPITAL","HK BAPTIST HOSPITAL","PH",3650324540,"LABGEN",1,"Local system + LAAM","Local System",2924,3,2921,null,0,null,3,{"$f":"P905/J905","v":1.0259917920656635E-3},3,0,0,{"$f":"T905/J905","v":0},0,0,0,0,0,0,null,0,{"$f":"AC905/J905","v":0},0,{"$f":"AE905/J905","v":0},0,0,0,0,0,0]
["1 Jul 2017 to 31 Jul 2017","HONG KONG BAPTIST HOSPITAL","HK BAPTIST HOSPITAL","PH",3650324540,"LABMB",1,"Local system + LAAM","Local System",600,0,600,null,0,null,0,0,0,0,0,0,0,0,0,0,0,0,null,0,0,0,0,0,0,0,0,0,0]
["1 Jul 2017 to 31 Jul 2017","PRECIOUS BLOOD HOSPITAL (CARITAS)","PRECIOUS BLOOD HOSPITAL","PH",7002059678,"ADR",3,"Local system","Local System",2,0,null,2,0,null,0,0,0,0,2,1,2,0,0,2,0,null,null,0,0,0,0,0,0,0,0,0,0]
["1 Jul 2017 to 31 Jul 2017","PRECIOUS BLOOD HOSPITAL (CARITAS)","PRECIOUS BLOOD HOSPITAL","PH",7002059678,"AL1",3,"Local system","Local System",27,0,null,8,19,null,0,0,0,0,8,0.29629629629629628,8,0,0,8,0,null,null,19,0.70370370370370372,0,0,0,0,0,0,0,0]
["1 Jul 2017 to 31 Jul 2017","THE HONG KONG POLYTECHNIC UNIVERSITY","POLYU","HCAI",4578805814,"ENCTR",3,"Local system","Local System",253,0,null,null,253,null,0,0,0,0,0,0,null,null,null,null,null,null,null,51,0.20158102766798419,0,0,0,0,0,0,0,0]
["1 Jul 2017 to 31 Jul 2017","THE HONG KONG POLYTECHNIC UNIVERSITY","POLYU","HCAI",4578805814,"AL1",3,"Local system","Local System",3,0,null,1,2,null,0,0,0,0,1,0.33333333333333331,1,0,0,1,0,null,null,2,0.66666666666666663,0,0,0,0,0,0,0,0]
["1 Jul 2017 to 31 Jul 2017","ST. PAUL'S HOSPITAL","SPH","PH",5156724947,"ADR",3,"Local system","Local System",6,0,null,1,5,null,0,0,0,0,1,0.16666666666666666,1,0,0,1,0,null,null,5,0.83333333333333337,0,0,0,0,0,0,0,0]
["1 Jul 2017 to 31 Jul 2017","ST. PAUL'S HOSPITAL","SPH","PH",5156724947,"AL1",3,"Local system","Local System",59,0,null,25,34,null,0,0,0,0,24,0.40677966101694918,24,0,0,24,0,null,null,34,0.57627118644067798,0,0,0,0,0,0,0,0]
["1 Jul 2017 to 31 Jul 2017","ST. PAUL'S HOSPITAL","SPH","PH",5156724947,"ENCTR",3,"Local system + LAAM","Local System",5,0,null,null,5,null,0,0,null,null,0,0,null,null,null,null,null,null,null,253,50.6,0,0,0,0,0,0,0,0]
["1 Jul 2017 to 31 Jul 2017","ST.TERESA's HOSPITAL","STH","PH",7969980015,"ADR",3,"Local system","Local System",10,0,null,3,7,null,0,0,0,0,3,0.3,3,0,0,3,0,null,null,7,0.7,0,0,0,0,0,0,0,0]
["1 Jul 2017 to 31 Jul 2017","ST.TERESA's HOSPITAL","STH","PH",7969980015,"AL1",3,"Local system","Local System",101,0,null,39,62,null,0,0,0,0,42,0.41584158415841582,42,0,0,42,0,null,null,62,0.61386138613861385,0,0,0,0,0,0,0,0]
["1 Jul 2017 to 31 Jul 2017","ST.TERESA's HOSPITAL","STH","PH",7969980015,"BIRTH",3,"Local system + LAAM","Local System",2,0,null,null,2,null,0,0,0,0,0,0,null,null,null,null,null,null,null,2,1,0,0,0,0,0,0,0,0]
["1 Jul 2017 to 31 Jul 2017","TUNG WAH GROUP OF HOSPITALS","TUNG WAH GROUP. OF HOSPITALS","NGO",4471430786,"RAD",3,"Local system + LAAM","Local System",4,0,null,null,4,null,0,0,0,0,0,0,0,0,0,0,0,0,null,4,1,0,0,0,0,0,0,0,0]
["1 Jul 2017 to 31 Jul 2017","UNION HOSPITAL","UNION HOSPITAL","PH",5712620300,"ADR",3,"Local system","Local System",15,0,null,3,12,null,0,0,0,0,3,0.2,3,0,0,3,0,null,null,12,0.8,0,0,0,0,0,0,0,0]
["1 Jul 2017 to 31 Jul 2017","UNION HOSPITAL","UNION HOSPITAL","PH",5712620300,"AL1",3,"Local system","Local System",111,0,null,41,70,null,0,0,0,0,42,0.3783783783783784,42,0,0,42,0,null,null,70,0.63063063063063063,0,0,0,0,0,0,0,0]
["1 Jul 2017 to 31 Jul 2017","UNION HOSPITAL","UNION HOSPITAL","PH",5712620300,"ENCTR",3,"Local system","Local System",111,0,null,null,111,null,0,0,null,null,0,0,null,null,null,null,null,null,null,5,4.5045045045045043E-2,0,0,0,0,0,0,0,0]
["1 Jul 2017 to 31 Jul 2017","DIAGNOSTIX PATHOLOGY LABORATORIES LTD","DIAGNOSTIX","SOLO",3121494321,"LABAP",1,"Adaptation","Adaptaion",316,0,316,null,0,null,0,0,0,0,0,0,null,0,0,null,null,0,null,0,0,0,0,0,0,0,0,0,0]
["1 Jul 2017 to 31 Jul 2017","DIAGNOSTIX MEDICAL CENTRE LIMITED","DIAGNOSTIX MEDICAL","GROUP",4905639327,"LABGEN",3,"Adaptation","Adaptaion",4566,0,null,null,4566,null,0,0,0,0,0,0,0,0,0,0,0,0,null,4566,1,0,0,0,0,0,0,0,0]
["1 Jul 2017 to 31 Jul 2017","DR HO CHUNG PING","C.P. HO","SOLO",7889756707,"AL1",3,"HKMA (Mobigator + Message formatter)","Local System",0,0,null,null,0,null,0,{"$error":"#DIV/0!"},0,0,0,{"$error":"#DIV/0!"},0,0,0,0,0,null,null,0,{"$error":"#DIV/0!"},0,{"$error":"#DIV/0!"},0,0,0,0,0,0]
["1 Jul 2017 to 31 Jul 2017","DR HO CHUNG PING","C.P. HO","SOLO",7889756707,"ENCTR",3,"HKMA (Mobigator + Message formatter)","Local System",0,0,null,null,0,null,0,{"$error":"#DIV/0!"},0,0,0,{"$error":"#DIV/0!"},null,null,null,null,null,null,null,111,{"$error":"#DIV/0!"},0,{"$error":"#DIV/0!"},0,0,0,0,0,0]
["1 Jul 2017 to 31 Jul 2017","DR HO CHUNG PING","C.P. HO","SOLO",7889756707,"RXO",3,"HKMA (Mobigator + Message formatter)","Local System",240,0,null,240,0,null,0,0,0,0,0,0,0,0,0,0,0,null,null,0,0,0,0,0,0,0,0,0,0]
["1 Jul 2017 to 31 Jul 2017","Hong Kong Breast Cancer and Disease Centre Limited","HKBCADC","SOLO           ",9407305541,"AL1","2,3","OnRamp","Local System",{"$f":"SUM(K926:N926)","v":4},{"$f":"P926","v":0},null,null,4,null,{"$f":"SUM(R926:S926)","v":0},0,0,0,{"$f":"SUM(Y926:AA926)","v":0},0,0,0,0,0,0,null,null,4,1,0,0,0,0,0,0,0,0]
["1 Jul 2017 to 31 Jul 2017","Hong Kong Breast Cancer and Disease Centre Limited","HKBCADC","SOLO           ",9407305541,"ENCTR",3,"OnRamp","Local System",{"$f":"SUM(K927:N927)","v":51},{"$f":"P927","v":0},null,null,51,null,{"$f":"SUM(R927:S927)","v":0},0,0,0,{"$f":"SUM(Y927:AA927)","v":0},0,null,null,null,null,null,null,null,51,1,0,0,0,0,0,0,0,0]
["1 Jul 2017 to 31 Jul 2017","Hong Kong Breast Cancer and Disease Centre Limited","HKBCADC","SOLO           ",9407305541,"IMMU","2,3","OnRamp","Local System",{"$f":"SUM(K928:N928)","v":1},{"$f":"P928","v":0},null,null,1,null,{"$f":"SUM(R928:S928)","v":0},0,0,0,{"$f":"SUM(Y928:AA928)","v":0},0,0,0,0,0,0,0,null,1,1,0,0,0,0,0,0,0,0]
["1 Jul 2017 to 31 Jul 2017","Hong Kong Breast Cancer and Disease Centre Limited","HKBCADC","SOLO           ",9407305541,"RXD","2,3","OnRamp","Local System",{"$f":"SUM(K929:N929)","v":6},{"$f":"P929","v":0},null,4,2,null,{"$f":"SUM(R929:S929)","v":0},0,0,0,{"$f":"SUM(Y929:AA929)","v":0},0,0,0,0,0,0,null,null,2,0.33333333333333331,0,0,0,0,0,0,0,0]
["1 Jul 2017 to 31 Jul 2017","Hong Kong Breast Cancer and Disease Centre Limited","HKBCADC","SOLO           ",9407305541,"RXO","2,3","OnRamp","Local System",{"$f":"SUM(K930:N930)","v":6},{"$f":"P930","v":0},null,4,2,null,{"$f":"SUM(R930:S930)","v":0},0,0,0,{"$f":"SUM(Y930:AA930)","v":0},0,0,0,0,0,0,null,null,2,0.33333333333333331,0,0,0,0,0,0,0,0]
["1 Jul 2017 to 31 Jul 2017 Total",null,null,null,null,null,null,null,null,{"$f":"SUM(J862:J930)","v":81782},{"$f":"SUM(K862:K930)","v":3},{"$f":"SUM(L862:L930)","v":4619},{"$f":"SUM(M862:M930)","v":6878},{"$f":"SUM(N862:N930)","v":70282},null,{"$f":"SUM(P862:P930)","v":3},3.6682888655205302E-5,{"$f":"SUM(R862:R930)","v":3},{"$f":"SUM(S862:S930)","v":0},{"$f":"SUM(T862:T930)","v":2802},3.4261818003961754E-2,{"$f":"SUM(V862:V930)","v":2802},0,0,2802,0,0,null,{"$f":"SUM(AC862:AC930)","v":70333},0.86000586926218481,{"$f":"SUM(AE862:AE930)","v":0},0,{"$f":"SUM(AG862:AG930)","v":0},0,0,0,0,0]
["1 Aug 2017 to 31 Aug 2017","DEPARTMENT OF HEALTH CIMS1","DH","DH",8658917541,"ADR",3,"Local system","Local System",{"$f":"SUM(K932:N932)","v":98},0,null,7,91,null,{"$f":"SUM(R932:S932)","v":0},0,0,0,{"$f":"SUM(Y932:AA932)","v":7},7.1428571428571425E-2,7,0,0,7,0,null,null,91,0.9285714285714286,0,0,0,0,0,0,0,0]
["1 Aug 2017 to 31 Aug 2017","DEPARTMENT OF HEALTH CIMS1","DH","DH",8658917541,"AL1",3,"Local system","Local System",340,0,null,37,303,null,0,0,0,0,36,0.10588235294117647,36,0,0,36,0,null,null,303,0.89117647058823535,0,0,0,0,0,0,0,0]
["1 Aug 2017 to 31 Aug 2017","DEPARTMENT OF HEALTH CIMS1","DH","DH",8658917541,"ENCTR",3,"Local system + LAAM","Local System",22025,0,null,null,22025,null,0,0,0,0,0,0,null,null,null,null,null,null,null,22025,1,0,0,0,0,0,0,0,0]
["1 Aug 2017 to 31 Aug 2017","DEPARTMENT OF HEALTH CIMS1","DH","DH",8658917541,"IMMU",3,"Local system + LAAM","Local System",4378,0,null,3,4375,null,0,0,0,0,3,6.8524440383736871E-4,3,0,0,3,0,0,null,4375,0.99931475559616267,0,0,0,0,0,0,0,0]
["1 Aug 2017 to 31 Aug 2017","DEPARTMENT OF HEALTH CIMS1","DH","DH",8658917541,"PROB",3,"Local system + LAAM","Local System",9270,0,null,171,9099,null,0,0,0,0,172,1.8554476806903992E-2,172,0,0,172,null,null,null,9099,0.98155339805825248,0,0,0,0,0,0,0,0]
["1 Aug 2017 to 31 Aug 2017","DEPARTMENT OF HEALTH CIMS1","DH","DH",8658917541,"PX",3,"Local system + LAAM","Local System",7746,0,null,204,7542,null,0,0,0,0,204,2.6336173508907823E-2,204,0,0,204,null,null,null,7542,0.97366382649109218,0,0,0,0,0,0,0,0]
["1 Aug 2017 to 31 Aug 2017","DEPARTMENT OF HEALTH CIMS1","DH","DH",8658917541,"RXO",3,"MOE","Local System",13925,0,null,1798,12127,null,0,0,0,0,1798,0.12912028725314184,1798,0,0,1798,null,null,null,12127,0.87087971274685816,0,0,0,0,0,0,0,0]
["1 Aug 2017 to 31 Aug 2017","DEPARTMENT OF HEALTH CIMS1","DH","DH",8658917541,"LABMB",1,"Local system + LAAM","Local System",542,2,540,null,0,null,2,3.6900369003690036E-3,2,0,0,0,0,0,0,0,0,0,null,0,0,0,0,0,0,0,0,0,0]
["1 Aug 2017 to 31 Aug 2017","CANOSSA HOSPITAL (CARITAS)","CANNOSSA HOSPITAL","PH",8252506240,"ADR",3,"Local system","Local System",0,0,null,null,0,null,0,{"$error":"#DIV/0!"},0,0,0,{"$error":"#DIV/0!"},0,0,0,0,0,null,null,0,{"$error":"#DIV/0!"},0,{"$error":"#DIV/0!"},0,0,0,0,0,0]
["1 Aug 2017 to 31 Aug 2017","CANOSSA HOSPITAL (CARITAS)","CANNOSSA HOSPITAL","PH",8252506240,"AL1",3,"Local system","Local System",0,0,null,null,0,null,0,{"$error":"#DIV/0!"},0,0,0,{"$error":"#DIV/0!"},0,0,0,0,0,null,null,0,{"$error":"#DIV/0!"},0,{"$error":"#DIV/0!"},0,0,0,0,0,0]
["1 Aug 2017 to 31 Aug 2017","CHIRON HEALTHCARE GROUP LIMITED","CHIRON HEALTHCARE","GROUP",9451612824,"ADR","3,2","Local system","Local System",4,0,null,null,4,null,0,0,0,0,0,0,0,0,0,0,0,null,null,4,1,0,0,0,0,0,0,0,0]
["1 Aug 2017 to 31 Aug 2017","CHIRON HEALTHCARE GROUP LIMITED","CHIRON HEALTHCARE","GROUP",9451612824,"AL1","3,2","Local system","Local System",9,0,null,3,6,null,0,0,0,0,3,0.33333333333333331,3,0,0,3,0,null,null,6,0.66666666666666663,0,0,0,0,0,0,0,0]
["1 Aug 2017 to 31 Aug 2017","CHIRON HEALTHCARE GROUP LIMITED","CHIRON HEALTHCARE","GROUP",9451612824,"ENCTR",3,"Local system","Local System",157,0,null,null,157,null,0,0,0,0,0,0,null,null,null,null,null,null,null,157,1,0,0,0,0,0,0,0,0]
["1 Aug 2017 to 31 Aug 2017","CHIRON HEALTHCARE GROUP LIMITED","CHIRON HEALTHCARE","GROUP",9451612824,"IMMU","3,2","Local system","Local System",2,0,null,2,0,null,0,0,0,0,0,0,0,0,0,0,0,0,null,0,0,0,0,0,0,0,0,0,0]
["1 Aug 2017 to 31 Aug 2017","CHIRON HEALTHCARE GROUP LIMITED","CHIRON HEALTHCARE","GROUP",9451612824,"PROB","3,2","Local system","Local System",126,0,null,16,110,null,0,0,0,0,0,0,0,0,0,0,null,null,null,110,0.87301587301587302,0,0,0,0,0,0,0,0]
["1 Aug 2017 to 31 Aug 2017","CHIRON HEALTHCARE GROUP LIMITED","CHIRON HEALTHCARE","GROUP",9451612824,"RXD","3,2","Local system","Local System",152,0,null,3,149,null,0,0,0,0,0,0,0,0,0,0,null,null,null,149,0.98026315789473684,0,0,0,0,0,0,0,0]
["1 Aug 2017 to 31 Aug 2017","CHIRON HEALTHCARE GROUP LIMITED","CHIRON HEALTHCARE","GROUP",9451612824,"RXO","3,2","Local system","Local System",133,0,null,3,130,null,0,0,0,0,0,0,0,0,0,0,null,null,null,130,0.97744360902255634,0,0,0,0,0,0,0,0]
["1 Aug 2017 to 31 Aug 2017","DR WONG CHUN POR","DR CP WONG CLINIC","SOLO",5528991274,"ADR","3,2","Local system","Local System",1,0,null,null,1,null,0,0,0,0,0,0,0,0,0,0,0,null,null,1,1,0,0,0,0,0,0,0,0]
["1 Aug 2017 to 31 Aug 2017","DR WONG CHUN POR","DR CP WONG CLINIC","SOLO",5528991274,"AL1","3,2","Local system","Local System",6,0,null,null,6,null,0,0,0,0,0,0,0,0,0,0,0,null,null,6,1,0,0,0,0,0,0,0,0]
["1 Aug 2017 to 31 Aug 2017","DR WONG CHUN POR","DR CP WONG CLINIC","SOLO",5528991274,"ENCTR",3,"Local system","Local System",237,0,null,null,237,null,0,0,0,0,0,0,null,null,null,null,null,null,null,237,1,0,0,0,0,0,0,0,0]
["1 Aug 2017 to 31 Aug 2017","DR WONG CHUN POR","DR CP WONG CLINIC","SOLO",5528991274,"IMMU","3,2","Local system","Local System",1,0,null,1,0,null,0,0,0,0,0,0,0,0,0,0,0,0,null,0,0,0,0,0,0,0,0,0,0]
["1 Aug 2017 to 31 Aug 2017","DR WONG CHUN POR","DR CP WONG CLINIC","SOLO",5528991274,"PROB","3,2","Local system","Local System",538,0,null,1,537,null,0,0,0,0,0,0,0,0,0,0,null,null,null,537,0.9981412639405205,0,0,0,0,0,0,0,0]
["1 Aug 2017 to 31 Aug 2017","DR WONG CHUN POR","DR CP WONG CLINIC","SOLO",5528991274,"PX","3,2","Local system","Local System",0,0,null,null,0,null,0,{"$error":"#DIV/0!"},0,0,0,{"$error":"#DIV/0!"},0,0,0,0,null,null,null,null,{"$error":"#DIV/0!"},0,{"$error":"#DIV/0!"},0,0,0,0,0,0]
["1 Aug 2017 to 31 Aug 2017","DR WONG CHUN POR","DR CP WONG CLINIC","SOLO",5528991274,"RXD","3,2","Local system","Local System",506,0,null,38,468,null,0,0,0,0,0,0,0,0,0,0,null,null,null,468,0.92490118577075098,0,0,0,0,0,0,0,0]
["1 Aug 2017 to 31 Aug 2017","DR WONG CHUN POR","DR CP WONG CLINIC","SOLO",5528991274,"RXO","3,2","Local system","Local System",502,0,null,37,465,null,0,0,0,0,0,0,0,0,0,0,null,null,null,465,0.92629482071713143,0,0,0,0,0,0,0,0]
["1 Aug 2017 to 31 Aug 2017","DR. YEE YUK KEI","DR. YK YEE","SOLO",2310917092,"ADR","3,2","OnRamp","Local System",1,0,null,null,1,null,0,0,0,0,0,0,0,0,0,0,null,null,null,1,1,0,0,0,0,0,0,0,0]
["1 Aug 2017 to 31 Aug 2017","DR. YEE YUK KEI","DR. YK YEE","SOLO",2310917092,"AL1","3,2","Local system","Local System",3,0,null,null,3,null,0,0,0,0,0,0,0,0,0,0,0,null,null,3,1,0,0,0,0,0,0,0,0]
["1 Aug 2017 to 31 Aug 2017","EVANGEL HOSPITAL","EVANGEL HOSPITAL","PH",2206285885,"ENCTR","3,2","Local system","Local System",1330,0,null,null,1330,null,0,0,0,0,0,0,null,null,null,null,null,null,null,1330,1,0,0,0,0,0,0,0,0]
["1 Aug 2017 to 31 Aug 2017","EVANGEL HOSPITAL","EVANGEL HOSPITAL","PH",2206285885,"AL1","3,2","Local system","Local System",18,0,null,6,12,null,0,0,0,0,5,0.27777777777777779,5,0,0,5,0,null,null,12,0.66666666666666663,0,0,0,0,0,0,0,0]
["1 Aug 2017 to 31 Aug 2017","EVANGEL HOSPITAL","EVANGEL HOSPITAL","PH",2206285885,"ADR","3,2","Local system","Local System",4,0,null,2,2,null,0,0,0,0,2,0.5,2,0,0,2,0,null,null,2,0.5,0,0,0,0,0,0,0,0]
["1 Aug 2017 to 31 Aug 2017","EVANGEL HOSPITAL","EVANGEL HOSPITAL","PH",2206285885,"RXO","3,2","Local system","Local System",98,0,null,24,74,null,0,0,0,0,0,0,0,0,0,0,null,null,null,74,0.75510204081632648,0,0,0,0,0,0,0,0]
["1 Aug 2017 to 31 Aug 2017","HONG KONG ADVENTIST HOSPITAL - STUBBS ROAD","HK ADVENTIST - SR","PH",7029571085,"ADR",3,"Local system","Local System",1,0,null,null,1,null,0,0,0,0,0,0,0,0,0,0,0,null,null,1,1,0,0,0,0,0,0,0,0]
["1 Aug 2017 to 31 Aug 2017","HONG KONG ADVENTIST HOSPITAL - STUBBS ROAD","HK ADVENTIST - SR","PH",7029571085,"AL1",3,"Local system","Local System",4,0,null,null,4,null,0,0,0,0,0,0,0,0,0,0,0,null,null,4,1,0,0,0,0,0,0,0,0]
["1 Aug 2017 to 31 Aug 2017","HONG KONG ADVENTIST HOSPITAL - STUBBS ROAD","HK ADVENTIST - SR","PH",7029571085,"RAD",2,"Local system","Local System",26,0,null,26,0,null,0,0,0,0,0,0,0,0,0,0,0,0,null,0,0,0,0,0,0,0,0,0,0]
["1 Aug 2017 to 31 Aug 2017","HONG KONG ADVENTIST HOSPITAL - STUBBS ROAD","HK ADVENTIST - SR","PH",7029571085,"RXD",2,"Local system + LAAM","Local System",138,0,null,138,0,null,0,0,0,0,0,0,0,0,0,0,null,null,null,0,0,0,0,0,0,0,0,0,0]
["1 Aug 2017 to 31 Aug 2017","HONG KONG ADVENTIST HOSPITAL - STUBBS ROAD","HK ADVENTIST - SR","PH",7029571085,"ENCTR",3,"Local system + LAAM","Local System",0,0,null,null,0,null,0,{"$error":"#DIV/0!"},0,0,0,{"$error":"#DIV/0!"},null,null,null,null,null,null,null,0,{"$error":"#DIV/0!"},0,{"$error":"#DIV/0!"},0,0,0,0,0,0]
["1 Aug 2017 to 31 Aug 2017","HONG KONG ADVENTIST HOSPITAL - TSUEN WAN","HK ADVENTIST - TW","PH",8909436562,"ADR",3,"Local system","Local System",11,0,null,2,9,null,0,0,0,0,2,0.18181818181818182,2,0,0,2,0,null,null,9,0.81818181818181823,0,0,0,0,0,0,0,0]
["1 Aug 2017 to 31 Aug 2017","HONG KONG ADVENTIST HOSPITAL - TSUEN WAN","HK ADVENTIST - TW","PH",8909436562,"AL1",3,"Local system","Local System",54,0,null,14,40,null,0,{"$f":"P969/J969","v":0},0,0,12,{"$f":"T969/J969","v":0.22222222222222221},12,0,0,12,0,null,null,40,{"$f":"AC969/J969","v":0.7407407407407407},0,{"$f":"AE969/J969","v":0},0,0,0,0,0,0]
["1 Aug 2017 to 31 Aug 2017","HONG KONG ADVENTIST HOSPITAL - TSUEN WAN","HK ADVENTIST - TW","PH",8909436562,"ENCTR",3,"Local system + Adaptation","Local System",16,0,null,null,16,null,0,0,0,0,0,0,null,null,null,null,null,null,null,16,1,0,0,0,0,0,0,0,0]
["1 Aug 2017 to 31 Aug 2017","HONG KONG ADVENTIST HOSPITAL - TSUEN WAN","HK ADVENTIST - TW","PH",8909436562,"BIRTH",3,"Local system","Local System",0,0,null,null,0,null,0,{"$error":"#DIV/0!"},0,0,0,{"$error":"#DIV/0!"},null,null,null,null,null,null,null,0,{"$error":"#DIV/0!"},0,{"$error":"#DIV/0!"},0,0,0,0,0,0]
["1 Aug 2017 to 31 Aug 2017","HONG KONG ADVENTIST HOSPITAL - TSUEN WAN","HK ADVENTIST - TW","PH",8909436562,"RAD",2,"Local system","Local System",820,0,null,820,0,null,0,0,0,0,0,0,0,0,0,0,0,0,null,0,0,0,0,0,0,0,0,0,0]
["1 Aug 2017 to 31 Aug 2017","HONG KONG ADVENTIST HOSPITAL - TSUEN WAN","HK ADVENTIST - TW","PH",8909436562,"RXD",2,"Local system","Local System",2377,0,null,2377,0,null,0,0,0,0,0,0,0,0,0,0,null,null,null,0,0,0,0,0,0,0,0,0,0]
["1 Aug 2017 to 31 Aug 2017","HONG KONG BAPTIST HOSPITAL","HK BAPTIST HOSPITAL","PH",3650324540,"ENCTR",3,"Local system","Local System",53,0,null,null,53,null,0,0,0,0,0,0,null,null,null,null,null,null,null,53,1,0,0,0,0,0,0,0,0]
["1 Aug 2017 to 31 Aug 2017","HONG KONG BAPTIST HOSPITAL","HK BAPTIST HOSPITAL","PH",3650324540,"LABAP",1,"Local system + LAAM","Local System",301,1,300,null,0,null,1,3.3222591362126247E-3,1,0,0,0,null,0,0,null,null,null,null,0,0,0,0,0,0,0,0,0,0]
["1 Aug 2017 to 31 Aug 2017","HONG KONG BAPTIST HOSPITAL","HK BAPTIST HOSPITAL","PH",3650324540,"LABGEN",1,"Local system + LAAM","Local System",2982,7,2975,null,0,null,7,2.3474178403755869E-3,7,0,0,0,0,0,0,0,0,0,null,0,0,0,0,0,0,0,0,0,0]
["1 Aug 2017 to 31 Aug 2017","HONG KONG BAPTIST HOSPITAL","HK BAPTIST HOSPITAL","PH",3650324540,"LABMB",1,"Local system + LAAM","Local System",647,1,646,null,0,null,1,1.5455950540958269E-3,1,0,0,0,0,0,0,0,0,0,null,0,0,0,0,0,0,0,0,0,0]
["1 Aug 2017 to 31 Aug 2017","PRECIOUS BLOOD HOSPITAL (CARITAS)","PRECIOUS BLOOD HOSPITAL","PH",7002059678,"ADR",3,"Local system","Local System",5,0,null,1,4,null,0,0,0,0,1,0.2,1,0,0,1,0,null,null,4,0.8,0,0,0,0,0,0,0,0]
["1 Aug 2017 to 31 Aug 2017","PRECIOUS BLOOD HOSPITAL (CARITAS)","PRECIOUS BLOOD HOSPITAL","PH",7002059678,"AL1",3,"Local system","Local System",23,0,null,6,17,null,0,0,0,0,6,0.2608695652173913,6,0,0,6,0,null,null,17,0.73913043478260865,0,0,0,0,0,0,0,0]
["1 Aug 2017 to 31 Aug 2017","THE HONG KONG POLYTECHNIC UNIVERSITY","POLYU","HCAI",4578805814,"ENCTR",3,"Local system","Local System",529,0,null,null,529,null,0,0,0,0,0,0,null,null,null,null,null,null,null,529,1,0,0,0,0,0,0,0,0]
["1 Aug 2017 to 31 Aug 2017","THE HONG KONG POLYTECHNIC UNIVERSITY","POLYU","HCAI",4578805814,"AL1",3,"Local system","Local System",8,0,null,2,6,null,0,0,0,0,5,0.625,5,0,0,5,0,null,null,6,0.75,0,0,0,0,0,0,0,0]
["1 Aug 2017 to 31 Aug 2017","ST. PAUL'S HOSPITAL","SPH","PH",5156724947,"ADR",3,"Local system","Local System",6,0,null,null,6,null,0,0,0,0,3,0.5,3,0,0,3,0,null,null,6,1,0,0,0,0,0,0,0,0]
["1 Aug 2017 to 31 Aug 2017","ST. PAUL'S HOSPITAL","SPH","PH",5156724947,"AL1",3,"Local system","Local System",57,0,null,14,43,null,0,0,0,0,16,0.2807017543859649,16,0,0,16,0,null,null,43,0.75438596491228072,0,0,0,0,0,0,0,0]
["1 Aug 2017 to 31 Aug 2017","ST. PAUL'S HOSPITAL","SPH","PH",5156724947,"ENCTR",3,"Local system + LAAM","Local System",9,0,null,null,9,null,0,0,null,null,0,0,null,null,null,null,null,null,null,9,1,0,0,0,0,0,0,0,0]
["1 Aug 2017 to 31 Aug 2017","ST.TERESA's HOSPITAL","STH","PH",7969980015,"ADR",3,"Local system","Local System",13,0,null,1,12,null,0,0,0,0,1,7.6923076923076927E-2,1,0,0,1,0,null,null,12,0.92307692307692313,0,0,0,0,0,0,0,0]
["1 Aug 2017 to 31 Aug 2017","ST.TERESA's HOSPITAL","STH","PH",7969980015,"AL1",3,"Local system","Local System",123,0,null,43,80,null,0,0,0,0,45,0.36585365853658536,45,0,0,45,0,null,null,80,0.65040650406504064,0,0,0,0,0,0,0,0]
["1 Aug 2017 to 31 Aug 2017","ST.TERESA's HOSPITAL","STH","PH",7969980015,"BIRTH",3,"Local system + LAAM","Local System",3,0,null,null,3,null,0,0,0,0,0,0,null,null,null,null,null,null,null,3,1,0,0,0,0,0,0,0,0]
["1 Aug 2017 to 31 Aug 2017","TUNG WAH GROUP OF HOSPITALS","TUNG WAH GROUP. OF HOSPITALS","NGO",4471430786,"RAD",3,"Local system + LAAM","Local System",3,0,null,null,3,null,0,0,0,0,0,0,0,0,0,0,0,0,null,3,1,0,0,0,0,0,0,0,0]
["1 Aug 2017 to 31 Aug 2017","UNION HOSPITAL","UNION HOSPITAL","PH",5712620300,"ADR",3,"Local system","Local System",12,0,null,1,11,null,0,0,0,0,1,8.3333333333333329E-2,1,0,0,1,0,null,null,11,0.91666666666666663,0,0,0,0,0,0,0,0]
["1 Aug 2017 to 31 Aug 2017","UNION HOSPITAL","UNION HOSPITAL","PH",5712620300,"AL1",3,"Local system","Local System",111,0,null,52,59,null,0,0,0,0,53,0.47747747747747749,53,0,0,53,0,null,null,59,0.53153153153153154,0,0,0,0,0,0,0,0]
["1 Aug 2017 to 31 Aug 2017","UNION HOSPITAL","UNION HOSPITAL","PH",5712620300,"ENCTR",3,"Local system","Local System",111,0,null,null,111,null,0,0,null,null,0,0,null,null,null,null,null,null,null,111,1,0,0,0,0,0,0,0,0]
["1 Aug 2017 to 31 Aug 2017","DIAGNOSTIX PATHOLOGY LABORATORIES LTD","DIAGNOSTIX","SOLO",3121494321,"LABAP",1,"Adaptation","Adaptaion",310,0,310,null,0,null,0,0,0,0,0,0,null,0,0,null,null,0,null,0,0,0,0,0,0,0,0,0,0]
["1 Aug 2017 to 31 Aug 2017","DIAGNOSTIX MEDICAL CENTRE LIMITED","DIAGNOSTIX MEDICAL","GROUP",4905639327,"LABGEN",3,"Adaptation","Adaptaion",3428,0,null,null,3428,null,0,0,0,0,0,0,0,0,0,0,0,0,null,3428,1,0,0,0,0,0,0,0,0]
["1 Aug 2017 to 31 Aug 2017","DR HO CHUNG PING","C.P. HO","SOLO",7889756707,"AL1",3,"HKMA (Mobigator + Message formatter)","Local System",0,0,null,null,0,null,0,{"$error":"#DIV/0!"},0,0,0,{"$error":"#DIV/0!"},0,0,0,0,0,null,null,0,{"$error":"#DIV/0!"},0,{"$error":"#DIV/0!"},0,0,0,0,0,0]
["1 Aug 2017 to 31 Aug 2017","DR HO CHUNG PING","C.P. HO","SOLO",7889756707,"ENCTR",3,"HKMA (Mobigator + Message formatter)","Local System",5,0,null,null,5,null,0,0,0,0,0,0,null,null,null,null,null,null,null,5,1,0,0,0,0,0,0,0,0]
["1 Aug 2017 to 31 Aug 2017","DR HO CHUNG PING","C.P. HO","SOLO",7889756707,"RXO",3,"HKMA (Mobigator + Message formatter)","Local System",{"$f":"SUM(K996:N996)","v":0},0,null,null,0,null,{"$f":"SUM(R996:S996)","v":0},{"$error":"#DIV/0!"},0,0,{"$f":"SUM(Y996:AA996)","v":0},{"$error":"#DIV/0!"},0,0,0,0,0,null,null,0,{"$error":"#DIV/0!"},0,{"$error":"#DIV/0!"},0,0,0,0,0,0]
["1 Aug 2017 to 31 Aug 2017","Hong Kong Breast Cancer and Disease Centre Limited","HKBCADC","SOLO           ",9407305541,"AL1","2,3","OnRamp","Local System",0,0,null,null,0,null,0,{"$error":"#DIV/0!"},0,0,0,{"$error":"#DIV/0!"},0,0,0,0,0,null,null,0,{"$error":"#DIV/0!"},0,{"$error":"#DIV/0!"},0,0,0,0,0,0]
["1 Aug 2017 to 31 Aug 2017","Hong Kong Breast Cancer and Disease Centre Limited","HKBCADC","SOLO           ",9407305541,"ENCTR",3,"OnRamp","Local System",41,0,null,null,41,null,0,0,0,0,0,0,null,null,null,null,null,null,null,41,1,0,0,0,0,0,0,0,0]
["1 Aug 2017 to 31 Aug 2017","Hong Kong Breast Cancer and Disease Centre Limited","HKBCADC","SOLO           ",9407305541,"IMMU","2,3","OnRamp","Local System",0,0,null,null,0,null,0,{"$error":"#DIV/0!"},0,0,0,{"$error":"#DIV/0!"},0,0,0,0,0,0,null,0,{"$error":"#DIV/0!"},0,{"$error":"#DIV/0!"},0,0,0,0,0,0]
["1 Aug 2017 to 31 Aug 2017","Hong Kong Breast Cancer and Disease Centre Limited","HKBCADC","SOLO           ",9407305541,"RXD","2,3","OnRamp","Local System",4,0,null,1,3,null,0,0,0,0,0,0,0,0,0,0,0,null,null,3,0.75,0,0,0,0,0,0,0,0]
["1 Sep 2017 to 30 Sep 2017","CHIRON HEALTHCARE GROUP LIMITED","CHIRON HEALTHCARE","GROUP",9451612824,"RXO","3,2","Local system","Local System",172,0,null,13,159,null,0,0,0,0,0,0,0,0,0,0,null,null,null,159,0.92441860465116277,0,0,0,0,0,0,0,0]
["1 Sep 2017 to 30 Sep 2017","HONG KONG ADVENTIST HOSPITAL - STUBBS ROAD","HK ADVENTIST - SR","PH",7029571085,"ENCTR",3,"Local system + LAAM","Local System",0,0,null,null,0,null,0,{"$error":"#DIV/0!"},0,0,0,{"$error":"#DIV/0!"},null,null,null,null,null,null,null,0,{"$error":"#DIV/0!"},0,{"$error":"#DIV/0!"},0,0,0,0,0,0]
["1 Sep 2017 to 30 Sep 2017","THE HONG KONG POLYTECHNIC UNIVERSITY","POLYU","HCAI",4578805814,"AL1",3,"Local system","Local System",1,0,null,1,0,null,0,0,0,0,1,1,1,0,0,1,0,null,null,0,0,0,0,0,0,0,0,0,0]
["1 Oct 2017 to 31 Oct 2017","DEPARTMENT OF HEALTH CIMS1","DH","DH",8658917541,"LABMB",1,"Local system + LAAM","Local System",624,0,624,null,0,null,0,0,0,0,0,0,0,0,0,0,0,0,null,0,0,0,0,0,0,0,0,0,0]
["1 Oct 2017 to 31 Oct 2017","CHIRON HEALTHCARE GROUP LIMITED","CHIRON HEALTHCARE","GROUP",9451612824,"IMMU","3,2","Local system","Local System",5,0,null,2,3,null,0,0,0,0,0,0,0,0,0,0,0,0,null,3,0.6,0,0,0,0,0,0,0,0]
["1 Oct 2017 to 31 Oct 2017","PRECIOUS BLOOD HOSPITAL (CARITAS)","PRECIOUS BLOOD HOSPITAL","PH",7002059678,"AL1",3,"Local system","Local System",25,0,null,20,5,null,0,0,0,0,17,0.68,17,0,0,17,0,null,null,5,0.2,0,0,0,0,0,0,0,0]
["1 Oct 2017 to 31 Oct 2017","UNION HOSPITAL","UNION HOSPITAL","PH",5712620300,"AL1",3,"Local system","Local System",95,0,null,49,46,null,0,0,0,0,56,0.58947368421052626,56,0,0,56,0,null,null,46,0.48421052631578948,0,0,0,0,0,0,0,0]
["1 Nov 2017 to 30 Nov 2017","CHIRON HEALTHCARE GROUP LIMITED","CHIRON HEALTHCARE","GROUP",9451612824,"AL1","3,2","Local system","Local System",8,0,null,1,7,null,0,0,0,0,1,0.125,1,0,0,1,0,null,null,7,0.875,0,0,0,0,0,0,0,0]
["1 Nov 2017 to 30 Nov 2017","EVANGEL HOSPITAL","EVANGEL HOSPITAL","PH",2206285885,"ADR","3,2","Local system","Local System",7,0,null,2,5,null,0,0,0,0,2,0.2857142857142857,2,0,0,2,0,null,null,5,0.7142857142857143,0,0,0,0,0,0,0,0]
["1 Nov 2017 to 30 Nov 2017","TUNG WAH GROUP OF HOSPITALS","TUNG WAH GROUP. OF HOSPITALS","NGO",4471430786,"RAD",3,"Local system + LAAM","Local System",3,0,null,null,3,null,0,0,0,0,0,0,0,0,0,0,0,0,null,3,1,0,0,0,0,0,0,0,0]
["1 Dec 2017 to 31 Dec 2017","DEPARTMENT OF HEALTH CIMS1","DH","DH",8658917541,"ENCTR",3,"Local system + LAAM","Local System",36092,0,null,null,36092,null,0,0,0,0,0,0,null,null,null,null,null,null,null,36092,1,0,0,0,0,0,0,0,0]
["1 Dec 2017 to 31 Dec 2017","DR WONG CHUN POR","DR CP WONG CLINIC","SOLO",5528991274,"ENCTR",3,"Local system","Local System",233,0,null,null,233,null,0,0,0,0,0,0,null,null,null,null,null,null,null,233,1,0,0,0,0,0,0,0,0]
["1 Dec 2017 to 31 Dec 2017","HONG KONG ADVENTIST HOSPITAL - STUBBS ROAD","HK ADVENTIST - SR","PH",7029571085,"RAD",2,"Local system","Local System",22,0,null,22,0,null,0,0,0,0,0,0,0,0,0,0,0,0,null,0,0,0,0,0,0,0,0,0,0]
["1 Dec 2017 to 31 Dec 2017","PRECIOUS BLOOD HOSPITAL (CARITAS)","PRECIOUS BLOOD HOSPITAL","PH",7002059678,"AL1",3,"Local system","Local System",37,0,null,15,22,null,0,0,0,0,12,0.32432432432432434,12,0,0,12,0,null,null,22,0.59459459459459463,0,0,0,0,0,0,0,0]
["1 Dec 2017 to 31 Dec 2017","DR HO CHUNG PING","C.P. HO","SOLO",7889756707,"ENCTR",3,"HKMA (Mobigator + Message formatter)","Local System",11,0,null,null,11,null,0,0,0,0,0,0,null,null,null,null,null,null,null,11,1,0,0,0,0,0,0,0,0]
["1 Jan 2018 to 31 Jan 2018","DR. YEE YUK KEI","DR. YK YEE","SOLO",2310917092,"AL1","3,2","Local system","Local System",1,0,null,0,1,null,0,0,0,0,0,0,0,0,0,0,0,null,null,1,1,0,0,0,0,0,0,0,0]
["1 Jan 2018 to 31 Jan 2018","HONG KONG ADVENTIST HOSPITAL - TSUEN WAN","HK ADVENTIST - TW","PH",8909436562,"RXD",2,"Local system","Local System",3747,0,null,3747,0,null,0,0,0,0,0,0,0,0,0,0,null,null,null,0,0,0,0,0,0,0,0,0,0]
["1 Jan 2018 to 31 Jan 2018","ST.TERESA's HOSPITAL","STH","PH",7969980015,"ADR",3,"Local system","Local System",10,0,null,1,9,null,0,0,0,0,1,0.1,1,0,0,1,0,null,null,9,0.9,0,0,0,0,0,0,0,0]
["1 Jan 2018 to 31 Jan 2018","HKSH Medical Group Limited","HKSH MEDICAL FROUP","PH",4773496701,"LABGEN",1,"Local system","Local System",702,0,702,null,0,null,0,0,0,0,0,0,0,0,0,null,null,0,null,0,0,0,0,0,0,0,0,0,0]
["1 Feb 2018 to 28 Feb 2018","EVANGEL HOSPITAL","EVANGEL HOSPITAL","PH",2206285885,"RXO","3,2","Local system","Local System",104,0,null,23,81,null,0,0,0,0,0,0,0,0,0,0,null,null,null,81,0.77884615384615385,0,0,0,0,0,0,0,0]
["1 Feb 2018 to 28 Feb 2018","HONG KONG BAPTIST HOSPITAL","HK BAPTIST HOSPITAL","PH",3650324540,"RAD",2,"Local system + LAAM","Local System",1063,0,null,1063,0,null,0,0,0,0,0,0,null,null,null,null,null,0,null,0,0,0,0,0,0,0,0,0,0]
["1 Feb 2018 to 28 Feb 2018","THE HONG KONG POLYTECHNIC UNIVERSITY","POLYU","HCAI",4578805814,"AL1",3,"Local system","Local System",2,0,null,null,2,null,0,0,0,0,0,0,0,0,0,0,0,null,null,2,1,0,0,0,0,0,0,0,0]
["1 Feb 2018 to 28 Feb 2018 Total",null,null,null,null,null,null,null,null,{"$f":"SUM(J1393:J1475)","v":113478},{"$f":"SUM(K1393:K1475)","v":15},{"$f":"SUM(L1393:L1475)","v":15169},{"$f":"SUM(M1393:M1475)","v":9324},{"$f":"SUM(N1393:N1475)","v":88970},null,{"$f":"SUM(P1393:P1475)","v":15},1.3218421191772854E-4,{"$f":"SUM(R1393:R1475)","v":15},{"$f":"SUM(S1393:S1475)","v":0},{"$f":"SUM(T1393:T1475)","v":3806},3.3539540703924987E-2,{"$f":"SUM(V1393:V1475)","v":3802},4,0,3806,0,0,null,{"$f":"SUM(AC1393:AC1475)","v":88970},0.78402862228802062,{"$f":"SUM(AE1393:AE1475)","v":0},0,{"$f":"SUM(AG1393:AG1475)","v":0},0,0,0,0,0]
["1 Mar 2018 to 31 Mar 2018","CHIRON HEALTHCARE GROUP LIMITED","CHIRON HEALTHCARE","GROUP",9451612824,"ENCTR",3,"Local system","Local System",348,0,null,null,348,null,0,0,0,0,0,0,null,null,null,null,null,null,null,348,1,0,0,0,0,0,0,0,0]
["1 Mar 2018 to 31 Mar 2018","HONG KONG ADVENTIST HOSPITAL - TSUEN WAN","HK ADVENTIST - TW","PH",8909436562,"RXD",2,"Local system","Local System",4440,0,null,4440,0,null,0,0,0,0,0,0,0,0,0,0,null,null,null,0,0,0,0,0,0,0,0,0,0]
["1 Mar 2018 to 31 Mar 2018","DIAGNOSTIX PATHOLOGY LABORATORIES LTD","DIAGNOSTIX","SOLO",3121494321,"LABAP",1,"Adaptation","Adaptaion",592,0,592,null,0,null,0,0,0,0,0,0,null,0,0,null,null,0,null,0,0,0,0,0,0,0,0,0,0]
["1 Apr 2018 to 31 Apr 2018","DEPARTMENT OF HEALTH CIMS1","DH","DH",8658917541,"AL1",3,"Local system","Local System",376,0,null,50,326,null,0,0,0,0,49,0.13031914893617022,49,0,0,49,0,null,null,326,0.86702127659574468,0,0,0,0,0,0,0,0]
["1 Apr 2018 to 31 Apr 2018","CHIRON HEALTHCARE GROUP LIMITED","CHIRON HEALTHCARE","GROUP",9451612824,"IMMU","3,2","Local system","Local System",1,0,null,1,0,null,0,0,0,0,0,0,0,0,0,0,0,0,null,0,0,0,0,0,0,0,0,0,0]
["1 Apr 2018 to 31 Apr 2018","ST. PAUL'S HOSPITAL","SPH","PH",5156724947,"ADR",3,"Local system","Local System",16,0,null,4,12,null,0,0,0,0,4,0.25,4,0,0,4,0,null,null,12,0.75,0,0,0,0,0,0,0,0]
["1 Apr 2018 to 31 Apr 2018","DR HO CHUNG PING","C.P. HO","SOLO",7889756707,"RXD","3,2","HKMA (Mobigator + Message formatter)","Local System",0,0,null,null,0,null,0,{"$error":"#DIV/0!"},0,0,0,{"$error":"#DIV/0!"},0,0,0,0,0,null,null,0,{"$error":"#DIV/0!"},0,{"$error":"#DIV/0!"},0,0,0,0,0,0]
["1 May 2018 to 31 May 2018","DEPARTMENT OF HEALTH CIMS1","DH","DH",8658917541,"PX",3,"Local system + LAAM","Local System",20167,0,null,491,19676,null,0,0,0,0,491,2.434670501314028E-2,491,0,0,491,null,null,null,19676,0.97565329498685971,0,0,0,0,0,0,0,0]
["1 May 2018 to 31 May 2018","DR WONG CHUN POR","DR CP WONG CLINIC","SOLO",5528991274,"ENCTR",3,"Local system","Local System",272,0,null,null,272,null,0,0,0,0,0,0,null,null,null,null,null,null,null,272,1,0,0,0,0,0,0,0,0]
["1 May 2018 to 31 May 2018","HONG KONG ADVENTIST HOSPITAL - TSUEN WAN","HK ADVENTIST - TW","PH",8909436562,"ADR",3,"Local system","Local System",6,0,null,null,6,null,0,0,0,0,0,0,0,0,0,0,0,null,null,6,1,0,0,0,0,0,0,0,0]
["1 May 2018 to 31 May 2018","ST. PAUL'S HOSPITAL","SPH","PH",5156724947,"AL1",3,"Local system","Local System",103,0,null,40,63,null,0,0,0,0,36,0.34951456310679613,36,0,0,36,0,null,null,63,0.61165048543689315,0,0,0,0,0,0,0,0]
["1 Jun 2018 to 30 Jun 2018","DEPARTMENT OF HEALTH CIMS1","DH","DH",8658917541,"LABMB",1,"Local system + LAAM","Local System",1167,1,1166,null,0,null,1,8.5689802913453304E-4,1,0,0,0,0,0,0,0,0,0,null,0,0,0,0,0,0,0,0,0,0]
["1 Jun 2018 to 30 Jun 2018","DR WONG CHUN POR","DR CP WONG CLINIC","SOLO",5528991274,"RXD","3,2","Local system","Local System",558,0,null,15,543,null,0,0,0,0,0,0,0,0,0,0,null,null,null,543,0.9731182795698925,0,0,0,0,0,0,0,0]
["1 Jun 2018 to 30 Jun 2018","HONG KONG BAPTIST HOSPITAL","HK BAPTIST HOSPITAL","PH",3650324540,"ENCTR",3,"Local system","Local System",55,0,null,null,55,null,0,0,0,0,0,0,null,null,null,null,null,null,null,55,1,0,0,0,0,0,0,0,0]
["1 Jun 2018 to 30 Jun 2018","ST. PAUL'S HOSPITAL","SPH","PH",5156724947,"RAD",3,"Local system + LAAM","Local System",203,0,null,null,203,null,0,0,0,0,0,0,0,0,0,0,0,null,null,203,1,0,0,0,0,0,0,0,0]
["1 Jul 2018 to 31 Jul 2018","DEPARTMENT OF HEALTH CIMS1","DH","DH",8658917541,"LABAP",1,"Local system + LAAM","Local System",12,0,12,null,0,null,0,0,0,0,0,0,0,0,0,0,0,0,null,0,0,0,0,0,0,0,0,0,0]
["1 Jul 2018 to 31 Jul 2018","CANOSSA HOSPITAL (CARITAS)","CANNOSSA HOSPITAL","PH",8252506240,"AL1",3,"Local system","Local System",4,0,null,2,2,null,0,0,0,0,0,0,0,0,0,0,0,null,null,2,0.5,2,0.5,0,0,0,2,0,0]
["1 Jul 2018 to 31 Jul 2018","HONG KONG ADVENTIST HOSPITAL - TSUEN WAN","HK ADVENTIST - TW","PH",8909436562,"ENCTR",3,"Local system + Adaptation","Local System",18,0,null,null,18,null,0,0,0,0,0,0,null,null,null,null,null,null,null,18,1,0,0,0,0,0,0,0,0]
["1 Jul 2018 to 31 Jul 2018","ST. PAUL'S HOSPITAL","SPH","PH",5156724947,"AL1",3,"Local system","Local System",76,0,null,31,45,null,0,0,0,0,42,0.55263157894736847,42,0,0,42,0,null,null,45,0.59210526315789469,0,0,0,0,0,0,0,0]
["1 Aug 2018 to 31 Aug 2018","DEPARTMENT OF HEALTH CIMS1","DH","DH",8658917541,"AL1",3,"Local system","Local System",840,0,null,134,706,null,0,0,0,0,128,0.15238095238095239,128,0,0,128,0,null,null,706,0.84047619047619049,0,0,0,0,0,0,0,0]
["1 Aug 2018 to 31 Aug 2018","DR WONG CHUN POR","DR CP WONG CLINIC","SOLO",5528991274,"PX","3,2","Local system","Local System",0,0,null,0,0,null,0,{"$error":"#DIV/0!"},0,0,0,{"$error":"#DIV/0!"},0,0,0,0,null,null,null,0,{"$error":"#DIV/0!"},0,{"$error":"#DIV/0!"},0,0,0,0,0,0]
["1 Aug 2018 to 31 Aug 2018","HONG KONG ADVENTIST HOSPITAL - STUBBS ROAD","HK ADVENTIST - SR","PH",7029571085,"BIRTH",3,"Local system + LAAM","Local System",0,0,null,null,0,null,0,{"$error":"#DIV/0!"},0,0,0,{"$error":"#DIV/0!"},0,0,0,0,0,null,null,0,{"$error":"#DIV/0!"},0,{"$error":"#DIV/0!"},0,0,0,0,0,0]
["1 Aug 2018 to 31 Aug 2018","THE HONG KONG POLYTECHNIC UNIVERSITY","POLYU","HCAI",4578805814,"ENCTR",3,"Local system","Local System",438,0,null,null,438,null,0,0,0,0,0,0,null,null,null,null,null,null,null,438,1,0,0,0,0,0,0,0,0]
["1 Aug 2018 to 31 Aug 2018","DR HO CHUNG PING","C.P. HO","SOLO",7889756707,"ENCTR",3,"HKMA (Mobigator + Message formatter)","Local System",0,0,null,null,0,null,0,{"$error":"#DIV/0!"},0,0,0,{"$error":"#DIV/0!"},null,null,null,null,null,null,null,0,{"$error":"#DIV/0!"},0,{"$error":"#DIV/0!"},0,0,0,0,0,0]
["1 Sep 2018 to 30 Sep 2018","DR WONG CHUN POR","DR CP WONG CLINIC","SOLO",5528991274,"ENCTR",3,"Local system","Local System",334,0,null,null,334,null,0,0,0,0,0,0,null,null,null,null,null,null,null,334,1,0,0,0,0,0,0,0,0]
["1 Sep 2018 to 30 Sep 2018","HONG KONG ADVENTIST HOSPITAL - STUBBS ROAD","HK ADVENTIST - SR","PH",7029571085,"BIRTH",3,"Local system + LAAM","Local System",0,0,null,null,0,null,0,{"$error":"#DIV/0!"},0,0,0,{"$error":"#DIV/0!"},0,0,0,0,0,null,null,0,{"$error":"#DIV/0!"},0,{"$error":"#DIV/0!"},0,0,0,0,0,0]
["1 Sep 2018 to 30 Sep 2018","ST. PAUL'S HOSPITAL","SPH","PH",5156724947,"ADR",3,"Local system","Local System",14,0,null,2,12,null,0,0,0,0,2,0.14285714285714285,2,0,0,2,0,null,null,12,0.8571428571428571,0,0,0,0,0,0,0,0]
["1 Sep 2018 to 30 Sep 2018","DR HO CHUNG PING","C.P. HO","SOLO",7889756707,"RXO",3,"HKMA (Mobigator + Message formatter)","Local System",0,0,null,null,0,null,0,{"$error":"#DIV/0!"},0,0,0,{"$error":"#DIV/0!"},0,0,0,0,0,null,null,0,{"$error":"#DIV/0!"},0,{"$error":"#DIV/0!"},0,0,0,0,0,0]
["1 Oct 2018 to 31 Oct 2018","DEPARTMENT OF HEALTH CIMS1","DH","DH",8658917541,"PROB",3,"Local system + LAAM","Local System",28164,0,null,573,27591,null,0,0,0,0,583,2.070018463286465E-2,583,0,0,583,null,null,null,27591,0.97965487856838518,1,3.550632012498225E-5,0,1,0,0,0,0]
["1 Oct 2018 to 31 Oct 2018","HONG KONG ADVENTIST HOSPITAL - STUBBS ROAD","HK ADVENTIST - SR","PH",7029571085,"LABGEN",3,"Local system + LAAM","Local System",68,0,null,16,52,null,0,0,0,0,16,0.23529411764705882,16,0,0,16,0,null,null,52,0.76470588235294112,0,0,0,0,0,0,0,0]
["1 Oct 2018 to 31 Oct 2018","ST. PAUL'S HOSPITAL","SPH","PH",5156724947,"AL1",3,"Local system","Local System",114,0,null,45,69,null,0,0,0,0,51,0.44736842105263158,51,0,0,51,0,null,null,69,0.60526315789473684,0,0,0,0,0,0,0,0]
["1 Oct 2018 to 31 Oct 2018","Hong Kong Breast Cancer and Disease Centre Limited","HKBCADC","SOLO           ",9407305541,"AL1","2,3","OnRamp","Local System",1,0,null,0,1,null,0,0,0,0,0,0,0,0,0,0,0,null,null,1,1,0,0,0,0,0,0,0,0]
["1 Nov 2018 to 30 Nov 2018","DEPARTMENT OF HEALTH CIMS1","DH","DH",8658917541,"PROB",3,"Local system + LAAM","Local System",33654,0,null,732,32922,null,0,0,0,0,729,2.1661615261187376E-2,729,0,0,729,null,null,null,32922,0.97824924228917809,8,2.3771319902537587E-4,0,8,0,0,0,0]
["1 Nov 2018 to 30 Nov 2018","CHIRON HEALTHCARE GROUP LIMITED","CHIRON HEALTHCARE","GROUP",9451612824,"RXO","3,2","Local system","Local System",0,0,null,0,0,null,0,{"$error":"#DIV/0!"},0,0,0,{"$error":"#DIV/0!"},0,0,0,0,null,null,null,0,{"$error":"#DIV/0!"},0,{"$error":"#DIV/0!"},0,0,0,0,0,0]
["1 Nov 2018 to 30 Nov 2018","HONG KONG ADVENTIST HOSPITAL - TSUEN WAN","HK ADVENTIST - TW","PH",8909436562,"AL1",3,"Local system","Local System",100,0,null,22,78,null,0,0,0,0,20,0.2,20,0,0,20,0,null,null,78,0.78,0,0,0,0,0,0,0,0]
["1 Nov 2018 to 30 Nov 2018","DIAGNOSTIX MEDICAL CENTRE LIMITED","DIAGNOSTIX MEDICAL","GROUP",4905639327,"LABGEN",3,"Adaptation","Adaptaion",13408,0,null,null,13408,null,0,0,0,0,0,0,0,0,0,0,0,0,null,13408,1,0,0,0,0,0,0,0,0]
["1 Nov 2018 to 30 Nov 2018","HKSH Medical Group Limited","HKSH MEDICAL FROUP","PH",4773496701,"LABGEN",1,"Local system","Local System",1917,0,1917,null,null,null,0,0,0,0,0,0,0,0,0,0,0,0,null,0,0,0,0,0,0,0,0,0,0]
["1 Dec 2018 to 31 Dec 2018","DR WONG CHUN POR","DR CP WONG CLINIC","SOLO",5528991274,"PX","3,2","Local system","Local System",0,0,null,0,0,null,0,{"$error":"#DIV/0!"},0,0,0,{"$error":"#DIV/0!"},0,0,0,0,null,null,null,0,{"$error":"#DIV/0!"},0,{"$error":"#DIV/0!"},0,0,0,0,0,0]
["1 Dec 2018 to 31 Dec 2018","EVANGEL HOSPITAL","EVANGEL HOSPITAL","PH",2206285885,"ADR","3,2","Local system","Local System",0,0,null,0,0,null,0,{"$error":"#DIV/0!"},0,0,0,{"$error":"#DIV/0!"},0,0,0,0,0,null,null,0,{"$error":"#DIV/0!"},0,{"$error":"#DIV/0!"},0,0,0,0,0,0]
["1 Dec 2018 to 31 Dec 2018","UNION HOSPITAL","UNION HOSPITAL","PH",5712620300,"ADR",3,"Local system","Local System",10,0,null,3,7,null,0,0,0,0,3,0.3,3,0,0,3,0,null,null,7,0.7,0,0,0,0,0,0,0,0]
["1 Dec 2018 to 31 Dec 2018","Hong Kong Breast Cancer and Disease Centre Limited","HKBCADC","SOLO           ",9407305541,"IMMU","2,3","OnRamp","Local System",0,0,null,0,0,null,0,{"$error":"#DIV/0!"},0,0,0,{"$error":"#DIV/0!"},0,0,0,0,0,0,null,0,{"$error":"#DIV/0!"},0,{"$error":"#DIV/0!"},0,0,0,0,0,0]
["1 Jan 2019 to 31 Jan 2019","CANOSSA HOSPITAL (CARITAS)","CANNOSSA HOSPITAL","PH",8252506240,"AL1",3,"Local system","Local System",2,0,null,null,2,null,0,0,0,0,0,0,0,0,0,0,0,null,null,2,1,0,0,0,0,0,0,0,0]
["1 Jan 2019 to 31 Jan 2019","DR WONG CHUN POR","DR CP WONG CLINIC","SOLO",5528991274,"RXD","3,2","Local system","Local System",817,0,null,10,807,null,0,0,0,0,0,0,0,0,0,0,null,null,null,807,0.9877600979192166,0,0,0,0,0,0,0,0]
["1 Jan 2019 to 31 Jan 2019","ST.TERESA's HOSPITAL","STH","PH",7969980015,"BIRTH",3,"Local system + LAAM","Local System",5,0,null,null,5,null,0,0,0,0,0,0,null,null,null,null,null,null,null,5,1,0,0,0,0,0,0,0,0]
["1 Jan 2019 to 31 Jan 2019","Hong Kong Breast Cancer and Disease Centre Limited","HKBCADC","SOLO           ",9407305541,"ENCTR",3,"OnRamp","Local System",146,0,null,null,146,null,0,0,0,0,0,0,null,null,null,null,null,null,null,146,1,0,0,0,0,0,0,0,0]
["1 Feb 2019 to 28 Feb 2019","DEPARTMENT OF HEALTH CIMS1","DH","DH",8658917541,"PX",3,"Local system + LAAM","Local System",40697,0,null,728,39969,null,0,0,0,0,728,1.7888296434626631E-2,728,0,0,728,null,null,null,39969,0.98211170356537336,0,0,0,0,0,0,0,0]
["1 Feb 2019 to 28 Feb 2019","DR WONG CHUN POR","DR CP WONG CLINIC","SOLO",5528991274,"PX","3,2","Local system","Local System",0,0,null,0,0,null,0,{"$error":"#DIV/0!"},0,0,0,{"$error":"#DIV/0!"},0,0,0,0,null,null,null,0,{"$error":"#DIV/0!"},0,{"$error":"#DIV/0!"},0,0,0,0,0,0]
["1 Feb 2019 to 28 Feb 2019","HONG KONG ADVENTIST HOSPITAL - STUBBS ROAD","HK ADVENTIST - SR","PH",7029571085,"ENCTR",3,"Local system + LAAM","Local System",126,0,null,null,126,null,0,0,0,0,0,0,null,null,null,null,null,null,null,126,1,0,0,0,0,0,0,0,0]
["1 Feb 2019 to 28 Feb 2019","DR HO CHUNG PING","C.P. HO","SOLO",7889756707,"RXO",3,"HKMA (Mobigator + Message formatter)","Local System",0,0,null,null,0,null,0,{"$error":"#DIV/0!"},0,0,0,{"$error":"#DIV/0!"},0,0,0,0,0,null,null,0,{"$error":"#DIV/0!"},0,{"$error":"#DIV/0!"},0,0,0,0,0,0]
["1 Mar 2019 to 31 Mar 2019","DEPARTMENT OF HEALTH CIMS1","DH","DH",8658917541,"IMMU",3,"Local system + LAAM","Local System",13814,0,null,4,13810,null,0,0,0,0,4,2.895613146083683E-4,4,0,0,4,0,0,null,13810,0.99971043868539167,0,0,0,0,0,0,0,0]
["1 Mar 2019 to 31 Mar 2019","CHIRON HEALTHCARE GROUP LIMITED","CHIRON HEALTHCARE","GROUP",9451612824,"ADR","3,2","Local system","Local System",3,0,null,0,3,null,0,0,0,0,0,0,0,0,0,0,0,null,null,3,1,0,0,0,0,0,0,0,0]
["1 Mar 2019 to 31 Mar 2019","EVANGEL HOSPITAL","EVANGEL HOSPITAL","PH",2206285885,"ENCTR","3,2","Local system","Local System",19,0,null,null,19,null,0,0,0,0,0,0,null,null,null,null,null,null,null,19,1,0,0,0,0,0,0,0,0]
["1 Mar 2019 to 31 Mar 2019","PRECIOUS BLOOD HOSPITAL (CARITAS)","PRECIOUS BLOOD HOSPITAL","PH",7002059678,"AL1",3,"Local system","Local System",47,0,null,12,35,null,0,0,0,0,12,0.25531914893617019,12,0,0,12,0,null,null,35,0.74468085106382975,0,0,0,0,0,0,0,0]
["1 Mar 2019 to 31 Mar 2019","Hong Kong Breast Cancer and Disease Centre Limited","HKBCADC","SOLO           ",9407305541,"PX","2,3","OnRamp","Local System",0,0,null,0,0,null,0,{"$error":"#DIV/0!"},0,0,0,{"$error":"#DIV/0!"},0,0,0,0,0,0,null,0,{"$error":"#DIV/0!"},0,{"$error":"#DIV/0!"},0,0,0,0,0,0]
["1 Apr 2019 to 30 Apr 2019","DEPARTMENT OF HEALTH CIMS1","DH","DH",8658917541,"PX",3,"Local system + LAAM","Local System",46426,0,null,949,45477,null,0,0,0,0,863,1.8588721836901734E-2,863,0,0,863,null,null,null,45477,0.9795588678757593,86,1.852410287338991E-3,0,86,0,0,0,0]
["1 Apr 2019 to 30 Apr 2019","EVANGEL HOSPITAL","EVANGEL HOSPITAL","PH",2206285885,"AL1","3,2","Local system","Local System",0,0,null,0,0,null,0,{"$error":"#DIV/0!"},0,0,0,{"$error":"#DIV/0!"},0,0,0,0,0,null,null,0,{"$error":"#DIV/0!"},0,{"$error":"#DIV/0!"},0,0,0,0,0,0]
["1 Apr 2019 to 30 Apr 2019","HONG KONG ADVENTIST HOSPITAL - STUBBS ROAD","HK ADVENTIST - SR","PH",7029571085,"ENCTR",3,"Local system + LAAM","Local System",166,0,null,null,166,null,0,0,0,0,0,0,null,null,null,null,null,null,null,166,1,0,0,0,0,0,0,0,0]
["1 Apr 2019 to 30 Apr 2019","DIAGNOSTIX PATHOLOGY LABORATORIES LTD","DIAGNOSTIX","SOLO",3121494321,"LABAP",1,"Adaptation","Adaptaion",606,0,606,null,0,null,0,0,0,0,0,0,null,0,0,null,null,0,null,0,0,0,0,0,0,0,0,0,0]
["1 Apr 2019 to 30 Apr 2019","Hong Kong Breast Cancer and Disease Centre Limited","HKBCADC","SOLO           ",9407305541,"IMMU","2,3","OnRamp","Local System",0,0,null,0,0,null,0,{"$error":"#DIV/0!"},0,0,0,{"$error":"#DIV/0!"},0,0,0,0,0,0,null,0,{"$error":"#DIV/0!"},0,{"$error":"#DIV/0!"},0,0,0,0,0,0]
["1 May 2019 to 31 May 2019","CHIRON HEALTHCARE GROUP LIMITED","CHIRON HEALTHCARE","GROUP",9451612824,"ADR","3,2","Local system","Local System",1,0,null,0,1,null,0,{"$f":"P2761/J2761","v":0},0,0,0,{"$f":"T2761/J2761","v":0},0,0,0,0,0,null,null,1,{"$f":"AC2761/J2761","v":1},0,{"$f":"AE2761/J2761","v":0},0,0,0,0,0,0]
["1 May 2019 to 31 May 2019","DR WONG CHUN POR","DR CP WONG CLINIC","SOLO",5528991274,"RXO","3,2","Local system","Local System",804,0,null,36,768,null,0,0,0,0,0,0,0,0,0,0,null,null,null,768,0.95522388059701491,0,0,0,0,0,0,0,0]
["1 May 2019 to 31 May 2019","HONG KONG ADVENTIST HOSPITAL - TSUEN WAN","HK ADVENTIST - TW","PH",8909436562,"ENCTR",3,"Local system + Adaptation","Local System",2100,0,null,null,2100,null,0,0,0,0,0,0,null,null,null,null,null,null,null,2100,1,0,0,0,0,0,0,0,0]
["1 May 2019 to 31 May 2019","Hong Kong Breast Cancer and Disease Centre Limited","HKBCADC","SOLO           ",9407305541,"ADR","2,3","OnRamp","Local System",0,0,null,0,0,null,0,{"$error":"#DIV/0!"},0,0,0,{"$error":"#DIV/0!"},0,0,0,0,0,null,null,0,{"$error":"#DIV/0!"},0,{"$error":"#DIV/0!"},0,0,0,0,0,0]
["1 May 2019 to 31 May 2019","HONG KONG AIRCRAFT ENGINEERING COMPANY LIMITED","HKAECL","GROUP",5197076289,"RXD","3,2","OnRamp","Local System",0,0,null,null,null,null,0,{"$error":"#DIV/0!"},0,0,0,{"$error":"#DIV/0!"},0,0,0,0,0,null,null,0,{"$error":"#DIV/0!"},0,{"$error":"#DIV/0!"},0,0,0,0,0,0]
["1 Jun 2019 to 30 Jun 2019","DEPARTMENT OF HEALTH CIMS1","DH","DH",8658917541,"ENCTR",3,"Local system + LAAM","Local System",89848,0,null,null,89848,null,0,0,0,0,0,0,null,null,null,null,null,null,null,89848,1,0,0,0,0,0,0,0,0]
["1 Jun 2019 to 30 Jun 2019","CHIRON HEALTHCARE GROUP LIMITED","CHIRON HEALTHCARE","GROUP",9451612824,"IMMU","3,2","Local system","Local System",3,0,null,1,2,null,0,0,0,0,0,0,0,0,0,0,0,0,null,2,0.66666666666666663,0,0,0,0,0,0,0,0]
["1 Jun 2019 to 30 Jun 2019","HONG KONG BAPTIST HOSPITAL","HK BAPTIST HOSPITAL","PH",3650324540,"LABAP",1,"Local system + LAAM","Local System",486,0,486,null,0,null,0,0,0,0,0,0,null,0,0,null,null,0,null,0,0,0,0,0,0,0,0,0,0]
["1 Jun 2019 to 30 Jun 2019","PRECIOUS BLOOD HOSPITAL (CARITAS)","PRECIOUS BLOOD HOSPITAL","PH",7002059678,"ADR",3,"Local system","Local System",11,0,null,null,11,null,0,0,0,0,0,0,0,0,0,0,0,null,null,11,1,0,0,0,0,0,0,0,0]
["1 Jun 2019 to 30 Jun 2019","Hong Kong Breast Cancer and Disease Centre Limited","HKBCADC","SOLO           ",9407305541,"PROB","2,3","OnRamp","Local System",0,0,null,0,0,null,0,{"$f":"P2953/J2953","v":{"$error":"#DIV/0!"}},0,0,0,{"$f":"T2953/J2953","v":{"$error":"#DIV/0!"}},0,0,0,0,0,0,null,0,{"$f":"AC2953/J2953","v":{"$error":"#DIV/0!"}},0,{"$f":"AE2953/J2953","v":{"$error":"#DIV/0!"}},0,0,0,0,0,0]
["1 Jun 2019 to 30 Jun 2019","HK MERCY MEDICAL LIMITED","HK MERCY MEDICAL LIMITED","SOLO",9056383716,"ADR","3,2","OnRamp","Local System",0,0,null,null,null,null,0,{"$error":"#DIV/0!"},0,0,0,{"$error":"#DIV/0!"},0,0,0,0,0,null,null,0,{"$error":"#DIV/0!"},0,{"$error":"#DIV/0!"},0,0,0,0,0,0]
["1 Jun 2019 to 30 Jun 2019","PRIME HEALTH ENDOCRINE & DIABETES CENTRE LIMITED","PRIME HEALTH","SOLO",4180832888,"RXO","3,2","OnRamp","Local System",0,0,null,null,null,null,0,{"$error":"#DIV/0!"},0,0,0,{"$error":"#DIV/0!"},0,0,0,0,0,null,null,0,{"$error":"#DIV/0!"},0,{"$error":"#DIV/0!"},0,0,0,0,0,0]
["1 Jul 2019 to 31 Jul 2019","CHIRON HEALTHCARE GROUP LIMITED","CHIRON HEALTHCARE","GROUP",9451612824,"PX","3,2","Local system","Local System",51,0,null,2,49,null,0,0,0,0,0,0,0,0,0,0,null,null,null,49,0.96078431372549022,0,0,0,0,0,0,0,0]
["1 Jul 2019 to 31 Jul 2019","HONG KONG ADVENTIST HOSPITAL - STUBBS ROAD","HK ADVENTIST - SR","PH",7029571085,"RXD",2,"Local system + LAAM","Local System",320,0,null,320,0,null,0,0,0,0,0,0,0,0,0,0,null,null,null,0,0,0,0,0,0,0,0,0,0]
["1 Jul 2019 to 31 Jul 2019","HONG KONG ADVENTIST HOSPITAL - TSUEN WAN","HK ADVENTIST - TW","PH",8909436562,"ENCTR",3,"Local system + Adaptation","Local System",2522,0,null,null,2522,null,0,0,0,0,0,0,null,null,null,null,null,null,null,2522,1,0,0,0,0,0,0,0,0]
["1 Jul 2019 to 31 Jul 2019","UNION HOSPITAL","UNION HOSPITAL","PH",5712620300,"BIRTH",3,"Local system","Local System",4,0,null,4,0,null,0,0,0,0,4,1,0,0,4,4,0,0,null,0,0,0,0,0,0,0,0,0,0]
["1 Jul 2019 to 31 Jul 2019","Hong Kong Breast Cancer and Disease Centre Limited","HKBCADC","SOLO           ",9407305541,"REF",1,"OnRamp","Local System",0,0,0,null,0,null,0,{"$error":"#DIV/0!"},0,0,0,{"$error":"#DIV/0!"},null,null,null,null,null,null,null,0,{"$error":"#DIV/0!"},0,{"$error":"#DIV/0!"},0,0,0,0,0,0]
["1 Jul 2019 to 31 Jul 2019","DR SUM NAM CHU'S CLINIC","DR SUM NAM CHU'S CLINIC","SOLO",2308765964,"RXO","3,2","OnRamp","Local System",0,0,null,null,null,null,0,{"$error":"#DIV/0!"},0,0,0,{"$error":"#DIV/0!"},0,0,0,0,0,null,null,0,{"$error":"#DIV/0!"},0,{"$error":"#DIV/0!"},0,0,0,0,0,0]
["1 Aug 2019 to 31 Aug 2019","DEPARTMENT OF HEALTH CIMS1","DH","DH",8658917541,"LABMB",1,"Local system + LAAM","Local System",1938,0,1938,null,0,null,0,0,0,0,0,0,0,0,0,0,0,0,null,0,0,0,0,0,0,0,0,0,0]
["1 Aug 2019 to 31 Aug 2019","DR WONG CHUN POR","DR CP WONG CLINIC","SOLO",5528991274,"AL1","3,2","Local system","Local System",3,0,null,0,3,null,0,0,0,0,0,0,0,0,0,0,0,null,null,3,1,0,0,0,0,0,0,0,0]
["1 Aug 2019 to 31 Aug 2019","EVANGEL HOSPITAL","EVANGEL HOSPITAL","PH",2206285885,"RXO","3,2","Local system","Local System",0,0,null,0,0,null,0,{"$error":"#DIV/0!"},0,0,0,{"$error":"#DIV/0!"},0,0,0,0,null,null,null,0,{"$error":"#DIV/0!"},0,{"$error":"#DIV/0!"},0,0,0,0,0,0]
["1 Aug 2019 to 31 Aug 2019","THE HONG KONG POLYTECHNIC UNIVERSITY","POLYU","HCAI",4578805814,"ENCTR",3,"Local system","Local System",350,0,null,null,350,null,0,0,0,0,0,0,null,null,null,null,null,null,null,350,1,0,0,0,0,0,0,0,0]
["1 Aug 2019 to 31 Aug 2019","GOOD HEALTH MEDICAL PRACTICES LIMITED","GHMPL","SOLO",5153981121,"ENCTR",3,"ClinicSolution","Local System",0,0,null,null,0,null,0,{"$error":"#DIV/0!"},0,0,0,{"$error":"#DIV/0!"},null,null,null,null,null,null,null,0,{"$error":"#DIV/0!"},0,{"$error":"#DIV/0!"},0,0,0,0,0,0]
["1 Aug 2019 to 31 Aug 2019","DR SUM NAM CHU'S CLINIC","DR SUM NAM CHU'S CLINIC","SOLO",2308765964,"ADR","3,2","OnRamp","Local System",0,0,null,0,0,null,0,{"$error":"#DIV/0!"},0,0,0,{"$error":"#DIV/0!"},0,0,0,0,0,null,null,0,{"$error":"#DIV/0!"},0,{"$error":"#DIV/0!"},0,0,0,0,0,0]
["1 Aug 2019 to 31 Aug 2019","PRIME HEALTH ENDOCRINE & DIABETES CENTRE LIMITED","PRIME HEALTH","SOLO",4180832888,"IMMU","3,2","OnRamp","Local System",{"$f":"SUM(K3270:N3270)","v":0},{"$f":"P3270","v":0},null,0,0,null,{"$f":"SUM(R3270:S3270)","v":0},{"$error":"#DIV/0!"},0,0,{"$f":"SUM(Y3270:AA3270)","v":0},{"$error":"#DIV/0!"},0,0,0,0,0,null,null,{"$f":"N3270","v":0},{"$error":"#DIV/0!"},0,{"$error":"#DIV/0!"},0,0,0,0,0,0]
["1 Sep 2019 to 30 Sep 2019","DEPARTMENT OF HEALTH CIMS1","DH","DH",8658917541,"ADR",3,"Local system","Local System",{"$f":"SUM(K3285:N3285)","v":356},{"$f":"P3285","v":0},null,24,332,null,{"$f":"SUM(R3285:S3285)","v":0},0,0,0,{"$f":"SUM(Y3285:AA3285)","v":24},6.741573033707865E-2,24,0,0,24,0,null,null,{"$f":"N3285","v":332},0.93258426966292129,0,0,0,0,0,0,0,0]
["1 Sep 2019 to 30 Sep 2019","DR WONG CHUN POR","DR CP WONG CLINIC","SOLO",5528991274,"IMMU","3,2","Local system","Local System",3,0,null,2,1,null,0,0,0,0,0,0,0,0,0,0,0,0,null,1,0.33333333333333331,0,0,0,0,0,0,0,0]
["1 Sep 2019 to 30 Sep 2019","PRECIOUS BLOOD HOSPITAL (CARITAS)","PRECIOUS BLOOD HOSPITAL","PH",7002059678,"AL1",3,"Local system","Local System",58,0,null,31,27,null,0,0,0,0,24,0.41379310344827586,24,0,0,24,0,null,null,27,0.46551724137931033,0,0,0,0,0,0,0,0]
["1 Sep 2019 to 30 Sep 2019","UNION HOSPITAL","UNION HOSPITAL","PH",5712620300,"EPIS",1,"Local system + LAAM","Local System",215,0,215,null,0,null,0,0,0,0,0,0,null,null,null,null,null,null,null,0,0,0,0,0,0,0,0,0,0]
["1 Sep 2019 to 30 Sep 2019","HONG KONG AIRCRAFT ENGINEERING COMPANY LIMITED","HKAECL","GROUP",5197076289,"AL1","3,2","OnRamp","Local System",0,0,null,0,0,null,0,{"$error":"#DIV/0!"},0,0,0,{"$error":"#DIV/0!"},0,0,0,0,0,null,null,0,{"$error":"#DIV/0!"},0,{"$error":"#DIV/0!"},0,0,0,0,0,0]
["1 Sep 2019 to 30 Sep 2019","HONG KONG AIRCRAFT ENGINEERING COMPANY LIMITED","HKAECL","GROUP",5197076289,"REF",1,"OnRamp","Local System",0,0,null,null,0,null,0,{"$error":"#DIV/0!"},0,0,0,{"$error":"#DIV/0!"},null,null,null,null,null,null,null,0,{"$error":"#DIV/0!"},0,{"$error":"#DIV/0!"},0,0,0,0,0,0]
["1 Oct 2019 to 31 Oct 2019","DEPARTMENT OF HEALTH CIMS1","DH","DH",8658917541,"ADR",3,"Local system","Local System",{"$f":"SUM(K3431:N3431)","v":459},{"$f":"P3431","v":0},null,40,419,null,{"$f":"SUM(R3431:S3431)","v":0},0,0,0,{"$f":"SUM(Y3431:AA3431)","v":40},8.714596949891068E-2,40,0,0,40,0,null,null,{"$f":"N3431","v":419},0.91285403050108938,0,0,0,0,0,0,0,0]
["1 Oct 2019 to 31 Oct 2019","DEPARTMENT OF HEALTH CIMS1","DH","DH",8658917541,"RXO",3,"MOE","Local System",98529,0,null,21836,76693,null,0,0,0,0,21837,0.22163017994702067,21837,0,0,21837,null,null,null,76693,0.77837996934912568,0,0,0,0,0,0,0,0]
["1 Oct 2019 to 31 Oct 2019","DR. YEE YUK KEI","DR. YK YEE","SOLO",2310917092,"AL1","3,2","Local system","Local System",2,0,null,0,2,null,0,0,0,0,0,0,0,0,0,0,0,null,null,2,1,0,0,0,0,0,0,0,0]
["1 Oct 2019 to 31 Oct 2019","HONG KONG BAPTIST HOSPITAL","HK BAPTIST HOSPITAL","PH",3650324540,"ENCTR",3,"Local system","Local System",0,0,null,null,0,null,0,{"$error":"#DIV/0!"},0,0,0,{"$error":"#DIV/0!"},null,null,null,null,null,null,null,0,{"$error":"#DIV/0!"},0,{"$error":"#DIV/0!"},0,0,0,0,0,0]
["1 Oct 2019 to 31 Oct 2019","DR HO CHUNG PING","C.P. HO","SOLO",7889756707,"AL1","3,2","HKMA (Mobigator + Message formatter)","Local System",1,0,null,0,1,null,0,0,0,0,0,0,0,0,0,0,0,null,null,1,1,0,0,0,0,0,0,0,0]
["1 Oct 2019 to 31 Oct 2019","HONG KONG AIRCRAFT ENGINEERING COMPANY LIMITED","HKAECL","GROUP",5197076289,"ENCTR",3,"OnRamp","Local System",49,0,null,null,49,null,0,0,0,0,0,0,null,null,null,null,null,null,null,49,1,0,0,0,0,0,0,0,0]
["1 Oct 2019 to 31 Oct 2019","DR SUM NAM CHU'S CLINIC","DR SUM NAM CHU'S CLINIC","SOLO",2308765964,"AL1","3,2","OnRamp","Local System",0,0,null,0,0,null,0,{"$error":"#DIV/0!"},0,0,0,{"$error":"#DIV/0!"},0,0,0,0,0,null,null,0,{"$error":"#DIV/0!"},0,{"$error":"#DIV/0!"},0,0,0,0,0,0]
["1 Oct 2019 to 31 Oct 2019","PRIME HEALTH ENDOCRINE & DIABETES CENTRE LIMITED","PRIME HEALTH","SOLO",4180832888,"IMMU","3,2","OnRamp","Local System",0,0,null,0,0,null,0,{"$error":"#DIV/0!"},0,0,0,{"$error":"#DIV/0!"},0,0,0,0,0,null,null,0,{"$error":"#DIV/0!"},0,{"$error":"#DIV/0!"},0,0,0,0,0,0]
["1 Oct 2019 to 31 Oct 2019","DISTRICT HEALTH CENTRE-KWAI TSING (KTSCHCA)","DHC-KWAI TSING","DHC",3040418583,"EPIS",1,"OnRamp","Local System",1089,0,1089,null,0,null,0,0,0,0,0,0,null,null,null,null,null,null,null,0,0,0,0,0,0,0,0,0,0]
["1 Nov 2019 to 30 Nov 2019","EVANGEL HOSPITAL","EVANGEL HOSPITAL","PH",2206285885,"AL1","3,2","Local system","Local System",0,0,null,0,0,null,0,{"$error":"#DIV/0!"},0,0,0,{"$error":"#DIV/0!"},0,0,0,0,0,null,null,0,{"$error":"#DIV/0!"},0,{"$error":"#DIV/0!"},0,0,0,0,0,0]
["1 Nov 2019 to 30 Nov 2019","HONG KONG BAPTIST HOSPITAL","HK BAPTIST HOSPITAL","PH",3650324540,"ENCTR",3,"Local system","Local System",0,0,null,null,0,null,0,{"$error":"#DIV/0!"},0,0,0,{"$error":"#DIV/0!"},null,null,null,null,null,null,null,0,{"$error":"#DIV/0!"},0,{"$error":"#DIV/0!"},0,0,0,0,0,0]
["1 Nov 2019 to 30 Nov 2019","ST.TERESA's HOSPITAL","STH","PH",7969980015,"RAD",3,"Local system + LAAM","Local System",2569,0,null,null,2569,null,0,0,0,0,0,0,0,0,0,0,0,null,null,2569,1,0,0,0,0,0,0,0,0]
["1 Nov 2019 to 30 Nov 2019","DR HO CHUNG PING","C.P. HO","SOLO",7889756707,"RXO","3,2","HKMA (Mobigator + Message formatter)","Local System",89,0,null,3,86,null,0,0,0,0,0,0,0,0,0,0,0,null,null,86,0.9662921348314607,0,0,0,0,0,0,0,0]
["1 Nov 2019 to 30 Nov 2019","HONG KONG AIRCRAFT ENGINEERING COMPANY LIMITED","HKAECL","GROUP",5197076289,"IMMU","3,2","OnRamp","Local System",0,0,null,0,0,null,0,{"$error":"#DIV/0!"},0,0,0,{"$error":"#DIV/0!"},0,0,0,0,0,null,null,0,{"$error":"#DIV/0!"},0,{"$error":"#DIV/0!"},0,0,0,0,0,0]
["1 Nov 2019 to 30 Nov 2019","DR. LEUNG KIN KAY","DR. LEUNG KIN KAY","SOLO",3226804803,"AL1","3,2","OnRamp","Local System",0,0,null,0,0,null,0,{"$error":"#DIV/0!"},0,0,0,{"$error":"#DIV/0!"},0,0,0,0,0,null,null,0,{"$error":"#DIV/0!"},0,{"$error":"#DIV/0!"},0,0,0,0,0,0]
["1 Nov 2019 to 30 Nov 2019","HEALTH IN ACTION LIMITED","HEALTH IN ACTION LIMITED","SOLO",8040919535,"PX","3,2","OnRamp","Local System",0,0,null,0,0,null,0,{"$error":"#DIV/0!"},0,0,0,{"$error":"#DIV/0!"},0,0,0,0,0,0,null,0,{"$error":"#DIV/0!"},0,{"$error":"#DIV/0!"},0,0,0,0,0,0]
["1 Dec 2019 to 31 Dec 2019","DR WONG CHUN POR","DR CP WONG CLINIC","SOLO",5528991274,"AL1","3,2","Local system","Local System",1,0,null,0,1,null,0,0,0,0,0,0,0,0,0,0,0,null,null,1,1,0,0,0,0,0,0,0,0]
["1 Dec 2019 to 31 Dec 2019","DR WONG CHUN POR","DR CP WONG CLINIC","SOLO",5528991274,"REF",1,"Local system","Local System",0,0,0,null,0,null,0,{"$error":"#DIV/0!"},0,0,0,{"$error":"#DIV/0!"},null,null,null,null,null,null,null,0,{"$error":"#DIV/0!"},0,{"$error":"#DIV/0!"},0,0,0,0,0,0]
["1 Dec 2019 to 31 Dec 2019","HONG KONG ADVENTIST HOSPITAL - TSUEN WAN","HK ADVENTIST - TW","PH",8909436562,"RXD",2,"Local system","Local System",0,0,null,0,0,null,0,{"$error":"#DIV/0!"},0,0,0,{"$error":"#DIV/0!"},0,0,0,0,null,null,null,0,{"$error":"#DIV/0!"},0,{"$error":"#DIV/0!"},0,0,0,0,0,0]
["1 Dec 2019 to 31 Dec 2019","UNION HOSPITAL","UNION HOSPITAL","PH",5712620300,"EPIS",1,"Local system + LAAM","Local System",199,0,199,null,0,null,0,0,0,0,0,0,null,null,null,null,null,null,null,0,0,0,0,0,0,0,0,0,0]
["1 Dec 2019 to 31 Dec 2019","GOOD HEALTH MEDICAL PRACTICES LIMITED","GHMPL","SOLO",5153981121,"RXO",2,"ClinicSolution","Local System",0,0,null,0,0,null,0,{"$error":"#DIV/0!"},0,0,0,{"$error":"#DIV/0!"},0,0,0,0,0,null,null,0,{"$error":"#DIV/0!"},0,{"$error":"#DIV/0!"},0,0,0,0,0,0]
["1 Dec 2019 to 31 Dec 2019","HK MERCY MEDICAL LIMITED","HK MERCY MEDICAL LIMITED","SOLO",9056383716,"REF",1,"OnRamp","Local System",0,0,0,null,0,null,0,{"$error":"#DIV/0!"},0,0,0,{"$error":"#DIV/0!"},null,null,null,null,null,null,null,0,{"$error":"#DIV/0!"},0,{"$error":"#DIV/0!"},0,0,0,0,0,0]
["1 Dec 2019 to 31 Dec 2019","HEALTH IN ACTION LIMITED","HEALTH IN ACTION LIMITED","SOLO",8040919535,"RXO","3,2","OnRamp","Local System",0,0,null,0,0,null,0,{"$error":"#DIV/0!"},0,0,0,{"$error":"#DIV/0!"},0,0,0,0,0,null,null,0,{"$error":"#DIV/0!"},0,{"$error":"#DIV/0!"},0,0,0,0,0,0]
["1 Jan 2020 to 31 Jan 2020","CANOSSA HOSPITAL (CARITAS)","CANNOSSA HOSPITAL","PH",8252506240,"ADR",3,"Local system","Local System",0,0,null,null,0,null,0,{"$error":"#DIV/0!"},0,0,0,{"$error":"#DIV/0!"},0,0,0,0,0,null,null,0,{"$error":"#DIV/0!"},0,{"$error":"#DIV/0!"},0,0,0,0,0,0]
["1 Jan 2020 to 31 Jan 2020","DR. YEE YUK KEI","DR. YK YEE","SOLO",2310917092,"ADR","3,2","OnRamp","Local System",0,0,null,0,0,null,0,{"$error":"#DIV/0!"},0,0,0,{"$error":"#DIV/0!"},0,0,0,0,null,null,null,0,{"$error":"#DIV/0!"},0,{"$error":"#DIV/0!"},0,0,0,0,0,0]
["1 Jan 2020 to 31 Jan 2020","HONG KONG ADVENTIST HOSPITAL - TSUEN WAN","HK ADVENTIST - TW","PH",8909436562,"ADR",3,"Local system","Local System",30,0,null,3,27,null,0,0,0,0,3,0.1,3,0,0,3,0,null,null,27,0.9,0,0,0,0,0,0,0,0]
["1 Jan 2020 to 31 Jan 2020","ST.TERESA's HOSPITAL","STH","PH",7969980015,"ADR",3,"Local system","Local System",9,0,null,2,7,null,0,0,0,0,2,0.22222222222222221,2,0,0,2,0,null,null,7,0.77777777777777779,0,0,0,0,0,0,0,0]
["1 Jan 2020 to 31 Jan 2020","DR HO CHUNG PING","C.P. HO","SOLO",7889756707,"ADR","3,2","HKMA (Mobigator + Message formatter)","Local System",0,0,null,0,0,null,0,{"$error":"#DIV/0!"},0,0,0,{"$error":"#DIV/0!"},0,0,0,0,0,0,null,0,{"$error":"#DIV/0!"},0,{"$error":"#DIV/0!"},0,0,0,0,0,0]
["1 Jan 2020 to 31 Jan 2020","HK MERCY MEDICAL LIMITED","HK MERCY MEDICAL LIMITED","SOLO",9056383716,"PX","3,2","OnRamp","Local System",0,0,null,0,0,null,0,{"$error":"#DIV/0!"},0,0,0,{"$error":"#DIV/0!"},0,0,0,0,0,0,null,{"$f":"N4028","v":0},{"$error":"#DIV/0!"},0,{"$error":"#DIV/0!"},0,0,0,0,0,0]
["1 Jan 2020 to 31 Jan 2020","PRIME HEALTH ENDOCRINE & DIABETES CENTRE LIMITED","PRIME HEALTH","SOLO",4180832888,"PX","3,2","OnRamp","Local System",0,0,null,0,0,null,0,{"$error":"#DIV/0!"},0,0,0,{"$error":"#DIV/0!"},0,0,0,0,0,0,null,0,{"$error":"#DIV/0!"},0,{"$error":"#DIV/0!"},0,0,0,0,0,0]
["1 Jan 2020 to 31 Jan 2020","HEALTH IN ACTION LIMITED","HEALTH IN ACTION LIMITED","SOLO",8040919535,"ENCTR",3,"OnRamp","Local System",0,0,null,null,0,null,0,{"$error":"#DIV/0!"},0,0,0,{"$error":"#DIV/0!"},null,null,null,null,null,null,null,0,{"$error":"#DIV/0!"},0,{"$error":"#DIV/0!"},0,0,0,0,0,0]
["1 Feb 2020 to 29 Feb 2020","CHIRON HEALTHCARE GROUP LIMITED","CHIRON HEALTHCARE","GROUP",9451612824,"AL1","3,2","Local system","Local System",285,0,null,76,209,null,0,0,0,0,0,0,0,0,0,0,0,null,null,209,0.73333333333333328,0,0,0,0,0,0,0,0]
["1 Feb 2020 to 29 Feb 2020","DR WONG CHUN POR","DR CP WONG CLINIC","SOLO",5528991274,"PROB","3,2","Local system","Local System",512,0,null,1,511,null,0,0,0,0,0,0,0,0,0,0,null,null,null,511,0.998046875,0,0,0,0,0,0,0,0]
["1 Feb 2020 to 29 Feb 2020","ST. PAUL'S HOSPITAL","SPH","PH",5156724947,"AL1",3,"Local system","Local System",0,0,null,null,0,null,0,{"$error":"#DIV/0!"},0,0,0,{"$error":"#DIV/0!"},0,0,0,0,0,null,null,0,{"$error":"#DIV/0!"},0,{"$error":"#DIV/0!"},0,0,0,0,0,0]
["1 Feb 2020 to 29 Feb 2020","ST.TERESA's HOSPITAL","STH","PH",7969980015,"BIRTH",3,"Local system + LAAM","Local System",3,0,null,null,3,null,0,0,0,0,0,0,null,null,null,null,null,null,null,3,1,0,0,0,0,0,0,0,0]
["1 Feb 2020 to 29 Feb 2020","Hong Kong Breast Cancer and Disease Centre Limited","HKBCADC","SOLO           ",9407305541,"RXD","2,3","OnRamp","Local System",21,0,null,0,21,null,0,0,0,0,0,0,0,0,0,0,0,null,null,21,1,0,0,0,0,0,0,0,0]
["1 Feb 2020 to 29 Feb 2020","HK MERCY MEDICAL LIMITED","HK MERCY MEDICAL LIMITED","SOLO",9056383716,"ADR","3,2","OnRamp","Local System",0,0,null,0,0,null,0,{"$error":"#DIV/0!"},0,0,0,{"$error":"#DIV/0!"},0,0,0,0,0,null,null,0,{"$error":"#DIV/0!"},0,{"$error":"#DIV/0!"},0,0,0,0,0,0]
["1 Feb 2020 to 29 Feb 2020","DR. LEUNG KIN KAY","DR. LEUNG KIN KAY","SOLO",3226804803,"ENCTR",3,"OnRamp","Local System",31,0,null,null,31,null,0,0,0,0,0,0,null,null,null,null,null,null,null,31,1,0,0,0,0,0,0,0,0]
["1 Mar 2020 to 31 Mar 2020","DEPARTMENT OF HEALTH CIMS1","DH","DH",8658917541,"RXO",3,"MOE","Local System",67065,0,null,17183,49882,null,0,0,0,0,17183,0.25621412062924032,17183,0,0,17183,null,null,null,49882,0.74378587937075968,0,0,0,0,0,0,0,0]
["1 Mar 2020 to 31 Mar 2020","DR WONG CHUN POR","DR CP WONG CLINIC","SOLO",5528991274,"PROB","3,2","Local system","Local System",566,0,null,6,560,null,0,0,0,0,0,0,0,0,0,0,null,null,null,560,0.98939929328621912,0,0,0,0,0,0,0,0]
["1 Mar 2020 to 31 Mar 2020","EVANGEL HOSPITAL","EVANGEL HOSPITAL","PH",2206285885,"ADR","3,2","Local system","Local System",0,0,null,0,0,null,0,{"$error":"#DIV/0!"},0,0,0,{"$error":"#DIV/0!"},0,0,0,0,0,null,null,0,{"$error":"#DIV/0!"},0,{"$error":"#DIV/0!"},0,0,0,0,0,0]
["1 Mar 2020 to 31 Mar 2020","PRECIOUS BLOOD HOSPITAL (CARITAS)","PRECIOUS BLOOD HOSPITAL","PH",7002059678,"AL1",3,"Local system","Local System",32,0,null,11,21,null,0,0,0,0,11,0.34375,11,0,0,11,0,null,null,21,0.65625,0,0,0,0,0,0,0,0]
["1 Mar 2020 to 31 Mar 2020","UNION HOSPITAL","UNION HOSPITAL","PH",5712620300,"ENCTR",3,"Local system","Local System",0,0,null,null,0,null,0,{"$error":"#DIV/0!"},null,null,0,{"$error":"#DIV/0!"},null,null,null,null,null,null,null,0,{"$error":"#DIV/0!"},0,{"$error":"#DIV/0!"},0,0,0,0,0,0]
["1 Mar 2020 to 31 Mar 2020","HONG KONG AIRCRAFT ENGINEERING COMPANY LIMITED","HKAECL","GROUP",5197076289,"PROB","3,2","OnRamp","Local System",23,0,null,0,23,null,0,0,0,0,0,0,0,0,0,0,0,0,null,23,1,0,0,0,0,0,0,0,0]
["1 Mar 2020 to 31 Mar 2020","DR SUM NAM CHU'S CLINIC","DR SUM NAM CHU'S CLINIC","SOLO",2308765964,"PROB","3,2","OnRamp","Local System",10,0,null,0,10,null,0,0,0,0,0,0,0,0,0,0,0,0,null,10,1,0,0,0,0,0,0,0,0]
["1 Mar 2020 to 31 Mar 2020","DR. LEUNG KIN KAY","DR. LEUNG KIN KAY","SOLO",3226804803,"PX","3,2","OnRamp","Local System",0,0,null,0,0,null,0,{"$error":"#DIV/0!"},0,0,0,{"$error":"#DIV/0!"},0,0,0,0,0,0,null,0,{"$error":"#DIV/0!"},0,{"$error":"#DIV/0!"},0,0,0,0,0,0]
["1 Mar 2020 to 31 Mar 2020 Total",null,null,null,null,null,null,null,null,{"$f":"SUM(J4232:J4393)","v":244484},{"$f":"SUM(K4232:K4393)","v":170},{"$f":"SUM(L4232:L4393)","v":17205},{"$f":"SUM(M4232:M4393)","v":22637},{"$f":"SUM(N4232:N4393)","v":204472},null,{"$f":"SUM(P4232:P4393)","v":170},6.9534202647208001E-4,{"$f":"SUM(R4232:R4393)","v":170},{"$f":"SUM(S4232:S4393)","v":0},{"$f":"SUM(T4232:T4393)","v":19069},7.7996924134094661E-2,{"$f":"SUM(V4232:V4393)","v":19068},0,1,19069,0,0,null,{"$f":"SUM(AC4232:AC4393)","v":204472},0.83634102845175962,{"$f":"SUM(AE4232:AE4393)","v":12},4.9082966574499762E-5,{"$f":"SUM(AG4232:AG4393)","v":0},0,0,12,0,0]
["1 Apr 2020 to 30 Apr 2020","HONG KONG ADVENTIST HOSPITAL - STUBBS ROAD","HK ADVENTIST - SR","PH",7029571085,"RAD",2,"Local system","Local System",84,0,null,84,0,null,0,0,0,0,0,0,0,0,0,0,0,0,null,0,0,0,0,0,0,0,0,0,0]
["1 Apr 2020 to 30 Apr 2020","HONG KONG BAPTIST HOSPITAL","HK BAPTIST HOSPITAL","PH",3650324540,"LABGEN",1,"Local system + LAAM","Local System",2381,0,2381,null,0,null,0,0,0,0,0,0,0,0,0,0,0,0,null,{"$f":"L4476","v":0},0,0,0,0,0,0,0,0,0]
["1 Apr 2020 to 30 Apr 2020","UNION HOSPITAL","UNION HOSPITAL","PH",5712620300,"ADR",3,"Local system","Local System",5,0,null,2,3,null,0,0,0,0,2,0.4,2,0,0,2,0,null,null,3,0.6,0,0,0,0,0,0,0,0]
["1 Apr 2020 to 30 Apr 2020","DR HO CHUNG PING","C.P. HO","SOLO",7889756707,"PX","3,2","HKMA (Mobigator + Message formatter)","Local System",0,0,null,0,0,null,0,{"$error":"#DIV/0!"},0,0,0,{"$error":"#DIV/0!"},0,0,0,0,0,null,null,0,{"$error":"#DIV/0!"},0,{"$error":"#DIV/0!"},0,0,0,0,0,0]
["1 Apr 2020 to 30 Apr 2020","HONG KONG AIRCRAFT ENGINEERING COMPANY LIMITED","HKAECL","GROUP",5197076289,"ADR","3,2","OnRamp","Local System",0,0,null,0,0,null,0,{"$error":"#DIV/0!"},0,0,0,{"$error":"#DIV/0!"},0,0,0,0,0,null,null,0,{"$error":"#DIV/0!"},0,{"$error":"#DIV/0!"},0,0,0,0,0,0]
["1 Apr 2020 to 30 Apr 2020","PRIME HEALTH ENDOCRINE & DIABETES CENTRE LIMITED","PRIME HEALTH","SOLO",4180832888,"ADR","3,2","OnRamp","Local System",0,0,null,0,0,null,0,{"$error":"#DIV/0!"},0,0,0,{"$error":"#DIV/0!"},0,0,0,0,0,null,null,0,{"$error":"#DIV/0!"},0,{"$error":"#DIV/0!"},0,0,0,0,0,0]
["1 Apr 2020 to 30 Apr 2020","HKSH Medical Group Limited","HKSH MEDICAL FROUP","PH",4773496701,"EPIS",1,"Local system","Local System",363,0,363,null,0,null,0,0,0,0,0,0,null,null,null,null,null,null,null,0,0,0,0,0,0,0,0,0,0]
["1 May 2020 to 31 May 2020","DEPARTMENT OF HEALTH CIMS1","DH","DH",8658917541,"OBS",3,"Local system + LAAM","Local System",1899,0,null,null,1899,null,0,0,0,0,0,0,0,0,0,0,0,null,null,1899,1,0,0,0,0,0,0,0,0]
["1 May 2020 to 31 May 2020","HONG KONG ADVENTIST HOSPITAL - STUBBS ROAD","HK ADVENTIST - SR","PH",7029571085,"LABGEN",3,"Local system + LAAM","Local System",188,0,null,52,136,null,0,0,0,0,52,0.27659574468085107,52,0,0,52,0,null,null,136,0.72340425531914898,0,0,0,0,0,0,0,0]
["1 May 2020 to 31 May 2020","ST.TERESA's HOSPITAL","STH","PH",7969980015,"ADR",3,"Local system","Local System",20,0,null,4,16,null,0,0,0,0,4,0.2,4,0,0,4,0,null,null,16,0.8,0,0,0,0,0,0,0,0]
["1 May 2020 to 31 May 2020","DIAGNOSTIX MEDICAL CENTRE LIMITED","DIAGNOSTIX MEDICAL","GROUP",4905639327,"LABGEN",3,"Adaptation","Adaptaion",0,0,null,null,0,null,0,{"$error":"#DIV/0!"},0,0,0,{"$error":"#DIV/0!"},0,0,0,0,0,0,null,0,{"$error":"#DIV/0!"},0,{"$error":"#DIV/0!"},0,0,0,0,0,0]
["1 May 2020 to 31 May 2020","Hong Kong Breast Cancer and Disease Centre Limited","HKBCADC","SOLO           ",9407305541,"IMMU","2,3","OnRamp","Local System",0,0,null,0,0,null,0,{"$error":"#DIV/0!"},0,0,0,{"$error":"#DIV/0!"},0,0,0,0,0,0,null,0,{"$error":"#DIV/0!"},0,{"$error":"#DIV/0!"},0,0,0,0,0,0]
["1 May 2020 to 31 May 2020","HK MERCY MEDICAL LIMITED","HK MERCY MEDICAL LIMITED","SOLO",9056383716,"RXO","3,2","OnRamp","Local System",27,0,null,6,21,null,0,0,0,0,0,0,0,0,0,0,0,null,null,21,0.77777777777777779,0,0,0,0,0,0,0,0]
["1 May 2020 to 31 May 2020","PRIME HEALTH ENDOCRINE & DIABETES CENTRE LIMITED","PRIME HEALTH","SOLO",4180832888,"ENCTR",3,"OnRamp","Local System",0,0,null,null,0,null,0,{"$error":"#DIV/0!"},0,0,0,{"$error":"#DIV/0!"},null,null,null,null,null,null,null,0,{"$error":"#DIV/0!"},0,{"$error":"#DIV/0!"},0,0,0,0,0,0]
["1 Jun 2020 to 30 Jun 2020","DEPARTMENT OF HEALTH CIMS1","DH","DH",8658917541,"PROB",3,"Local system + LAAM","Local System",36162,0,null,712,35450,null,0,0,0,0,718,1.9855096510148777E-2,718,0,0,718,null,null,null,35450,0.98031082351639842,3,8.2960013273602126E-5,0,3,0,0,0,0]
["1 Jun 2020 to 30 Jun 2020","DR WONG CHUN POR","DR CP WONG CLINIC","SOLO",5528991274,"ADR","3,2","Local system","Local System",0,0,null,0,0,null,0,{"$error":"#DIV/0!"},0,0,0,{"$error":"#DIV/0!"},0,0,0,0,0,null,null,0,{"$error":"#DIV/0!"},0,{"$error":"#DIV/0!"},0,0,0,0,0,0]
["1 Jun 2020 to 30 Jun 2020","HONG KONG ADVENTIST HOSPITAL - STUBBS ROAD","HK ADVENTIST - SR","PH",7029571085,"ENCTR",3,"Local system + LAAM","Local System",224,0,null,null,224,null,0,0,0,0,0,0,null,null,null,null,null,null,null,224,1,0,0,0,0,0,0,0,0]
["1 Jun 2020 to 30 Jun 2020","PRECIOUS BLOOD HOSPITAL (CARITAS)","PRECIOUS BLOOD HOSPITAL","PH",7002059678,"AL1",3,"Local system","Local System",66,0,null,32,34,null,0,0,0,0,29,0.43939393939393939,29,0,0,29,0,null,null,34,0.51515151515151514,0,0,0,0,0,0,0,0]
["1 Jun 2020 to 30 Jun 2020","Hong Kong Breast Cancer and Disease Centre Limited","HKBCADC","SOLO           ",9407305541,"ADR","2,3","OnRamp","Local System",0,0,null,0,0,null,0,{"$error":"#DIV/0!"},0,0,0,{"$error":"#DIV/0!"},0,0,0,0,0,null,null,0,{"$error":"#DIV/0!"},0,{"$error":"#DIV/0!"},0,0,0,0,0,0]
["1 Jun 2020 to 30 Jun 2020","HONG KONG AIRCRAFT ENGINEERING COMPANY LIMITED","HKAECL","GROUP",5197076289,"PX","3,2","OnRamp","Local System",0,0,null,0,0,null,0,{"$error":"#DIV/0!"},0,0,0,{"$error":"#DIV/0!"},0,0,0,0,0,0,null,0,{"$error":"#DIV/0!"},0,{"$error":"#DIV/0!"},0,0,0,0,0,0]
["1 Jun 2020 to 30 Jun 2020","PRIME HEALTH ENDOCRINE & DIABETES CENTRE LIMITED","PRIME HEALTH","SOLO",4180832888,"ADR","3,2","OnRamp","Local System",0,0,null,0,0,null,0,{"$error":"#DIV/0!"},0,0,0,{"$error":"#DIV/0!"},0,0,0,0,0,null,null,0,{"$error":"#DIV/0!"},0,{"$error":"#DIV/0!"},0,0,0,0,0,0]
["1 Jun 2020 to 30 Jun 2020","DR. LEUNG KIN KAY","DR. LEUNG KIN KAY","SOLO",3226804803,"PROB","3,2","OnRamp","Local System",40,0,null,4,36,null,0,0,0,0,0,0,0,0,0,0,0,0,null,36,0.9,0,0,0,0,0,0,0,0]
["1 Jun 2020 to 30 Jun 2020","DR. CHAN KIT YAN SELINA","DR. CHAN KIT YAN SELINA","SOLO",8895790679,"AL1","3,2","OnRamp","Local System",7,0,null,0,7,null,0,0,0,0,0,0,0,0,0,0,0,null,null,7,1,0,0,0,0,0,0,0,0]
["1 Jul 2020 to 31 Jul 2020","DEPARTMENT OF HEALTH CIMS1","DH","DH",8658917541,"LABGEN",1,"Local system + LAAM","Local System",4095,0,4095,null,0,null,0,0,0,0,0,0,0,0,0,0,0,0,null,0,0,0,0,0,0,0,0,0,0]
["1 Jul 2020 to 31 Jul 2020","HONG KONG ADVENTIST HOSPITAL - STUBBS ROAD","HK ADVENTIST - SR","PH",7029571085,"LABGEN",3,"Local system + LAAM","Local System",126,0,null,47,79,null,0,0,0,0,47,0.37301587301587302,47,0,0,47,0,null,null,79,0.62698412698412698,0,0,0,0,0,0,0,0]
["1 Jul 2020 to 31 Jul 2020","PRECIOUS BLOOD HOSPITAL (CARITAS)","PRECIOUS BLOOD HOSPITAL","PH",7002059678,"AL1",3,"Local system","Local System",62,0,null,34,28,null,0,0,0,0,30,0.4838709677419355,30,0,0,30,0,null,null,28,0.45161290322580644,2,3.2258064516129031E-2,0,0,0,2,0,0]
["1 Jul 2020 to 31 Jul 2020","DR HO CHUNG PING","C.P. HO","SOLO",7889756707,"IMMU","3,2","HKMA (Mobigator + Message formatter)","Local System",0,0,null,0,0,null,0,{"$error":"#DIV/0!"},0,0,0,{"$error":"#DIV/0!"},0,0,0,0,0,null,null,0,{"$error":"#DIV/0!"},0,{"$error":"#DIV/0!"},0,0,0,0,0,0]
["1 Jul 2020 to 31 Jul 2020","Hong Kong Breast Cancer and Disease Centre Limited","HKBCADC","SOLO           ",9407305541,"AL1","2,3","OnRamp","Local System",4,0,null,1,3,null,0,0,0,0,1,0.25,1,0,0,1,0,null,null,3,0.75,0,0,0,0,0,0,0,0]
["1 Jul 2020 to 31 Jul 2020","DR SUM NAM CHU'S CLINIC","DR SUM NAM CHU'S CLINIC","SOLO",2308765964,"IMMU","3,2","OnRamp","Local System",{"$f":"SUM(K5029:N5029)","v":6},{"$f":"P5029","v":0},null,0,6,null,{"$f":"SUM(R5029:S5029)","v":0},0,0,0,{"$f":"SUM(Y5029:AA5029)","v":0},0,0,0,0,0,0,null,null,6,1,0,0,0,0,0,0,0,0]
["1 Jul 2020 to 31 Jul 2020","DR. LEUNG KIN KAY","DR. LEUNG KIN KAY","SOLO",3226804803,"ADR","3,2","OnRamp","Local System",5,0,null,1,4,null,0,0,0,0,1,0.2,1,0,0,1,0,null,null,4,0.8,0,0,0,0,0,0,0,0]
["1 Jul 2020 to 31 Jul 2020","DR. CHAN KIT YAN SELINA","DR. CHAN KIT YAN SELINA","SOLO",8895790679,"RXD","3,2","OnRamp","Local System",50,0,null,4,46,null,0,0,0,0,0,0,0,0,0,0,0,null,null,46,0.92,0,0,0,0,0,0,0,0]
["1 Aug 2020 to 31 Aug 2020","DEPARTMENT OF HEALTH CIMS1","DH","DH",8658917541,"ENCTR",3,"Local system + LAAM","Local System",77739,0,null,null,77739,null,0,0,0,0,0,0,null,null,null,null,null,null,null,77739,1,0,0,0,0,0,0,0,0]
["1 Aug 2020 to 31 Aug 2020","HONG KONG ADVENTIST HOSPITAL - STUBBS ROAD","HK ADVENTIST - SR","PH",7029571085,"RXD",2,"Local system + LAAM","Local System",235,0,null,235,0,null,0,0,0,0,0,0,0,0,0,0,null,null,null,0,0,0,0,0,0,0,0,0,0]
["1 Aug 2020 to 31 Aug 2020","PRECIOUS BLOOD HOSPITAL (CARITAS)","PRECIOUS BLOOD HOSPITAL","PH",7002059678,"ENCTR",3,"Local system + LAAM","Local System",1158,0,null,null,1158,null,0,0,0,0,0,0,null,null,null,null,null,null,null,1158,1,0,0,0,0,0,0,0,0]
["1 Aug 2020 to 31 Aug 2020","UNION HOSPITAL","UNION HOSPITAL","PH",5712620300,"ENCTR",3,"Local system","Local System",0,0,null,null,0,null,0,{"$error":"#DIV/0!"},null,null,0,{"$error":"#DIV/0!"},null,null,null,null,null,null,null,0,{"$error":"#DIV/0!"},0,{"$error":"#DIV/0!"},0,0,0,0,0,0]
["1 Aug 2020 to 31 Aug 2020","Hong Kong Breast Cancer and Disease Centre Limited","HKBCADC","SOLO           ",9407305541,"AL1","2,3","OnRamp","Local System",4,0,null,1,3,null,0,0,0,0,1,0.25,1,0,0,1,0,null,null,3,0.75,0,0,0,0,0,0,0,0]
["1 Aug 2020 to 31 Aug 2020","HONG KONG AIRCRAFT ENGINEERING COMPANY LIMITED","HKAECL","GROUP",5197076289,"RXD","3,2","OnRamp","Local System",55,0,null,5,50,null,0,0,0,0,0,0,0,0,0,0,0,null,null,50,0.90909090909090906,0,0,0,0,0,0,0,0]
["1 Aug 2020 to 31 Aug 2020","DR SUM NAM CHU'S CLINIC","DR SUM NAM CHU'S CLINIC","SOLO",2308765964,"RXO","3,2","OnRamp","Local System",44,0,null,0,44,null,0,0,0,0,0,0,0,0,0,0,0,null,null,44,1,0,0,0,0,0,0,0,0]
["1 Aug 2020 to 31 Aug 2020","DR. CHAN KIT YAN SELINA","DR. CHAN KIT YAN SELINA","SOLO",8895790679,"PROB","3,2","OnRamp","Local System",195,0,null,27,168,null,0,0,0,0,0,0,0,0,0,0,0,0,null,168,0.86153846153846159,0,0,0,0,0,0,0,0]
["1 Sep 2020 to 30 Sep 2020","DEPARTMENT OF HEALTH CIMS1","DH","DH",8658917541,"RXO",3,"MOE","Local System",86164,0,0,22626,63538,null,0,0,0,0,22626,0.26259226591151758,22626,0,0,22626,null,null,null,63538,0.73740773408848248,0,0,0,0,0,0,0,0]
["1 Sep 2020 to 30 Sep 2020","CHIRON HEALTHCARE GROUP LIMITED","CHIRON HEALTHCARE","GROUP",9451612824,"PX","3,2","Local system","Local System",23,0,0,1,22,null,0,0,0,0,0,0,0,0,0,0,null,null,null,22,0.95652173913043481,0,0,0,0,0,0,0,0]
["1 Sep 2020 to 30 Sep 2020","HONG KONG ADVENTIST HOSPITAL - TSUEN WAN","HK ADVENTIST - TW","PH",8909436562,"ADR",3,"Local system","Local System",10,0,0,2,8,null,0,0,0,0,2,0.2,2,0,0,2,0,null,null,0,0,0,0,0,0,0,0,0,0]
["1 Sep 2020 to 30 Sep 2020","PRECIOUS BLOOD HOSPITAL (CARITAS)","PRECIOUS BLOOD HOSPITAL","PH",7002059678,"ADR",3,"Local system","Local System",7,0,0,1,6,null,0,0,0,0,1,0.14285714285714285,1,0,0,1,0,null,null,6,0.8571428571428571,0,0,0,0,0,0,0,0]
["1 Sep 2020 to 30 Sep 2020","DR HO CHUNG PING","C.P. HO","SOLO",7889756707,"REF",1,"HKMA (Mobigator + Message formatter)","Local System",0,0,0,null,null,null,0,{"$error":"#DIV/0!"},0,0,0,{"$error":"#DIV/0!"},null,null,null,null,null,null,null,0,{"$error":"#DIV/0!"},0,{"$error":"#DIV/0!"},0,0,0,0,0,0]
["1 Sep 2020 to 30 Sep 2020","HK MERCY MEDICAL LIMITED","HK MERCY MEDICAL LIMITED","SOLO",9056383716,"ENCTR",3,"OnRamp","Local System",56,0,0,0,56,null,0,0,0,0,0,0,null,null,null,null,null,null,null,{"$f":"N5373","v":56},1,0,0,0,0,0,0,0,0]
["1 Sep 2020 to 30 Sep 2020","DR SUM NAM CHU'S CLINIC","DR SUM NAM CHU'S CLINIC","SOLO",2308765964,"RXO","3,2","OnRamp","Local System",32,0,0,2,30,null,0,0,0,0,0,0,0,0,0,0,0,null,null,30,0.9375,0,0,0,0,0,0,0,0]
["1 Sep 2020 to 30 Sep 2020","DR. LEUNG KIN KAY","DR. LEUNG KIN KAY","SOLO",3226804803,"ADR","3,2","OnRamp","Local System",3,0,0,0,3,null,0,0,0,0,0,0,0,0,0,0,0,null,null,3,1,0,0,0,0,0,0,0,0]
["1 Sep 2020 to 30 Sep 2020 Total",null,null,null,null,null,null,null,null,{"$f":"SUM(J5254:J5429)","v":317592},{"$f":"SUM(K5254:K5429)","v":1},{"$f":"SUM(L5254:L5429)","v":26598},{"$f":"SUM(M5254:M5429)","v":31698},{"$f":"SUM(N5254:N5429)","v":259295},null,{"$f":"SUM(P5254:P5429)","v":1},3.1486939217612534E-6,{"$f":"SUM(R5254:R5429)","v":0},{"$f":"SUM(S5254:S5429)","v":1},{"$f":"SUM(T5254:T5429)","v":24888},7.8364694324794079E-2,{"$f":"SUM(V5254:V5429)","v":24885},0,3,24888,0,0,null,{"$f":"SUM(AC5254:AC5429)","v":259287},0.81641540089171016,{"$f":"SUM(AE5254:AE5429)","v":89},2.8023375903675154E-4,{"$f":"SUM(AG5254:AG5429)","v":0},3,0,86,0,0]
["1 Oct 2020 to 31 Oct 2020","CHIRON HEALTHCARE GROUP LIMITED","CHIRON HEALTHCARE","GROUP",9451612824,"PX","3,2","Local system","Local System",18,0,null,5,13,null,0,0,0,0,0,0,0,0,0,0,null,null,null,13,0.72222222222222221,0,0,0,0,0,0,0,0]
["1 Oct 2020 to 31 Oct 2020","EVANGEL HOSPITAL","EVANGEL HOSPITAL","PH",2206285885,"RXO","3,2","Local system","Local System",0,0,null,0,0,null,0,{"$error":"#DIV/0!"},0,0,0,{"$error":"#DIV/0!"},0,0,0,0,null,null,null,0,{"$error":"#DIV/0!"},0,{"$error":"#DIV/0!"},0,0,0,0,0,0]
["1 Oct 2020 to 31 Oct 2020","HONG KONG BAPTIST HOSPITAL","HK BAPTIST HOSPITAL","PH",3650324540,"RAD",2,"Local system + LAAM","Local System",1858,1,null,1857,0,null,1,5.3821313240043052E-4,0,1,0,0,null,null,null,null,null,0,null,0,0,0,0,0,0,0,0,0,0]
["1 Oct 2020 to 31 Oct 2020","ST.TERESA's HOSPITAL","STH","PH",7969980015,"RAD",3,"Local system + LAAM","Local System",2610,0,null,null,2610,null,0,0,0,0,0,0,0,0,0,0,0,null,null,2610,1,0,0,0,0,0,0,0,0]
["1 Oct 2020 to 31 Oct 2020","HONG KONG AIRCRAFT ENGINEERING COMPANY LIMITED","HKAECL","GROUP",5197076289,"AL1","3,2","OnRamp","Local System",0,0,null,0,0,null,0,{"$error":"#DIV/0!"},0,0,0,{"$error":"#DIV/0!"},0,0,0,0,0,null,null,0,{"$error":"#DIV/0!"},0,{"$error":"#DIV/0!"},0,0,0,0,0,0]
["1 Oct 2020 to 31 Oct 2020","DR SUM NAM CHU'S CLINIC","DR SUM NAM CHU'S CLINIC","SOLO",2308765964,"RXO","3,2","OnRamp","Local System",0,0,null,0,0,null,0,{"$error":"#DIV/0!"},0,0,0,{"$error":"#DIV/0!"},0,0,0,0,0,null,null,0,{"$error":"#DIV/0!"},0,{"$error":"#DIV/0!"},0,0,0,0,0,0]
["1 Oct 2020 to 31 Oct 2020","DR. LEUNG KIN KAY","DR. LEUNG KIN KAY","SOLO",3226804803,"ADR","3,2","OnRamp","Local System",1,0,null,0,1,null,0,0,0,0,0,0,0,0,0,0,0,null,null,1,1,0,0,0,0,0,0,0,0]
["1 Oct 2020 to 31 Oct 2020","IPATH LABORATORY LIMITED","IPATH LABORATORY LIMITED","GROUP",4178262222,"LABAP",1,"Local system + LAAM","Local System",158,0,158,null,0,null,0,0,0,0,0,0,null,null,null,null,null,null,null,0,0,0,0,0,0,0,0,0,0]
["1 Nov 2020 to 30 Nov 2020","DEPARTMENT OF HEALTH CIMS1","DH","DH",8658917541,"IMMU",3,"Local system + LAAM","Local System",13686,0,null,null,13686,null,0,0,0,0,0,0,0,0,0,0,0,0,null,13686,1,0,0,0,0,0,0,0,0]
["1 Nov 2020 to 30 Nov 2020","EVANGEL HOSPITAL","EVANGEL HOSPITAL","PH",2206285885,"RXO","3,2","Local system","Local System",0,0,null,0,0,null,0,{"$error":"#DIV/0!"},0,0,0,{"$error":"#DIV/0!"},0,0,0,0,null,null,null,0,{"$error":"#DIV/0!"},0,{"$error":"#DIV/0!"},0,0,0,0,0,0]
["1 Nov 2020 to 30 Nov 2020","HONG KONG BAPTIST HOSPITAL","HK BAPTIST HOSPITAL","PH",3650324540,"LABMB",1,"Local system + LAAM","Local System",1913,0,1913,null,0,null,0,0,0,0,0,0,0,0,0,0,0,0,null,{"$f":"N5663","v":0},0,0,0,0,0,0,0,0,0]
["1 Nov 2020 to 30 Nov 2020","UNION HOSPITAL","UNION HOSPITAL","PH",5712620300,"EPIS",1,"Local system + LAAM","Local System",283,0,283,null,0,null,0,0,0,0,0,0,null,null,null,null,null,null,null,0,0,0,0,0,0,0,0,0,0]
["1 Nov 2020 to 30 Nov 2020","DR HO CHUNG PING","C.P. HO","SOLO",7889756707,"PROB","3,2","HKMA (Mobigator + Message formatter)","Local System",59,0,null,1,58,null,0,0,0,0,0,0,0,0,0,0,0,null,null,58,0.98305084745762716,0,0,0,0,0,0,0,0]
["1 Nov 2020 to 30 Nov 2020","DR SUM NAM CHU'S CLINIC","DR SUM NAM CHU'S CLINIC","SOLO",2308765964,"RXD","3,2","OnRamp","Local System",0,0,null,0,0,null,0,{"$error":"#DIV/0!"},0,0,0,{"$error":"#DIV/0!"},0,0,0,0,0,null,null,0,{"$error":"#DIV/0!"},0,{"$error":"#DIV/0!"},0,0,0,0,0,0]
["1 Nov 2020 to 30 Nov 2020","DR SUM NAM CHU'S CLINIC","DR SUM NAM CHU'S CLINIC","SOLO",2308765964,"PX","3,2","OnRamp","Local System",0,0,null,0,0,null,0,{"$error":"#DIV/0!"},0,0,0,{"$error":"#DIV/0!"},0,0,0,0,0,0,null,0,{"$error":"#DIV/0!"},0,{"$error":"#DIV/0!"},0,0,0,0,0,0]
["1 Nov 2020 to 30 Nov 2020","IPATH LABORATORY LIMITED","IPATH LABORATORY LIMITED","GROUP",4178262222,"LABAP",1,"Local system + LAAM","Local System",138,0,138,null,0,null,0,{"$f":"P5769/J5769","v":0},0,0,0,{"$f":"T5769/J5769","v":0},null,null,null,null,null,null,null,0,{"$f":"AC5769/J5769","v":0},0,{"$f":"AE5769/J5769","v":0},0,0,0,0,0,0]
["1 Nov 2020 to 30 Nov 2020","HKSH Medical Group Limited","HKSH MEDICAL FROUP","PH",4773496701,"RAD",2,"Local system","Local System",512,0,null,512,0,null,0,0,0,0,0,0,null,null,null,null,null,null,null,0,0,0,0,0,0,0,0,0,0]
["1 Dec 2020 to 31 Dec 2020","DR WONG CHUN POR","DR CP WONG CLINIC","SOLO",5528991274,"RXD","3,2","Local system","Local System",888,0,null,31,857,null,0,0,0,0,2,2.2522522522522522E-3,2,0,0,2,null,null,null,857,0.96509009009009006,0,0,0,0,0,0,0,0]
["1 Dec 2020 to 31 Dec 2020","HONG KONG BAPTIST HOSPITAL","HK BAPTIST HOSPITAL","PH",3650324540,"LABGEN",1,"Local system + LAAM","Local System",5381,0,5381,null,0,null,0,0,0,0,0,0,0,0,0,0,0,0,null,{"$f":"L5869","v":0},0,0,0,0,0,0,0,0,0]
["1 Dec 2020 to 31 Dec 2020","ST.TERESA's HOSPITAL","STH","PH",7969980015,"AL1",3,"Local system","Local System",180,0,null,88,92,null,0,0,0,0,74,0.41111111111111109,74,0,0,74,0,null,null,92,0.51111111111111107,0,0,0,0,0,0,0,0]
["1 Dec 2020 to 31 Dec 2020","DR HO CHUNG PING","C.P. HO","SOLO",7889756707,"AL1","3,2","HKMA (Mobigator + Message formatter)","Local System",1,0,null,0,1,null,0,0,0,0,0,0,0,0,0,0,0,null,null,1,1,0,0,0,0,0,0,0,0]
["1 Dec 2020 to 31 Dec 2020","GOOD HEALTH MEDICAL PRACTICES LIMITED","GHMPL","SOLO",5153981121,"RXO",2,"ClinicSolution","Local System",0,0,null,0,0,null,0,{"$error":"#DIV/0!"},0,0,0,{"$error":"#DIV/0!"},0,0,0,0,0,null,null,0,{"$error":"#DIV/0!"},0,{"$error":"#DIV/0!"},0,0,0,0,0,0]
["1 Dec 2020 to 31 Dec 2020","PRIME HEALTH ENDOCRINE & DIABETES CENTRE LIMITED","PRIME HEALTH","SOLO",4180832888,"PX","3,2","OnRamp","Local System",0,0,null,0,0,null,0,{"$error":"#DIV/0!"},0,0,0,{"$error":"#DIV/0!"},0,0,0,0,0,0,null,0,{"$error":"#DIV/0!"},0,{"$error":"#DIV/0!"},0,0,0,0,0,0]
["1 Dec 2020 to 31 Dec 2020","DISTRICT HEALTH CENTRE-KWAI TSING (KTSCHCA)","DHC-KWAI TSING","DHC",3040418583,"EPIS",1,"OnRamp","Local System",7209,0,7209,null,0,null,0,0,0,0,0,0,null,null,null,null,null,null,null,0,0,0,0,0,0,0,0,0,0]
["1 Dec 2020 to 31 Dec 2020","HKSH Medical Group Limited","HKSH MEDICAL FROUP","PH",4773496701,"LABGEN",1,"Local system","Local System",3673,0,3673,null,0,null,0,{"$f":"P5961/J5961","v":0},0,0,0,{"$f":"T5961/J5961","v":0},null,null,null,null,null,null,null,0,{"$f":"AC5961/J5961","v":0},0,{"$f":"AE5961/J5961","v":0},0,0,0,0,0,0]
["1 Jan 2021 to 31 Jan 2021","DEPARTMENT OF HEALTH","DH","DH",2438744730,"ADR",3,"SAAM","Local System",330,0,null,29,301,null,0,0,0,0,3,9.0909090909090905E-3,3,0,0,3,0,null,null,301,0.91212121212121211,0,0,0,0,0,0,0,0]
["1 Jan 2021 to 31 Jan 2021","DR WONG CHUN POR","DR CP WONG CLINIC","SOLO",5528991274,"PROB","3,2","Local system","Local System",500,0,null,1,499,null,0,0,0,0,0,0,0,0,0,0,null,null,null,499,0.998,0,0,0,0,0,0,0,0]
["1 Jan 2021 to 31 Jan 2021","ST. PAUL'S HOSPITAL","SPH","PH",5156724947,"ADR",3,"Local system","Local System",7,0,null,1,6,null,0,0,0,0,1,0.14285714285714285,1,0,0,1,0,null,null,6,0.8571428571428571,0,0,0,0,0,0,0,0]
["1 Jan 2021 to 31 Jan 2021","UNION HOSPITAL","UNION HOSPITAL","PH",5712620300,"RAD",3,"Local system","Local System",0,0,null,null,0,null,0,{"$error":"#DIV/0!"},0,0,0,{"$error":"#DIV/0!"},0,0,0,0,0,0,null,0,{"$error":"#DIV/0!"},0,{"$error":"#DIV/0!"},0,0,0,0,0,0]
["1 Jan 2021 to 31 Jan 2021","GOOD HEALTH MEDICAL PRACTICES LIMITED","GHMPL","SOLO",5153981121,"RXO",2,"ClinicSolution","Local System",0,0,null,0,null,null,0,{"$error":"#DIV/0!"},0,0,0,{"$error":"#DIV/0!"},0,0,0,0,0,null,null,0,{"$error":"#DIV/0!"},0,{"$error":"#DIV/0!"},0,0,0,0,0,0]
["1 Jan 2021 to 31 Jan 2021","HONG KONG AIRCRAFT ENGINEERING COMPANY LIMITED","HKAECL","GROUP",5197076289,"PROB","3,2","OnRamp","Local System",20,0,null,1,19,null,0,0,0,0,0,0,0,0,0,0,0,0,null,19,0.95,0,0,0,0,0,0,0,0]
["1 Jan 2021 to 31 Jan 2021","DR SUM NAM CHU'S CLINIC","DR SUM NAM CHU'S CLINIC","SOLO",2308765964,"PX","3,2","OnRamp","Local System",0,0,null,0,0,null,0,{"$error":"#DIV/0!"},0,0,0,{"$error":"#DIV/0!"},0,0,0,0,0,0,null,0,{"$error":"#DIV/0!"},0,{"$error":"#DIV/0!"},0,0,0,0,0,0]
["1 Jan 2021 to 31 Jan 2021","HEALTH IN ACTION LIMITED","HEALTH IN ACTION LIMITED","SOLO",8040919535,"PROB","3,2","OnRamp","Local System",0,0,null,0,0,null,0,{"$error":"#DIV/0!"},0,0,0,{"$error":"#DIV/0!"},0,0,0,0,0,0,null,0,{"$error":"#DIV/0!"},0,{"$error":"#DIV/0!"},0,0,0,0,0,0]
["1 Jan 2021 to 31 Jan 2021","HKSH Medical Group Limited","HKSH MEDICAL FROUP","PH",4773496701,"RAD",2,"Local system","Local System",{"$f":"SUM(K6157:N6157)","v":1169},{"$f":"P6157","v":0},null,1169,null,null,{"$f":"SUM(R6157:S6157)","v":0},0,0,0,{"$f":"SUM(Y6157:AA6157)","v":0},0,null,null,null,null,null,null,null,{"$f":"N6157","v":0},0,0,0,0,0,0,0,0,0]
["1 Feb 2021 to 28 Feb 2021","DEPARTMENT OF HEALTH","DH","DH",2438744730,"AL1",3,"SAAM","Local System",674,0,null,127,547,null,0,0,0,0,114,0.16913946587537093,114,0,0,114,0,null,null,547,0.81157270029673589,2,2.967359050445104E-3,0,0,0,2,0,0]
["1 Feb 2021 to 28 Feb 2021","EVANGEL HOSPITAL","EVANGEL HOSPITAL","PH",2206285885,"AL1",3,"Local system + LAAM","Local System",71,0,null,41,30,null,0,0,0,0,41,0.57746478873239437,41,0,0,41,0,null,null,30,0.42253521126760563,0,0,0,0,0,0,0,0]
["1 Feb 2021 to 28 Feb 2021","HONG KONG ADVENTIST HOSPITAL - STUBBS ROAD","HK ADVENTIST - SR","PH",7029571085,"ENCTR",3,"Local system + LAAM","Local System",205,0,null,null,205,null,0,0,0,0,0,0,null,null,null,null,null,null,null,205,1,0,0,0,0,0,0,0,0]
["1 Feb 2021 to 28 Feb 2021","UNION HOSPITAL","UNION HOSPITAL","PH",5712620300,"ENCTR",3,"Local system","Local System",0,0,null,null,0,null,0,{"$error":"#DIV/0!"},0,0,0,{"$error":"#DIV/0!"},null,null,null,null,null,null,null,0,{"$error":"#DIV/0!"},0,{"$error":"#DIV/0!"},0,0,0,0,0,0]
["1 Feb 2021 to 28 Feb 2021","DR HO CHUNG PING","C.P. HO","SOLO",7889756707,"IMMU","3,2","HKMA (Mobigator + Message formatter)","Local System",0,0,null,0,0,null,0,{"$error":"#DIV/0!"},0,0,0,{"$error":"#DIV/0!"},0,0,0,0,0,null,null,0,{"$error":"#DIV/0!"},0,{"$error":"#DIV/0!"},0,0,0,0,0,0]
["1 Feb 2021 to 28 Feb 2021","HONG KONG AIRCRAFT ENGINEERING COMPANY LIMITED","HKAECL","GROUP",5197076289,"PROB","3,2","OnRamp","Local System",22,0,null,0,22,null,0,0,0,0,0,0,0,0,0,0,0,0,null,22,1,0,0,0,0,0,0,0,0]
["1 Feb 2021 to 28 Feb 2021","DR SUM NAM CHU'S CLINIC","DR SUM NAM CHU'S CLINIC","SOLO",2308765964,"RXO","3,2","OnRamp","Local System",0,0,null,0,0,null,0,{"$error":"#DIV/0!"},0,0,0,{"$error":"#DIV/0!"},0,0,0,0,0,null,null,0,{"$error":"#DIV/0!"},0,{"$error":"#DIV/0!"},0,0,0,0,0,0]
["1 Feb 2021 to 28 Feb 2021","DR. LEUNG KIN KAY","DR. LEUNG KIN KAY","SOLO",3226804803,"ENCTR",3,"OnRamp","Local System",43,0,null,null,43,null,0,0,0,0,0,0,null,null,null,null,null,null,null,43,1,0,0,0,0,0,0,0,0]
["1 Feb 2021 to 28 Feb 2021","Hong Kong Christian Service","HKCS","GROUP",9179355867,"EPIS",1,"OnRamp","Local System",0,0,0,null,0,null,0,{"$error":"#DIV/0!"},0,0,0,{"$error":"#DIV/0!"},null,null,null,null,null,null,null,{"$f":"N6349","v":0},{"$error":"#DIV/0!"},0,{"$error":"#DIV/0!"},0,0,0,0,0,0]
["1 Feb 2021 to 28 Feb 2021","HKSH Medical Group Limited","HKSH MEDICAL FROUP","PH",4773496701,"EPIS",1,"Local system","Local System",370,0,370,null,0,null,0,0,0,0,0,0,null,null,null,null,null,null,null,0,0,0,0,0,0,0,0,0,0]
["1 Mar 2021 to 31 Mar 2021","DEPARTMENT OF HEALTH","DH","DH",2438744730,"RXO",3,"Local system + LAAM","Local System",18450,0,null,2541,15909,null,0,0,0,0,2542,0.13777777777777778,2542,0,0,2542,0,null,null,15909,0.86227642276422767,0,0,0,0,0,0,0,0]
["1 Mar 2021 to 31 Mar 2021","CHIRON HEALTHCARE GROUP LIMITED","CHIRON HEALTHCARE","GROUP",9451612824,"PROB","3,2","Local system","Local System",0,0,null,0,0,null,0,{"$error":"#DIV/0!"},0,0,0,{"$error":"#DIV/0!"},0,0,0,0,null,null,null,0,{"$error":"#DIV/0!"},0,{"$error":"#DIV/0!"},0,0,0,0,0,0]
["1 Mar 2021 to 31 Mar 2021","THE HONG KONG POLYTECHNIC UNIVERSITY","POLYU","HCAI",4578805814,"AL1",3,"Local system","Local System",0,0,null,null,0,null,0,{"$error":"#DIV/0!"},0,0,0,{"$error":"#DIV/0!"},0,0,0,0,0,null,null,0,{"$error":"#DIV/0!"},0,{"$error":"#DIV/0!"},0,0,0,0,0,0]
["1 Mar 2021 to 31 Mar 2021","THE HONG KONG POLYTECHNIC UNIVERSITY","POLYU","HCAI",4578805814,"IMMU",3,"Local system","Local System",0,0,null,0,0,null,0,{"$error":"#DIV/0!"},0,0,0,{"$error":"#DIV/0!"},0,0,0,0,0,null,null,0,{"$error":"#DIV/0!"},0,{"$error":"#DIV/0!"},0,0,0,0,0,0]
["1 Mar 2021 to 31 Mar 2021","DR HO CHUNG PING","C.P. HO","SOLO",7889756707,"PX","3,2","HKMA (Mobigator + Message formatter)","Local System",2,0,null,0,2,null,0,0,0,0,0,0,0,0,0,0,0,null,null,2,1,0,0,0,0,0,0,0,0]
["1 Mar 2021 to 31 Mar 2021","HONG KONG AIRCRAFT ENGINEERING COMPANY LIMITED","HKAECL","GROUP",5197076289,"ENCTR",3,"OnRamp","Local System",26,0,null,null,26,null,0,0,0,0,0,0,null,null,null,null,null,null,null,26,1,0,0,0,0,0,0,0,0]
["1 Mar 2021 to 31 Mar 2021","PRIME HEALTH ENDOCRINE & DIABETES CENTRE LIMITED","PRIME HEALTH","SOLO",4180832888,"RXO","3,2","OnRamp","Local System",0,0,null,0,0,null,0,{"$error":"#DIV/0!"},0,0,0,{"$error":"#DIV/0!"},0,0,0,0,0,null,null,0,{"$error":"#DIV/0!"},0,{"$error":"#DIV/0!"},0,0,0,0,0,0]
["1 Mar 2021 to 31 Mar 2021","DISTRICT HEALTH CENTRE-KWAI TSING (KTSCHCA)","DHC-KWAI TSING","DHC",3040418583,"AL1","3,2","OnRamp","Local System",0,0,null,0,0,null,0,{"$error":"#DIV/0!"},0,0,0,{"$error":"#DIV/0!"},0,0,0,0,0,null,null,0,{"$error":"#DIV/0!"},0,{"$error":"#DIV/0!"},0,0,0,0,0,0]
["1 Mar 2021 to 31 Mar 2021","Hong Kong Christian Service","HKCS","GROUP",9179355867,"PX","3,2","OnRamp","Local System",0,0,null,0,0,null,0,{"$error":"#DIV/0!"},0,0,0,{"$error":"#DIV/0!"},0,0,0,0,0,0,null,0,{"$error":"#DIV/0!"},0,{"$error":"#DIV/0!"},0,0,0,0,0,0]
["1 Mar 2021 to 31 Mar 2021","PRECIOUS MEDICAL  (HK)  LIMITED","PRECIOUS MEDICAL  (HK)  LIMITED","SOLO",9675260245,"IMMU","3,2","OnRamp","Local System",0,0,null,0,0,null,0,{"$error":"#DIV/0!"},0,0,0,{"$error":"#DIV/0!"},0,0,0,0,0,null,null,0,{"$error":"#DIV/0!"},0,{"$error":"#DIV/0!"},0,0,0,0,0,0]
["1 Apr 2021 to 30 Apr 2021","DEPARTMENT OF HEALTH","DH","DH",2438744730,"ADR",3,"SAAM","Local System",427,0,null,45,382,null,0,0,0,0,43,0.10070257611241218,43,0,0,43,0,null,null,382,0.8946135831381733,2,4.6838407494145199E-3,0,0,0,2,0,0]
["1 Apr 2021 to 30 Apr 2021","HONG KONG ADVENTIST HOSPITAL - STUBBS ROAD","HK ADVENTIST - SR","PH",7029571085,"RAD",2,"Local system","Local System",140,0,null,140,0,null,0,0,0,0,0,0,0,0,0,0,0,0,null,0,0,0,0,0,0,0,0,0,0]
["1 Apr 2021 to 30 Apr 2021","HONG KONG BAPTIST HOSPITAL","HK BAPTIST HOSPITAL","PH",3650324540,"ENCTR",3,"Local system","Local System",0,0,null,null,0,null,0,{"$error":"#DIV/0!"},0,0,0,{"$error":"#DIV/0!"},null,null,null,null,null,null,null,0,{"$error":"#DIV/0!"},0,{"$error":"#DIV/0!"},0,0,0,0,0,0]
["1 Apr 2021 to 30 Apr 2021","TUNG WAH GROUP OF HOSPITALS","TUNG WAH GROUP. OF HOSPITALS","NGO",4471430786,"RAD",3,"Local system + LAAM","Local System",0,0,null,null,0,null,0,{"$error":"#DIV/0!"},0,0,0,{"$error":"#DIV/0!"},0,0,0,0,0,0,null,0,{"$error":"#DIV/0!"},0,{"$error":"#DIV/0!"},0,0,0,0,0,0]
["1 Apr 2021 to 30 Apr 2021","DR HO CHUNG PING","C.P. HO","SOLO",7889756707,"IMMU","3,2","HKMA (Mobigator + Message formatter)","Local System",0,0,null,0,0,null,0,{"$error":"#DIV/0!"},0,0,0,{"$error":"#DIV/0!"},0,0,0,0,0,null,null,0,{"$error":"#DIV/0!"},0,{"$error":"#DIV/0!"},0,0,0,0,0,0]
["1 Apr 2021 to 30 Apr 2021","GOOD HEALTH MEDICAL PRACTICES LIMITED","GHMPL","SOLO",5153981121,"RXO",2,"ClinicSolution","Local System",0,0,null,0,0,null,0,{"$error":"#DIV/0!"},0,0,0,{"$error":"#DIV/0!"},0,0,0,0,0,null,null,0,{"$error":"#DIV/0!"},0,{"$error":"#DIV/0!"},0,0,0,0,0,0]
["1 Apr 2021 to 30 Apr 2021","DR. LEUNG KIN KAY","DR. LEUNG KIN KAY","SOLO",3226804803,"RXO","3,2","OnRamp","Local System",163,0,null,100,63,null,0,0,0,0,0,0,0,0,0,0,0,null,null,63,0.38650306748466257,99,0.6073619631901841,0,0,0,99,0,0]
["1 Apr 2021 to 30 Apr 2021","DISTRICT HEALTH CENTRE-KWAI TSING (KTSCHCA)","DHC-KWAI TSING","DHC",3040418583,"EPIS",1,"Local System + LAAM","Local System",3868,0,3868,null,0,null,0,0,0,0,0,0,null,null,null,null,null,null,null,0,0,0,0,0,0,0,0,0,0]
["1 Apr 2021 to 30 Apr 2021","Hong Kong Christian Service","HKCS","GROUP",9179355867,"EPIS",1,"OnRamp","Local System",{"$f":"SUM(K6775:N6775)","v":0},{"$f":"P6775","v":0},0,null,0,null,{"$f":"SUM(R6775:S6775)","v":0},{"$error":"#DIV/0!"},0,0,{"$f":"SUM(Y6775:AA6775)","v":0},{"$error":"#DIV/0!"},null,null,null,null,null,null,null,{"$f":"N6775","v":0},{"$error":"#DIV/0!"},0,{"$error":"#DIV/0!"},0,0,0,0,0,0]
["1 Apr 2021 to 30 Apr 2021","HKSH Medical Group Limited","HKSH MEDICAL FROUP","PH",4773496701,"ADR",3,"SAAM","Local System",1470,0,null,193,1277,null,0,0,0,0,193,0.13129251700680272,193,0,0,193,0,null,null,1277,0.86870748299319733,0,0,0,0,0,0,0,0]
["1 May 2021 to 31 May 2021","CHIRON HEALTHCARE GROUP LIMITED","CHIRON HEALTHCARE","GROUP",9451612824,"ENCTR",3,"Local system","Local System",1182,0,null,null,1182,null,0,0,0,0,0,0,null,null,null,null,null,null,null,1182,1,0,0,0,0,0,0,0,0]
["1 May 2021 to 31 May 2021","CHIRON HEALTHCARE GROUP LIMITED","CHIRON HEALTHCARE","GROUP",9451612824,"PX","3,2","Local system","Local System",27,0,null,2,25,null,0,0,0,0,0,0,0,0,0,0,null,null,null,25,0.92592592592592593,0,0,0,0,0,0,0,0]
["1 May 2021 to 31 May 2021","HONG KONG BAPTIST HOSPITAL","HK BAPTIST HOSPITAL","PH",3650324540,"LABAP",1,"Local system + LAAM","Local System",854,0,854,null,0,null,0,0,0,0,0,0,null,0,0,null,null,0,null,0,0,0,0,0,0,0,0,0,0]
["1 May 2021 to 31 May 2021","ST.TERESA's HOSPITAL","STH","PH",7969980015,"EPIS",1,"Local system + LAAM","Local System",225,0,225,null,0,null,0,0,0,0,0,0,null,null,null,null,null,null,null,0,0,0,0,0,0,0,0,0,0]
["1 May 2021 to 31 May 2021","Hong Kong Breast Cancer and Disease Centre Limited","HKBCADC","SOLO           ",9407305541,"PROB","2,3","OnRamp","Local System",0,0,null,0,0,null,0,{"$error":"#DIV/0!"},0,0,0,{"$error":"#DIV/0!"},0,0,0,0,0,0,null,0,{"$error":"#DIV/0!"},0,{"$error":"#DIV/0!"},0,0,0,0,0,0]
["1 May 2021 to 31 May 2021","HK MERCY MEDICAL LIMITED","HK MERCY MEDICAL LIMITED","SOLO",9056383716,"REF",1,"OnRamp","Local System",0,0,0,null,0,null,0,{"$error":"#DIV/0!"},0,0,0,{"$error":"#DIV/0!"},null,null,null,null,null,null,null,0,{"$error":"#DIV/0!"},0,{"$error":"#DIV/0!"},0,0,0,0,0,0]
["1 May 2021 to 31 May 2021","DR. LEUNG KIN KAY","DR. LEUNG KIN KAY","SOLO",3226804803,"ADR","3,2","OnRamp","Local System",0,0,null,0,0,null,0,{"$error":"#DIV/0!"},0,0,0,{"$error":"#DIV/0!"},0,0,0,0,0,null,null,0,{"$error":"#DIV/0!"},0,{"$error":"#DIV/0!"},0,0,0,0,0,0]
["1 May 2021 to 31 May 2021","DR. LEUNG KIN KAY","DR. LEUNG KIN KAY","SOLO",3226804803,"REF",1,"OnRamp","Local System",0,0,0,null,0,null,0,{"$error":"#DIV/0!"},0,0,0,{"$error":"#DIV/0!"},null,null,null,null,null,null,null,0,{"$error":"#DIV/0!"},0,{"$error":"#DIV/0!"},0,0,0,0,0,0]
["1 May 2021 to 31 May 2021","DR. CHAN KIT YAN SELINA","DR. CHAN KIT YAN SELINA","SOLO",8895790679,"EPIS",1,"OnRamp","Local System",0,0,0,null,0,null,0,{"$error":"#DIV/0!"},0,0,0,{"$error":"#DIV/0!"},null,null,null,null,null,null,null,0,{"$error":"#DIV/0!"},0,{"$error":"#DIV/0!"},0,0,0,0,0,0]
["1 May 2021 to 31 May 2021","PRECIOUS MEDICAL  (HK)  LIMITED","PRECIOUS MEDICAL  (HK)  LIMITED","SOLO",9675260245,"REF",1,"OnRamp","Local System",0,0,0,null,0,null,0,{"$error":"#DIV/0!"},0,0,0,{"$error":"#DIV/0!"},null,null,null,null,null,null,null,0,{"$error":"#DIV/0!"},0,{"$error":"#DIV/0!"},0,0,0,0,0,0]
["1 Jun 2021 to 30 Jun 2021","DEPARTMENT OF HEALTH","DH","DH",2438744730,"REF",1,"Local system + LAAM","Local System",3634,0,3634,null,0,null,0,0,0,0,0,0,null,null,null,null,null,null,null,0,0,0,0,0,0,0,0,0,0]
["1 Jun 2021 to 30 Jun 2021","EVANGEL HOSPITAL","EVANGEL HOSPITAL","PH",2206285885,"ENCTR","3,2","Local system + LAAM","Local System",0,0,null,null,0,null,0,{"$error":"#DIV/0!"},0,0,0,{"$error":"#DIV/0!"},null,null,null,null,null,null,null,0,{"$error":"#DIV/0!"},0,{"$error":"#DIV/0!"},0,0,0,0,0,0]
["1 Jun 2021 to 30 Jun 2021","HONG KONG ADVENTIST HOSPITAL - TSUEN WAN","HK ADVENTIST - TW","PH",8909436562,"LABGEN",3,"Local system + Adaptation","Local System",28914,0,null,2097,26817,null,0,0,0,0,2101,7.2663761499619561E-2,2101,0,0,2101,0,null,null,26817,0.92747457978833781,0,0,0,0,0,0,0,0]
["1 Jun 2021 to 30 Jun 2021","ST. PAUL'S HOSPITAL","SPH","PH",5156724947,"BIRTH",3,"Local system + LAAM","Local System",0,0,null,null,0,null,0,{"$error":"#DIV/0!"},0,0,0,{"$error":"#DIV/0!"},0,0,0,0,0,null,null,0,{"$error":"#DIV/0!"},0,{"$error":"#DIV/0!"},0,0,0,0,0,0]
["1 Jun 2021 to 30 Jun 2021","DR HO CHUNG PING","C.P. HO","SOLO",7889756707,"ENCTR",3,"HKMA (Mobigator + Message formatter)","Local System",109,0,null,null,109,null,0,0,0,0,0,0,null,null,null,null,null,null,null,109,1,0,0,0,0,0,0,0,0]
["1 Jun 2021 to 30 Jun 2021","HK MERCY MEDICAL LIMITED","HK MERCY MEDICAL LIMITED","SOLO",9056383716,"PX","3,2","OnRamp","Local System",0,0,null,0,0,null,0,{"$error":"#DIV/0!"},0,0,0,{"$error":"#DIV/0!"},0,0,0,0,0,0,null,0,{"$error":"#DIV/0!"},0,{"$error":"#DIV/0!"},0,0,0,0,0,0]
["1 Jun 2021 to 30 Jun 2021","DR. LEUNG KIN KAY","DR. LEUNG KIN KAY","SOLO",3226804803,"RXO","3,2","OnRamp","Local System",105,0,null,35,70,null,0,0,0,0,0,0,0,0,0,0,0,null,null,70,0.66666666666666663,34,0.32380952380952382,0,0,0,34,0,0]
["1 Jun 2021 to 30 Jun 2021","HEALTH IN ACTION LIMITED","HEALTH IN ACTION LIMITED","SOLO",8040919535,"PROB","3,2","OnRamp","Local System",0,0,null,0,0,null,0,{"$error":"#DIV/0!"},0,0,0,{"$error":"#DIV/0!"},0,0,0,0,0,0,null,0,{"$error":"#DIV/0!"},0,{"$error":"#DIV/0!"},0,0,0,0,0,0]
["1 Jun 2021 to 30 Jun 2021","ST.TERESA's HOSPITAL","STH","PH",7969980015,"BIRTH",3,"Local system + LAAM","Local System",10,0,null,null,10,null,0,0,0,0,0,0,null,null,null,null,null,null,null,10,1,0,0,0,0,0,0,0,0]
["1 Jun 2021 to 30 Jun 2021","HKSH Medical Group Limited","HKSH MEDICAL FROUP","PH",4773496701,"ADR",3,"SAAM","Local System",73,0,null,6,67,null,0,0,0,0,6,8.2191780821917804E-2,6,0,0,6,0,null,null,67,0.9178082191780822,0,0,0,0,0,0,0,0]
["1 Jul 2021 to 31 Jul 2021","DEPARTMENT OF HEALTH","DH","DH",2438744730,"REF",1,"Local system + LAAM","Local System",4568,0,4568,null,0,null,0,0,0,0,0,0,null,null,null,null,null,null,null,0,0,0,0,0,0,0,0,0,0]
["1 Jul 2021 to 31 Jul 2021","DR WONG CHUN POR","DR CP WONG CLINIC","SOLO",5528991274,"ENCTR",3,"Local system","Local System",576,0,null,null,576,null,0,0,0,0,0,0,null,null,null,null,null,null,null,576,1,0,0,0,0,0,0,0,0]
["1 Jul 2021 to 31 Jul 2021","PRECIOUS BLOOD HOSPITAL (CARITAS)","PRECIOUS BLOOD HOSPITAL","PH",7002059678,"ADR",3,"Local system","Local System",3,0,null,1,2,null,0,0,0,0,1,0.33333333333333331,1,0,0,1,0,null,null,2,0.66666666666666663,0,0,0,0,0,0,0,0]
["1 Jul 2021 to 31 Jul 2021","THE HONG KONG POLYTECHNIC UNIVERSITY","POLYU","HCAI",4578805814,"IMMU",3,"Local system","Local System",343,0,null,123,220,null,0,0,0,0,0,0,0,0,0,0,0,null,null,220,0.64139941690962099,123,0.35860058309037901,0,0,0,123,0,0]
["1 Jul 2021 to 31 Jul 2021","UNION HOSPITAL","UNION HOSPITAL","PH",5712620300,"BIRTH",3,"Local system","Local System",6,0,null,null,6,null,0,0,0,0,0,0,0,0,0,0,0,0,null,6,1,0,0,0,0,0,0,0,0]
["1 Jul 2021 to 31 Jul 2021","HONG KONG AIRCRAFT ENGINEERING COMPANY LIMITED","HKAECL","GROUP",5197076289,"ENCTR",3,"OnRamp","Local System",22,0,null,null,22,null,0,0,0,0,0,0,null,null,null,null,null,null,null,22,1,0,0,0,0,0,0,0,0]
["1 Jul 2021 to 31 Jul 2021","PRIME HEALTH ENDOCRINE & DIABETES CENTRE LIMITED","PRIME HEALTH","SOLO",4180832888,"ADR","3,2","OnRamp","Local System",0,0,null,0,0,null,0,{"$error":"#DIV/0!"},0,0,0,{"$error":"#DIV/0!"},0,0,0,0,0,null,null,0,{"$error":"#DIV/0!"},0,{"$error":"#DIV/0!"},0,0,0,0,0,0]
["1 Jul 2021 to 31 Jul 2021","HEALTH IN ACTION LIMITED","HEALTH IN ACTION LIMITED","SOLO",8040919535,"AL1","3,2","OnRamp","Local System",0,0,null,0,0,null,0,{"$error":"#DIV/0!"},0,0,0,{"$error":"#DIV/0!"},0,0,0,0,0,null,null,0,{"$error":"#DIV/0!"},0,{"$error":"#DIV/0!"},0,0,0,0,0,0]
["1 Jul 2021 to 31 Jul 2021","Hong Kong Christian Service","HKCS","GROUP",9179355867,"REF",1,"OnRamp","Local System",0,0,0,null,0,null,0,{"$error":"#DIV/0!"},0,0,0,{"$error":"#DIV/0!"},null,null,null,null,null,null,null,0,{"$error":"#DIV/0!"},0,{"$error":"#DIV/0!"},0,0,0,0,0,0]
["1 Jul 2021 to 31 Jul 2021","HKSH Medical Group Limited","HKSH MEDICAL FROUP","PH",4773496701,"LABAP",1,"Local system","Local System",497,0,497,null,0,null,0,0,0,0,0,0,null,null,null,null,null,null,null,0,0,0,0,0,0,0,0,0,0]
["1 Aug 2021 to 31 Aug 2021","DEPARTMENT OF HEALTH","DH","DH",2438744730,"PROB",3,"Local system + LAAM","Local System",59917,0,null,361,59556,null,0,0,0,0,301,5.0236160021362884E-3,301,0,0,301,0,null,null,59556,0.99397499874826845,4,6.6759016639684899E-5,0,4,0,0,0,0]
["1 Aug 2021 to 31 Aug 2021","CHIRON HEALTHCARE GROUP LIMITED","CHIRON HEALTHCARE","GROUP",9451612824,"PROB","3,2","Local system","Local System",1472,0,null,196,1276,null,0,0,0,0,0,0,0,0,0,0,null,null,null,1276,0.86684782608695654,0,0,0,0,0,0,0,0]
["1 Aug 2021 to 31 Aug 2021","HONG KONG ADVENTIST HOSPITAL - STUBBS ROAD","HK ADVENTIST - SR","PH",7029571085,"RXD",2,"Local system + LAAM","Local System",763,0,null,763,0,null,0,0,0,0,0,0,0,0,0,0,null,null,null,0,0,0,0,0,0,0,0,0,0]
["1 Aug 2021 to 31 Aug 2021","HONG KONG BAPTIST HOSPITAL","HK BAPTIST HOSPITAL","PH",3650324540,"LABMB",1,"Local system + LAAM","Local System",2776,1,2775,null,0,null,1,3.6023054755043225E-4,0,1,0,0,0,0,0,0,0,0,null,0,0,0,0,0,0,0,0,0,0]
["1 Aug 2021 to 31 Aug 2021","Hong Kong Breast Cancer and Disease Centre Limited","HKBCADC","SOLO           ",9407305541,"IMMU","2,3","OnRamp","Local System",0,0,null,0,0,null,0,{"$error":"#DIV/0!"},0,0,0,{"$error":"#DIV/0!"},0,0,0,0,0,0,null,0,{"$error":"#DIV/0!"},0,{"$error":"#DIV/0!"},0,0,0,0,0,0]
["1 Aug 2021 to 31 Aug 2021","HONG KONG AIRCRAFT ENGINEERING COMPANY LIMITED","HKAECL","GROUP",5197076289,"PROB","3,2","OnRamp","Local System",0,0,null,0,0,null,0,{"$error":"#DIV/0!"},0,0,0,{"$error":"#DIV/0!"},0,0,0,0,0,0,null,0,{"$error":"#DIV/0!"},0,{"$error":"#DIV/0!"},0,0,0,0,0,0]
["1 Aug 2021 to 31 Aug 2021","DR SUM NAM CHU'S CLINIC","DR SUM NAM CHU'S CLINIC","SOLO",2308765964,"RXO","3,2","OnRamp","Local System",0,0,null,0,0,null,0,{"$error":"#DIV/0!"},0,0,0,{"$error":"#DIV/0!"},0,0,0,0,0,null,null,0,{"$error":"#DIV/0!"},0,{"$error":"#DIV/0!"},0,0,0,0,0,0]
["1 Aug 2021 to 31 Aug 2021","HEALTH IN ACTION LIMITED","HEALTH IN ACTION LIMITED","SOLO",8040919535,"RXD","3,2","OnRamp","Local System",0,0,null,0,0,null,0,{"$error":"#DIV/0!"},0,0,0,{"$error":"#DIV/0!"},0,0,0,0,0,null,null,0,{"$error":"#DIV/0!"},0,{"$error":"#DIV/0!"},0,0,0,0,0,0]
["1 Aug 2021 to 31 Aug 2021","Hong Kong Christian Service","HKCS","GROUP",9179355867,"PROB","3,2","OnRamp","Local System",{"$f":"SUM(K7634:N7634)","v":0},{"$f":"P7634","v":0},null,0,0,null,{"$f":"SUM(R7634:S7634)","v":0},{"$error":"#DIV/0!"},0,0,{"$f":"SUM(Y7634:AA7634)","v":0},{"$error":"#DIV/0!"},0,0,0,0,0,0,null,{"$f":"N7634","v":0},{"$error":"#DIV/0!"},0,{"$error":"#DIV/0!"},0,0,0,0,0,0]
["1 Aug 2021 to 31 Aug 2021","Trinity Medical Imaging Centre Limited","TRINITY MEDICAL IMG","SOLO",5453649547,"RAD",3,"LAAM","Local System",104,0,null,null,104,null,0,0,0,0,0,0,0,0,0,0,0,null,null,104,1,0,0,0,0,0,0,0,0]
["1 Aug 2021 to 31 Aug 2021","HKSH Medical Group Limited","HKSH MEDICAL FROUP","PH",4773496701,"RAD",2,"Local system","Local System",2706,0,null,2706,0,null,0,0,0,0,0,0,null,null,null,null,null,null,null,0,0,0,0,0,0,0,0,0,0]
["1 Sep 2021 to 30 Sep 2021","CHIRON HEALTHCARE GROUP LIMITED","CHIRON HEALTHCARE","GROUP",9451612824,"IMMU","3,2","Local system","Local System",16,0,null,13,3,null,0,0,0,0,0,0,0,0,0,0,0,0,null,3,0.1875,0,0,0,0,0,0,0,0]
["1 Sep 2021 to 30 Sep 2021","DR. YEE YUK KEI","DR. YK YEE","SOLO",2310917092,"AL1","3,2","Local system","Local System",11,0,null,0,11,null,0,0,0,0,0,0,0,0,0,0,0,null,null,11,1,0,0,0,0,0,0,0,0]
["1 Sep 2021 to 30 Sep 2021","ST. PAUL'S HOSPITAL","SPH","PH",5156724947,"EPIS",1,"Local system + LAAM","Local System",262,0,262,null,0,null,0,0,0,0,0,0,null,null,null,null,null,null,null,0,0,0,0,0,0,0,0,0,0]
["1 Sep 2021 to 30 Sep 2021","DR HO CHUNG PING","C.P. HO","SOLO",7889756707,"PX","3,2","HKMA (Mobigator + Message formatter)","Local System",1,0,null,0,1,null,0,0,0,0,0,0,0,0,0,0,0,null,null,1,1,0,0,0,0,0,0,0,0]
["1 Sep 2021 to 30 Sep 2021","HONG KONG AIRCRAFT ENGINEERING COMPANY LIMITED","HKAECL","GROUP",5197076289,"RXO","3,2","OnRamp","Local System",5,0,null,0,5,null,0,0,0,0,0,0,0,0,0,0,0,null,null,5,1,0,0,0,0,0,0,0,0]
["1 Sep 2021 to 30 Sep 2021","HK MERCY MEDICAL LIMITED","HK MERCY MEDICAL LIMITED","SOLO",9056383716,"IMMU","3,2","OnRamp","Local System",0,0,null,0,0,null,0,{"$error":"#DIV/0!"},0,0,0,{"$error":"#DIV/0!"},0,0,0,0,0,null,null,0,{"$error":"#DIV/0!"},0,{"$error":"#DIV/0!"},0,0,0,0,0,0]
["1 Sep 2021 to 30 Sep 2021","DISTRICT HEALTH CENTRE-KWAI TSING (KTSCHCA)","DHC-KWAI TSING","DHC",3040418583,"ADR","3,2","Local System + LAAM","Local System",0,0,null,0,0,null,0,{"$error":"#DIV/0!"},0,0,0,{"$error":"#DIV/0!"},0,0,0,0,0,null,null,0,{"$error":"#DIV/0!"},0,{"$error":"#DIV/0!"},0,0,0,0,0,0]
["1 Sep 2021 to 30 Sep 2021","Hong Kong Christian Service","HKCS","GROUP",9179355867,"RXO","3,2","OnRamp","Local System",613,0,null,532,81,null,0,0,0,0,0,0,0,0,0,0,0,null,null,81,0.13213703099510604,0,0,0,0,0,0,0,0]
["1 Sep 2021 to 30 Sep 2021","PRECIOUS MEDICAL  (HK)  LIMITED","PRECIOUS MEDICAL  (HK)  LIMITED","SOLO",9675260245,"REF",1,"OnRamp","Local System",0,0,0,null,0,null,0,{"$error":"#DIV/0!"},0,0,0,{"$error":"#DIV/0!"},null,null,null,null,null,null,null,0,{"$error":"#DIV/0!"},0,{"$error":"#DIV/0!"},0,0,0,0,0,0]
["1 Sep 2021 to 30 Sep 2021","HKSH Medical Group Limited","HKSH MEDICAL FROUP","PH",4773496701,"LABAP",1,"Local system","Local System",1075,0,1075,null,0,null,0,0,0,0,0,0,null,null,null,null,null,null,null,0,0,0,0,0,0,0,0,0,0]
["1 Oct 2021 to 31 Oct 2021","DEPARTMENT OF HEALTH","DH","DH",2438744730,"LABAP",1,"Local system + LAAM","Local System",15,0,15,null,0,null,0,0,0,0,0,0,0,0,0,0,0,null,null,0,0,0,0,0,0,0,0,0,0]
["1 Oct 2021 to 31 Oct 2021","DR WONG CHUN POR","DR CP WONG CLINIC","SOLO",5528991274,"IMMU","3,2","Local system","Local System",34,0,null,30,4,null,0,0,0,0,28,0.82352941176470584,28,0,0,28,0,0,null,4,0.11764705882352941,0,0,0,0,0,0,0,0]
["1 Oct 2021 to 31 Oct 2021","ST. PAUL'S HOSPITAL","SPH","PH",5156724947,"BIRTH",3,"Local system + LAAM","Local System",0,0,null,null,0,null,0,{"$error":"#DIV/0!"},0,0,0,{"$error":"#DIV/0!"},0,0,0,0,0,null,null,0,{"$error":"#DIV/0!"},0,{"$error":"#DIV/0!"},0,0,0,0,0,0]
["1 Oct 2021 to 31 Oct 2021","UNION HOSPITAL","UNION HOSPITAL","PH",5712620300,"BIRTH",3,"Local system","Local System",1,0,null,null,1,null,0,0,0,0,0,0,0,0,0,0,0,0,null,1,1,0,0,0,0,0,0,0,0]
["1 Oct 2021 to 31 Oct 2021","GOOD HEALTH MEDICAL PRACTICES LIMITED","GHMPL","SOLO",5153981121,"AL1",3,"ClinicSolution","Local System",0,0,null,null,0,null,0,{"$error":"#DIV/0!"},0,0,0,{"$error":"#DIV/0!"},0,0,0,0,0,null,null,0,{"$error":"#DIV/0!"},0,{"$error":"#DIV/0!"},0,0,0,0,0,0]
["1 Oct 2021 to 31 Oct 2021","HK MERCY MEDICAL LIMITED","HK MERCY MEDICAL LIMITED","SOLO",9056383716,"ADR","3,2","OnRamp","Local System",0,0,null,0,0,null,0,{"$error":"#DIV/0!"},0,0,0,{"$error":"#DIV/0!"},0,0,0,0,0,null,null,0,{"$error":"#DIV/0!"},0,{"$error":"#DIV/0!"},0,0,0,0,0,0]
["1 Oct 2021 to 31 Oct 2021","HEALTH IN ACTION LIMITED","HEALTH IN ACTION LIMITED","SOLO",8040919535,"ADR","3,2","OnRamp","Local System",0,0,null,0,0,null,0,{"$error":"#DIV/0!"},0,0,0,{"$error":"#DIV/0!"},0,0,0,0,0,null,null,0,{"$error":"#DIV/0!"},0,{"$error":"#DIV/0!"},0,0,0,0,0,0]
["1 Oct 2021 to 31 Oct 2021","HEALTH IN ACTION LIMITED","HEALTH IN ACTION LIMITED","SOLO",8040919535,"REF",1,"OnRamp","Local System",0,0,0,null,0,null,0,{"$error":"#DIV/0!"},0,0,0,{"$error":"#DIV/0!"},null,null,null,null,null,null,null,0,{"$error":"#DIV/0!"},0,{"$error":"#DIV/0!"},0,0,0,0,0,0]
["1 Oct 2021 to 31 Oct 2021","Hong Kong Christian Service","HKCS","GROUP",9179355867,"PX","3,2","OnRamp","Local System",{"$f":"SUM(K8072:N8072)","v":0},{"$f":"P8072","v":0},null,0,0,null,{"$f":"SUM(R8072:S8072)","v":0},{"$error":"#DIV/0!"},0,0,{"$f":"SUM(Y8072:AA8072)","v":0},{"$error":"#DIV/0!"},0,0,0,0,0,0,null,{"$f":"N8072","v":0},{"$error":"#DIV/0!"},0,{"$error":"#DIV/0!"},0,0,0,0,0,0]
["1 Oct 2021 to 31 Oct 2021","DHC EXPRESS-SAI KUNG (HOHCS)","DHC EXPRESS-SAI KUNG-CC","DHC",6402782674,"ADR",3,"Local System + LAAM","Local System",0,0,null,null,0,null,0,{"$error":"#DIV/0!"},0,0,0,{"$error":"#DIV/0!"},0,0,0,0,0,null,null,0,{"$error":"#DIV/0!"},0,{"$error":"#DIV/0!"},0,0,0,0,0,0]
["1 Oct 2021 to 31 Oct 2021","DHC EXPRESS-NORTH (HKSR)","DHC EXPRESS-NORTH-CC","DHC",6678116401,"EPIS",1,"Local System + LAAM","Local System",3,0,3,null,0,null,0,0,0,0,0,0,null,null,null,null,null,null,null,0,0,0,0,0,0,0,0,0,0]
["1 Nov 2021 to 30 Nov 2021","DEPARTMENT OF HEALTH CIMS1","DH","DH",8658917541,"ENCTR",3,"Local system + LAAM","Local System",{"$f":"SUM(K8143:N8143)","v":122860},{"$f":"P8143","v":0},null,null,122860,null,{"$f":"SUM(R8143:S8143)","v":0},0,0,0,{"$f":"SUM(Y8143:AA8143)","v":0},0,null,null,null,null,null,null,null,{"$f":"N8143","v":122860},1,0,0,0,0,0,0,0,0]
["1 Nov 2021 to 30 Nov 2021","DEPARTMENT OF HEALTH","DH","DH",2438744730,"LABAP",1,"Local system + LAAM","Local System",47,2,45,null,0,null,2,4.2553191489361701E-2,2,0,0,0,0,0,0,0,0,null,null,0,0,0,0,0,0,0,0,0,0]
["1 Nov 2021 to 30 Nov 2021","DR WONG CHUN POR","DR CP WONG CLINIC","SOLO",5528991274,"ADR","3,2","Local system","Local System",0,0,null,0,0,null,0,{"$error":"#DIV/0!"},0,0,0,{"$error":"#DIV/0!"},0,0,0,0,0,null,null,0,{"$error":"#DIV/0!"},0,{"$error":"#DIV/0!"},0,0,0,0,0,0]
["1 Nov 2021 to 30 Nov 2021","HONG KONG ADVENTIST HOSPITAL - TSUEN WAN","HK ADVENTIST - TW","PH",8909436562,"ADR",3,"Local system","Local System",17,0,null,1,16,null,0,0,0,0,1,5.8823529411764705E-2,1,0,0,1,0,null,null,16,0.94117647058823528,0,0,0,0,0,0,0,0]
["1 Nov 2021 to 30 Nov 2021","ST. PAUL'S HOSPITAL","SPH","PH",5156724947,"AL1",3,"Local system","Local System",145,0,null,54,91,null,0,0,0,0,45,0.31034482758620691,45,0,0,45,0,null,null,91,0.62758620689655176,2,1.3793103448275862E-2,0,0,0,2,0,0]
["1 Nov 2021 to 30 Nov 2021","Hong Kong Breast Cancer and Disease Centre Limited","HKBCADC","SOLO           ",9407305541,"REF",1,"OnRamp","Local System",0,0,0,null,0,null,0,{"$error":"#DIV/0!"},0,0,0,{"$error":"#DIV/0!"},null,null,null,null,null,null,null,0,{"$error":"#DIV/0!"},0,{"$error":"#DIV/0!"},0,0,0,0,0,0]
["1 Nov 2021 to 30 Nov 2021","HK MERCY MEDICAL LIMITED","HK MERCY MEDICAL LIMITED","SOLO",9056383716,"ADR","3,2","OnRamp","Local System",0,0,null,0,0,null,0,{"$error":"#DIV/0!"},0,0,0,{"$error":"#DIV/0!"},0,0,0,0,0,null,null,0,{"$error":"#DIV/0!"},0,{"$error":"#DIV/0!"},0,0,0,0,0,0]
["1 Nov 2021 to 30 Nov 2021","PRIME HEALTH ENDOCRINE & DIABETES CENTRE LIMITED","PRIME HEALTH","SOLO",4180832888,"AL1","3,2","OnRamp","Local System",0,0,null,0,0,null,0,{"$error":"#DIV/0!"},0,0,0,{"$error":"#DIV/0!"},0,0,0,0,0,null,null,0,{"$error":"#DIV/0!"},0,{"$error":"#DIV/0!"},0,0,0,0,0,0]
["1 Nov 2021 to 30 Nov 2021","HEALTH IN ACTION LIMITED","HEALTH IN ACTION LIMITED","SOLO",8040919535,"AL1","3,2","OnRamp","Local System",0,0,null,0,0,null,0,{"$error":"#DIV/0!"},0,0,0,{"$error":"#DIV/0!"},0,0,0,0,0,null,null,0,{"$error":"#DIV/0!"},0,{"$error":"#DIV/0!"},0,0,0,0,0,0]
["1 Nov 2021 to 30 Nov 2021","DR. CHAN KIT YAN SELINA","DR. CHAN KIT YAN SELINA","SOLO",8895790679,"PX","3,2","OnRamp","Local System",0,0,null,0,0,null,0,{"$error":"#DIV/0!"},0,0,0,{"$error":"#DIV/0!"},0,0,0,0,0,0,null,0,{"$error":"#DIV/0!"},0,{"$error":"#DIV/0!"},0,0,0,0,0,0]
["1 Nov 2021 to 30 Nov 2021","DHC EXPRESS-WAN CHAI (MC)","DHC EXPRESS-WAN CHAI-CC","DHC",9421690548,"ADR",3,"LAAM","Local System",8,0,null,null,8,null,0,0,0,0,0,0,0,0,0,0,0,null,null,8,1,0,0,0,0,0,0,0,0]
["1 Nov 2021 to 30 Nov 2021","DHC EXPRESS-YAU TSIM MONG (LOKSINTONG)","DHC EXPRESS-YTM-CC","DHC",5832575528,"ENCTR",3,"Local System + LAAM","Local System",552,0,null,null,552,null,0,0,0,0,0,0,null,null,null,null,null,null,null,552,1,0,0,0,0,0,0,0,0]
["1 Nov 2021 to 30 Nov 2021","DHC EXPRESS-EASTERN (HKSR)","DHC EXPRESS-EASTERN-CC","DHC",6542377532,"ADR",3,"Local System + LAAM","Local System",0,0,null,null,0,null,0,{"$error":"#DIV/0!"},0,0,0,{"$error":"#DIV/0!"},0,0,0,0,0,null,null,0,{"$error":"#DIV/0!"},0,{"$error":"#DIV/0!"},0,0,0,0,0,0]
["1 Nov 2021 to 30 Nov 2021","DHC EXPRESS-TAI PO (UCMS)","DHC EXPRESS-TAI PO-CC","DHC",7444819250,"ENCTR",3,"Local System + LAAM","Local System",1247,0,null,null,1247,null,0,0,0,0,0,0,null,null,null,null,null,null,null,1247,1,0,0,0,0,0,0,0,0]
["1 Dec 2021 to 31 Dec 2021","DEPARTMENT OF HEALTH","DH","DH",2438744730,"RXO",3,"Local system + LAAM","Local System",94777,0,null,41574,53203,null,0,0,0,0,41699,0.4399696128807622,41699,0,0,41699,0,null,null,53203,0.56134927250282241,0,0,0,0,0,0,0,0]
["1 Dec 2021 to 31 Dec 2021","HONG KONG ADVENTIST HOSPITAL - STUBBS ROAD","HK ADVENTIST - SR","PH",7029571085,"AL1",3,"Local system","Local System",11,0,null,2,9,null,0,0,0,0,2,0.18181818181818182,2,0,0,2,0,null,null,9,0.81818181818181823,0,0,0,0,0,0,0,0]
["1 Dec 2021 to 31 Dec 2021","HONG KONG BAPTIST HOSPITAL","HK BAPTIST HOSPITAL","PH",3650324540,"LABAP",1,"Local system + LAAM","Local System",864,483,381,null,0,null,483,0.55902777777777779,0,483,0,0,null,0,0,null,null,0,null,0,0,0,0,0,0,0,0,0,0]
["1 Dec 2021 to 31 Dec 2021","DR HO CHUNG PING","C.P. HO","SOLO",7889756707,"RXO","3,2","HKMA (Mobigator + Message formatter)","Local System",172,0,null,14,158,null,0,0,0,0,1,5.8139534883720929E-3,1,0,0,1,0,null,null,158,0.91860465116279066,0,0,0,0,0,0,0,0]
["1 Dec 2021 to 31 Dec 2021","DR HO CHUNG PING","C.P. HO","SOLO",7889756707,"IMMU","3,2","HKMA (Mobigator + Message formatter)","Local System",0,0,null,0,0,null,0,{"$error":"#DIV/0!"},0,0,0,{"$error":"#DIV/0!"},0,0,0,0,0,null,null,0,{"$error":"#DIV/0!"},0,{"$error":"#DIV/0!"},0,0,0,0,0,0]
["1 Dec 2021 to 31 Dec 2021","DR SUM NAM CHU'S CLINIC","DR SUM NAM CHU'S CLINIC","SOLO",2308765964,"ADR","3,2","OnRamp","Local System",24,0,null,5,19,null,0,0,0,0,5,0.20833333333333334,0,5,0,5,0,null,null,19,0.79166666666666663,0,0,0,0,0,0,0,0]
["1 Dec 2021 to 31 Dec 2021","PRIME HEALTH ENDOCRINE & DIABETES CENTRE LIMITED","PRIME HEALTH","SOLO",4180832888,"PROB","3,2","OnRamp","Local System",0,0,null,0,0,null,0,{"$error":"#DIV/0!"},0,0,0,{"$error":"#DIV/0!"},0,0,0,0,0,0,null,0,{"$error":"#DIV/0!"},0,{"$error":"#DIV/0!"},0,0,0,0,0,0]
["1 Dec 2021 to 31 Dec 2021","HEALTH IN ACTION LIMITED","HEALTH IN ACTION LIMITED","SOLO",8040919535,"REF",1,"OnRamp","Local System",0,0,0,null,0,null,0,{"$error":"#DIV/0!"},0,0,0,{"$error":"#DIV/0!"},null,null,null,null,null,null,null,0,{"$error":"#DIV/0!"},0,{"$error":"#DIV/0!"},0,0,0,0,0,0]
["1 Dec 2021 to 31 Dec 2021","ST.TERESA's HOSPITAL","STH","PH",7969980015,"BIRTH",3,"Local System + LAAM","Local System",7,0,null,null,7,null,0,0,0,0,0,0,null,null,null,null,null,null,null,7,1,0,0,0,0,0,0,0,0]
["1 Dec 2021 to 31 Dec 2021","HKSH Medical Group Limited","HKSH MEDICAL FROUP","PH",4773496701,"LABMB",1,"Local system","Local System",1239,0,1239,null,0,null,0,0,0,0,0,0,null,null,null,null,null,null,null,0,0,0,0,0,0,0,0,0,0]
["1 Dec 2021 to 31 Dec 2021","DHC EXPRESS-ISLANDS (NAAC)","DHC EXPRESS-ISLANDS-CC","DHC",6142872901,"EPIS",1,"Local System + LAAM","Local System",174,0,174,null,0,null,0,0,0,0,0,0,null,null,null,null,null,null,null,0,0,0,0,0,0,0,0,0,0]
["1 Dec 2021 to 31 Dec 2021","DHC EXPRESS-KWUN TONG (UCMS)","DHC EXPRESS-KWUN TONG-CC","DHC",7334960147,"AL1",3,"Local System + LAAM","Local System",0,0,null,null,0,null,0,{"$error":"#DIV/0!"},0,0,0,{"$error":"#DIV/0!"},0,0,0,0,0,null,null,0,{"$error":"#DIV/0!"},0,{"$error":"#DIV/0!"},0,0,0,0,0,0]
["1 Dec 2021 to 31 Dec 2021","Hong Kong Diabetes and Endocrine Centre Limited","HKDIABETES","SOLO",6176378066,"ADR","3,2","OnRamp","Local System",1,0,null,1,0,null,0,0,0,0,1,1,0,1,0,1,0,null,null,0,0,0,0,0,0,0,0,0,0]
["1 Jan 2022 to 31 Jan 2022","DEPARTMENT OF HEALTH CIMS1","DH","DH",8658917541,"PX",3,"Local system + LAAM","Local System",166441,0,null,3671,162770,null,0,0,0,0,4071,2.4459117645291725E-2,4071,0,0,4071,null,null,null,162770,0.97794413636063227,71,4.2657758605151377E-4,0,71,0,0,0,0]
["1 Jan 2022 to 31 Jan 2022","HONG KONG ADVENTIST HOSPITAL - STUBBS ROAD","HK ADVENTIST - SR","PH",7029571085,"ADR",3,"Local system","Local System",1,0,null,null,1,null,0,0,0,0,0,0,0,0,0,0,0,null,null,1,1,0,0,0,0,0,0,0,0]
["1 Jan 2022 to 31 Jan 2022","THE HONG KONG POLYTECHNIC UNIVERSITY","POLYU","HCAI",4578805814,"ENCTR",3,"Local system","Local System",598,0,null,null,598,null,0,0,0,0,0,0,null,null,null,null,null,null,null,598,1,0,0,0,0,0,0,0,0]
["1 Jan 2022 to 31 Jan 2022","DR. CHAN KIT YAN SELINA","DR. CHAN KIT YAN SELINA","SOLO",8895790679,"ENCTR",3,"OnRamp","Local System",116,0,null,null,116,null,0,{"$f":"P8777/J8777","v":0},0,0,0,{"$f":"T8777/J8777","v":0},null,null,null,null,null,null,null,116,{"$f":"AC8777/J8777","v":1},0,{"$f":"AE8777/J8777","v":0},0,0,0,0,0,0]
["1 Jan 2022 to 31 Jan 2022","DR HO CHUNG PING","C.P. HO","SOLO",7889756707,"RXD","3,2","HKMA (Mobigator + Message formatter)","Local System",99,0,null,11,88,null,0,0,0,0,0,0,0,0,0,0,0,null,null,88,0.88888888888888884,0,0,0,0,0,0,0,0]
["1 Jan 2022 to 31 Jan 2022","HONG KONG AIRCRAFT ENGINEERING COMPANY LIMITED","HKAECL","GROUP",5197076289,"PROB","3,2","OnRamp","Local System",0,0,null,0,0,null,0,{"$error":"#DIV/0!"},0,0,0,{"$error":"#DIV/0!"},0,0,0,0,0,0,null,0,{"$error":"#DIV/0!"},0,{"$error":"#DIV/0!"},0,0,0,0,0,0]
["1 Jan 2022 to 31 Jan 2022","DR. LEUNG KIN KAY","DR. LEUNG KIN KAY","SOLO",3226804803,"AL1","3,2","OnRamp","Local System",0,0,null,0,0,null,0,{"$error":"#DIV/0!"},0,0,0,{"$error":"#DIV/0!"},0,0,0,0,0,null,null,0,{"$error":"#DIV/0!"},0,{"$error":"#DIV/0!"},0,0,0,0,0,0]
["1 Jan 2022 to 31 Jan 2022","HEALTH IN ACTION LIMITED","HEALTH IN ACTION LIMITED","SOLO",8040919535,"PX","3,2","OnRamp","Local System",0,0,null,0,0,null,0,{"$error":"#DIV/0!"},0,0,0,{"$error":"#DIV/0!"},0,0,0,0,0,0,null,0,{"$error":"#DIV/0!"},0,{"$error":"#DIV/0!"},0,0,0,0,0,0]
["1 Jan 2022 to 31 Jan 2022","Hong Kong Christian Service","HKCS","GROUP",9179355867,"REF",1,"OnRamp","Local System",0,0,0,null,0,null,0,{"$error":"#DIV/0!"},0,0,0,{"$error":"#DIV/0!"},null,null,null,null,null,null,null,0,{"$error":"#DIV/0!"},0,{"$error":"#DIV/0!"},0,0,0,0,0,0]
["1 Jan 2022 to 31 Jan 2022","PRECIOUS MEDICAL  (HK)  LIMITED","PRECIOUS MEDICAL  (HK)  LIMITED","SOLO",9675260245,"ENCTR",3,"OnRamp","Local System",0,0,null,null,0,null,0,{"$error":"#DIV/0!"},0,0,0,{"$error":"#DIV/0!"},null,null,null,null,null,null,null,0,{"$error":"#DIV/0!"},0,{"$error":"#DIV/0!"},0,0,0,0,0,0]
["1 Jan 2022 to 31 Jan 2022","DHC EXPRESS-ISLANDS (NAAC)","DHC EXPRESS-ISLANDS-CC","DHC",6142872901,"AL1",3,"Local System + LAAM","Local System",0,0,null,null,0,null,0,{"$error":"#DIV/0!"},0,0,0,{"$error":"#DIV/0!"},0,0,0,0,0,null,null,0,{"$error":"#DIV/0!"},0,{"$error":"#DIV/0!"},0,0,0,0,0,0]
["1 Jan 2022 to 31 Jan 2022","DHC EXPRESS-CENTRAL AND WESTERN (HKSR)","DHC EXPRESS-C&W-CC","DHC",6645809992,"ADR",3,"Local System + LAAM","Local System",0,0,null,null,0,null,0,{"$error":"#DIV/0!"},0,0,0,{"$error":"#DIV/0!"},0,0,0,0,0,null,null,0,{"$error":"#DIV/0!"},0,{"$error":"#DIV/0!"},0,0,0,0,0,0]
["1 Jan 2022 to 31 Jan 2022","PENG CHAU MEDICAL CENTRE","PENG CHAU MEDICAL CENTRE","SOLO",5977831183,"REF",1,"OnRamp","Local System",0,0,0,null,0,null,0,{"$f":"P8969/J8969","v":{"$error":"#DIV/0!"}},0,0,0,{"$f":"T8969/J8969","v":{"$error":"#DIV/0!"}},null,null,null,null,null,null,null,0,{"$f":"AC8969/J8969","v":{"$error":"#DIV/0!"}},0,{"$f":"AE8969/J8969","v":{"$error":"#DIV/0!"}},0,0,0,0,0,0]
["1 Feb 2022 to 28 Feb 2022","DEPARTMENT OF HEALTH CIMS1","DH","DH",8658917541,"PROB",3,"Local system + LAAM","Local System",9363,0,null,167,9196,null,0,0,0,0,437,4.6673074869165866E-2,437,0,0,437,null,null,null,9196,0.98216383637722948,0,0,0,0,0,0,0,0]
["1 Feb 2022 to 28 Feb 2022","CANOSSA HOSPITAL (CARITAS)","CANNOSSA HOSPITAL","PH",8252506240,"ADR",3,"Local system","Local System",2,0,null,null,2,null,0,0,0,0,0,0,0,0,0,0,0,null,null,2,1,0,0,0,0,0,0,0,0]
["1 Feb 2022 to 28 Feb 2022","HONG KONG BAPTIST HOSPITAL","HK BAPTIST HOSPITAL","PH",3650324540,"RAD",2,"Local system + LAAM","Local System",2231,1,null,2230,0,null,1,4.4822949350067237E-4,0,1,0,0,null,null,null,null,null,0,null,0,0,0,0,0,0,0,0,0,0]
["1 Feb 2022 to 28 Feb 2022","DR. CHAN KIT YAN SELINA","DR. CHAN KIT YAN SELINA","SOLO",8895790679,"RXO","3,2","OnRamp","Local System",91,0,null,3,88,null,0,0,0,0,0,0,0,0,0,0,0,null,null,88,0.96703296703296704,0,0,0,0,0,0,0,0]
["1 Feb 2022 to 28 Feb 2022","DR HO CHUNG PING","C.P. HO","SOLO",7889756707,"PROB","3,2","HKMA (Mobigator + Message formatter)","Local System",5,0,null,0,5,null,0,0,0,0,0,0,0,0,0,0,0,null,null,5,1,0,0,0,0,0,0,0,0]
["1 Feb 2022 to 28 Feb 2022","GOOD HEALTH MEDICAL PRACTICES LIMITED","GHMPL","SOLO",5153981121,"AL1",3,"ClinicSolution","Local System",0,0,null,null,0,null,0,{"$error":"#DIV/0!"},0,0,0,{"$error":"#DIV/0!"},0,0,0,0,0,null,null,0,{"$error":"#DIV/0!"},0,{"$error":"#DIV/0!"},0,0,0,0,0,0]
["1 Feb 2022 to 28 Feb 2022","HK MERCY MEDICAL LIMITED","HK MERCY MEDICAL LIMITED","SOLO",9056383716,"PROB","3,2","OnRamp","Local System",0,0,null,0,0,null,0,{"$error":"#DIV/0!"},0,0,0,{"$error":"#DIV/0!"},0,0,0,0,0,0,null,0,{"$error":"#DIV/0!"},0,{"$error":"#DIV/0!"},0,0,0,0,0,0]
["1 Feb 2022 to 28 Feb 2022","DR. LEUNG KIN KAY","DR. LEUNG KIN KAY","SOLO",3226804803,"ADR","3,2","OnRamp","Local System",0,0,null,0,0,null,0,{"$error":"#DIV/0!"},0,0,0,{"$error":"#DIV/0!"},0,0,0,0,0,null,null,0,{"$error":"#DIV/0!"},0,{"$error":"#DIV/0!"},0,0,0,0,0,0]
["1 Feb 2022 to 28 Feb 2022","ST.TERESA's HOSPITAL","STH","PH",7969980015,"AL1",3,"Local system","Local System",210,0,null,74,136,null,0,{"$f":"P9161/J9161","v":0},0,0,67,{"$f":"T9161/J9161","v":0.31904761904761902},67,0,0,67,0,null,null,136,{"$f":"AC9161/J9161","v":0.64761904761904765},0,{"$f":"AE9161/J9161","v":0},0,0,0,0,0,0]
["1 Feb 2022 to 28 Feb 2022","PRECIOUS MEDICAL  (HK)  LIMITED","PRECIOUS MEDICAL  (HK)  LIMITED","SOLO",9675260245,"RXO","3,2","OnRamp","Local System",0,0,null,0,0,null,0,{"$error":"#DIV/0!"},0,0,0,{"$error":"#DIV/0!"},0,0,0,0,0,null,null,0,{"$error":"#DIV/0!"},0,{"$error":"#DIV/0!"},0,0,0,0,0,0]
["1 Feb 2022 to 28 Feb 2022","HKSH Medical Group Limited","HKSH MEDICAL FROUP","PH",4773496701,"RAD",2,"Local system","Local System",2041,0,null,2041,0,null,0,0,0,0,0,0,null,null,null,null,null,null,null,0,0,0,0,0,0,0,0,0,0]
["1 Feb 2022 to 28 Feb 2022","DHC EXPRESS-YAU TSIM MONG (LOKSINTONG)","DHC EXPRESS-YTM-CC","DHC",5832575528,"ENCTR",3,"Local System + LAAM","Local System",990,0,null,null,990,null,0,0,0,0,0,0,null,null,null,null,null,null,null,990,1,0,0,0,0,0,0,0,0]
["1 Feb 2022 to 28 Feb 2022","PENG CHAU MEDICAL CENTRE","PENG CHAU MEDICAL CENTRE","SOLO",5977831183,"PX","3,2","OnRamp","Local System",0,0,null,0,0,null,0,{"$error":"#DIV/0!"},0,0,0,{"$error":"#DIV/0!"},0,0,0,0,0,0,null,0,{"$error":"#DIV/0!"},0,{"$error":"#DIV/0!"},0,0,0,0,0,0]
["1 Feb 2022 to 28 Feb 2022","Hong Kong Diabetes and Endocrine Centre Limited","HKDIABETES","SOLO",6176378066,"RXO","3,2","OnRamp","Local System",0,0,null,0,0,null,0,{"$error":"#DIV/0!"},0,0,0,{"$error":"#DIV/0!"},0,0,0,0,0,null,null,0,{"$error":"#DIV/0!"},0,{"$error":"#DIV/0!"},0,0,0,0,0,0]
["1 Mar 2022 to 31 Mar 2022","CANOSSA HOSPITAL (CARITAS)","CANNOSSA HOSPITAL","PH",8252506240,"ADR",3,"Local system","Local System",0,0,null,null,0,null,0,{"$error":"#DIV/0!"},0,0,0,{"$error":"#DIV/0!"},0,0,0,0,0,null,null,0,{"$error":"#DIV/0!"},0,{"$error":"#DIV/0!"},0,0,0,0,0,0]
["1 Mar 2022 to 31 Mar 2022","DR WONG CHUN POR","DR CP WONG CLINIC","SOLO",5528991274,"PX","3,2","Local system","Local System",0,0,null,0,0,null,0,{"$error":"#DIV/0!"},0,0,0,{"$error":"#DIV/0!"},0,0,0,0,null,null,null,0,{"$error":"#DIV/0!"},0,{"$error":"#DIV/0!"},0,0,0,0,0,0]
["1 Mar 2022 to 31 Mar 2022","THE HONG KONG POLYTECHNIC UNIVERSITY","POLYU","HCAI",4578805814,"IMMU",3,"Local system","Local System",0,0,null,null,0,null,0,{"$error":"#DIV/0!"},0,0,0,{"$error":"#DIV/0!"},0,0,0,0,0,null,null,0,{"$error":"#DIV/0!"},0,{"$error":"#DIV/0!"},0,0,0,0,0,0]
["1 Mar 2022 to 31 Mar 2022","DR HO CHUNG PING","C.P. HO","SOLO",7889756707,"ENCTR",3,"HKMA (Mobigator + Message formatter)","Local System",149,0,null,null,149,null,0,0,0,0,0,0,null,null,null,null,null,null,null,149,1,0,0,0,0,0,0,0,0]
["1 Mar 2022 to 31 Mar 2022","Hong Kong Breast Cancer and Disease Centre Limited","HKBCADC","SOLO           ",9407305541,"RXD","2,3","OnRamp","Local System",0,0,null,0,0,null,0,{"$error":"#DIV/0!"},0,0,0,{"$error":"#DIV/0!"},0,0,0,0,0,null,null,0,{"$error":"#DIV/0!"},0,{"$error":"#DIV/0!"},0,0,0,0,0,0]
["1 Mar 2022 to 31 Mar 2022","HK MERCY MEDICAL LIMITED","HK MERCY MEDICAL LIMITED","SOLO",9056383716,"RXO","3,2","OnRamp","Local System",0,0,null,0,0,null,0,{"$error":"#DIV/0!"},0,0,0,{"$error":"#DIV/0!"},0,0,0,0,0,null,null,0,{"$error":"#DIV/0!"},0,{"$error":"#DIV/0!"},0,0,0,0,0,0]
["1 Mar 2022 to 31 Mar 2022","PRIME HEALTH ENDOCRINE & DIABETES CENTRE LIMITED","PRIME HEALTH","SOLO",4180832888,"RXD","3,2","OnRamp","Local System",0,0,null,0,0,null,0,{"$error":"#DIV/0!"},0,0,0,{"$error":"#DIV/0!"},0,0,0,0,0,null,null,0,{"$error":"#DIV/0!"},0,{"$error":"#DIV/0!"},0,0,0,0,0,0]
["1 Mar 2022 to 31 Mar 2022","DR. CHAN KIT YAN SELINA","DR. CHAN KIT YAN SELINA","SOLO",8895790679,"EPIS",1,"OnRamp","Local System",0,0,0,null,0,null,0,{"$error":"#DIV/0!"},0,0,0,{"$error":"#DIV/0!"},null,null,null,null,null,null,null,0,{"$error":"#DIV/0!"},0,{"$error":"#DIV/0!"},0,0,0,0,0,0]
["1 Mar 2022 to 31 Mar 2022","PRECIOUS MEDICAL  (HK)  LIMITED","PRECIOUS MEDICAL  (HK)  LIMITED","SOLO",9675260245,"ENCTR",3,"OnRamp","Local System",0,0,null,null,0,null,0,{"$error":"#DIV/0!"},0,0,0,{"$error":"#DIV/0!"},null,null,null,null,null,null,null,0,{"$error":"#DIV/0!"},0,{"$error":"#DIV/0!"},0,0,0,0,0,0]
["1 Mar 2022 to 31 Mar 2022","DHC EXPRESS-WAN CHAI (MC)","DHC EXPRESS-WAN CHAI-CC","DHC",9421690548,"AL1",3,"Local System + LAAM","Local System",2,0,null,null,2,null,0,0,0,0,0,0,0,0,0,0,0,null,null,2,1,0,0,0,0,0,0,0,0]
["1 Mar 2022 to 31 Mar 2022","DHC EXPRESS-YAU TSIM MONG (LOKSINTONG)","DHC EXPRESS-YTM-CC","DHC",5832575528,"AL1",3,"Local System + LAAM","Local System",0,0,null,null,0,null,0,{"$error":"#DIV/0!"},0,0,0,{"$error":"#DIV/0!"},0,0,0,0,0,null,null,0,{"$error":"#DIV/0!"},0,{"$error":"#DIV/0!"},0,0,0,0,0,0]
["1 Mar 2022 to 31 Mar 2022","DHC EXPRESS-CENTRAL AND WESTERN (HKSR)","DHC EXPRESS-C&W-CC","DHC",6645809992,"EPIS",1,"Local System + LAAM","Local System",63,0,63,null,0,null,0,0,0,0,0,0,null,null,null,null,null,null,null,0,0,0,0,0,0,0,0,0,0]
["1 Mar 2022 to 31 Mar 2022","18 Chinese Medicine Clinic cum Traing and Research Centre (The Hong Kong Tuberculosis Association)","18CMCTRs(HKTBA)","NGO",2231879813,"CMPX","3,2","Local System + LAAM","EC Connect",0,0,null,0,0,null,0,{"$error":"#DIV/0!"},0,0,0,{"$error":"#DIV/0!"},0,0,0,0,0,0,null,0,{"$error":"#DIV/0!"},0,{"$error":"#DIV/0!"},0,0,0,0,0,0]
["1 Mar 2022 to 31 Mar 2022","18 Chinese Medicine Clinic cum Traing and Research Centre (Pok Oi Hospital)","18CMCTRs (POH)","NGO",6758313621,"CMPROB","3,2","Local System + LAAM","EC Connect",0,0,null,0,0,null,0,{"$error":"#DIV/0!"},0,0,0,{"$error":"#DIV/0!"},0,0,0,0,0,0,null,0,{"$error":"#DIV/0!"},0,{"$error":"#DIV/0!"},0,0,0,0,0,0]
["1 Apr 2022 to 30 Apr 2022","DEPARTMENT OF HEALTH","DH","DH",2438744730,"LABAP",1,"Local system + LAAM","Local System",86,1,85,null,0,null,1,1.1627906976744186E-2,1,0,0,0,0,0,0,0,0,null,null,0,0,0,0,0,0,0,0,0,0]
["1 Apr 2022 to 30 Apr 2022","CANOSSA HOSPITAL (CARITAS)","CANNOSSA HOSPITAL","PH",8252506240,"ADR",3,"Local system","Local System",7,0,null,null,7,null,0,0,0,0,0,0,0,0,0,0,0,null,null,7,1,0,0,0,0,0,0,0,0]
["1 Apr 2022 to 30 Apr 2022","HONG KONG BAPTIST HOSPITAL","HK BAPTIST HOSPITAL","PH",3650324540,"LABGEN",1,"Local system + LAAM","Local System",8352,0,8352,null,0,null,0,0,0,0,0,0,0,0,0,0,0,0,null,0,0,0,0,0,0,0,0,0,0]
["1 Apr 2022 to 30 Apr 2022","THE HONG KONG POLYTECHNIC UNIVERSITY","POLYU","HCAI",4578805814,"IMMU",3,"Local system","Local System",80,0,null,null,80,null,0,0,0,0,0,0,0,0,0,0,0,null,null,80,1,0,0,0,0,0,0,0,0]
["1 Apr 2022 to 30 Apr 2022","DR HO CHUNG PING","C.P. HO","SOLO",7889756707,"PROB","3,2","HKMA (Mobigator + Message formatter)","Local System",56,0,null,1,55,null,0,0,0,0,0,0,0,0,0,0,0,null,null,55,0.9821428571428571,0,0,0,0,0,0,0,0]
["1 Apr 2022 to 30 Apr 2022","GOOD HEALTH MEDICAL PRACTICES LIMITED","GHMPL","SOLO",5153981121,"RXO",2,"ClinicSolution","Local System",0,0,null,null,0,null,0,{"$error":"#DIV/0!"},0,0,0,{"$error":"#DIV/0!"},0,0,0,0,0,null,null,0,{"$error":"#DIV/0!"},0,{"$error":"#DIV/0!"},0,0,0,0,0,0]
["1 Apr 2022 to 30 Apr 2022","PRIME HEALTH ENDOCRINE & DIABETES CENTRE LIMITED","PRIME HEALTH","SOLO",4180832888,"RXO","3,2","OnRamp","Local System",0,0,null,0,0,null,0,{"$error":"#DIV/0!"},0,0,0,{"$error":"#DIV/0!"},0,0,0,0,0,null,null,0,{"$error":"#DIV/0!"},0,{"$error":"#DIV/0!"},0,0,0,0,0,0]
["1 Apr 2022 to 30 Apr 2022","DISTRICT HEALTH CENTRE-KWAI TSING (KTSCHCA)","DHC-KWAI TSING","DHC",3040418583,"EPIS",1,"Local System + LAAM","Local System",1246,0,1246,null,0,null,0,0,0,0,0,0,null,null,null,null,null,null,null,0,0,0,0,0,0,0,0,0,0]
["1 Apr 2022 to 30 Apr 2022","ST.TERESA's HOSPITAL","STH","PH",7969980015,"RAD",3,"Local System + LAAM","Local System",2967,0,null,null,2967,null,0,0,0,0,0,0,0,0,0,0,0,null,null,2967,1,0,0,0,0,0,0,0,0]
["1 Apr 2022 to 30 Apr 2022","PRECIOUS MEDICAL  (HK)  LIMITED","PRECIOUS MEDICAL  (HK)  LIMITED","SOLO",9675260245,"ADR","3,2","OnRamp","Local System",0,0,null,0,0,null,0,{"$error":"#DIV/0!"},0,0,0,{"$error":"#DIV/0!"},0,0,0,0,0,null,null,0,{"$error":"#DIV/0!"},0,{"$error":"#DIV/0!"},0,0,0,0,0,0]
["1 Apr 2022 to 30 Apr 2022","HKSH Medical Group Limited","HKSH MEDICAL FROUP","PH",4773496701,"ADR",3,"SAAM","Local System",65,0,null,16,49,null,0,0,0,0,16,0.24615384615384617,16,0,0,16,0,null,null,49,0.75384615384615383,0,0,0,0,0,0,0,0]
["1 Apr 2022 to 30 Apr 2022","DHC EXPRESS-CENTRAL AND WESTERN (HKSR)","DHC EXPRESS-C&W-CC","DHC",6645809992,"EPIS",1,"Local System + LAAM","Local System",496,0,496,null,0,null,0,0,0,0,0,0,null,null,null,null,null,null,null,0,0,0,0,0,0,0,0,0,0]
["1 Apr 2022 to 30 Apr 2022","Hong Kong Diabetes and Endocrine Centre Limited","HKDIABETES","SOLO",6176378066,"AL1","3,2","OnRamp","Local System",2,0,null,0,2,null,0,0,0,0,0,0,0,0,0,0,0,null,null,2,1,0,0,0,0,0,0,0,0]
["1 Apr 2022 to 30 Apr 2022","18 Chinese Medicine Clinic cum Traing and Research Centre (Yan Oi Tong)","18CMCTRs (YOT)","NGO",2971417573,"CMRXO","3,2","Local System + LAAM","EC Connect",241,0,null,240,1,null,0,0,0,0,240,0.99585062240663902,240,0,0,240,0,null,null,1,4.1493775933609959E-3,0,0,0,0,0,0,0,0]
["1 Apr 2022 to 30 Apr 2022","18 Chinese Medicine Clinic cum Traing and Research Centre (Yan Chai Hospital)","18CMCTRs (YCH)","NGO",6255376532,"CMRXO","3,2","Local System + LAAM","EC Connect",610,0,null,591,19,null,0,0,0,0,591,0.9688524590163935,591,0,0,591,0,null,null,19,3.1147540983606559E-2,0,0,0,0,0,0,0,0]
["1 May 2022 to 31 May 2022","DEPARTMENT OF HEALTH","DH","DH",2438744730,"LABMB",1,"Local system + LAAM","Local System",8597,12,8585,null,0,null,12,1.3958357566592997E-3,0,12,0,0,0,0,0,0,0,null,null,0,0,0,0,0,0,0,0,0,0]
["1 May 2022 to 31 May 2022","HONG KONG ADVENTIST HOSPITAL - STUBBS ROAD","HK ADVENTIST - SR","PH",7029571085,"AL1",3,"Local system","Local System",11,0,null,2,9,null,0,0,0,0,2,0.18181818181818182,2,0,0,2,0,null,null,9,0.81818181818181823,0,0,0,0,0,0,0,0]
["1 May 2022 to 31 May 2022","PRECIOUS BLOOD HOSPITAL (CARITAS)","PRECIOUS BLOOD HOSPITAL","PH",7002059678,"AL1",3,"Local system","Local System",{"$f":"SUM(K9956:N9956)","v":79},{"$f":"P9956","v":0},null,28,51,null,{"$f":"SUM(R9956:S9956)","v":0},0,0,0,{"$f":"SUM(Y9956:AA9956)","v":23},0.29113924050632911,23,0,0,23,0,null,null,{"$f":"N9956","v":51},0.64556962025316456,0,0,0,0,0,0,0,0]
["1 May 2022 to 31 May 2022","UNION HOSPITAL","UNION HOSPITAL","PH",5712620300,"RAD",3,"Local system","Local System",2,0,null,null,2,null,0,0,0,0,0,0,0,0,0,0,0,0,null,2,1,0,0,0,0,0,0,0,0]
["1 May 2022 to 31 May 2022","DR HO CHUNG PING","C.P. HO","SOLO",7889756707,"IMMU","3,2","HKMA (Mobigator + Message formatter)","Local System",0,0,null,0,0,null,0,{"$error":"#DIV/0!"},0,0,0,{"$error":"#DIV/0!"},0,0,0,0,0,null,null,0,{"$error":"#DIV/0!"},0,{"$error":"#DIV/0!"},0,0,0,0,0,0]
["1 May 2022 to 31 May 2022","HONG KONG AIRCRAFT ENGINEERING COMPANY LIMITED","HKAECL","GROUP",5197076289,"AL1","3,2","OnRamp","Local System",0,0,null,0,0,null,0,{"$error":"#DIV/0!"},0,0,0,{"$error":"#DIV/0!"},0,0,0,0,0,null,null,0,{"$error":"#DIV/0!"},0,{"$error":"#DIV/0!"},0,0,0,0,0,0]
["1 May 2022 to 31 May 2022","PRIME HEALTH ENDOCRINE & DIABETES CENTRE LIMITED","PRIME HEALTH","SOLO",4180832888,"RXD","3,2","OnRamp","Local System",0,0,null,0,0,null,0,{"$error":"#DIV/0!"},0,0,0,{"$error":"#DIV/0!"},0,0,0,0,0,null,null,0,{"$error":"#DIV/0!"},0,{"$error":"#DIV/0!"},0,0,0,0,0,0]
["1 May 2022 to 31 May 2022","HEALTH IN ACTION LIMITED","HEALTH IN ACTION LIMITED","SOLO",8040919535,"REF",1,"OnRamp","Local System",0,0,0,null,0,null,0,{"$error":"#DIV/0!"},0,0,0,{"$error":"#DIV/0!"},null,null,null,null,null,null,null,0,{"$error":"#DIV/0!"},0,{"$error":"#DIV/0!"},0,0,0,0,0,0]
["1 May 2022 to 31 May 2022","ST.TERESA's HOSPITAL","STH","PH",7969980015,"BIRTH",3,"Local System + LAAM","Local System",12,0,null,null,12,null,0,0,0,0,0,0,null,null,null,null,null,null,null,12,1,0,0,0,0,0,0,0,0]
["1 May 2022 to 31 May 2022","DHC EXPRESS-WAN CHAI (MC)","DHC EXPRESS-WAN CHAI-CC","DHC",9421690548,"AL1",3,"Local System + LAAM","Local System",22,0,null,null,22,null,0,0,0,0,0,0,0,0,0,0,0,null,null,22,1,0,0,0,0,0,0,0,0]
["1 May 2022 to 31 May 2022","eHealth Declaration Form","eHealth Declaration Form","DH",7764187800,"IMMU",3,"Local System","Local System",28828,0,null,2,28826,null,0,0,0,0,2,6.937699458859442E-5,2,0,0,2,0,null,null,28826,0.99993062300541136,0,0,0,0,0,0,0,0]
["1 May 2022 to 31 May 2022","DHC EXPRESS-CENTRAL AND WESTERN (HKSR)","DHC EXPRESS-C&W-CC","DHC",6645809992,"AL1",3,"Local System + LAAM","Local System",{"$f":"SUM(K10148:N10148)","v":0},{"$f":"P10148","v":0},null,null,0,null,{"$f":"SUM(R10148:S10148)","v":0},{"$error":"#DIV/0!"},0,0,0,{"$error":"#DIV/0!"},0,0,0,0,0,null,null,{"$f":"N10148","v":0},{"$error":"#DIV/0!"},0,{"$error":"#DIV/0!"},0,0,0,0,0,0]
["1 May 2022 to 31 May 2022","PENG CHAU MEDICAL CENTRE","PENG CHAU MEDICAL CENTRE","SOLO",5977831183,"RXO","3,2","OnRamp","Local System",4,0,null,0,4,null,0,0,0,0,0,0,0,0,0,0,0,null,null,4,1,0,0,0,0,0,0,0,0]
["1 May 2022 to 31 May 2022","18 Chinese Medicine Clinic cum Traing and Research Centre (Yan Oi Tong)","18CMCTRs (YOT)","NGO",2971417573,"CMPX","3,2","Local System + LAAM","EC Connect",59,0,null,0,59,null,0,0,0,0,0,0,0,0,0,0,0,0,null,59,1,0,0,0,0,0,0,0,0]
["1 May 2022 to 31 May 2022","18 Chinese Medicine Clinic cum Traing and Research Centre (Yan Chai Hospital)","18CMCTRs (YCH)","NGO",6255376532,"CMPX","3,2","Local System + LAAM","EC Connect",117,0,null,0,117,null,0,0,0,0,0,0,0,0,0,0,0,0,null,117,1,0,0,0,0,0,0,0,0]
["1 Jun 2022 to 30 Jun 2022","DR SUM NAM CHU'S CLINIC","DR SUM NAM CHU'S CLINIC","SOLO",2308765964,"ENCTR",3,"OnRamp","Local System",124,0,null,null,124,null,0,0,0,0,0,0,null,null,null,null,null,null,null,124,1,0,0,0,0,0,0,0,0]
["1 Jun 2022 to 30 Jun 2022","DR. LEUNG KIN KAY","DR. LEUNG KIN KAY","SOLO",3226804803,"IMMU","3,2","OnRamp","Local System",0,0,null,0,0,null,0,{"$error":"#DIV/0!"},0,0,0,{"$error":"#DIV/0!"},0,0,0,0,0,null,null,0,{"$error":"#DIV/0!"},0,{"$error":"#DIV/0!"},0,0,0,0,0,0]
["1 Jun 2022 to 30 Jun 2022","HONG KONG BAPTIST HOSPITAL","HK BAPTIST HOSPITAL","PH",3650324540,"LABMB",1,"Local system + LAAM","Local System",2148,0,2148,null,0,null,0,0,0,0,0,0,0,0,0,0,0,0,null,0,0,0,0,0,0,0,0,0,0]
["1 Jun 2022 to 30 Jun 2022","18 Chinese Medicine Clinic cum Traing and Research Centre (HKFTU Worker's Medical Clinics)","18CMCTRs(HKFTU)","NGO",4746565267,"CMRXO","3,2","Local System + LAAM","EC Connect",198,0,null,169,29,null,0,0,0,0,169,0.85353535353535348,169,0,0,169,0,null,null,29,0.14646464646464646,0,0,0,0,0,0,0,0]
["1 Jun 2022 to 30 Jun 2022","HKSH Medical Group Limited","HKSH MEDICAL FROUP","PH",4773496701,"PX",3,"Local system","Local System",98,0,null,null,98,null,0,0,0,0,0,0,0,0,0,0,0,null,null,98,1,0,0,0,0,0,0,0,0]
["1 Jun 2022 to 30 Jun 2022","DR WONG CHUN POR","DR CP WONG CLINIC","SOLO",5528991274,"ENCTR",3,"Local system","Local System",415,0,null,null,415,null,0,0,0,0,0,0,null,null,null,null,null,null,null,415,1,0,0,0,0,0,0,0,0]
["1 Jun 2022 to 30 Jun 2022","UNION HOSPITAL","UNION HOSPITAL","PH",5712620300,"ADR",3,"Local system","Local System",30,0,null,1,29,null,0,0,0,0,0,0,0,0,0,0,0,null,null,29,0.96666666666666667,0,0,0,0,0,0,0,0]
["1 Jun 2022 to 30 Jun 2022","Hong Kong Diabetes and Endocrine Centre Limited","HKDIABETES","SOLO",6176378066,"RXD","3,2","OnRamp","Local System",0,0,null,0,0,null,0,{"$error":"#DIV/0!"},0,0,0,{"$error":"#DIV/0!"},0,0,0,0,0,null,null,0,{"$error":"#DIV/0!"},0,{"$error":"#DIV/0!"},0,0,0,0,0,0]
["1 Jun 2022 to 30 Jun 2022","DHC EXPRESS-EASTERN (HKSR)","DHC EXPRESS-EASTERN-CC","DHC",6542377532,"AL1",3,"Local System + LAAM","Local System",0,0,null,null,0,null,0,{"$error":"#DIV/0!"},0,0,0,{"$error":"#DIV/0!"},0,0,0,0,0,null,null,0,{"$error":"#DIV/0!"},0,{"$error":"#DIV/0!"},0,0,0,0,0,0]
["1 Jun 2022 to 30 Jun 2022","HONG KONG ADVENTIST HOSPITAL - STUBBS ROAD","HK ADVENTIST - SR","PH",7029571085,"LABGEN",3,"Local system + LAAM","Local System",738,0,null,233,505,null,0,0,0,0,232,0.3143631436314363,232,0,0,232,0,null,null,505,0.68428184281842819,1,1.3550135501355014E-3,0,0,0,0,0,0]
["1 Jun 2022 to 30 Jun 2022","ST.TERESA's HOSPITAL","STH","PH",7969980015,"RAD",3,"Local System + LAAM","Local System",3291,0,null,null,3291,null,0,0,0,0,0,0,0,0,0,0,0,null,null,3291,1,0,0,0,0,0,0,0,0]
["1 Jun 2022 to 30 Jun 2022","DEPARTMENT OF HEALTH CIMS1","DH","DH",8658917541,"IMMU",3,"Local system + LAAM","Local System",0,0,null,null,0,null,0,{"$error":"#DIV/0!"},0,0,0,{"$error":"#DIV/0!"},0,0,0,0,0,0,null,0,{"$error":"#DIV/0!"},0,{"$error":"#DIV/0!"},0,0,0,0,0,0]
["1 Jun 2022 to 30 Jun 2022","DR. CHAN KIT YAN SELINA","DR. CHAN KIT YAN SELINA","SOLO",8895790679,"RXO","3,2","OnRamp","Local System",233,0,null,32,201,null,0,0,0,0,0,0,0,0,0,0,0,null,null,201,0.86266094420600858,0,0,0,0,0,0,0,0]
["1 Jun 2022 to 30 Jun 2022","HK MERCY MEDICAL LIMITED","HK MERCY MEDICAL LIMITED","SOLO",9056383716,"PX","3,2","OnRamp","Local System",0,0,null,0,0,null,0,{"$error":"#DIV/0!"},0,0,0,{"$error":"#DIV/0!"},0,0,0,0,0,0,null,0,{"$error":"#DIV/0!"},0,{"$error":"#DIV/0!"},0,0,0,0,0,0]
["1 Jun 2022 to 30 Jun 2022","Hong Kong Breast Cancer and Disease Centre Limited","HKBCADC","SOLO           ",9407305541,"RXD","2,3","OnRamp","Local System",0,0,null,0,0,null,0,{"$error":"#DIV/0!"},0,0,0,{"$error":"#DIV/0!"},0,0,0,0,0,null,null,0,{"$error":"#DIV/0!"},0,{"$error":"#DIV/0!"},0,0,0,0,0,0]
["1 Jul 2022 to 31 Jul 2022","18 Chinese Medicine Clinic cum Traing and Research Centre (The Hong Kong Tuberculosis Association)","18CMCTRs(HKTBA)","NGO",2231879813,"CMPX","3,2","Local System + LAAM","EC Connect",34,0,null,0,34,null,0,0,0,0,0,0,0,0,0,0,0,0,null,34,1,0,0,0,0,0,0,0,0]
["1 Jul 2022 to 31 Jul 2022","DEPARTMENT OF HEALTH","DH","DH",2438744730,"LABGEN",1,"Local system + LAAM","Local System",14747,0,14747,null,null,null,0,0,0,0,0,0,0,0,0,0,0,null,null,0,0,0,0,0,0,0,0,0,0]
["1 Jul 2022 to 31 Jul 2022","DR. LEUNG KIN KAY","DR. LEUNG KIN KAY","SOLO",3226804803,"ADR","3,2","OnRamp","Local System",0,0,null,0,0,null,0,{"$error":"#DIV/0!"},0,0,0,{"$error":"#DIV/0!"},0,0,0,0,0,null,null,0,{"$error":"#DIV/0!"},0,{"$error":"#DIV/0!"},0,0,0,0,0,0]
["1 Jul 2022 to 31 Jul 2022","HONG KONG BAPTIST HOSPITAL","HK BAPTIST HOSPITAL","PH",3650324540,"RAD",2,"Local system + LAAM","Local System",2792,4,null,2788,0,null,4,1.4326647564469914E-3,0,4,0,0,null,null,null,null,null,0,null,0,0,0,0,0,0,0,0,0,0]
["1 Jul 2022 to 31 Jul 2022","GOOD HEALTH MEDICAL PRACTICES LIMITED","GHMPL","SOLO",5153981121,"AL1",3,"ClinicSolution","Local System",0,0,null,0,0,null,0,{"$error":"#DIV/0!"},0,0,0,{"$error":"#DIV/0!"},0,0,0,0,0,null,null,0,{"$error":"#DIV/0!"},0,{"$error":"#DIV/0!"},0,0,0,0,0,0]
["1 Jul 2022 to 31 Jul 2022","HAVEN OF HOPE CHRISTIAN SERVICE","HOHCS","NGO",5176004890,"PROB","3,2","OnRamp","Local System",0,0,null,0,0,null,0,{"$error":"#DIV/0!"},0,0,0,{"$error":"#DIV/0!"},0,0,0,0,0,0,null,0,{"$error":"#DIV/0!"},0,{"$error":"#DIV/0!"},0,0,0,0,0,0]
["1 Jul 2022 to 31 Jul 2022","DR WONG CHUN POR","DR CP WONG CLINIC","SOLO",5528991274,"RXO","3,2","Local system","Local System",574,0,null,14,560,null,0,0,0,0,2,3.4843205574912892E-3,2,0,0,2,null,null,null,560,0.97560975609756095,0,0,0,0,0,0,0,0]
["1 Jul 2022 to 31 Jul 2022","DHC EXPRESS-YAU TSIM MONG (LOKSINTONG)","DHC EXPRESS-YTM-CC","DHC",5832575528,"AL1",3,"Local System + LAAM","Local System",3,0,null,0,3,null,0,0,0,0,0,0,0,0,0,0,0,null,null,3,1,0,0,0,0,0,0,0,0]
["1 Jul 2022 to 31 Jul 2022","DHC EXPRESS-ISLANDS (NAAC)","DHC EXPRESS-ISLANDS-CC","DHC",6142872901,"AL1",3,"Local System + LAAM","Local System",0,0,null,0,0,null,0,{"$error":"#DIV/0!"},0,0,0,{"$error":"#DIV/0!"},0,0,0,0,0,null,null,0,{"$error":"#DIV/0!"},0,{"$error":"#DIV/0!"},0,0,0,0,0,0]
["1 Jul 2022 to 31 Jul 2022","DHC EXPRESS-CENTRAL AND WESTERN (HKSR)","DHC EXPRESS-C&W-CC","DHC",6645809992,"AL1",3,"Local System + LAAM","Local System",0,0,null,0,0,null,0,{"$error":"#DIV/0!"},0,0,0,{"$error":"#DIV/0!"},0,0,0,0,0,null,null,0,{"$error":"#DIV/0!"},0,{"$error":"#DIV/0!"},0,0,0,0,0,0]
["1 Jul 2022 to 31 Jul 2022","DHC EXPRESS-KWUN TONG (UCMS)","DHC EXPRESS-KWUN TONG-CC","DHC",7334960147,"EPIS",1,"Local System + LAAM","Local System",263,0,263,null,null,null,0,0,0,0,0,0,null,null,null,null,null,null,null,0,0,0,0,0,0,0,0,0,0]
["1 Jul 2022 to 31 Jul 2022","DR HO CHUNG PING","C.P. HO","SOLO",7889756707,"REF",1,"HKMA (Mobigator + Message formatter)","Local System",0,0,0,null,null,null,0,{"$error":"#DIV/0!"},0,0,0,{"$error":"#DIV/0!"},null,null,null,null,null,null,null,0,{"$error":"#DIV/0!"},0,{"$error":"#DIV/0!"},0,0,0,0,0,0]
["1 Jul 2022 to 31 Jul 2022","DR. CHAN KIT YAN SELINA","DR. CHAN KIT YAN SELINA","SOLO",8895790679,"AL1","3,2","OnRamp","Local System",8,0,null,1,7,null,0,0,0,0,1,0.125,1,0,0,1,0,null,null,7,0.875,0,0,0,0,0,0,0,0]
["1 Jul 2022 to 31 Jul 2022","HK MERCY MEDICAL LIMITED","HK MERCY MEDICAL LIMITED","SOLO",9056383716,"REF",1,"OnRamp","Local System",0,0,0,null,null,null,0,{"$error":"#DIV/0!"},0,0,0,{"$error":"#DIV/0!"},null,null,null,null,null,null,null,0,{"$error":"#DIV/0!"},0,{"$error":"#DIV/0!"},0,0,0,0,0,0]
["1 Jul 2022 to 31 Jul 2022","Hong Kong Breast Cancer and Disease Centre Limited","HKBCADC","SOLO           ",9407305541,"RXO","2,3","OnRamp","Local System",0,0,null,0,0,null,0,{"$error":"#DIV/0!"},0,0,0,{"$error":"#DIV/0!"},0,0,0,0,0,null,null,0,{"$error":"#DIV/0!"},0,{"$error":"#DIV/0!"},0,0,0,0,0,0]
["1 Jul 2022 to 31 Jul 2022","CHIRON HEALTHCARE GROUP LIMITED","CHIRON HEALTHCARE","GROUP",9451612824,"RXD","3,2","Local system","Local System",0,0,null,0,0,null,0,{"$error":"#DIV/0!"},0,0,0,{"$error":"#DIV/0!"},0,0,0,0,null,null,null,0,{"$error":"#DIV/0!"},0,{"$error":"#DIV/0!"},0,0,0,0,0,0]
["1 Aug 2022 to 31 Aug 2022","EVANGEL HOSPITAL","EVANGEL HOSPITAL","PH",2206285885,"ENCTR","3,2","Local system + LAAM","Local System",{"$f":"SUM(K10884:N10884)","v":2412},{"$f":"P10884","v":0},null,0,2412,null,{"$f":"SUM(R10884:S10884)","v":0},0,0,0,{"$f":"SUM(Y10884:AA10884)","v":0},0,null,null,null,null,null,null,null,{"$f":"N10884","v":2412},1,0,0,0,0,0,0,0,0]
["1 Aug 2022 to 31 Aug 2022","DEPARTMENT OF HEALTH","DH","DH",2438744730,"PROB",3,"Local system + LAAM","Local System",96341,0,null,5661,90680,null,0,0,0,0,5612,5.8251419437207422E-2,5612,0,0,5612,0,null,null,90680,0.9412399705213772,60,6.2278780581476211E-4,0,60,0,0,0,0]
["1 Aug 2022 to 31 Aug 2022","DHC EXPRESS-SHA TIN (HKSR)","DHC EXPRESS-SHA TIN-CC","DHC",3628187450,"ENCTR",3,"Local System + LAAM","Local System",2267,0,null,0,2267,null,0,0,0,0,0,0,null,null,null,null,null,null,null,2267,1,0,0,0,0,0,0,0,0]
["1 Aug 2022 to 31 Aug 2022","PRIME HEALTH ENDOCRINE & DIABETES CENTRE LIMITED","PRIME HEALTH","SOLO",4180832888,"PROB","3,2","OnRamp","Local System",0,0,0,0,0,null,0,{"$error":"#DIV/0!"},0,0,0,{"$error":"#DIV/0!"},0,0,0,0,0,0,null,0,{"$error":"#DIV/0!"},0,{"$error":"#DIV/0!"},0,0,0,0,0,0]
["1 Aug 2022 to 31 Aug 2022","HKSH Medical Group Limited","HKSH MEDICAL FROUP","PH",4773496701,"LABAP",1,"Local system","Local System",574,0,574,null,null,null,0,0,0,0,0,0,null,null,null,null,null,null,null,0,0,0,0,0,0,0,0,0,0]
["1 Aug 2022 to 31 Aug 2022","HAVEN OF HOPE CHRISTIAN SERVICE","HOHCS","NGO",5176004890,"RXO","3,2","OnRamp","Local System",0,0,0,0,0,null,0,{"$error":"#DIV/0!"},0,0,0,{"$error":"#DIV/0!"},0,0,0,0,0,null,null,0,{"$error":"#DIV/0!"},0,{"$error":"#DIV/0!"},0,0,0,0,0,0]
["1 Aug 2022 to 31 Aug 2022","18 Chinese Medicine Clinic cum Traing and Research Centre (Tung Wah Group of Hospital)","18CMCTRs(TWGHS)","NGO",5249502353,"CMRXO","3,2","Local System + LAAM","EC Connect",8692,0,0,7846,846,null,0,0,0,0,7846,0.90266912103083297,7846,0,0,7846,0,null,null,846,9.7330878969167048E-2,0,0,0,0,0,0,0,0]
["1 Aug 2022 to 31 Aug 2022","DHC EXPRESS-ISLANDS (NAAC)","DHC EXPRESS-ISLANDS-CC","DHC",6142872901,"EPIS",1,"Local System + LAAM","Local System",458,0,458,null,null,null,0,0,0,0,0,0,null,null,null,null,null,null,null,0,0,0,0,0,0,0,0,0,0]
["1 Aug 2022 to 31 Aug 2022","DHC EXPRESS-SAI KUNG (HOHCS)","DHC EXPRESS-SAI KUNG-CC","DHC",6402782674,"ENCTR",3,"Local System + LAAM","Local System",3659,0,null,null,3659,null,0,0,0,0,0,0,null,null,null,null,null,null,null,3659,1,0,0,0,0,0,0,0,0]
["1 Aug 2022 to 31 Aug 2022","18 Chinese Medicine Clinic cum Traing and Research Centre (Pok Oi Hospital)","18CMCTRs (POH)","NGO",6758313621,"CMPX","3,2","Local System + LAAM","EC Connect",810,0,0,91,719,null,0,0,0,0,91,0.11234567901234568,91,0,0,91,0,0,null,719,0.88765432098765429,0,0,0,0,0,0,0,0]
["1 Aug 2022 to 31 Aug 2022","HONG KONG ADVENTIST HOSPITAL - STUBBS ROAD","HK ADVENTIST - SR","PH",7029571085,"ENCTR",3,"Local system + LAAM","Local System",711,0,null,null,711,null,0,0,0,0,0,0,null,null,null,null,null,null,null,711,1,0,0,0,0,0,0,0,0]
["1 Aug 2022 to 31 Aug 2022","ST.TERESA's HOSPITAL","STH","PH",7969980015,"RXD",3,"Local System + LAAM","Local System",6033,25,null,334,5674,null,25,4.1438753522294054E-3,25,0,342,5.6688214818498263E-2,342,0,0,342,0,0,null,5674,0.94049394994198576,0,0,0,0,0,0,0,0]
["1 Aug 2022 to 31 Aug 2022","DR. CHAN KIT YAN SELINA","DR. CHAN KIT YAN SELINA","SOLO",8895790679,"IMMU","3,2","OnRamp","Local System",8,0,0,0,8,null,0,0,0,0,0,0,0,0,0,0,0,null,null,8,1,0,0,0,0,0,0,0,0]
["1 Aug 2022 to 31 Aug 2022","HK MERCY MEDICAL LIMITED","HK MERCY MEDICAL LIMITED","SOLO",9056383716,"RXO","3,2","OnRamp","Local System",129,0,0,47,82,null,0,0,0,0,0,0,0,0,0,0,0,null,null,82,0.63565891472868219,0,0,0,0,0,0,0,0]
["1 Aug 2022 to 31 Aug 2022","Hong Kong Christian Service","HKCS","GROUP",9179355867,"ENCTR",3,"OnRamp","Local System",117,0,null,null,117,null,0,0,0,0,0,0,null,null,null,null,null,null,null,117,1,0,0,0,0,0,0,0,0]
["1 Aug 2022 to 31 Aug 2022","CHIRON HEALTHCARE GROUP LIMITED","CHIRON HEALTHCARE","GROUP",9451612824,"RXO","3,2","Local system","Local System",0,0,0,0,0,null,0,{"$error":"#DIV/0!"},0,0,0,{"$error":"#DIV/0!"},0,0,0,0,null,null,null,0,{"$error":"#DIV/0!"},0,{"$error":"#DIV/0!"},0,0,0,0,0,0]
["1 Sep 2022 to 30 Sep 2022","DEPARTMENT OF HEALTH","DH","DH",2438744730,"ADR",3,"SAAM","Local System",580,0,null,52,528,null,0,0,0,0,50,8.6206896551724144E-2,50,0,0,50,0,null,null,528,0.91034482758620694,2,3.4482758620689655E-3,0,0,0,2,0,0]
["1 Sep 2022 to 30 Sep 2022","DHC EXPRESS-KOWLOON CITY (LOKSINTONG)","DHC EXPRESS-KC-CC","DHC",2548616569,"EPIS",1,"Local System + LAAM","Local System",1224,0,1224,null,null,null,0,0,0,0,0,0,null,null,null,null,null,null,null,0,0,0,0,0,0,0,0,0,0]
["1 Sep 2022 to 30 Sep 2022","DHC EXPRESS-SHA TIN (HKSR)","DHC EXPRESS-SHA TIN-CC","DHC",3628187450,"ADR",3,"Local System + LAAM","Local System",2,0,null,null,2,null,0,0,0,0,0,0,0,0,0,0,0,null,null,2,1,0,0,0,0,0,0,0,0]
["1 Sep 2022 to 30 Sep 2022","PRIME HEALTH ENDOCRINE & DIABETES CENTRE LIMITED","PRIME HEALTH","SOLO",4180832888,"IMMU","3,2","OnRamp","Local System",0,0,0,0,0,null,0,{"$error":"#DIV/0!"},0,0,0,{"$error":"#DIV/0!"},0,0,0,0,0,null,null,0,{"$error":"#DIV/0!"},0,{"$error":"#DIV/0!"},0,0,0,0,0,0]
["1 Sep 2022 to 30 Sep 2022","18 Chinese Medicine Clinic cum Traing and Research Centre (HKFTU Worker's Medical Clinics)","18CMCTRs(HKFTU)","NGO",4746565267,"CMPX","3,2","Local System + LAAM","EC Connect",79,0,0,0,79,null,0,0,0,0,0,0,0,0,0,0,0,0,null,79,1,0,0,0,0,0,0,0,0]
["1 Sep 2022 to 30 Sep 2022","HONG KONG AIRCRAFT ENGINEERING COMPANY LIMITED","HKAECL","GROUP",5197076289,"REF",1,"OnRamp","Local System",0,0,0,null,null,null,0,{"$error":"#DIV/0!"},0,0,0,{"$error":"#DIV/0!"},null,null,null,null,null,null,null,0,{"$error":"#DIV/0!"},0,{"$error":"#DIV/0!"},0,0,0,0,0,0]
["1 Sep 2022 to 30 Sep 2022","UNION HOSPITAL","UNION HOSPITAL","PH",5712620300,"BIRTH",3,"Local system","Local System",29,0,null,null,29,null,0,0,0,0,0,0,0,0,0,0,0,0,null,29,1,0,0,0,0,0,0,0,0]
["1 Sep 2022 to 30 Sep 2022","PENG CHAU MEDICAL CENTRE","PENG CHAU MEDICAL CENTRE","SOLO",5977831183,"EPIS",1,"OnRamp","Local System",0,0,0,null,null,null,0,{"$error":"#DIV/0!"},0,0,0,{"$error":"#DIV/0!"},null,null,null,null,null,null,null,0,{"$error":"#DIV/0!"},0,{"$error":"#DIV/0!"},0,0,0,0,0,0]
["1 Sep 2022 to 30 Sep 2022","DISTRICT HEALTH CENTRE-TUEN MUN (ELCHK)","DHC-TUEN MUN-CC","DHC",6303033042,"AL1",3,"Local System + LAAM","Local System",1,0,null,null,1,null,0,0,0,0,0,0,0,0,0,0,0,null,null,0,0,0,0,0,0,0,0,0,0]
["1 Sep 2022 to 30 Sep 2022","DHC EXPRESS-NORTH (HKSR)","DHC EXPRESS-NORTH-CC","DHC",6678116401,"ADR",3,"Local System + LAAM","Local System",0,0,null,null,0,null,0,{"$error":"#DIV/0!"},0,0,0,{"$error":"#DIV/0!"},0,0,0,0,0,null,null,0,{"$error":"#DIV/0!"},0,{"$error":"#DIV/0!"},0,0,0,0,0,0]
["1 Sep 2022 to 30 Sep 2022","HONG KONG ADVENTIST HOSPITAL - STUBBS ROAD","HK ADVENTIST - SR","PH",7029571085,"ENCTR",3,"Local system + LAAM","Local System",906,0,null,null,906,null,0,0,0,0,0,0,null,null,null,null,null,null,null,906,1,0,0,0,0,0,0,0,0]
["1 Sep 2022 to 30 Sep 2022","HEALTH IN ACTION LIMITED","HEALTH IN ACTION LIMITED","SOLO",8040919535,"ENCTR",3,"OnRamp","Local System",0,0,null,null,0,null,0,{"$error":"#DIV/0!"},0,0,0,{"$error":"#DIV/0!"},null,null,null,null,null,null,null,0,{"$error":"#DIV/0!"},0,{"$error":"#DIV/0!"},0,0,0,0,0,0]
["1 Sep 2022 to 30 Sep 2022","DEPARTMENT OF HEALTH CIMS1","DH","DH",8658917541,"LABMB",1,"Local system + LAAM","Local System",0,0,0,null,null,null,0,{"$error":"#DIV/0!"},0,0,0,{"$error":"#DIV/0!"},0,0,0,0,0,0,null,0,{"$error":"#DIV/0!"},0,{"$error":"#DIV/0!"},0,0,0,0,0,0]
["1 Sep 2022 to 30 Sep 2022","HK MERCY MEDICAL LIMITED","HK MERCY MEDICAL LIMITED","SOLO",9056383716,"ENCTR",3,"OnRamp","Local System",1540,0,null,null,1540,null,0,0,0,0,0,0,null,null,null,null,null,null,null,1540,1,0,0,0,0,0,0,0,0]
["1 Sep 2022 to 30 Sep 2022","Hong Kong Christian Service","HKCS","GROUP",9179355867,"PROB","3,2","OnRamp","Local System",0,0,0,0,0,null,0,{"$error":"#DIV/0!"},0,0,0,{"$error":"#DIV/0!"},0,0,0,0,0,0,null,0,{"$error":"#DIV/0!"},0,{"$error":"#DIV/0!"},0,0,0,0,0,0]
["1 Sep 2022 to 30 Sep 2022","DISTRICT HEALTH CENTRE-SHAM SHUI PO (SJS)","DHC-SHAM SHUI PO","DHC",9681600318,"AL1",3,"Local System + LAAM","Local System",0,0,null,null,0,null,0,{"$error":"#DIV/0!"},0,0,0,{"$error":"#DIV/0!"},0,0,0,0,0,null,null,0,{"$error":"#DIV/0!"},0,{"$error":"#DIV/0!"},0,0,0,0,0,0]
["1 Oct 2022 to 31 Oct 2022","18 Chinese Medicine Clinic cum Traing and Research Centre (The Hong Kong Tuberculosis Association)","18CMCTRs(HKTBA)","NGO",2231879813,"CMPX","3,2","Local System + LAAM","EC Connect",211,0,null,0,211,null,0,0,0,0,0,0,0,0,0,0,0,0,null,211,1,0,0,0,0,0,0,0,0]
["1 Oct 2022 to 31 Oct 2022","DHC EXPRESS-KOWLOON CITY (LOKSINTONG)","DHC EXPRESS-KC-CC","DHC",2548616569,"ADR",3,"Local System + LAAM","Local System",0,0,null,null,0,null,0,{"$error":"#DIV/0!"},0,0,0,{"$error":"#DIV/0!"},0,0,0,0,0,null,null,0,0,0,0,0,0,0,0,0,0]
["1 Oct 2022 to 31 Oct 2022","DR. LEUNG KIN KAY","DR. LEUNG KIN KAY","SOLO",3226804803,"ENCTR",3,"OnRamp","Local System",85,0,null,null,85,null,0,0,0,0,0,0,null,null,null,null,null,null,null,85,1,0,0,0,0,0,0,0,0]
["1 Oct 2022 to 31 Oct 2022","TUNG WAH GROUP OF HOSPITALS","TUNG WAH GROUP. OF HOSPITALS","NGO",4471430786,"RAD",3,"Local system + LAAM","Local System",2,0,null,null,2,null,0,0,0,0,0,0,0,0,0,0,0,0,null,2,1,0,0,0,0,0,0,0,0]
["1 Oct 2022 to 31 Oct 2022","ST. PAUL'S HOSPITAL","SPH","PH",5156724947,"AL1",3,"Local system","Local System",131,0,null,60,71,null,0,0,0,0,47,0.35877862595419846,47,0,0,47,0,null,null,71,0.5419847328244275,0,0,0,0,0,0,0,0]
["1 Oct 2022 to 31 Oct 2022","HONG KONG AIRCRAFT ENGINEERING COMPANY LIMITED","HKAECL","GROUP",5197076289,"ADR","3,2","OnRamp","Local System",0,0,null,0,0,null,0,{"$error":"#DIV/0!"},0,0,0,{"$error":"#DIV/0!"},0,0,0,0,0,null,null,0,0,0,0,0,0,0,0,0,0]
["1 Oct 2022 to 31 Oct 2022","DR WONG CHUN POR","DR CP WONG CLINIC","SOLO",5528991274,"IMMU","3,2","Local system","Local System",46,0,null,42,4,null,0,0,0,0,7,0.15217391304347827,7,0,0,7,0,0,null,4,8.6956521739130432E-2,0,0,0,0,0,0,0,0]
["1 Oct 2022 to 31 Oct 2022","PENG CHAU MEDICAL CENTRE","PENG CHAU MEDICAL CENTRE","SOLO",5977831183,"ADR","3,2","OnRamp","Local System",0,0,null,0,0,null,0,{"$error":"#DIV/0!"},0,0,0,{"$error":"#DIV/0!"},0,0,0,0,0,null,null,0,0,0,0,0,0,0,0,0,0]
["1 Oct 2022 to 31 Oct 2022","DHC EXPRESS-SAI KUNG (HOHCS)","DHC EXPRESS-SAI KUNG-CC","DHC",6402782674,"ADR",3,"Local System + LAAM","Local System",0,0,null,null,0,null,0,{"$error":"#DIV/0!"},0,0,0,{"$error":"#DIV/0!"},0,0,0,0,0,null,null,0,0,0,0,0,0,0,0,0,0]
["1 Oct 2022 to 31 Oct 2022","18 Chinese Medicine Clinic cum Traing and Research Centre (Pok Oi Hospital)","18CMCTRs (POH)","NGO",6758313621,"CMPX","3,2","Local System + LAAM","EC Connect",5065,0,null,701,4364,null,0,0,0,0,701,0.13840078973346495,701,0,0,701,0,0,null,4364,0.86159921026653508,0,0,0,0,0,0,0,0]
["1 Oct 2022 to 31 Oct 2022","HONG KONG ADVENTIST HOSPITAL - STUBBS ROAD","HK ADVENTIST - SR","PH",7029571085,"RXD",2,"Local system + LAAM","Local System",1686,0,null,1686,0,null,0,0,0,0,0,0,0,0,0,0,null,null,null,0,0,0,0,0,0,0,0,0,0]
["1 Oct 2022 to 31 Oct 2022","DR HO CHUNG PING","C.P. HO","SOLO",7889756707,"PROB","3,2","HKMA (Mobigator + Message formatter)","Local System",99,0,null,6,93,null,0,0,0,0,0,0,0,0,0,0,0,null,null,93,0.93939393939393945,0,0,0,0,0,0,0,0]
["1 Oct 2022 to 31 Oct 2022","HEALTH IN ACTION LIMITED","HEALTH IN ACTION LIMITED","SOLO",8040919535,"PROB","3,2","OnRamp","Local System",0,0,null,0,0,null,0,{"$error":"#DIV/0!"},0,0,0,{"$error":"#DIV/0!"},0,0,0,0,0,0,null,0,0,0,0,0,0,0,0,0,0]
["1 Oct 2022 to 31 Oct 2022","HK MERCY MEDICAL LIMITED","HK MERCY MEDICAL LIMITED","SOLO",9056383716,"RXO","3,2","OnRamp","Local System",117,0,null,41,76,null,0,0,0,0,0,0,0,0,0,0,0,null,null,76,0.6495726495726496,0,0,0,0,0,0,0,0]
["1 Oct 2022 to 31 Oct 2022","Hong Kong Christian Service","HKCS","GROUP",9179355867,"EPIS",1,"OnRamp","Local System",0,0,0,null,null,null,0,{"$error":"#DIV/0!"},0,0,0,{"$error":"#DIV/0!"},null,null,null,null,null,null,null,0,0,0,0,0,0,0,0,0,0]
["1 Oct 2022 to 31 Oct 2022","PRECIOUS MEDICAL  (HK)  LIMITED","PRECIOUS MEDICAL  (HK)  LIMITED","SOLO",9675260245,"RXD","3,2","OnRamp","Local System",0,0,null,0,0,null,0,{"$error":"#DIV/0!"},0,0,0,{"$error":"#DIV/0!"},0,0,0,0,0,null,null,0,0,0,0,0,0,0,0,0,0]
["1 Oct 2022 to 31 Oct 2022","DISTRICT HEALTH CENTRE-SHAM SHUI PO (SJS)","DHC-SHAM SHUI PO","DHC",9681600318,"ENCTR",3,"Local System + LAAM","Local System",7817,0,null,null,7817,null,0,0,0,0,0,0,null,null,null,null,null,null,null,7817,1,0,0,0,0,0,0,0,0]
["1 Nov 2022 to 30 Nov 2022","DEPARTMENT OF HEALTH","DH","DH",2438744730,"PX",3,"Local system + LAAM","Local System",119631,0,null,4456,115175,null,0,0,0,0,4398,3.6763046367580307E-2,4398,0,0,4398,0,null,null,115175,0.96275212946477084,62,5.1826031714187796E-4,0,62,0,0,0,0]
["1 Nov 2022 to 30 Nov 2022","DEPARTMENT OF HEALTH","DH","DH",2438744730,"OBS",3,"Local system + LAAM","Local System",7994,0,null,null,7994,null,0,0,0,0,0,0,0,0,0,0,0,null,null,7994,1,0,0,0,0,0,0,0,0]
["1 Nov 2022 to 30 Nov 2022","HONG KONG BAPTIST HOSPITAL","HK BAPTIST HOSPITAL","PH",3650324540,"ENCTR",3,"Local system","Local System",0,0,null,null,0,null,0,{"$f":"P11977/J11977","v":{"$error":"#DIV/0!"}},0,0,0,{"$f":"T11977/J11977","v":{"$error":"#DIV/0!"}},null,null,null,null,null,null,null,0,0,0,0,0,0,0,0,0,0]
["1 Nov 2022 to 30 Nov 2022","PRIME HEALTH ENDOCRINE & DIABETES CENTRE LIMITED","PRIME HEALTH","SOLO",4180832888,"IMMU","3,2","OnRamp","Local System",0,0,0,0,0,null,0,{"$error":"#DIV/0!"},0,0,0,{"$error":"#DIV/0!"},0,0,0,0,0,null,null,0,0,0,0,0,0,0,0,0,0]
["1 Nov 2022 to 30 Nov 2022","HAVEN OF HOPE CHRISTIAN SERVICE","HOHCS","NGO",5176004890,"AL1","3,2","OnRamp","Local System",0,0,0,0,0,null,0,{"$error":"#DIV/0!"},0,0,0,{"$error":"#DIV/0!"},0,0,0,0,0,null,null,0,0,0,0,0,0,0,0,0,0]
["1 Nov 2022 to 30 Nov 2022","18 Chinese Medicine Clinic cum Traing and Research Centre (Tung Wah Group of Hospital)","18CMCTRs(TWGHS)","NGO",5249502353,"CMRXO","3,2","Local System + LAAM","EC Connect",783,0,0,204,579,null,0,0,0,0,204,0.26053639846743293,204,0,0,204,0,null,null,579,0.73946360153256707,0,0,0,0,0,0,0,0]
["1 Nov 2022 to 30 Nov 2022","UNION HOSPITAL","UNION HOSPITAL","PH",5712620300,"EPIS",1,"Local system + LAAM","Local System",311,0,311,null,null,null,0,0,0,0,0,0,null,null,null,null,null,null,null,0,0,0,0,0,0,0,0,0,0]
["1 Nov 2022 to 30 Nov 2022","PENG CHAU MEDICAL CENTRE","PENG CHAU MEDICAL CENTRE","SOLO",5977831183,"REF",1,"OnRamp","Local System",0,0,0,null,null,null,0,{"$error":"#DIV/0!"},0,0,0,{"$error":"#DIV/0!"},null,null,null,null,null,null,null,0,0,0,0,0,0,0,0,0,0]
["1 Nov 2022 to 30 Nov 2022","HONG KONG BAPTIST HOSPITAL (COMMUNITY CLINIC)","HK  BAPTIST HOSPITAL","PH",4480228848,"RXO","3,2","OnRamp","Local System",3629,0,0,415,3214,null,0,0,0,0,0,0,0,0,0,0,0,null,null,3214,0.88564342794158168,0,0,0,0,0,0,0,0]
["1 Nov 2022 to 30 Nov 2022","DHC EXPRESS-EASTERN (HKSR)","DHC EXPRESS-EASTERN-CC","DHC",6542377532,"AL1",3,"Local System + LAAM","Local System",0,0,null,null,0,null,0,{"$error":"#DIV/0!"},0,0,0,{"$error":"#DIV/0!"},0,0,0,0,0,null,null,0,0,0,0,0,0,0,0,0,0]
["1 Nov 2022 to 30 Nov 2022","eHealth Declaration Form","eHealth Declaration Form","DH",7764187800,"IMMU",3,"Local System","Local System",27541,0,null,null,27541,null,0,0,0,0,0,0,0,0,0,0,0,null,null,27541,1,0,0,0,0,0,0,0,0]
["1 Nov 2022 to 30 Nov 2022","ST.TERESA's HOSPITAL","STH","PH",7969980015,"RAD",3,"Local System + LAAM","Local System",3214,0,null,null,3214,null,0,{"$f":"P12169/J12169","v":0},0,0,0,{"$f":"T12169/J12169","v":0},0,0,0,0,0,null,null,3214,1,0,0,0,0,0,0,0,0]
["1 Nov 2022 to 30 Nov 2022","18 Chinese Medicine Clinic cum Traing and Research Centre (The Hong Kong Buddist Association)","18CMCTRs (HKBA)","NGO",8296860643,"CMPX","3,2","Local System + LAAM","EC Connect",483,0,0,1,482,null,0,0,0,0,1,2.070393374741201E-3,1,0,0,1,0,0,null,482,0.99792960662525876,0,0,0,0,0,0,0,0]
["1 Nov 2022 to 30 Nov 2022","HONG KONG ADVENTIST HOSPITAL - TSUEN WAN","HK ADVENTIST - TW","PH",8909436562,"ADR",3,"Local system","Local System",24,0,null,null,24,null,0,0,0,0,0,0,0,0,0,0,0,null,null,24,1,0,0,0,0,0,0,0,0]
["1 Nov 2022 to 30 Nov 2022","Hong Kong Breast Cancer and Disease Centre Limited","HKBCADC","SOLO           ",9407305541,"REF",1,"OnRamp","Local System",0,0,0,null,null,null,0,{"$error":"#DIV/0!"},0,0,0,{"$error":"#DIV/0!"},null,null,null,null,null,null,null,0,0,0,0,0,0,0,0,0,0]
["1 Nov 2022 to 30 Nov 2022","PRECIOUS MEDICAL  (HK)  LIMITED","PRECIOUS MEDICAL  (HK)  LIMITED","SOLO",9675260245,"ENCTR",3,"OnRamp","Local System",0,0,null,null,0,null,0,{"$error":"#DIV/0!"},0,0,0,{"$error":"#DIV/0!"},null,null,null,null,null,null,null,0,0,0,0,0,0,0,0,0,0]
["1 Nov 2022 to 30 Nov 2022","Alpha Medical (CWB)","ALPHA MEDICAL (CWB)","GROUP",5292537029,"RAD",3,"RIS (LAAM)","Local System",0,0,null,null,0,null,0,{"$error":"#DIV/0!"},0,0,0,{"$error":"#DIV/0!"},0,0,0,0,0,null,null,0,0,0,0,0,0,0,0,0,0]
["1 Dec 2022 to 31 Dec 2022","DR SUM NAM CHU'S CLINIC","DR SUM NAM CHU'S CLINIC","SOLO",2308765964,"RXD","3,2","OnRamp","Local System",95,0,"",11,84,null,0,0,0,0,0,0,0,0,0,0,0,null,null,84,0.88421052631578945,0,0,0,0,0,0,0,0]
["1 Dec 2022 to 31 Dec 2022","DEPARTMENT OF HEALTH","DH","DH",2438744730,"RXO",3,"Local system + LAAM","Local System",129765,0,"",49167,80598,null,0,0,0,0,49298,0.37990213077486223,49298,0,0,49298,0,null,null,80598,0.62110738642931451,0,0,0,0,0,0,0,0]
["1 Dec 2022 to 31 Dec 2022","18 Chinese Medicine Clinic cum Traing and Research Centre (Haven of Hope)","18CMCTRs(HOHCS)","NGO",3237753992,"CMPROB","3,2","Local System + LAAM","EC Connect",1879,0,"",366,1513,null,0,0,0,0,262,0.13943587014369346,262,0,0,262,0,0,null,1513,0.80521554018094732,0,0,0,0,0,0,0,0]
["1 Dec 2022 to 31 Dec 2022","DISTRICT HEALTH CENTRE-WONG TAI SIN (HKSKHWCL)","DHC-WONG TAI SIN","DHC",4437392776,"ENCTR",3,"Local System + LAAM","Local System",5300,0,"",null,5300,null,0,0,0,0,0,0,null,null,null,null,null,null,null,5300,1,0,0,0,0,0,0,0,0]
["1 Dec 2022 to 31 Dec 2022","HKSH Medical Group Limited","HKSH MEDICAL FROUP","PH",4773496701,"RAD",2,"Local system","Local System",2609,0,"",2609,0,null,0,0,0,0,0,0,null,null,null,null,null,null,null,0,0,0,0,0,0,0,0,0,0]
["1 Dec 2022 to 31 Dec 2022","HONG KONG AIRCRAFT ENGINEERING COMPANY LIMITED","HKAECL","GROUP",5197076289,"REF",1,"OnRamp","Local System",0,0,0,0,0,null,0,{"$error":"#DIV/0!"},0,0,0,{"$error":"#DIV/0!"},null,null,null,null,null,null,null,0,0,0,0,0,0,0,0,0,0]
["1 Dec 2022 to 31 Dec 2022","HONG KONG MEDICAL ADVANCED IMAGING LIMITED","HKMAIL","GROUP",5414310424,"RAD",3,"Local system + LAAM","Local System",{"$f":"SUM(K12415:N12415)","v":2380},{"$f":"P12415","v":0},"",null,2380,null,{"$f":"SUM(R12415:S12415)","v":0},0,0,0,{"$f":"SUM(Y12415:AA12415)","v":0},0,0,0,0,0,0,null,null,{"$f":"N12415","v":2380},{"$f":"IF(J12415=0,0,AC12415/J12415)","v":1},0,{"$f":"IF(J12415=0,0,AE12415/J12415)","v":0},0,0,0,0,0,0]
["1 Dec 2022 to 31 Dec 2022","DHC EXPRESS-ISLANDS (NAAC)","DHC EXPRESS-ISLANDS-CC","DHC",6142872901,"ENCTR",3,"Local System + LAAM","Local System",1649,0,"",null,1649,null,0,0,0,0,0,0,null,null,null,null,null,null,null,1649,1,0,0,0,0,0,0,0,0]
["1 Dec 2022 to 31 Dec 2022","HONG KONG BAPTIST HOSPITAL (COMMUNITY CLINIC)","HK  BAPTIST HOSPITAL","PH",4480228848,"PX","3,2","OnRamp","Local System",0,0,"",0,0,null,0,{"$error":"#DIV/0!"},0,0,0,{"$error":"#DIV/0!"},0,0,0,0,0,0,null,0,0,0,0,0,0,0,0,0,0]
["1 Dec 2022 to 31 Dec 2022","DHC EXPRESS-CENTRAL AND WESTERN (HKSR)","DHC EXPRESS-C&W-CC","DHC",6645809992,"ADR",3,"Local System + LAAM","Local System",0,0,"",null,0,null,0,{"$error":"#DIV/0!"},0,0,0,{"$error":"#DIV/0!"},0,0,0,0,0,null,null,0,0,0,0,0,0,0,0,0,0]
["1 Dec 2022 to 31 Dec 2022","EVANGEL HOSPITAL","EVANGEL HOSPITAL","PH",6788049378,"PROB","2,3","OnRamp","Local System",121,0,"",10,111,null,0,0,0,0,0,0,0,0,0,0,null,null,null,111,0.9173553719008265,0,0,0,0,0,0,0,0]
["1 Dec 2022 to 31 Dec 2022","eHealth Declaration Form","eHealth Declaration Form","DH",7764187800,"IMMU",3,"Local System","Local System",36229,0,"",null,36229,null,0,0,0,0,0,0,0,0,0,0,0,null,null,36229,1,0,0,0,0,0,0,0,0]
["1 Dec 2022 to 31 Dec 2022","DEPARTMENT OF HEALTH CIMS1","DH","DH",8658917541,"IMMU",3,"Local system + LAAM","Local System",0,0,"",null,0,null,0,{"$error":"#DIV/0!"},0,0,0,{"$error":"#DIV/0!"},0,0,0,0,0,0,null,0,0,0,0,0,0,0,0,0,0]
["1 Dec 2022 to 31 Dec 2022","HONG KONG ADVENTIST HOSPITAL - TSUEN WAN","HK ADVENTIST - TW","PH",8909436562,"ENCTR",3,"Local system + LAAM","Local System",5400,0,"",null,5400,null,0,0,0,0,0,0,null,null,null,null,null,null,null,5400,1,0,0,0,0,0,0,0,0]
["1 Dec 2022 to 31 Dec 2022","Hong Kong Christian Service","HKCS","GROUP",9179355867,"PROB","3,2","OnRamp","Local System",0,0,"",0,0,null,0,{"$error":"#DIV/0!"},0,0,0,{"$error":"#DIV/0!"},0,0,0,0,0,0,null,0,0,0,0,0,0,0,0,0,0]
["1 Dec 2022 to 31 Dec 2022","Hong Kong Breast Cancer and Disease Centre Limited","HKBCADC","SOLO           ",9407305541,"RXD","2,3","OnRamp","Local System",{"$f":"SUM(K12607:N12607)","v":0},{"$f":"P12607","v":0},"",0,0,null,{"$f":"SUM(R12607:S12607)","v":0},{"$error":"#DIV/0!"},0,0,{"$f":"SUM(Y12607:AA12607)","v":0},{"$error":"#DIV/0!"},0,0,0,0,0,null,null,{"$f":"N12607","v":0},{"$f":"IF(J12607=0,0,AC12607/J12607)","v":0},0,{"$f":"IF(J12607=0,0,AE12607/J12607)","v":0},0,0,0,0,0,0]
["1 Dec 2022 to 31 Dec 2022","LOK YEE TONG TRADITIONAL CHINESE MEDICINE LIMITED","LOK YEE TONG TCM","SOLO",9355359498,"CMPROB","3,2","Local System","EC Connect",0,0,"",0,0,null,0,{"$error":"#DIV/0!"},0,0,0,{"$error":"#DIV/0!"},0,0,0,0,0,0,null,0,0,0,0,0,0,0,0,0,0]
["1 Dec 2022 to 31 Dec 2022","LOK YEE TONG TRADITIONAL CHINESE MEDICINE LIMITED","LOK YEE TONG TCM","SOLO",9355359498,"CMRXO","3,2","Local System","EC Connect",0,0,"",0,0,null,0,{"$error":"#DIV/0!"},0,0,0,{"$error":"#DIV/0!"},0,0,0,0,0,null,null,0,0,0,0,0,0,0,0,0,0]
["1 Jan 2023 to 31 Jan 2023","DEPARTMENT OF HEALTH","DH","DH",2438744730,"RXD",3,"Local system + LAAM","Local System",72807,0,"",72807,0,null,0,0,0,0,0,0,0,0,0,0,0,null,null,0,0,0,0,0,0,0,0,0,0]
["1 Jan 2023 to 31 Jan 2023","DR. LEUNG KIN KAY","DR. LEUNG KIN KAY","SOLO",3226804803,"ADR","3,2","OnRamp","Local System",2,0,"",0,2,null,0,0,0,0,0,0,0,0,0,0,0,null,null,2,1,0,0,0,0,0,0,0,0]
["1 Jan 2023 to 31 Jan 2023","PRIME HEALTH ENDOCRINE & DIABETES CENTRE LIMITED","PRIME HEALTH","SOLO",4180832888,"AL1","3,2","OnRamp","Local System",0,0,"",0,0,null,0,{"$error":"#DIV/0!"},0,0,0,{"$error":"#DIV/0!"},0,0,0,0,0,null,null,0,0,0,0,0,0,0,0,0,0]
["1 Jan 2023 to 31 Jan 2023","GOOD HEALTH MEDICAL PRACTICES LIMITED","GHMPL","SOLO",5153981121,"AL1",3,"ClinicSolution","Local System",0,0,"",0,0,null,0,{"$error":"#DIV/0!"},0,0,0,{"$error":"#DIV/0!"},0,0,0,0,0,null,null,0,0,0,0,0,0,0,0,0,0]
["1 Jan 2023 to 31 Jan 2023","HAVEN OF HOPE CHRISTIAN SERVICE","HOHCS","NGO",5176004890,"PROB","3,2","OnRamp","Local System",0,0,"",0,0,null,0,{"$error":"#DIV/0!"},0,0,0,{"$error":"#DIV/0!"},0,0,0,0,0,0,null,0,0,0,0,0,0,0,0,0,0]
["1 Jan 2023 to 31 Jan 2023","HONG KONG AIRCRAFT ENGINEERING COMPANY LIMITED","HKAECL","GROUP",5197076289,"ENCTR",3,"OnRamp","Local System",10,0,"",0,10,null,0,0,0,0,0,0,null,null,null,null,null,null,null,10,1,0,0,0,0,0,0,0,0]
["1 Jan 2023 to 31 Jan 2023","DHC EXPRESS-YAU TSIM MONG (LOKSINTONG)","DHC EXPRESS-YTM-CC","DHC",5832575528,"ADR",3,"Local System + LAAM","Local System",0,0,"",0,0,null,0,{"$error":"#DIV/0!"},0,0,0,{"$error":"#DIV/0!"},0,0,0,0,0,null,null,0,0,0,0,0,0,0,0,0,0]
["1 Jan 2023 to 31 Jan 2023","HONG KONG BAPTIST HOSPITAL (COMMUNITY CLINIC)","HK  BAPTIST HOSPITAL","PH",4480228848,"REF",1,"OnRamp","Local System",0,0,0,0,0,null,0,{"$error":"#DIV/0!"},0,0,0,{"$error":"#DIV/0!"},null,null,null,null,null,null,null,0,0,0,0,0,0,0,0,0,0]
["1 Jan 2023 to 31 Jan 2023","DHC EXPRESS-EASTERN (HKSR)","DHC EXPRESS-EASTERN-CC","DHC",6542377532,"ADR",3,"Local System + LAAM","Local System",0,0,"",0,0,null,0,{"$error":"#DIV/0!"},0,0,0,{"$error":"#DIV/0!"},0,0,0,0,0,null,null,0,0,0,0,0,0,0,0,0,0]
["1 Jan 2023 to 31 Jan 2023","PRECIOUS BLOOD HOSPITAL (CARITAS)","PRECIOUS BLOOD HOSPITAL","PH",7002059678,"AL1",3,"Local system","Local System",72,0,"",28,44,null,0,0,0,0,24,0.33333333333333331,24,0,0,24,0,null,null,44,0.61111111111111116,0,0,0,0,0,0,0,0]
["1 Jan 2023 to 31 Jan 2023","DHC EXPRESS-TAI PO (UCMS)","DHC EXPRESS-TAI PO-CC","DHC",7444819250,"EPIS",1,"Local System + LAAM","Local System",318,0,318,0,0,null,0,0,0,0,0,0,null,null,null,null,null,null,null,0,0,0,0,0,0,0,0,0,0]
["1 Jan 2023 to 31 Jan 2023","St. Teresa's Hospital - Chinese Medicine Centre","STH-CMC","PH",1728942726,"CMPROB","3,2","STH HIS","EC Connect",85,0,"",18,67,null,0,0,0,0,4,4.7058823529411764E-2,4,0,0,4,0,0,null,67,0.78823529411764703,0,0,0,0,0,0,0,0]
["1 Jan 2023 to 31 Jan 2023","HONG KONG ADVENTIST HOSPITAL - TSUEN WAN","HK ADVENTIST - TW","PH",8909436562,"AL1",3,"Local system","Local System",436,0,"",103,333,null,0,0,0,0,94,0.21559633027522937,94,0,0,94,0,null,null,333,0.76376146788990829,1,2.2935779816513763E-3,0,0,0,1,0,0]
["1 Jan 2023 to 31 Jan 2023","Hong Kong Christian Service","HKCS","GROUP",9179355867,"ADR","3,2","OnRamp","Local System",0,0,"",0,0,null,0,{"$error":"#DIV/0!"},0,0,0,{"$error":"#DIV/0!"},0,0,0,0,0,null,null,0,0,0,0,0,0,0,0,0,0]
["1 Jan 2023 to 31 Jan 2023","CHIRON HEALTHCARE GROUP LIMITED","CHIRON HEALTHCARE","GROUP",9451612824,"AL1","3,2","Local system","Local System",9,0,"",4,5,null,0,0,0,0,3,0.33333333333333331,3,0,0,3,0,null,null,5,0.55555555555555558,0,0,0,0,0,0,0,0]
["1 Jan 2023 to 31 Jan 2023","PRECIOUS MEDICAL  (HK)  LIMITED","PRECIOUS MEDICAL  (HK)  LIMITED","SOLO",9675260245,"ENCTR",3,"OnRamp","Local System",0,0,"",0,0,null,0,{"$error":"#DIV/0!"},0,0,0,{"$error":"#DIV/0!"},null,null,null,null,null,null,null,0,0,0,0,0,0,0,0,0,0]
["1 Jan 2023 to 31 Jan 2023","DISTRICT HEALTH CENTRE-TSUEN WAN (YCHB)","DHC-TSUEN WAN","DHC",9043776781,"AL1",3,"Local System + LAAM","Local System",0,0,"",0,0,null,0,{"$error":"#DIV/0!"},0,0,0,{"$error":"#DIV/0!"},0,0,0,0,0,null,null,0,0,0,0,0,0,0,0,0,0]
["1 Feb 2023 to 28 Feb 2023","DR SUM NAM CHU'S CLINIC","DR SUM NAM CHU'S CLINIC","SOLO",2308765964,"IMMU","3,2","OnRamp","Local System",5,0,"",3,2,null,0,0,0,0,0,0,0,0,0,0,0,null,null,2,0.4,0,0,0,0,0,0,0,0]
["1 Feb 2023 to 28 Feb 2023","DISTRICT HEALTH CENTRE-KWAI TSING (KTSCHCA)","DHC-KWAI TSING","DHC",3040418583,"ENCTR",3,"Local System + LAAM","Local System",15941,0,"",0,15941,null,0,0,0,0,0,0,null,null,null,null,null,null,null,15941,1,0,0,0,0,0,0,0,0]
["1 Feb 2023 to 28 Feb 2023","HONG KONG BAPTIST HOSPITAL","HK BAPTIST HOSPITAL","PH",3650324540,"LABAP",1,"Local system + LAAM","Local System",1246,234,1012,0,0,null,234,0.18780096308186195,0,234,0,0,null,0,0,null,null,0,null,0,0,0,0,0,0,0,0,0,0]
["1 Feb 2023 to 28 Feb 2023","18 Chinese Medicine Clinic cum Traing and Research Centre (HKFTU Worker's Medical Clinics)","18CMCTRs(HKFTU)","NGO",4746565267,"CMRXO","3,2","Local System + LAAM","EC Connect",73,0,"",25,48,null,0,0,0,0,25,0.34246575342465752,25,0,0,25,0,null,null,48,0.65753424657534243,0,0,0,0,0,0,0,0]
["1 Feb 2023 to 28 Feb 2023","HAVEN OF HOPE CHRISTIAN SERVICE","HOHCS","NGO",5176004890,"IMMU","3,2","OnRamp","Local System",0,0,"",0,0,null,0,{"$error":"#DIV/0!"},0,0,0,{"$error":"#DIV/0!"},0,0,0,0,0,null,null,0,0,0,0,0,0,0,0,0,0]
["1 Feb 2023 to 28 Feb 2023","Trinity Medical Imaging Centre Limited","TRINITY MEDICAL IMG","SOLO",5453649547,"RAD",3,"Local System + LAAM","Local System",355,0,"",0,355,null,0,0,0,0,0,0,0,0,0,0,0,null,null,355,1,0,0,0,0,0,0,0,0]
["1 Feb 2023 to 28 Feb 2023","DR WONG CHUN POR","DR CP WONG CLINIC","SOLO",5528991274,"REF",1,"Local system","Local System",0,0,0,0,0,null,0,{"$error":"#DIV/0!"},0,0,0,{"$error":"#DIV/0!"},null,null,null,null,null,null,null,0,0,0,0,0,0,0,0,0,0]
["1 Feb 2023 to 28 Feb 2023","DHC EXPRESS-ISLANDS (NAAC)","DHC EXPRESS-ISLANDS-CC","DHC",6142872901,"ENCTR",3,"Local System + LAAM","Local System",2117,0,"",0,2117,null,0,0,0,0,0,0,null,null,null,null,null,null,null,2117,1,0,0,0,0,0,0,0,0]
["1 Feb 2023 to 28 Feb 2023","HONG KONG BAPTIST HOSPITAL (COMMUNITY CLINIC)","HK  BAPTIST HOSPITAL","PH",4480228848,"IMMU","3,2","OnRamp","Local System",2,0,"",0,2,null,0,0,0,0,0,0,0,0,0,0,0,null,null,2,1,0,0,0,0,0,0,0,0]
["1 Feb 2023 to 28 Feb 2023","EVANGEL HOSPITAL","EVANGEL HOSPITAL","PH",6788049378,"IMMU","2,3","OnRamp","Local System",24,0,"",24,0,null,0,0,0,0,0,0,0,0,0,0,0,0,null,0,0,0,0,0,0,0,0,0,0]
["1 Feb 2023 to 28 Feb 2023","DR HO CHUNG PING","C.P. HO","SOLO",7889756707,"ADR","3,2","HKMA (Mobigator + Message formatter)","Local System",0,0,"",0,0,null,0,{"$error":"#DIV/0!"},0,0,0,{"$error":"#DIV/0!"},0,0,0,0,0,0,null,0,0,0,0,0,0,0,0,0,0]
["1 Feb 2023 to 28 Feb 2023","ST.TERESA's HOSPITAL","STH","PH",7969980015,"LABAP",1,"Local System + LAAM","Local System",688,0,688,0,0,null,0,0,0,0,0,0,null,0,0,null,null,0,null,0,0,0,0,0,0,0,0,0,0]
["1 Feb 2023 to 28 Feb 2023","DEPARTMENT OF HEALTH CIMS1","DH","DH",8658917541,"IMMU",3,"Local system + LAAM","Local System",0,0,"",0,0,null,0,{"$error":"#DIV/0!"},0,0,0,{"$error":"#DIV/0!"},0,0,0,0,0,0,null,0,0,0,0,0,0,0,0,0,0]
["1 Feb 2023 to 28 Feb 2023","DR. CHAN KIT YAN SELINA","DR. CHAN KIT YAN SELINA","SOLO",8895790679,"REF",1,"OnRamp","Local System",0,0,0,0,0,null,0,{"$error":"#DIV/0!"},0,0,0,{"$error":"#DIV/0!"},null,null,null,null,null,null,null,0,0,0,0,0,0,0,0,0,0]
["1 Feb 2023 to 28 Feb 2023","Hong Kong Breast Cancer and Disease Centre Limited","HKBCADC","SOLO           ",9407305541,"RXO","2,3","OnRamp","Local System",0,0,"",0,0,null,0,{"$error":"#DIV/0!"},0,0,0,{"$error":"#DIV/0!"},0,0,0,0,0,null,null,0,0,0,0,0,0,0,0,0,0]
["1 Feb 2023 to 28 Feb 2023","DISTRICT HEALTH CENTRE-SHAM SHUI PO (SJS)","DHC-SHAM SHUI PO","DHC",9681600318,"AL1",3,"Local System + LAAM","Local System",5,0,"",0,5,null,0,0,0,0,0,0,0,0,0,0,0,null,null,5,1,0,0,0,0,0,0,0,0]
["1 Feb 2023 to 28 Feb 2023","DISTRICT HEALTH CENTRE-TSUEN WAN (YCHB)","DHC-TSUEN WAN","DHC",9043776781,"ADR",3,"Local System + LAAM","Local System",0,0,"",0,0,null,0,{"$error":"#DIV/0!"},0,0,0,{"$error":"#DIV/0!"},0,0,0,0,0,null,null,0,0,0,0,0,0,0,0,0,0]
["1 Mar 2023 to 31 Mar 2023","EVANGEL HOSPITAL","EVANGEL HOSPITAL","PH",2206285885,"AL1",3,"Local system + LAAM","Local System",111,0,"",84,27,null,0,0,0,0,86,0.77477477477477474,86,0,0,86,0,null,null,27,0.24324324324324326,0,0,0,0,0,0,0,0]
["1 Mar 2023 to 31 Mar 2023","DEPARTMENT OF HEALTH","DH","DH",2438744730,"IMMU",3,"Local system + LAAM","Local System",29638,0,"",306,29332,null,0,0,0,0,308,1.0392064241851677E-2,308,0,0,308,0,null,null,29332,0.98967541669478376,0,0,0,0,0,0,0,0]
["1 Mar 2023 to 31 Mar 2023","HONG KONG BAPTIST HOSPITAL","HK BAPTIST HOSPITAL","PH",3650324540,"RAD","3,2","Local system + LAAM","Local System",5820,3,"",0,5817,null,3,5.1546391752577321E-4,3,0,0,0,0,0,0,0,0,0,null,5817,0.99948453608247423,0,0,0,0,0,0,0,0]
["1 Mar 2023 to 31 Mar 2023","DISTRICT HEALTH CENTRE-WONG TAI SIN (HKSKHWCL)","DHC-WONG TAI SIN","DHC",4437392776,"ADR",3,"Local System + LAAM","Local System",85,0,"",5,80,null,0,0,0,0,5,5.8823529411764705E-2,5,0,0,5,0,null,null,80,0.94117647058823528,0,0,0,0,0,0,0,0]
["1 Mar 2023 to 31 Mar 2023","ST. PAUL'S HOSPITAL","SPH","PH",5156724947,"BIRTH",3,"Local system + LAAM","Local System",0,0,"",0,0,null,0,{"$error":"#DIV/0!"},0,0,0,{"$error":"#DIV/0!"},0,0,0,0,0,null,null,0,0,0,0,0,0,0,0,0,0]
["1 Mar 2023 to 31 Mar 2023","HAVEN OF HOPE CHRISTIAN SERVICE","HOHCS","NGO",5176004890,"AL1","3,2","OnRamp","Local System",0,0,"",0,0,null,0,{"$error":"#DIV/0!"},0,0,0,{"$error":"#DIV/0!"},0,0,0,0,0,null,null,0,0,0,0,0,0,0,0,0,0]
["1 Mar 2023 to 31 Mar 2023","18 Chinese Medicine Clinic cum Traing and Research Centre (Tung Wah Group of Hospital)","18CMCTRs(TWGHS)","NGO",5249502353,"CMPROB","3,2","Local System + LAAM","EC Connect",3122,0,"",678,2444,null,0,0,0,0,360,0.11531069827033953,360,0,0,360,0,0,null,2444,0.78283151825752728,0,0,0,0,0,0,0,0]
["1 Mar 2023 to 31 Mar 2023","PENG CHAU MEDICAL CENTRE","PENG CHAU MEDICAL CENTRE","SOLO",5977831183,"RXO","3,2","OnRamp","Local System",0,0,"",0,0,null,0,{"$error":"#DIV/0!"},0,0,0,{"$error":"#DIV/0!"},0,0,0,0,0,null,null,0,0,0,0,0,0,0,0,0,0]
["1 Mar 2023 to 31 Mar 2023","HONG KONG BAPTIST HOSPITAL (COMMUNITY CLINIC)","HK  BAPTIST HOSPITAL","PH",4480228848,"RXD","3,2","OnRamp","Local System",943,0,"",75,868,null,0,0,0,0,0,0,0,0,0,0,0,null,null,868,0.92046659597030756,0,0,0,0,0,0,0,0]
["1 Mar 2023 to 31 Mar 2023","DHC EXPRESS-EASTERN (HKSR)","DHC EXPRESS-EASTERN-CC","DHC",6542377532,"ADR",3,"Local System + LAAM","Local System",0,0,"",0,0,null,0,{"$error":"#DIV/0!"},0,0,0,{"$error":"#DIV/0!"},0,0,0,0,0,null,null,0,0,0,0,0,0,0,0,0,0]
["1 Mar 2023 to 31 Mar 2023","DHC EXPRESS-KWUN TONG (UCMS)","DHC EXPRESS-KWUN TONG-CC","DHC",7334960147,"ENCTR",3,"Local System + LAAM","Local System",2540,0,"",0,2540,null,0,0,0,0,0,0,null,null,null,null,null,null,null,2540,1,0,0,0,0,0,0,0,0]
["1 Mar 2023 to 31 Mar 2023","ST.TERESA's HOSPITAL","STH","PH",7969980015,"RXD",3,"Local System + LAAM","Local System",7742,13,"",351,7378,null,13,1.679152673727719E-3,13,0,351,4.5337122190648414E-2,351,0,0,351,0,0,null,7378,0.9529837251356239,0,0,0,0,0,0,0,0]
["1 Mar 2023 to 31 Mar 2023","18 Chinese Medicine Clinic cum Traing and Research Centre (The Hong Kong Buddist Association)","18CMCTRs (HKBA)","NGO",8296860643,"CMPROB","3,2","Local System + LAAM","EC Connect",1410,0,"",349,1061,null,0,0,0,0,246,0.17446808510638298,246,0,0,246,0,0,null,1061,0.75248226950354613,0,0,0,0,0,0,0,0]
["1 Mar 2023 to 31 Mar 2023","DR. CHAN KIT YAN SELINA","DR. CHAN KIT YAN SELINA","SOLO",8895790679,"IMMU","3,2","OnRamp","Local System",3,0,"",0,3,null,0,0,0,0,0,0,0,0,0,0,0,null,null,3,1,0,0,0,0,0,0,0,0]
["1 Mar 2023 to 31 Mar 2023","HK MERCY MEDICAL LIMITED","HK MERCY MEDICAL LIMITED","SOLO",9056383716,"PX","3,2","OnRamp","Local System",2,0,"",0,2,null,0,0,0,0,0,0,0,0,0,0,0,0,null,2,1,0,0,0,0,0,0,0,0]
["1 Mar 2023 to 31 Mar 2023","Hong Kong Breast Cancer and Disease Centre Limited","HKBCADC","SOLO           ",9407305541,"IMMU","2,3","OnRamp","Local System",0,0,"",0,0,null,0,{"$error":"#DIV/0!"},0,0,0,{"$error":"#DIV/0!"},0,0,0,0,0,0,null,0,0,0,0,0,0,0,0,0,0]
["1 Mar 2023 to 31 Mar 2023","PRECIOUS MEDICAL  (HK)  LIMITED","PRECIOUS MEDICAL  (HK)  LIMITED","SOLO",9675260245,"IMMU","3,2","OnRamp","Local System",0,0,"",0,0,null,0,{"$error":"#DIV/0!"},0,0,0,{"$error":"#DIV/0!"},0,0,0,0,0,null,null,0,0,0,0,0,0,0,0,0,0]
["1 Mar 2023 to 31 Mar 2023","HEALS CLINIC LIMITED","HEALS CLINIC LIMITED","SOLO",9841327550,"RXO",2,"ClinicSolution","Local System",6,0,"",6,0,null,0,0,0,0,0,0,0,0,0,0,0,null,null,0,0,0,0,0,0,0,0,0,0]
["1 Apr 2023 to 30 Apr 2023","DR SUM NAM CHU'S CLINIC","DR SUM NAM CHU'S CLINIC","SOLO",2308765964,"ENCTR",3,"OnRamp","Local System",32,0,"",0,32,null,0,0,0,0,0,0,null,null,null,null,null,null,null,32,1,0,0,0,0,0,0,0,0]
["1 Apr 2023 to 30 Apr 2023","DISTRICT HEALTH CENTRE-KWAI TSING (KTSCHCA)","DHC-KWAI TSING","DHC",3040418583,"EPIS",1,"Local System + LAAM","Local System",2750,0,2750,0,0,null,0,0,0,0,0,0,null,null,null,null,null,null,null,0,0,0,0,0,0,0,0,0,0]
["1 Apr 2023 to 30 Apr 2023","18 Chinese Medicine Clinic cum Traing and Research Centre (United Christian Nethersole Community Health Service)","18CMCTRs (UCN)","NGO",3740691088,"CMRXO","3,2","Local System + LAAM","EC Connect",917,0,"",367,550,null,0,0,0,0,367,0.40021810250817885,367,0,0,367,0,null,null,550,0.5997818974918212,0,0,0,0,0,0,0,0]
["1 Apr 2023 to 30 Apr 2023","TUNG WAH GROUP OF HOSPITALS","TUNG WAH GROUP. OF HOSPITALS","NGO",4471430786,"RAD",3,"Local system + LAAM","Local System",221,0,"",0,221,null,0,0,0,0,0,0,0,0,0,0,0,0,null,221,1,0,0,0,0,0,0,0,0]
["1 Apr 2023 to 30 Apr 2023","HKSH Medical Group Limited","HKSH MEDICAL FROUP","PH",4773496701,"BIRTH",3,"Local system","Local System",0,0,"",0,0,null,0,{"$error":"#DIV/0!"},0,0,0,{"$error":"#DIV/0!"},0,0,0,0,0,null,null,0,0,0,0,0,0,0,0,0,0]
["1 Apr 2023 to 30 Apr 2023","Gleneagles Hong Kong Hospital","GHK HOSPITAL LIMITED","PH",5189883789,"AL1",3,"Local System + LAAM","Local System",2804,0,"",1994,810,null,0,0,0,0,1966,0.70114122681883029,1966,0,0,1966,0,null,null,810,0.28887303851640511,0,0,0,0,0,0,0,0]
["1 Apr 2023 to 30 Apr 2023","DR WONG CHUN POR","DR CP WONG CLINIC","SOLO",5528991274,"IMMU","3,2","Local system","Local System",6,0,"",1,5,null,0,0,0,0,0,0,0,0,0,0,0,0,null,5,0.83333333333333337,0,0,0,0,0,0,0,0]
["1 Apr 2023 to 30 Apr 2023","DHC EXPRESS-ISLANDS (NAAC)","DHC EXPRESS-ISLANDS-CC","DHC",6142872901,"AL1",3,"Local System + LAAM","Local System",0,0,"",0,0,null,0,{"$error":"#DIV/0!"},0,0,0,{"$error":"#DIV/0!"},0,0,0,0,0,null,null,0,0,0,0,0,0,0,0,0,0]
["1 Apr 2023 to 30 Apr 2023","18 Chinese Medicine Clinic cum Traing and Research Centre (Yan Chai Hospital)","18CMCTRs (YCH)","NGO",6255376532,"CMPROB","3,2","Local System + LAAM","EC Connect",1557,0,"",547,1010,null,0,0,0,0,311,0.19974309569685292,311,0,0,311,0,0,null,1010,0.64868336544637117,0,0,0,0,0,0,0,0]
["1 Apr 2023 to 30 Apr 2023","DHC EXPRESS-NORTH (HKSR)","DHC EXPRESS-NORTH-CC","DHC",6678116401,"ADR",3,"Local System + LAAM","Local System",0,0,"",0,0,null,0,{"$error":"#DIV/0!"},0,0,0,{"$error":"#DIV/0!"},0,0,0,0,0,null,null,0,0,0,0,0,0,0,0,0,0]
["1 Apr 2023 to 30 Apr 2023","EVANGEL HOSPITAL","EVANGEL HOSPITAL","PH",6788049378,"RXO","2,3","OnRamp","Local System",214,0,"",214,0,null,0,0,0,0,0,0,0,0,0,0,null,null,null,0,0,0,0,0,0,0,0,0,0]
["1 Apr 2023 to 30 Apr 2023","HEALTH IN ACTION LIMITED","HEALTH IN ACTION LIMITED","SOLO",8040919535,"ADR","3,2","OnRamp","Local System",0,0,"",0,0,null,0,{"$error":"#DIV/0!"},0,0,0,{"$error":"#DIV/0!"},0,0,0,0,0,null,null,0,0,0,0,0,0,0,0,0,0]
["1 Apr 2023 to 30 Apr 2023","DEPARTMENT OF HEALTH CIMS1","DH","DH",8658917541,"LABMB",1,"Local system + LAAM","Local System",0,0,0,0,0,null,0,{"$error":"#DIV/0!"},0,0,0,{"$error":"#DIV/0!"},0,0,0,0,0,0,null,0,0,0,0,0,0,0,0,0,0]
["1 Apr 2023 to 30 Apr 2023","HONG KONG ADVENTIST HOSPITAL - TSUEN WAN","HK ADVENTIST - TW","PH",8909436562,"BIRTH",3,"Local system + LAAM","Local System",7,0,"",0,7,null,0,0,0,0,0,0,null,null,null,null,null,null,null,7,1,0,0,0,0,0,0,0,0]
["1 Apr 2023 to 30 Apr 2023","Hong Kong Christian Service","HKCS","GROUP",9179355867,"PROB","3,2","OnRamp","Local System",0,0,"",0,0,null,0,{"$error":"#DIV/0!"},0,0,0,{"$error":"#DIV/0!"},0,0,0,0,0,0,null,0,0,0,0,0,0,0,0,0,0]
["1 Apr 2023 to 30 Apr 2023","DHC EXPRESS-WAN CHAI (MC)","DHC EXPRESS-WAN CHAI-CC","DHC",9421690548,"EPIS",1,"Local System + LAAM","Local System",558,0,558,0,0,null,0,0,0,0,0,0,null,null,null,null,null,null,null,0,0,0,0,0,0,0,0,0,0]
["1 Apr 2023 to 30 Apr 2023","PRECIOUS MEDICAL  (HK)  LIMITED","PRECIOUS MEDICAL  (HK)  LIMITED","SOLO",9675260245,"EPIS",1,"OnRamp","Local System",0,0,0,0,0,null,0,{"$error":"#DIV/0!"},0,0,0,{"$error":"#DIV/0!"},null,null,null,null,null,null,null,0,0,0,0,0,0,0,0,0,0]
["1 Apr 2023 to 30 Apr 2023 Total",null,null,"NGO",null,null,null,null,null,{"$f":"SUM(J13777:J14158)","v":852234},{"$f":"SUM(K13777:K14158)","v":82},{"$f":"SUM(L13777:L14158)","v":31838},{"$f":"SUM(M13777:M14158)","v":152391},{"$f":"SUM(N13777:N14158)","v":667923},null,{"$f":"SUM(P13777:P14158)","v":82},9.6217705465869699E-5,{"$f":"SUM(R13777:R14158)","v":81},{"$f":"SUM(S13777:S14158)","v":1},{"$f":"SUM(T13777:T14158)","v":63246},7.4212012193834082E-2,{"$f":"SUM(V13777:V14158)","v":63246},0,0,63246,0,0,null,{"$f":"SUM(AC13777:AC14158)","v":667923},{"$f":"AC14159/J14159","v":0.78373193277902553},{"$f":"SUM(AE13777:AE14158)","v":591},{"$f":"AE14159/J14159","v":6.9347151134547549E-4},{"$f":"SUM(AG13777:AG14158)","v":0},589,0,2,0,0]
["1 May 2023 to 31 May 2023","DR. YEE YUK KEI","DR. YK YEE","SOLO",2310917092,"ADR","3,2","OnRamp","Local System",8,0,"",0,8,null,0,0,0,0,0,0,0,0,0,0,null,null,null,8,1,0,0,0,0,0,0,0,0]
["1 May 2023 to 31 May 2023","DR. LEUNG KIN KAY","DR. LEUNG KIN KAY","SOLO",3226804803,"AL1","3,2","OnRamp","Local System",1,0,"",0,1,null,0,0,0,0,0,0,0,0,0,0,0,null,null,1,1,0,0,0,0,0,0,0,0]
["1 May 2023 to 31 May 2023","18 Chinese Medicine Clinic cum Traing and Research Centre (Haven of Hope)","18CMCTRs(HOHCS)","NGO",3237753992,"CMPROB","3,2","Local System + LAAM","EC Connect",1795,0,"",465,1330,null,0,0,0,0,361,0.20111420612813372,361,0,0,361,0,0,null,1330,0.74094707520891367,0,0,0,0,0,0,0,0]
["1 May 2023 to 31 May 2023","18 Chinese Medicine Clinic cum Traing and Research Centre (HKFTU Worker's Medical Clinics)","18CMCTRs(HKFTU)","NGO",4746565267,"CMPX","3,2","Local System + LAAM","EC Connect",166,0,"",0,166,null,0,0,0,0,0,0,0,0,0,0,0,0,null,166,1,0,0,0,0,0,0,0,0]
["1 May 2023 to 31 May 2023","HKSH Medical Group Limited","HKSH MEDICAL FROUP","PH",4773496701,"RAD",2,"Local system","Local System",3079,0,"",3079,0,null,0,0,0,0,0,0,null,null,null,null,null,null,null,0,0,0,0,0,0,0,0,0,0]
["1 May 2023 to 31 May 2023","HONG KONG AIRCRAFT ENGINEERING COMPANY LIMITED","HKAECL","GROUP",5197076289,"RXO","3,2","OnRamp","Local System",0,0,"",0,0,null,0,{"$error":"#DIV/0!"},0,0,0,{"$error":"#DIV/0!"},0,0,0,0,0,null,null,0,0,0,0,0,0,0,0,0,0]
["1 May 2023 to 31 May 2023","DR WONG CHUN POR","DR CP WONG CLINIC","SOLO",5528991274,"PROB","3,2","Local system","Local System",477,0,"",15,462,null,0,0,0,0,0,0,0,0,0,0,null,null,null,462,0.96855345911949686,0,0,0,0,0,0,0,0]
["1 May 2023 to 31 May 2023","Hong Kong Diabetes and Endocrine Centre Limited","HKDIABETES","SOLO",6176378066,"RXD","3,2","OnRamp","Local System",0,0,"",0,0,null,0,{"$error":"#DIV/0!"},0,0,0,{"$error":"#DIV/0!"},0,0,0,0,0,null,null,0,0,0,0,0,0,0,0,0,0]
["1 May 2023 to 31 May 2023","DISTRICT HEALTH CENTRE-TUEN MUN (ELCHK)","DHC-TUEN MUN-CC","DHC",6303033042,"EPIS",1,"Local System + LAAM","Local System",4701,0,4701,0,0,null,0,0,0,0,0,0,null,null,null,null,null,null,null,0,0,0,0,0,0,0,0,0,0]
["1 May 2023 to 31 May 2023","18 Chinese Medicine Clinic cum Traing and Research Centre (Pok Oi Hospital)","18CMCTRs (POH)","NGO",6758313621,"CMPX","3,2","Local System + LAAM","EC Connect",912,0,"",81,831,null,0,0,0,0,81,8.8815789473684209E-2,81,0,0,81,0,0,null,831,0.91118421052631582,0,0,0,0,0,0,0,0]
["1 May 2023 to 31 May 2023","HONG KONG ADVENTIST HOSPITAL - STUBBS ROAD","HK ADVENTIST - SR","PH",7029571085,"AL1",3,"Local system","Local System",9,0,"",4,5,null,0,0,0,0,4,0.44444444444444442,4,0,0,4,0,null,null,5,0.55555555555555558,0,0,0,0,0,0,0,0]
["1 May 2023 to 31 May 2023","DR HO CHUNG PING","C.P. HO","SOLO",7889756707,"RXD","3,2","HKMA (Mobigator + Message formatter)","Local System",344,0,"",32,312,null,0,0,0,0,2,5.8139534883720929E-3,2,0,0,2,0,null,null,312,0.90697674418604646,0,0,0,0,0,0,0,0]
["1 May 2023 to 31 May 2023","HEALTH IN ACTION LIMITED","HEALTH IN ACTION LIMITED","SOLO",8040919535,"RXO","3,2","OnRamp","Local System",0,0,"",0,0,null,0,{"$error":"#DIV/0!"},0,0,0,{"$error":"#DIV/0!"},0,0,0,0,0,null,null,0,0,0,0,0,0,0,0,0,0]
["1 May 2023 to 31 May 2023","HK MERCY MEDICAL LIMITED","HK MERCY MEDICAL LIMITED","SOLO",9056383716,"AL1","3,2","OnRamp","Local System",0,0,"",0,0,null,0,{"$error":"#DIV/0!"},0,0,0,{"$error":"#DIV/0!"},0,0,0,0,0,null,null,0,0,0,0,0,0,0,0,0,0]
["1 May 2023 to 31 May 2023","Hong Kong Breast Cancer and Disease Centre Limited","HKBCADC","SOLO           ",9407305541,"ADR","2,3","OnRamp","Local System",0,0,"",0,0,null,0,{"$error":"#DIV/0!"},0,0,0,{"$error":"#DIV/0!"},0,0,0,0,0,null,null,0,0,0,0,0,0,0,0,0,0]
["1 May 2023 to 31 May 2023","CHIRON HEALTHCARE GROUP LIMITED","CHIRON HEALTHCARE","GROUP",9451612824,"IMMU","3,2","Local system","Local System",3,0,"",2,1,null,0,0,0,0,0,0,0,0,0,0,0,0,null,1,0.33333333333333331,0,0,0,0,0,0,0,0]
["1 May 2023 to 31 May 2023","DISTRICT HEALTH CENTRE-YUEN LONG (POH)","DHC-YUEN LONG","DHC",7218241485,"ADR",3,"Local System + LAAM","Local System",3,0,"",0,3,null,0,0,0,0,0,0,0,0,0,0,0,null,null,3,1,0,0,0,0,0,0,0,0]
["1 May 2023 to 31 May 2023","18 Chinese Medicine Clinic cum Traing and Research Centre (Christiam Family Service Centre)","18CMCTRs (CFSC)","NGO",9805671910,"CMPX","3,2","Local System + LAAM","EC Connect",125,0,"",0,125,null,0,0,0,0,0,0,0,0,0,0,0,0,null,125,1,0,0,0,0,0,0,0,0]
["1 Jun 2023 to 30 Jun 2023","DEPARTMENT OF HEALTH","DH","DH",2438744730,"PROB",3,"Local system + LAAM","Local System",86458,0,"",4060,82398,null,0,0,0,0,4049,4.6831987785977004E-2,4049,0,0,4049,0,null,null,82398,0.95304078280783733,16,1.8506095445187259E-4,0,16,0,0,0,0]
["1 Jun 2023 to 30 Jun 2023","DR. LEUNG KIN KAY","DR. LEUNG KIN KAY","SOLO",3226804803,"RXD","3,2","OnRamp","Local System",41,0,"",1,40,null,0,0,0,0,0,0,0,0,0,0,0,null,null,40,0.97560975609756095,1,2.4390243902439025E-2,0,0,0,1,0,0]
["1 Jun 2023 to 30 Jun 2023","DHC EXPRESS-SHA TIN (HKSR)","DHC EXPRESS-SHA TIN-CC","DHC",3628187450,"EPIS",1,"Local System + LAAM","Local System",924,0,924,0,0,null,0,0,0,0,0,0,null,null,null,null,null,null,null,0,0,0,0,0,0,0,0,0,0]
["1 Jun 2023 to 30 Jun 2023","PRIME HEALTH ENDOCRINE & DIABETES CENTRE LIMITED","PRIME HEALTH","SOLO",4180832888,"RXD","3,2","OnRamp","Local System",0,0,"",0,0,null,0,{"$error":"#DIV/0!"},0,0,0,{"$error":"#DIV/0!"},0,0,0,0,0,null,null,0,0,0,0,0,0,0,0,0,0]
["1 Jun 2023 to 30 Jun 2023","GOOD HEALTH MEDICAL PRACTICES LIMITED","GHMPL","SOLO",5153981121,"RXO",2,"ClinicSolution","Local System",0,0,"",0,0,null,0,{"$error":"#DIV/0!"},0,0,0,{"$error":"#DIV/0!"},0,0,0,0,0,null,null,0,0,0,0,0,0,0,0,0,0]
["1 Jun 2023 to 30 Jun 2023","HONG KONG AIRCRAFT ENGINEERING COMPANY LIMITED","HKAECL","GROUP",5197076289,"REF",1,"OnRamp","Local System",0,0,0,0,0,null,0,{"$error":"#DIV/0!"},0,0,0,{"$error":"#DIV/0!"},null,null,null,null,null,null,null,0,0,0,0,0,0,0,0,0,0]
["1 Jun 2023 to 30 Jun 2023","UNION HOSPITAL","UNION HOSPITAL","PH",5712620300,"ADR",3,"Local system","Local System",65,0,"",3,62,null,0,0,0,0,3,4.6153846153846156E-2,3,0,0,3,0,null,null,62,0.9538461538461539,0,0,0,0,0,0,0,0]
["1 Jun 2023 to 30 Jun 2023","Hong Kong Diabetes and Endocrine Centre Limited","HKDIABETES","SOLO",6176378066,"ENCTR",3,"OnRamp","Local System",0,0,"",0,0,null,0,{"$error":"#DIV/0!"},0,0,0,{"$error":"#DIV/0!"},null,null,null,null,null,null,null,0,0,0,0,0,0,0,0,0,0]
["1 Jun 2023 to 30 Jun 2023","Hong Kong Diabetes and Endocrine Centre Limited","HKDIABETES","SOLO",6176378066,"IMMU","3,2","OnRamp","Local System",0,0,"",0,0,null,0,{"$error":"#DIV/0!"},0,0,0,{"$error":"#DIV/0!"},0,0,0,0,0,null,null,0,0,0,0,0,0,0,0,0,0]
["1 Jun 2023 to 30 Jun 2023","DHC EXPRESS-NORTH (HKSR)","DHC EXPRESS-NORTH-CC","DHC",6678116401,"ENCTR",3,"Local System + LAAM","Local System",2774,0,"",0,2774,null,0,0,0,0,0,0,null,null,null,null,null,null,null,2774,1,0,0,0,0,0,0,0,0]
["1 Jun 2023 to 30 Jun 2023","HONG KONG ADVENTIST HOSPITAL - STUBBS ROAD","HK ADVENTIST - SR","PH",7029571085,"RXD",2,"Local system + LAAM","Local System",1030,0,"",1030,0,null,0,0,0,0,0,0,0,0,0,0,null,null,null,0,0,0,0,0,0,0,0,0,0]
["1 Jun 2023 to 30 Jun 2023","DR HO CHUNG PING","C.P. HO","SOLO",7889756707,"PROB","3,2","HKMA (Mobigator + Message formatter)","Local System",104,0,"",6,98,null,0,0,0,0,0,0,0,0,0,0,0,null,null,98,0.94230769230769229,0,0,0,0,0,0,0,0]
["1 Jun 2023 to 30 Jun 2023","HEALTH IN ACTION LIMITED","HEALTH IN ACTION LIMITED","SOLO",8040919535,"IMMU","3,2","OnRamp","Local System",0,0,"",0,0,null,0,{"$error":"#DIV/0!"},0,0,0,{"$error":"#DIV/0!"},0,0,0,0,0,null,null,0,0,0,0,0,0,0,0,0,0]
["1 Jun 2023 to 30 Jun 2023","HK MERCY MEDICAL LIMITED","HK MERCY MEDICAL LIMITED","SOLO",9056383716,"RXO","3,2","OnRamp","Local System",224,0,"",75,149,null,0,0,0,0,0,0,0,0,0,0,0,null,null,149,0.6651785714285714,0,0,0,0,0,0,0,0]
["1 Jun 2023 to 30 Jun 2023","Hong Kong Christian Service","HKCS","GROUP",9179355867,"EPIS",1,"OnRamp","Local System",0,0,0,0,0,null,0,{"$error":"#DIV/0!"},0,0,0,{"$error":"#DIV/0!"},null,null,null,null,null,null,null,0,0,0,0,0,0,0,0,0,0]
["1 Jun 2023 to 30 Jun 2023","CHIRON HEALTHCARE GROUP LIMITED","CHIRON HEALTHCARE","GROUP",9451612824,"RXD","3,2","Local system","Local System",0,0,"",0,0,null,0,{"$error":"#DIV/0!"},0,0,0,{"$error":"#DIV/0!"},0,0,0,0,null,null,null,0,0,0,0,0,0,0,0,0,0]
["1 Jun 2023 to 30 Jun 2023","DISTRICT HEALTH CENTRE-YUEN LONG (POH)","DHC-YUEN LONG","DHC",7218241485,"EPIS",1,"Local System + LAAM","Local System",3853,0,3853,0,0,null,0,0,0,0,0,0,null,null,null,null,null,null,null,0,0,0,0,0,0,0,0,0,0]
["1 Jun 2023 to 30 Jun 2023","HOI YING TRADITION AND MODERN MEDICINE LIMITED","HYTMM","SOLO",7957606088,"CMPROB","3,2","Local System + LAAM","EC Connect",3,0,"",0,3,null,0,0,0,0,0,0,0,0,0,0,0,null,null,3,1,0,0,0,0,0,0,0,0]
["1 Jul 2023 to 31 Jul 2023","DEPARTMENT OF HEALTH","DH","DH",2438744730,"RXD",3,"Local system + LAAM","Local System",70576,0,"",70576,0,null,0,0,0,0,0,0,0,0,0,0,0,null,null,0,0,0,0,0,0,0,0,0,0]
["1 Jul 2023 to 31 Jul 2023","DR. LEUNG KIN KAY","DR. LEUNG KIN KAY","SOLO",3226804803,"ENCTR",3,"OnRamp","Local System",90,0,"","",90,null,0,0,0,0,0,0,null,null,null,null,null,null,null,90,1,0,0,0,0,0,0,0,0]
["1 Jul 2023 to 31 Jul 2023","HONG KONG BAPTIST HOSPITAL","HK BAPTIST HOSPITAL","PH",3650324540,"ENCTR",3,"Local system","Local System",0,0,"","",0,null,0,{"$f":"P14985/J14985","v":{"$error":"#DIV/0!"}},0,0,0,{"$f":"T14985/J14985","v":{"$error":"#DIV/0!"}},null,null,null,null,null,null,null,0,0,0,0,0,0,0,0,0,0]
["1 Jul 2023 to 31 Jul 2023","PRIME HEALTH ENDOCRINE & DIABETES CENTRE LIMITED","PRIME HEALTH","SOLO",4180832888,"ENCTR",3,"OnRamp","Local System",0,0,"","",0,null,0,{"$error":"#DIV/0!"},0,0,0,{"$error":"#DIV/0!"},null,null,null,null,null,null,null,0,0,0,0,0,0,0,0,0,0]
["1 Jul 2023 to 31 Jul 2023","GOOD HEALTH MEDICAL PRACTICES LIMITED","GHMPL","SOLO",5153981121,"AL1",3,"ClinicSolution","Local System",0,0,"","",0,null,0,{"$error":"#DIV/0!"},0,0,0,{"$error":"#DIV/0!"},0,0,0,0,0,null,null,0,0,0,0,0,0,0,0,0,0]
["1 Jul 2023 to 31 Jul 2023","18 Chinese Medicine Clinic cum Traing and Research Centre (Tung Wah Group of Hospital)","18CMCTRs(TWGHS)","NGO",5249502353,"CMPX","3,2","Local System + LAAM","EC Connect",372,0,"",0,372,null,0,0,0,0,0,0,0,0,0,0,0,0,null,372,1,0,0,0,0,0,0,0,0]
["1 Jul 2023 to 31 Jul 2023","UNION HOSPITAL","UNION HOSPITAL","PH",5712620300,"ENCTR",3,"Local system","Local System",0,0,"","",0,null,0,{"$error":"#DIV/0!"},0,0,0,{"$error":"#DIV/0!"},null,null,null,null,null,null,null,0,0,0,0,0,0,0,0,0,0]
["1 Jul 2023 to 31 Jul 2023","CUHK MEDICAL CENTRE LIMITED","CUHK MEDICAL CENTRE","PH",5963779130,"LABGEN",1,"Local System + LAAM","Local System",47928,0,47928,"",0,null,0,0,0,0,0,0,0,0,0,0,0,null,null,0,0,0,0,0,0,0,0,0,0]
["1 Jul 2023 to 31 Jul 2023","Hong Kong Diabetes and Endocrine Centre Limited","HKDIABETES","SOLO",6176378066,"PX","3,2","OnRamp","Local System",0,0,"",0,0,null,0,{"$error":"#DIV/0!"},0,0,0,{"$error":"#DIV/0!"},0,0,0,0,0,0,null,0,0,0,0,0,0,0,0,0,0]
["1 Jul 2023 to 31 Jul 2023","18 Chinese Medicine Clinic cum Traing and Research Centre (Pok Oi Hospital)","18CMCTRs (POH)","NGO",6758313621,"CMPX","3,2","Local System + LAAM","EC Connect",847,0,"",40,807,null,0,0,0,0,40,4.7225501770956316E-2,40,0,0,40,0,0,null,807,0.9527744982290437,0,0,0,0,0,0,0,0]
["1 Jul 2023 to 31 Jul 2023","HONG KONG ADVENTIST HOSPITAL - STUBBS ROAD","HK ADVENTIST - SR","PH",7029571085,"LABGEN",3,"Local system + LAAM","Local System",627,0,"",215,412,null,0,0,0,0,215,0.34290271132376393,215,0,0,215,0,null,null,412,0.65709728867623607,0,0,0,0,0,0,0,0]
["1 Jul 2023 to 31 Jul 2023","DR HO CHUNG PING","C.P. HO","SOLO",7889756707,"REF",1,"HKMA (Mobigator + Message formatter)","Local System",0,0,0,"",0,null,0,{"$f":"P15177/J15177","v":{"$error":"#DIV/0!"}},0,0,0,{"$f":"T15177/J15177","v":{"$error":"#DIV/0!"}},null,null,null,null,null,null,null,0,0,0,0,0,0,0,0,0,0]
["1 Jul 2023 to 31 Jul 2023","HEALTH IN ACTION LIMITED","HEALTH IN ACTION LIMITED","SOLO",8040919535,"PX","3,2","OnRamp","Local System",0,0,"",0,0,null,0,{"$error":"#DIV/0!"},0,0,0,{"$error":"#DIV/0!"},0,0,0,0,0,0,null,0,0,0,0,0,0,0,0,0,0]
["1 Jul 2023 to 31 Jul 2023","DR. CHAN KIT YAN SELINA","DR. CHAN KIT YAN SELINA","SOLO",8895790679,"ADR","3,2","OnRamp","Local System",1,0,"",0,1,null,0,0,0,0,0,0,0,0,0,0,0,null,null,1,1,0,0,0,0,0,0,0,0]
["1 Jul 2023 to 31 Jul 2023","Hong Kong Breast Cancer and Disease Centre Limited","HKBCADC","SOLO           ",9407305541,"ADR","2,3","OnRamp","Local System",0,0,"",0,0,null,0,{"$error":"#DIV/0!"},0,0,0,{"$error":"#DIV/0!"},0,0,0,0,0,null,null,0,0,0,0,0,0,0,0,0,0]
["1 Jul 2023 to 31 Jul 2023","CHIRON HEALTHCARE GROUP LIMITED","CHIRON HEALTHCARE","GROUP",9451612824,"PX","3,2","Local system","Local System",1,0,"",0,1,null,0,0,0,0,0,0,0,0,0,0,null,null,null,1,1,0,0,0,0,0,0,0,0]
["1 Jul 2023 to 31 Jul 2023","DISTRICT HEALTH CENTRE-SOUTHERN (AKA)","DHC-SOUTHERN","DHC",8900325933,"ADR",3,"Local System + LAAM","Local System",6,0,"","",6,null,0,0,0,0,0,0,0,0,0,0,0,null,null,6,1,0,0,0,0,0,0,0,0]
["1 Jul 2023 to 31 Jul 2023","18 Chinese Medicine Clinic cum Traing and Research Centre (Christiam Family Service Centre)","18CMCTRs (CFSC)","NGO",9805671910,"CMPX","3,2","Local System + LAAM","EC Connect",226,0,"",0,226,null,0,0,0,0,0,0,0,0,0,0,0,0,null,226,1,0,0,0,0,0,0,0,0]
["1 Aug 2023 to 31 Aug 2023","EVANGEL HOSPITAL","EVANGEL HOSPITAL","PH",2206285885,"AL1",3,"Local system + LAAM","Local System",106,0,"",50,56,null,0,0,0,0,51,0.48113207547169812,51,0,0,51,0,null,null,56,0.52830188679245282,0,0,0,0,0,0,0,0]
["1 Aug 2023 to 31 Aug 2023","DEPARTMENT OF HEALTH","DH","DH",2438744730,"LABMB",1,"Local system + LAAM","Local System",10025,0,10025,"",0,null,0,0,0,0,0,0,0,0,0,0,0,null,null,0,0,0,0,0,0,0,0,0,0]
["1 Aug 2023 to 31 Aug 2023","HONG KONG BAPTIST HOSPITAL","HK BAPTIST HOSPITAL","PH",3650324540,"RAD","3,2","Local system + LAAM","Local System",5281,0,"",0,5281,null,0,0,0,0,0,0,0,0,0,0,0,0,null,5281,1,0,0,0,0,0,0,0,0]
["1 Aug 2023 to 31 Aug 2023","PRIME HEALTH ENDOCRINE & DIABETES CENTRE LIMITED","PRIME HEALTH","SOLO",4180832888,"IMMU","3,2","OnRamp","Local System",0,0,"",0,0,null,0,{"$error":"#DIV/0!"},0,0,0,{"$error":"#DIV/0!"},0,0,0,0,0,null,null,0,0,0,0,0,0,0,0,0,0]
["1 Aug 2023 to 31 Aug 2023","GOOD HEALTH MEDICAL PRACTICES LIMITED","GHMPL","SOLO",5153981121,"ENCTR",3,"ClinicSolution","Local System",0,0,"","",0,null,0,{"$error":"#DIV/0!"},0,0,0,{"$error":"#DIV/0!"},null,null,null,null,null,null,null,0,0,0,0,0,0,0,0,0,0]
["1 Aug 2023 to 31 Aug 2023","HAVEN OF HOPE CHRISTIAN SERVICE","HOHCS","NGO",5176004890,"AL1","3,2","OnRamp","Local System",0,0,"",0,0,null,0,{"$error":"#DIV/0!"},0,0,0,{"$error":"#DIV/0!"},0,0,0,0,0,null,null,0,0,0,0,0,0,0,0,0,0]
["1 Aug 2023 to 31 Aug 2023","UNION HOSPITAL","UNION HOSPITAL","PH",5712620300,"EPIS",1,"Local system + LAAM","Local System",393,0,393,"",0,null,0,0,0,0,0,0,null,null,null,null,null,null,null,0,0,0,0,0,0,0,0,0,0]
["1 Aug 2023 to 31 Aug 2023","CUHK MEDICAL CENTRE LIMITED","CUHK MEDICAL CENTRE","PH",5963779130,"RAD",3,"Local System + LAAM","Local System",3551,0,"","",3551,null,0,0,0,0,0,0,0,0,0,0,0,null,null,3551,1,0,0,0,0,0,0,0,0]
["1 Aug 2023 to 31 Aug 2023","Hong Kong Diabetes and Endocrine Centre Limited","HKDIABETES","SOLO",6176378066,"REF",1,"OnRamp","Local System",0,0,0,"",0,null,0,{"$error":"#DIV/0!"},0,0,0,{"$error":"#DIV/0!"},null,null,null,null,null,null,null,0,0,0,0,0,0,0,0,0,0]
["1 Aug 2023 to 31 Aug 2023","DISTRICT HEALTH CENTRE-TUEN MUN (ELCHK)","DHC-TUEN MUN-CC","DHC",6303033042,"AL1",3,"Local System + LAAM","Local System",2,0,"","",2,null,0,0,0,0,0,0,0,0,0,0,0,null,null,2,1,0,0,0,0,0,0,0,0]
["1 Aug 2023 to 31 Aug 2023","HONG KONG ADVENTIST HOSPITAL - STUBBS ROAD","HK ADVENTIST - SR","PH",7029571085,"BIRTH",3,"Local system + LAAM","Local System",0,0,"","",0,null,0,{"$error":"#DIV/0!"},0,0,0,{"$error":"#DIV/0!"},0,0,0,0,0,null,null,0,0,0,0,0,0,0,0,0,0]
["1 Aug 2023 to 31 Aug 2023","DR HO CHUNG PING","C.P. HO","SOLO",7889756707,"EPIS",1,"HKMA (Mobigator + Message formatter)","Local System",131,0,131,"",0,null,0,0,0,0,0,0,null,null,null,null,null,null,null,0,0,0,0,0,0,0,0,0,0]
["1 Aug 2023 to 31 Aug 2023","HEALTH IN ACTION LIMITED","HEALTH IN ACTION LIMITED","SOLO",8040919535,"ENCTR",3,"OnRamp","Local System",0,0,"","",0,null,0,{"$error":"#DIV/0!"},0,0,0,{"$error":"#DIV/0!"},null,null,null,null,null,null,null,0,0,0,0,0,0,0,0,0,0]
["1 Aug 2023 to 31 Aug 2023","DR. CHAN KIT YAN SELINA","DR. CHAN KIT YAN SELINA","SOLO",8895790679,"ADR","3,2","OnRamp","Local System",2,0,"",0,2,null,0,0,0,0,0,0,0,0,0,0,0,null,null,2,1,0,0,0,0,0,0,0,0]
["1 Aug 2023 to 31 Aug 2023","HONG KONG ADVENTIST HOSPITAL - TSUEN WAN","HK ADVENTIST - TW","PH",8909436562,"LABGEN",3,"Local system + LAAM","Local System",25732,0,"",1639,24093,null,0,0,0,0,1639,6.3695010104150476E-2,1639,0,0,1639,0,null,null,24093,0.93630498989584954,0,0,0,0,0,0,0,0]
["1 Aug 2023 to 31 Aug 2023","CHIRON HEALTHCARE GROUP LIMITED","CHIRON HEALTHCARE","GROUP",9451612824,"PX","3,2","Local system","Local System",0,0,"",0,0,null,0,{"$error":"#DIV/0!"},0,0,0,{"$error":"#DIV/0!"},0,0,0,0,null,null,null,0,0,0,0,0,0,0,0,0,0]
["1 Aug 2023 to 31 Aug 2023","DISTRICT HEALTH CENTRE-SOUTHERN (AKA)","DHC-SOUTHERN","DHC",8900325933,"ADR",3,"Local System + LAAM","Local System",2,0,"","",2,null,0,0,0,0,0,0,0,0,0,0,0,null,null,2,1,0,0,0,0,0,0,0,0]
["1 Aug 2023 to 31 Aug 2023","18 Chinese Medicine Clinic cum Traing and Research Centre (Christiam Family Service Centre)","18CMCTRs (CFSC)","NGO",9805671910,"CMPX","3,2","Local System + LAAM","EC Connect",107,0,"",0,107,null,0,0,0,0,0,0,0,0,0,0,0,0,null,107,1,0,0,0,0,0,0,0,0]
["1 Aug 2023 to 31 Aug 2023","HUMAN HEALTH MEDICAL CENTRE.","HUMAN  HEALTH","GROUP",5634981022,"EPIS",1,"RCMS_LAAM","Local System",33,0,33,"",0,null,0,0,0,0,0,0,null,null,null,null,null,null,null,0,0,0,0,0,0,0,0,0,0]
["1 Sep 2023 to 30 Sep 2023","DEPARTMENT OF HEALTH","DH","DH",2438744730,"PROB",3,"Local system + LAAM","Local System",84852,0,"",4469,80383,null,0,0,0,0,4466,5.2632819497477959E-2,4466,0,0,4466,0,null,null,80383,0.94733182482440015,16,1.8856361665016736E-4,0,16,0,0,0,0]
["1 Sep 2023 to 30 Sep 2023","18 Chinese Medicine Clinic cum Traing and Research Centre (Haven of Hope)","18CMCTRs(HOHCS)","NGO",3237753992,"CMPROB","3,2","Local System + LAAM","EC Connect",1025,0,"",319,706,null,0,0,0,0,230,0.22439024390243903,230,0,0,230,0,0,null,706,0.68878048780487799,0,0,0,0,0,0,0,0]
["1 Sep 2023 to 30 Sep 2023","PRIME HEALTH ENDOCRINE & DIABETES CENTRE LIMITED","PRIME HEALTH","SOLO",4180832888,"AL1","3,2","OnRamp","Local System",0,0,"",0,0,null,0,{"$error":"#DIV/0!"},0,0,0,{"$error":"#DIV/0!"},0,0,0,0,0,null,null,0,0,0,0,0,0,0,0,0,0]
["1 Sep 2023 to 30 Sep 2023","HKSH Medical Group Limited","HKSH MEDICAL FROUP","PH",4773496701,"RAD",3,"Local system","Local System",3012,0,"",3012,0,null,0,0,0,0,0,0,null,null,null,null,null,null,null,0,0,0,0,0,0,0,0,0,0]
["1 Sep 2023 to 30 Sep 2023","ST. PAUL'S HOSPITAL","SPH","PH",5156724947,"BIRTH",3,"Local system + LAAM","Local System",0,0,"","",0,null,0,{"$error":"#DIV/0!"},0,0,0,{"$error":"#DIV/0!"},0,0,0,0,0,null,null,0,0,0,0,0,0,0,0,0,0]
["1 Sep 2023 to 30 Sep 2023","DR WONG CHUN POR","DR CP WONG CLINIC","SOLO",5528991274,"REF",1,"Local system","Local System",0,0,0,"",0,null,0,{"$error":"#DIV/0!"},0,0,0,{"$error":"#DIV/0!"},null,null,null,null,null,null,null,0,0,0,0,0,0,0,0,0,0]
["1 Sep 2023 to 30 Sep 2023","DHC EXPRESS-YAU TSIM MONG (LOKSINTONG)","DHC EXPRESS-YTM-CC","DHC",5832575528,"ADR",3,"Local System + LAAM","Local System",0,0,"","",0,null,0,{"$error":"#DIV/0!"},0,0,0,{"$error":"#DIV/0!"},0,0,0,0,0,null,null,0,0,0,0,0,0,0,0,0,0]
["1 Sep 2023 to 30 Sep 2023","Hong Kong Diabetes and Endocrine Centre Limited","HKDIABETES","SOLO",6176378066,"ENCTR",3,"OnRamp","Local System",0,0,"","",0,null,0,{"$error":"#DIV/0!"},0,0,0,{"$error":"#DIV/0!"},null,null,null,null,null,null,null,0,0,0,0,0,0,0,0,0,0]
["1 Sep 2023 to 30 Sep 2023","18 Chinese Medicine Clinic cum Traing and Research Centre (Yan Chai Hospital)","18CMCTRs (YCH)","NGO",6255376532,"CMPROB","3,2","Local System + LAAM","EC Connect",471,0,"",91,380,null,0,0,0,0,48,0.10191082802547771,48,0,0,48,0,0,null,380,0.80679405520169856,0,0,0,0,0,0,0,0]
["1 Sep 2023 to 30 Sep 2023","PRECIOUS BLOOD HOSPITAL (CARITAS)","PRECIOUS BLOOD HOSPITAL","PH",7002059678,"AL1",3,"Local system","Local System",85,0,"",25,60,null,0,0,0,0,22,0.25882352941176473,22,0,0,22,0,null,null,60,0.70588235294117652,0,0,0,0,0,0,0,0]
["1 Sep 2023 to 30 Sep 2023","DR HO CHUNG PING","C.P. HO","SOLO",7889756707,"IMMU","3,2","HKMA (Mobigator + Message formatter)","Local System",0,0,"",0,0,null,0,{"$error":"#DIV/0!"},0,0,0,{"$error":"#DIV/0!"},0,0,0,0,0,null,null,0,0,0,0,0,0,0,0,0,0]
["1 Sep 2023 to 30 Sep 2023","HEALTH IN ACTION LIMITED","HEALTH IN ACTION LIMITED","SOLO",8040919535,"ADR","3,2","OnRamp","Local System",0,0,"",0,0,null,0,{"$error":"#DIV/0!"},0,0,0,{"$error":"#DIV/0!"},0,0,0,0,0,null,null,0,0,0,0,0,0,0,0,0,0]
["1 Sep 2023 to 30 Sep 2023","DEPARTMENT OF HEALTH CIMS1","DH","DH",8658917541,"RXO",3,"MOE","Local System",0,0,"","",0,null,0,{"$error":"#DIV/0!"},0,0,0,{"$error":"#DIV/0!"},0,0,0,0,null,null,null,0,0,0,0,0,0,0,0,0,0]
["1 Sep 2023 to 30 Sep 2023","HONG KONG ADVENTIST HOSPITAL - TSUEN WAN","HK ADVENTIST - TW","PH",8909436562,"ENCTR",3,"Local system + LAAM","Local System",5370,0,"","",5370,null,0,0,0,0,0,0,null,null,null,null,null,null,null,5370,1,0,0,0,0,0,0,0,0]
["1 Sep 2023 to 30 Sep 2023","DHC EXPRESS-WAN CHAI (MC)","DHC EXPRESS-WAN CHAI-CC","DHC",9421690548,"ENCTR",3,"Local System + LAAM","Local System",2388,0,"","",2388,null,0,0,0,0,0,0,null,null,null,null,null,null,null,2388,1,0,0,0,0,0,0,0,0]
["1 Sep 2023 to 30 Sep 2023","CHIRON HEALTHCARE GROUP LIMITED","CHIRON HEALTHCARE","GROUP",9451612824,"ADR","3,2","Local system","Local System",0,0,"",0,0,null,0,{"$error":"#DIV/0!"},0,0,0,{"$error":"#DIV/0!"},0,0,0,0,0,null,null,0,0,0,0,0,0,0,0,0,0]
["1 Sep 2023 to 30 Sep 2023","LOK YEE TONG TRADITIONAL CHINESE MEDICINE LIMITED","LOK YEE TONG TCM","SOLO",9355359498,"CMPROB","3,2","Local System","EC Connect",0,0,"",0,0,null,0,{"$error":"#DIV/0!"},0,0,0,{"$error":"#DIV/0!"},0,0,0,0,0,0,null,0,0,0,0,0,0,0,0,0,0]
["1 Sep 2023 to 30 Sep 2023","WELL BEING CHINESE MEDICINE CLINIC","WBCMC","SOLO",1667592556,"CMPROB","3,2","Local System + LAAM","EC Connect",4,0,"",1,3,null,0,0,0,0,0,0,0,0,0,0,0,null,null,3,0.75,0,0,0,0,0,0,0,0]
["1 Oct 2023 to 31 Oct 2023","DR SUM NAM CHU'S CLINIC","DR SUM NAM CHU'S CLINIC","SOLO",2308765964,"IMMU","3,2","OnRamp","Local System",41,0,"",41,0,null,0,0,0,0,0,0,0,0,0,0,0,null,null,0,0,0,0,0,0,0,0,0,0]
["1 Oct 2023 to 31 Oct 2023","DR. LEUNG KIN KAY","DR. LEUNG KIN KAY","SOLO",3226804803,"ADR","3,2","OnRamp","Local System",0,0,"",0,0,null,0,{"$error":"#DIV/0!"},0,0,0,{"$error":"#DIV/0!"},0,0,0,0,0,null,null,0,0,0,0,0,0,0,0,0,0]
["1 Oct 2023 to 31 Oct 2023","HONG KONG BAPTIST HOSPITAL","HK BAPTIST HOSPITAL","PH",3650324540,"LABAP",1,"Local system + LAAM","Local System",1200,0,1200,"",0,null,0,0,0,0,0,0,null,0,0,null,null,0,null,0,0,0,0,0,0,0,0,0,0]
["1 Oct 2023 to 31 Oct 2023","Department of Health COVID-19 Vaccination Programme","DH COVID-19 VACCINE PROG.","DH",3681219587,"IMMU",3,"Local system","Local System",42084,0,"","",42084,null,0,0,0,0,0,0,0,0,0,0,0,null,null,42084,1,0,0,0,0,0,0,0,0]
["1 Oct 2023 to 31 Oct 2023","HKSH Medical Group Limited","HKSH MEDICAL FROUP","PH",4773496701,"BIRTH",3,"Local system","Local System",3,0,"","",3,null,0,0,0,0,0,0,0,0,0,0,0,null,null,3,1,0,0,0,0,0,0,0,0]
["1 Oct 2023 to 31 Oct 2023","HAVEN OF HOPE CHRISTIAN SERVICE","HOHCS","NGO",5176004890,"RXD","3,2","OnRamp","Local System",0,0,"",0,0,null,0,{"$error":"#DIV/0!"},0,0,0,{"$error":"#DIV/0!"},0,0,0,0,0,null,null,0,0,0,0,0,0,0,0,0,0]
["1 Oct 2023 to 31 Oct 2023","DR WONG CHUN POR","DR CP WONG CLINIC","SOLO",5528991274,"RXD","3,2","Local system","Local System",816,0,"",13,803,null,0,0,0,0,0,0,0,0,0,0,null,null,null,803,0.98406862745098034,0,0,0,0,0,0,0,0]
["1 Oct 2023 to 31 Oct 2023","PENG CHAU MEDICAL CENTRE","PENG CHAU MEDICAL CENTRE","SOLO",5977831183,"REF",1,"OnRamp","Local System",0,0,0,"",0,null,0,{"$error":"#DIV/0!"},0,0,0,{"$error":"#DIV/0!"},null,null,null,null,null,null,null,0,0,0,0,0,0,0,0,0,0]
["1 Oct 2023 to 31 Oct 2023","HONG KONG BAPTIST HOSPITAL (COMMUNITY CLINIC)","HK  BAPTIST HOSPITAL","PH",4480228848,"ADR","3,2","OnRamp","Local System",0,0,"",0,0,null,0,{"$error":"#DIV/0!"},0,0,0,{"$error":"#DIV/0!"},0,0,0,0,0,null,null,0,0,0,0,0,0,0,0,0,0]
["1 Oct 2023 to 31 Oct 2023","18 Chinese Medicine Clinic cum Traing and Research Centre (Yan Chai Hospital)","18CMCTRs (YCH)","NGO",6255376532,"CMPX","3,2","Local System + LAAM","EC Connect",433,0,"",2,431,null,0,0,0,0,2,4.6189376443418013E-3,2,0,0,2,0,0,null,431,0.99538106235565815,0,0,0,0,0,0,0,0]
["1 Oct 2023 to 31 Oct 2023","18 Chinese Medicine Clinic cum Traing and Research Centre (Pok Oi Hospital)","18CMCTRs (POH)","NGO",6758313621,"CMRXO","3,2","Local System + LAAM","EC Connect",1875,0,"",365,1510,null,0,0,0,0,365,0.19466666666666665,365,0,0,365,0,null,null,1510,0.80533333333333335,0,0,0,0,0,0,0,0]
["1 Oct 2023 to 31 Oct 2023","ST.TERESA's HOSPITAL","STH","PH",7969980015,"ADR",3,"Local system","Local System",20,0,"",2,18,null,0,0,0,0,2,0.1,2,0,0,2,0,null,null,18,0.9,0,0,0,0,0,0,0,0]
["1 Oct 2023 to 31 Oct 2023","CANOSSA HOSPITAL (CARITAS)","CANNOSSA HOSPITAL","PH",8252506240,"ADR",3,"Local system","Local System",1,0,"","",1,null,0,0,0,0,0,0,0,0,0,0,0,null,null,1,1,0,0,0,0,0,0,0,0]
["1 Oct 2023 to 31 Oct 2023","DR. CHAN KIT YAN SELINA","DR. CHAN KIT YAN SELINA","SOLO",8895790679,"RXD","3,2","OnRamp","Local System",264,0,"",7,257,null,0,0,0,0,0,0,0,0,0,0,0,null,null,257,0.97348484848484851,0,0,0,0,0,0,0,0]
["1 Oct 2023 to 31 Oct 2023","HK MERCY MEDICAL LIMITED","HK MERCY MEDICAL LIMITED","SOLO",9056383716,"ADR","3,2","OnRamp","Local System",0,0,"",0,0,null,0,{"$error":"#DIV/0!"},0,0,0,{"$error":"#DIV/0!"},0,0,0,0,0,null,null,0,0,0,0,0,0,0,0,0,0]
["1 Oct 2023 to 31 Oct 2023","Hong Kong Breast Cancer and Disease Centre Limited","HKBCADC","SOLO           ",9407305541,"IMMU","2,3","OnRamp","Local System",0,0,"",0,0,null,0,{"$error":"#DIV/0!"},0,0,0,{"$error":"#DIV/0!"},0,0,0,0,0,0,null,0,0,0,0,0,0,0,0,0,0]
["1 Oct 2023 to 31 Oct 2023","DISTRICT HEALTH CENTRE-YUEN LONG (POH)","DHC-YUEN LONG","DHC",7218241485,"EPIS",1,"Local System + LAAM","Local System",4145,0,4145,"",0,null,0,0,0,0,0,0,null,null,null,null,null,null,null,0,0,0,0,0,0,0,0,0,0]
["1 Oct 2023 to 31 Oct 2023","18 Chinese Medicine Clinic cum Traing and Research Centre (Christiam Family Service Centre)","18CMCTRs (CFSC)","NGO",9805671910,"CMRXO","3,2","Local System + LAAM","EC Connect",449,0,"",108,341,null,0,0,0,0,108,0.24053452115812918,108,0,0,108,0,null,null,341,0.75946547884187088,0,0,0,0,0,0,0,0]
["1 Oct 2023 to 31 Oct 2023","HUMAN HEALTH MEDICAL CENTRE.","HUMAN  HEALTH","GROUP",5634981022,"RAD",1,"RCMS_LAAM","Local System",39,0,39,"",0,null,0,0,0,0,0,0,null,null,null,null,null,null,null,0,0,0,0,0,0,0,0,0,0]
["1 Nov 2023 to 30 Nov 2023","DR SUM NAM CHU'S CLINIC","DR SUM NAM CHU'S CLINIC","SOLO",2308765964,"RXD","3,2","OnRamp","Local System",125,0,"",32,93,null,0,0,0,0,0,0,0,0,0,0,0,null,null,93,0.74399999999999999,0,0,0,0,0,0,0,0]
["1 Nov 2023 to 30 Nov 2023","DEPARTMENT OF HEALTH","DH","DH",2438744730,"REF",1,"Local system + LAAM","Local System",3833,0,3833,"",0,null,0,0,0,0,0,0,null,null,null,null,null,null,null,0,0,0,0,0,0,0,0,0,0]
["1 Nov 2023 to 30 Nov 2023","18 Chinese Medicine Clinic cum Traing and Research Centre (Haven of Hope)","18CMCTRs(HOHCS)","NGO",3237753992,"CMRXO","3,2","Local System + LAAM","EC Connect",794,0,"",206,588,null,0,0,0,0,206,0.25944584382871538,206,0,0,206,0,null,null,588,0.74055415617128462,0,0,0,0,0,0,0,0]
["1 Nov 2023 to 30 Nov 2023","DISTRICT HEALTH CENTRE-WONG TAI SIN (HKSKHWCL)","DHC-WONG TAI SIN","DHC",4437392776,"AL1",3,"Local System + LAAM","Local System",101,0,"",16,85,null,0,0,0,0,16,0.15841584158415842,16,0,0,16,0,null,null,85,0.84158415841584155,0,0,0,0,0,0,0,0]
["1 Nov 2023 to 30 Nov 2023","HKSH Medical Group Limited","HKSH MEDICAL FROUP","PH",4773496701,"PX",3,"Local system","Local System",113,0,"","",113,null,0,0,0,0,0,0,0,0,0,0,0,null,null,113,1,0,0,0,0,0,0,0,0]
["1 Nov 2023 to 30 Nov 2023","HONG KONG AIRCRAFT ENGINEERING COMPANY LIMITED","HKAECL","GROUP",5197076289,"PX","3,2","OnRamp","Local System",0,0,"",0,0,null,0,{"$error":"#DIV/0!"},0,0,0,{"$error":"#DIV/0!"},0,0,0,0,0,0,null,0,0,0,0,0,0,0,0,0,0]
["1 Nov 2023 to 30 Nov 2023","DHC EXPRESS-YAU TSIM MONG (LOKSINTONG)","DHC EXPRESS-YTM-CC","DHC",5832575528,"ADR",3,"Local System + LAAM","Local System",0,0,"","",0,null,0,{"$error":"#DIV/0!"},0,0,0,{"$error":"#DIV/0!"},0,0,0,0,0,null,null,0,0,0,0,0,0,0,0,0,0]
["1 Nov 2023 to 30 Nov 2023","DHC EXPRESS-ISLANDS (NAAC)","DHC EXPRESS-ISLANDS-CC","DHC",6142872901,"ADR",3,"Local System + LAAM","Local System",0,0,"","",0,null,0,{"$error":"#DIV/0!"},0,0,0,{"$error":"#DIV/0!"},0,0,0,0,0,null,null,0,0,0,0,0,0,0,0,0,0]
["1 Nov 2023 to 30 Nov 2023","Hong Kong Diabetes and Endocrine Centre Limited","HKDIABETES","SOLO",6176378066,"PX","3,2","OnRamp","Local System",0,0,"",0,0,null,0,{"$error":"#DIV/0!"},0,0,0,{"$error":"#DIV/0!"},0,0,0,0,0,0,null,0,0,0,0,0,0,0,0,0,0]
["1 Nov 2023 to 30 Nov 2023","DHC EXPRESS-EASTERN (HKSR)","DHC EXPRESS-EASTERN-CC","DHC",6542377532,"AL1",3,"Local System + LAAM","Local System",0,0,"","",0,null,0,{"$error":"#DIV/0!"},0,0,0,{"$error":"#DIV/0!"},0,0,0,0,0,null,null,0,0,0,0,0,0,0,0,0,0]
["1 Nov 2023 to 30 Nov 2023","EVANGEL HOSPITAL","EVANGEL HOSPITAL","PH",6788049378,"AL1","2,3","OnRamp","Local System",0,0,"",0,0,null,0,{"$error":"#DIV/0!"},0,0,0,{"$error":"#DIV/0!"},0,0,0,0,0,null,null,0,0,0,0,0,0,0,0,0,0]
["1 Nov 2023 to 30 Nov 2023","ST.TERESA's HOSPITAL","STH","PH",7969980015,"BIRTH",3,"Local System + LAAM","Local System",8,0,"","",8,null,0,0,0,0,0,0,null,null,null,null,null,null,null,8,1,0,0,0,0,0,0,0,0]
["1 Nov 2023 to 30 Nov 2023","CANOSSA HOSPITAL (CARITAS)","CANNOSSA HOSPITAL","PH",8252506240,"RAD",3,"Local System + LAAM","Local System",7,0,"","",7,null,0,0,0,0,0,0,0,0,0,0,0,null,null,7,1,0,0,0,0,0,0,0,0]
["1 Nov 2023 to 30 Nov 2023","DR. CHAN KIT YAN SELINA","DR. CHAN KIT YAN SELINA","SOLO",8895790679,"RXO","3,2","OnRamp","Local System",246,0,"",8,238,null,0,0,0,0,0,0,0,0,0,0,0,null,null,238,0.96747967479674801,0,0,0,0,0,0,0,0]
["1 Nov 2023 to 30 Nov 2023","HK MERCY MEDICAL LIMITED","HK MERCY MEDICAL LIMITED","SOLO",9056383716,"REF",1,"OnRamp","Local System",0,0,0,"",0,null,0,{"$error":"#DIV/0!"},0,0,0,{"$error":"#DIV/0!"},null,null,null,null,null,null,null,0,0,0,0,0,0,0,0,0,0]
["1 Nov 2023 to 30 Nov 2023","PRECIOUS MEDICAL  (HK)  LIMITED","PRECIOUS MEDICAL  (HK)  LIMITED","SOLO",9675260245,"RXD","3,2","OnRamp","Local System",0,0,"",0,0,null,0,{"$error":"#DIV/0!"},0,0,0,{"$error":"#DIV/0!"},0,0,0,0,0,null,null,0,0,0,0,0,0,0,0,0,0]
["1 Nov 2023 to 30 Nov 2023","DISTRICT HEALTH CENTRE-YUEN LONG (POH)","DHC-YUEN LONG","DHC",7218241485,"ENCTR",3,"Local System + LAAM","Local System",17420,0,"","",17420,null,0,0,0,0,0,0,null,null,null,null,null,null,null,17420,1,0,0,0,0,0,0,0,0]
["1 Nov 2023 to 30 Nov 2023","Alpha Medical (CWB)","ALPHA MEDICAL (CWB)","GROUP",5292537029,"RAD",3,"RIS (LAAM)","Local System",442,0,"","",442,null,0,0,0,0,0,0,0,0,0,0,0,null,null,442,1,0,0,0,0,0,0,0,0]
["1 Nov 2023 to 30 Nov 2023","QUALITY HEALTHCARE MEDICAL CENTRE LIMITED","QHMS","GROUP",9265486345,"AL1",3,"QHMS EMR","Local System",1064,0,"",1064,0,null,0,0,0,0,1015,0.95394736842105265,1015,0,0,1015,0,null,null,0,0,0,0,0,0,0,0,0,0]
["1 Dec 2023 to 31 Dec 2023","18 Chinese Medicine Clinic cum Traing and Research Centre (The Hong Kong Tuberculosis Association)","18CMCTRs(HKTBA)","NGO",2231879813,"CMRXO","3,2","Local System + LAAM","EC Connect",397,0,"",138,259,null,0,0,0,0,138,0.34760705289672544,138,0,0,138,0,null,null,259,0.65239294710327456,0,0,0,0,0,0,0,0]
["1 Dec 2023 to 31 Dec 2023","18 Chinese Medicine Clinic cum Traing and Research Centre (Yan Oi Tong)","18CMCTRs (YOT)","NGO",2971417573,"CMPROB","3,2","Local System + LAAM","EC Connect",987,0,"",125,862,null,0,0,0,0,105,0.10638297872340426,105,0,0,105,0,0,null,862,0.87335359675785207,0,0,0,0,0,0,0,0]
["1 Dec 2023 to 31 Dec 2023","HONG KONG BAPTIST HOSPITAL","HK BAPTIST HOSPITAL","PH",3650324540,"LABGEN",1,"Local system + LAAM","Local System",9066,1,9065,0,0,null,1,1.1030222810500772E-4,0,1,0,0,0,0,0,0,0,0,null,0,0,0,0,0,0,0,0,0,0]
["1 Dec 2023 to 31 Dec 2023","DISTRICT HEALTH CENTRE-WONG TAI SIN (HKSKHWCL)","DHC-WONG TAI SIN","DHC",4437392776,"EPIS",1,"Local System + LAAM","Local System",2952,0,2952,"",0,null,0,0,0,0,0,0,null,null,null,null,null,null,null,0,0,0,0,0,0,0,0,0,0]
["1 Dec 2023 to 31 Dec 2023","HAVEN OF HOPE CHRISTIAN SERVICE","HOHCS","NGO",5176004890,"ADR","3,2","OnRamp","Local System",0,0,"",0,0,null,0,{"$error":"#DIV/0!"},0,0,0,{"$error":"#DIV/0!"},0,0,0,0,0,null,null,0,0,0,0,0,0,0,0,0,0]
["1 Dec 2023 to 31 Dec 2023","HONG KONG MEDICAL ADVANCED IMAGING LIMITED","HKMAIL","GROUP",5414310424,"RAD",3,"Local system + LAAM","Local System",4497,0,"","",4497,null,0,0,0,0,0,0,0,0,0,0,0,null,null,4497,1,0,0,0,0,0,0,0,0]
["1 Dec 2023 to 31 Dec 2023","DHC EXPRESS-YAU TSIM MONG (LOKSINTONG)","DHC EXPRESS-YTM-CC","DHC",5832575528,"AL1",3,"Local System + LAAM","Local System",0,0,"","",0,null,0,{"$error":"#DIV/0!"},0,0,0,{"$error":"#DIV/0!"},0,0,0,0,0,null,null,0,0,0,0,0,0,0,0,0,0]
["1 Dec 2023 to 31 Dec 2023","PENG CHAU MEDICAL CENTRE","PENG CHAU MEDICAL CENTRE","SOLO",5977831183,"RXO","3,2","OnRamp","Local System",0,0,"",0,0,null,0,{"$error":"#DIV/0!"},0,0,0,{"$error":"#DIV/0!"},0,0,0,0,0,null,null,0,0,0,0,0,0,0,0,0,0]
["1 Dec 2023 to 31 Dec 2023","HONG KONG BAPTIST HOSPITAL (COMMUNITY CLINIC)","HK  BAPTIST HOSPITAL","PH",4480228848,"ENCTR",3,"OnRamp","Local System",193,0,"","",193,null,0,0,0,0,0,0,null,null,null,null,null,null,null,193,1,0,0,0,0,0,0,0,0]
["1 Dec 2023 to 31 Dec 2023","DHC EXPRESS-SAI KUNG (HOHCS)","DHC EXPRESS-SAI KUNG-CC","DHC",6402782674,"EPIS",1,"Local System + LAAM","Local System",1249,0,1249,"",0,null,0,0,0,0,0,0,null,null,null,null,null,null,null,0,0,0,0,0,0,0,0,0,0]
["1 Dec 2023 to 31 Dec 2023","DHC EXPRESS-KWUN TONG (UCMS)","DHC EXPRESS-KWUN TONG-CC","DHC",7334960147,"ENCTR",3,"Local System + LAAM","Local System",1767,0,"","",1767,null,0,0,0,0,0,0,null,null,null,null,null,null,null,1767,1,0,0,0,0,0,0,0,0]
["1 Dec 2023 to 31 Dec 2023","ST.TERESA's HOSPITAL","STH","PH",7969980015,"EPIS",1,"Local System + LAAM","Local System",{"$f":"SUM(K17167:N17167)","v":1081},{"$f":"P17167","v":0},1081,"",0,null,{"$f":"SUM(R17167:S17167)","v":0},0,0,0,{"$f":"SUM(Y17167:AA17167)","v":0},0,null,null,null,null,null,null,null,{"$f":"N17167","v":0},{"$f":"IF(J17167=0,0,AC17167/J17167)","v":0},0,{"$f":"IF(J17167=0,0,AE17167/J17167)","v":0},0,0,0,0,0,0]
["1 Dec 2023 to 31 Dec 2023","HEALTH IN ACTION LIMITED","HEALTH IN ACTION LIMITED","SOLO",8040919535,"REF",1,"OnRamp","Local System",0,0,0,"",0,null,0,{"$error":"#DIV/0!"},0,0,0,{"$error":"#DIV/0!"},null,null,null,null,null,null,null,0,0,0,0,0,0,0,0,0,0]
["1 Dec 2023 to 31 Dec 2023","DR. CHAN KIT YAN SELINA","DR. CHAN KIT YAN SELINA","SOLO",8895790679,"RXO","3,2","OnRamp","Local System",209,0,"",12,197,null,0,0,0,0,0,0,0,0,0,0,0,null,null,197,0.9425837320574163,0,0,0,0,0,0,0,0]
["1 Dec 2023 to 31 Dec 2023","HK MERCY MEDICAL LIMITED","HK MERCY MEDICAL LIMITED","SOLO",9056383716,"RXO","3,2","OnRamp","Local System",202,0,"",93,109,null,0,0,0,0,0,0,0,0,0,0,0,null,null,109,0.53960396039603964,0,0,0,0,0,0,0,0]
["1 Dec 2023 to 31 Dec 2023","CHIRON HEALTHCARE GROUP LIMITED","CHIRON HEALTHCARE","GROUP",9451612824,"PX","3,2","Local system","Local System",0,0,"",0,0,null,0,{"$error":"#DIV/0!"},0,0,0,{"$error":"#DIV/0!"},0,0,0,0,null,null,null,0,0,0,0,0,0,0,0,0,0]
["1 Dec 2023 to 31 Dec 2023","PRECIOUS MEDICAL  (HK)  LIMITED","PRECIOUS MEDICAL  (HK)  LIMITED","SOLO",9675260245,"RXO","3,2","OnRamp","Local System",0,0,"",0,0,null,0,{"$error":"#DIV/0!"},0,0,0,{"$error":"#DIV/0!"},0,0,0,0,0,null,null,0,0,0,0,0,0,0,0,0,0]
["1 Dec 2023 to 31 Dec 2023","HOI YING TRADITION AND MODERN MEDICINE LIMITED","HYTMM","SOLO",7957606088,"CMRXO","3,2","Local System + LAAM","EC Connect",15,0,"",3,12,null,0,0,0,0,0,0,0,0,0,0,0,null,null,12,0.8,0,0,0,0,0,0,0,0]
["1 Dec 2023 to 31 Dec 2023","WELL BEING CHINESE MEDICINE CLINIC","WBCMC","SOLO",1667592556,"CMPROB","3,2","Local System + LAAM","EC Connect",7,0,"",3,4,null,0,0,0,0,0,0,0,0,0,0,0,null,null,4,0.5714285714285714,0,0,0,0,0,0,0,0]
["1 Dec 2023 to 31 Dec 2023","PRIMECARE MEDICAL CENTRE","PRIMECARE MEDICAL CENTRE","SOLO",3093463431,"RXD",2,"ClinicSolution","Local System",0,0,"",0,0,null,0,{"$error":"#DIV/0!"},0,0,0,{"$error":"#DIV/0!"},0,0,0,0,0,null,null,0,0,0,0,0,0,0,0,0,0]
["1 Dec 2023 to 31 Dec 2023","EASY RESULT LIMITED","EASY RESULT","SOLO",6592085876,"ENCTR",3,"ClinicSolution","Local System",{"$f":"SUM(K17359:N17359)","v":41},{"$f":"P17359","v":0},"","",41,null,{"$f":"SUM(R17359:S17359)","v":0},0,0,0,{"$f":"SUM(Y17359:AA17359)","v":0},0,0,0,0,0,0,null,null,{"$f":"N17359","v":41},{"$f":"IF(J17359=0,0,AC17359/J17359)","v":1},0,{"$f":"IF(J17359=0,0,AE17359/J17359)","v":0},0,0,0,0,0,0]
["1 Dec 2023 to 31 Dec 2023","HEALTH & WEALTH MEDICAL CENTRE","HWMCL","SOLO",8832216811,"AL1",2,"ClinicSolution","Local System",0,0,"",0,0,null,0,{"$error":"#DIV/0!"},0,0,0,{"$error":"#DIV/0!"},0,0,0,0,0,null,null,0,0,0,0,0,0,0,0,0,0]
["1 Dec 2023 to 31 Dec 2023","ALL WELL (ASIA) LIMITED","ADVANZ PHYSIO CENTRE","GROUP",8891674942,"PROB",3,"ClinicSolution","Local System",0,0,"","",0,null,0,{"$error":"#DIV/0!"},0,0,0,{"$error":"#DIV/0!"},0,0,0,0,0,null,null,0,0,0,0,0,0,0,0,0,0]
["1 Jan 2024 to 31 Jan 2024","DR SUM NAM CHU'S CLINIC","DR SUM NAM CHU'S CLINIC","SOLO",2308765964,"RXO","3,2","OnRamp","Local System",121,0,"",28,93,null,0,0,0,0,0,0,0,0,0,0,0,null,null,93,0.76859504132231404,0,0,0,0,0,0,0,0]
["1 Jan 2024 to 31 Jan 2024","DEPARTMENT OF HEALTH","DH","DH",2438744730,"OBS",3,"Local system + LAAM","Local System",7685,0,"","",7685,null,0,0,0,0,0,0,0,0,0,0,0,null,null,7685,1,0,0,0,0,0,0,0,0]
["1 Jan 2024 to 31 Jan 2024","HONG KONG BAPTIST HOSPITAL","HK BAPTIST HOSPITAL","PH",3650324540,"LABAP",1,"Local system + LAAM","Local System",1346,0,1346,0,0,null,0,0,0,0,0,0,null,0,0,null,null,0,null,0,0,0,0,0,0,0,0,0,0]
["1 Jan 2024 to 31 Jan 2024","DISTRICT HEALTH CENTRE-WONG TAI SIN (HKSKHWCL)","DHC-WONG TAI SIN","DHC",4437392776,"EPIS",1,"Local System + LAAM","Local System",1671,0,1671,"",0,null,0,0,0,0,0,0,null,null,null,null,null,null,null,0,0,0,0,0,0,0,0,0,0]
["1 Jan 2024 to 31 Jan 2024","GOOD HEALTH MEDICAL PRACTICES LIMITED","GHMPL","SOLO",5153981121,"AL1",3,"ClinicSolution","Local System",0,0,"","",0,null,0,{"$error":"#DIV/0!"},0,0,0,{"$error":"#DIV/0!"},0,0,0,0,0,null,null,0,0,0,0,0,0,0,0,0,0]
["1 Jan 2024 to 31 Jan 2024","HAVEN OF HOPE CHRISTIAN SERVICE","HOHCS","NGO",5176004890,"ENCTR",3,"OnRamp","Local System",0,0,"","",0,null,0,{"$error":"#DIV/0!"},0,0,0,{"$error":"#DIV/0!"},null,null,null,null,null,null,null,0,0,0,0,0,0,0,0,0,0]
["1 Jan 2024 to 31 Jan 2024","DR WONG CHUN POR","DR CP WONG CLINIC","SOLO",5528991274,"ADR","3,2","Local system","Local System",0,0,"",0,0,null,0,{"$error":"#DIV/0!"},0,0,0,{"$error":"#DIV/0!"},0,0,0,0,0,null,null,0,0,0,0,0,0,0,0,0,0]
["1 Jan 2024 to 31 Jan 2024","DHC EXPRESS-ISLANDS (NAAC)","DHC EXPRESS-ISLANDS-CC","DHC",6142872901,"AL1",3,"Local System + LAAM","Local System",0,0,"","",0,null,0,{"$error":"#DIV/0!"},0,0,0,{"$error":"#DIV/0!"},0,0,0,0,0,null,null,0,0,0,0,0,0,0,0,0,0]
["1 Jan 2024 to 31 Jan 2024","HONG KONG BAPTIST HOSPITAL (COMMUNITY CLINIC)","HK  BAPTIST HOSPITAL","PH",4480228848,"PROB","3,2","OnRamp","Local System",370,0,"",8,362,null,0,0,0,0,0,0,0,0,0,0,0,0,null,362,0.97837837837837838,0,0,0,0,0,0,0,0]
["1 Jan 2024 to 31 Jan 2024","DHC EXPRESS-EASTERN (HKSR)","DHC EXPRESS-EASTERN-CC","DHC",6542377532,"EPIS",1,"Local System + LAAM","Local System",527,0,527,"",0,null,0,0,0,0,0,0,null,null,null,null,null,null,null,0,0,0,0,0,0,0,0,0,0]
["1 Jan 2024 to 31 Jan 2024","EVANGEL HOSPITAL","EVANGEL HOSPITAL","PH",6788049378,"ENCTR",3,"OnRamp","Local System",0,0,"","",0,null,0,{"$error":"#DIV/0!"},0,0,0,{"$error":"#DIV/0!"},null,null,null,null,null,null,null,0,0,0,0,0,0,0,0,0,0]
["1 Jan 2024 to 31 Jan 2024","DHC EXPRESS-TAI PO (UCMS)","DHC EXPRESS-TAI PO-CC","DHC",7444819250,"ENCTR",3,"Local System + LAAM","Local System",2296,0,"","",2296,null,0,0,0,0,0,0,null,null,null,null,null,null,null,2296,1,0,0,0,0,0,0,0,0]
["1 Jan 2024 to 31 Jan 2024","18 Chinese Medicine Clinic cum Traing and Research Centre (The Hong Kong Buddist Association)","18CMCTRs (HKBA)","NGO",8296860643,"CMPROB","3,2","Local System + LAAM","EC Connect",203,0,"",22,181,null,0,0,0,0,20,9.8522167487684734E-2,20,0,0,20,0,0,null,181,0.89162561576354682,0,0,0,0,0,0,0,0]
["1 Jan 2024 to 31 Jan 2024","DR. CHAN KIT YAN SELINA","DR. CHAN KIT YAN SELINA","SOLO",8895790679,"ENCTR",3,"OnRamp","Local System",347,0,"","",347,null,0,0,0,0,0,0,null,null,null,null,null,null,null,347,1,0,0,0,0,0,0,0,0]
["1 Jan 2024 to 31 Jan 2024","Hong Kong Christian Service","HKCS","GROUP",9179355867,"PX","3,2","OnRamp","Local System",0,0,"",0,0,null,0,{"$error":"#DIV/0!"},0,0,0,{"$error":"#DIV/0!"},0,0,0,0,0,0,null,0,0,0,0,0,0,0,0,0,0]
["1 Jan 2024 to 31 Jan 2024","Hong Kong Breast Cancer and Disease Centre Limited","HKBCADC","SOLO           ",9407305541,"IMMU","2,3","OnRamp","Local System",0,0,"",0,0,null,0,{"$error":"#DIV/0!"},0,0,0,{"$error":"#DIV/0!"},0,0,0,0,0,0,null,0,0,0,0,0,0,0,0,0,0]
["1 Jan 2024 to 31 Jan 2024","DISTRICT HEALTH CENTRE-SOUTHERN (AKA)","DHC-SOUTHERN","DHC",8900325933,"ADR",3,"Local System + LAAM","Local System",1,0,"","",1,null,0,0,0,0,0,0,0,0,0,0,0,null,null,1,1,0,0,0,0,0,0,0,0]
["1 Jan 2024 to 31 Jan 2024","18 Chinese Medicine Clinic cum Traing and Research Centre (Christiam Family Service Centre)","18CMCTRs (CFSC)","NGO",9805671910,"CMPROB","3,2","Local System + LAAM","EC Connect",618,0,"",96,522,null,0,0,0,0,42,6.7961165048543687E-2,42,0,0,42,0,0,null,522,0.84466019417475724,0,0,0,0,0,0,0,0]
["1 Jan 2024 to 31 Jan 2024","Hong Kong Breast Cancer Foundation Limited","HKBCF","NGO",2295233392,"RAD",3,"Local System + LAAM","Local System",845,0,"","",845,null,0,0,0,0,0,0,0,0,0,0,0,null,null,845,1,0,0,0,0,0,0,0,0]
["1 Jan 2024 to 31 Jan 2024","GAMMA HEALTHCARE CENTRE LIMITED","GAMMA HEALTHCARE CENTRE","SOLO",2066071598,"PX",3,"ClinicSolution","Local System",0,0,"","",0,null,0,{"$error":"#DIV/0!"},0,0,0,{"$error":"#DIV/0!"},0,0,0,0,0,null,null,0,0,0,0,0,0,0,0,0,0]
["1 Jan 2024 to 31 Jan 2024","EASY RESULT LIMITED","EASY RESULT","SOLO",6592085876,"AL1",2,"ClinicSolution","Local System",0,0,"",0,0,null,0,{"$error":"#DIV/0!"},0,0,0,{"$error":"#DIV/0!"},0,0,0,0,0,null,null,0,0,0,0,0,0,0,0,0,0]
["1 Jan 2024 to 31 Jan 2024","HEALTH & WEALTH MEDICAL CENTRE","HWMCL","SOLO",8832216811,"PX",3,"ClinicSolution","Local System",0,0,"","",0,null,0,{"$error":"#DIV/0!"},0,0,0,{"$error":"#DIV/0!"},0,0,0,0,0,null,null,0,0,0,0,0,0,0,0,0,0]
["1 Jan 2024 to 31 Jan 2024","DR. LAM SEE YUI JOSEPH","DR. S.Y. LAM                                                                                                                                                                                                                                                                                                                                                                                                                                                                                                                                                                                                                                                                                                                                                                                                                                                                                                                                                                                                                                                                           ","SOLO",8962900949,"RXO",2,"ClinicSolution","Local System",701,0,"",701,0,null,0,0,0,0,0,0,0,0,0,0,0,null,null,0,0,0,0,0,0,0,0,0,0]
["1 Jan 2024 to 31 Jan 2024","KingMed Diagnostics (Hong Kong) Limited","KINGMED DIAGNOSTICS (HK)","GROUP",3150524068,"LABMB",1,"Pathways Laboratory Information System","Local System",0,0,0,0,0,null,0,{"$error":"#DIV/0!"},0,0,0,{"$error":"#DIV/0!"},null,null,null,null,null,null,null,0,0,0,0,0,0,0,0,0,0]
["1 Feb 2024 to 29 Feb 2024","DR SUM NAM CHU'S CLINIC","DR SUM NAM CHU'S CLINIC","SOLO",2308765964,"REF",1,"OnRamp","Local System",0,0,0,"",0,null,0,{"$error":"#DIV/0!"},0,0,0,{"$error":"#DIV/0!"},null,null,null,null,null,null,null,0,0,0,0,0,0,0,0,0,0]
["1 Feb 2024 to 29 Feb 2024","DHC EXPRESS-SHA TIN (HKSR)","DHC EXPRESS-SHA TIN-CC","DHC",3628187450,"AL1",3,"Local System + LAAM","Local System",1,0,"",1,0,null,0,0,0,0,1,1,1,0,0,1,0,null,null,0,0,0,0,0,0,0,0,0,0]
["1 Feb 2024 to 29 Feb 2024","PRIME HEALTH ENDOCRINE & DIABETES CENTRE LIMITED","PRIME HEALTH","SOLO",4180832888,"RXO","3,2","OnRamp","Local System",0,0,"",0,0,null,0,{"$error":"#DIV/0!"},0,0,0,{"$error":"#DIV/0!"},0,0,0,0,0,null,null,0,0,0,0,0,0,0,0,0,0]
["1 Feb 2024 to 29 Feb 2024","HKSH Medical Group Limited","HKSH MEDICAL FROUP","PH",4773496701,"ADR",3,"SAAM","Local System",68,0,"",8,60,null,0,{"$f":"P17993/J17993","v":0},0,0,8,{"$f":"T17993/J17993","v":0.11764705882352941},8,0,0,8,0,null,null,60,0.88235294117647056,0,0,0,0,0,0,0,0]
["1 Feb 2024 to 29 Feb 2024","ST. PAUL'S HOSPITAL","SPH","PH",5156724947,"ENCTR",3,"Local system + LAAM","Local System",0,0,"","",0,null,0,{"$error":"#DIV/0!"},0,0,0,{"$error":"#DIV/0!"},null,null,null,null,null,null,null,0,0,0,0,0,0,0,0,0,0]
["1 Feb 2024 to 29 Feb 2024","HONG KONG AIRCRAFT ENGINEERING COMPANY LIMITED","HKAECL","GROUP",5197076289,"IMMU","3,2","OnRamp","Local System",0,0,"",0,0,null,0,{"$error":"#DIV/0!"},0,0,0,{"$error":"#DIV/0!"},0,0,0,0,0,null,null,0,0,0,0,0,0,0,0,0,0]
["1 Feb 2024 to 29 Feb 2024","PENG CHAU MEDICAL CENTRE","PENG CHAU MEDICAL CENTRE","SOLO",5977831183,"AL1","3,2","OnRamp","Local System",0,0,"",0,0,null,0,{"$error":"#DIV/0!"},0,0,0,{"$error":"#DIV/0!"},0,0,0,0,0,null,null,0,0,0,0,0,0,0,0,0,0]
["1 Feb 2024 to 29 Feb 2024","Hong Kong Diabetes and Endocrine Centre Limited","HKDIABETES","SOLO",6176378066,"RXD","3,2","OnRamp","Local System",0,0,"",0,0,null,0,{"$error":"#DIV/0!"},0,0,0,{"$error":"#DIV/0!"},0,0,0,0,0,null,null,0,0,0,0,0,0,0,0,0,0]
["1 Feb 2024 to 29 Feb 2024","DHC EXPRESS-SAI KUNG (HOHCS)","DHC EXPRESS-SAI KUNG-CC","DHC",6402782674,"AL1",3,"Local System + LAAM","Local System",0,0,"","",0,null,0,{"$error":"#DIV/0!"},0,0,0,{"$error":"#DIV/0!"},0,0,0,0,0,null,null,0,0,0,0,0,0,0,0,0,0]
["1 Feb 2024 to 29 Feb 2024","DHC EXPRESS-CENTRAL AND WESTERN (HKSR)","DHC EXPRESS-C&W-CC","DHC",6645809992,"ENCTR",3,"Local System + LAAM","Local System",2078,0,"","",2078,null,0,0,0,0,0,0,null,null,null,null,null,null,null,2078,1,0,0,0,0,0,0,0,0]
["1 Feb 2024 to 29 Feb 2024","DR HO CHUNG PING","C.P. HO","SOLO",7889756707,"RXO","3,2","HKMA (Mobigator + Message formatter)","Local System",312,0,"",24,288,null,0,0,0,0,1,3.205128205128205E-3,1,0,0,1,0,null,null,288,0.92307692307692313,0,0,0,0,0,0,0,0]
["1 Feb 2024 to 29 Feb 2024","ST.TERESA's HOSPITAL","STH","PH",7969980015,"EPIS",1,"Local System + LAAM","Local System",{"$f":"SUM(K18161:N18161)","v":873},{"$f":"P18161","v":0},873,"",0,null,{"$f":"SUM(R18161:S18161)","v":0},0,0,0,{"$f":"SUM(Y18161:AA18161)","v":0},0,null,null,null,null,null,null,null,{"$f":"N18161","v":0},{"$f":"IF(J18161=0,0,AC18161/J18161)","v":0},0,{"$f":"IF(J18161=0,0,AE18161/J18161)","v":0},0,0,0,0,0,0]
["1 Feb 2024 to 29 Feb 2024","DEPARTMENT OF HEALTH CIMS1","DH","DH",8658917541,"PROB",3,"Local system + LAAM","Local System",0,0,"","",0,null,0,{"$f":"P18185/J18185","v":{"$error":"#DIV/0!"}},0,0,0,{"$f":"T18185/J18185","v":{"$error":"#DIV/0!"}},0,0,0,0,null,null,null,0,0,0,0,0,0,0,0,0,0]
["1 Feb 2024 to 29 Feb 2024","DR. CHAN KIT YAN SELINA","DR. CHAN KIT YAN SELINA","SOLO",8895790679,"EPIS",1,"OnRamp","Local System",63,0,63,"",0,null,0,0,0,0,0,0,null,null,null,null,null,null,null,0,0,0,0,0,0,0,0,0,0]
["1 Feb 2024 to 29 Feb 2024","DHC EXPRESS-WAN CHAI (MC)","DHC EXPRESS-WAN CHAI-CC","DHC",9421690548,"ADR",3,"Local System + LAAM","Local System",0,0,"","",0,null,0,{"$error":"#DIV/0!"},0,0,0,{"$error":"#DIV/0!"},0,0,0,0,0,null,null,0,0,0,0,0,0,0,0,0,0]
["1 Feb 2024 to 29 Feb 2024","PRECIOUS MEDICAL  (HK)  LIMITED","PRECIOUS MEDICAL  (HK)  LIMITED","SOLO",9675260245,"REF",1,"OnRamp","Local System",0,0,0,"",0,null,0,{"$error":"#DIV/0!"},0,0,0,{"$error":"#DIV/0!"},null,null,null,null,null,null,null,0,0,0,0,0,0,0,0,0,0]
["1 Feb 2024 to 29 Feb 2024","LOK YEE TONG TRADITIONAL CHINESE MEDICINE LIMITED","LOK YEE TONG TCM","SOLO",9355359498,"CMPX","3,2","Local System","EC Connect",0,0,"",0,0,null,0,{"$error":"#DIV/0!"},0,0,0,{"$error":"#DIV/0!"},0,0,0,0,0,0,null,0,0,0,0,0,0,0,0,0,0]
["1 Feb 2024 to 29 Feb 2024","HEALS CLINIC LIMITED","HEALS CLINIC LIMITED","SOLO",9841327550,"RXO",2,"ClinicSolution","Local System",{"$f":"SUM(K18289:N18289)","v":14},{"$f":"P18289","v":0},"",14,0,null,{"$f":"SUM(R18289:S18289)","v":0},0,0,0,{"$f":"SUM(Y18289:AA18289)","v":0},0,0,0,0,0,0,null,null,{"$f":"N18289","v":0},{"$f":"IF(J18289=0,0,AC18289/J18289)","v":0},0,{"$f":"IF(J18289=0,0,AE18289/J18289)","v":0},0,0,0,0,0,0]
["1 Feb 2024 to 29 Feb 2024","QUALITY HEALTHCARE MEDICAL CENTRE LIMITED","QHMS","GROUP",9265486345,"IMMU",2,"QHMS EMR","Local System",327,0,"",327,0,null,0,0,0,0,0,0,0,0,0,null,null,null,null,0,0,0,0,0,0,0,0,0,0]
["1 Feb 2024 to 29 Feb 2024","PRIMECARE MEDICAL CENTRE","PRIMECARE MEDICAL CENTRE","SOLO",3093463431,"REF",1,"ClinicSolution","Local System",0,0,0,"",0,null,0,{"$error":"#DIV/0!"},0,0,0,{"$error":"#DIV/0!"},0,0,0,0,0,null,null,0,0,0,0,0,0,0,0,0,0]
["1 Feb 2024 to 29 Feb 2024","CELESTIAL HEALTHCARE                                                                                                                                                                                                                                                                                                                                                                                                                                                                                                             ","DR. LIM CHAW NAM","SOLO",8154807797,"PX",3,"ClinicSolution","Local System",0,0,"","",0,null,0,{"$error":"#DIV/0!"},0,0,0,{"$error":"#DIV/0!"},0,0,0,0,0,null,null,0,0,0,0,0,0,0,0,0,0]
["1 Feb 2024 to 29 Feb 2024","ALL WELL (ASIA) LIMITED","ADVANZ PHYSIO CENTRE","GROUP",8891674942,"ENCTR",3,"ClinicSolution","Local System",153,134,"","",19,null,134,{"$f":"P18377/J18377","v":0.87581699346405228},0,134,0,{"$f":"T18377/J18377","v":0},null,null,null,null,null,null,null,19,0.12418300653594772,0,0,0,0,0,0,0,0]
["1 Feb 2024 to 29 Feb 2024","Confidence Medical Centre Limited","CONFIDENCE MEDICAL CTR","SOLO",3923060878,"IMMU",2,"ClinicSolution","Local System",0,0,"",0,0,null,0,{"$error":"#DIV/0!"},0,0,0,{"$error":"#DIV/0!"},0,0,0,0,0,null,null,0,0,0,0,0,0,0,0,0,0]
["1 Feb 2024 to 29 Feb 2024","LEUNG MAN CHIT CLINIC","LEUNG MAN CHIT CLINIC","SOLO",4427383241,"PROB",3,"ClinicSolution","Local System",{"$f":"SUM(K18417:N18417)","v":0},{"$f":"P18417","v":0},"","",0,null,{"$f":"SUM(R18417:S18417)","v":0},{"$error":"#DIV/0!"},0,0,{"$f":"SUM(Y18417:AA18417)","v":0},{"$error":"#DIV/0!"},0,0,0,0,0,null,null,{"$f":"N18417","v":0},{"$f":"IF(J18417=0,0,AC18417/J18417)","v":0},0,{"$f":"IF(J18417=0,0,AE18417/J18417)","v":0},0,0,0,0,0,0]
["1 Feb 2024 to 29 Feb 2024","L & C CLINICAL PRACTICE","L & C CLINICAL PRACTICE","GROUP",5251825990,"ENCTR",3,"ClinicSolution","Local System",13,0,"","",13,null,0,0,0,0,0,0,0,0,0,0,0,null,null,13,1,0,0,0,0,0,0,0,0]
["1 Mar 2024 to 31 Mar 2024","DR SUM NAM CHU'S CLINIC","DR SUM NAM CHU'S CLINIC","SOLO",2308765964,"AL1","3,2","OnRamp","Local System",0,0,"",0,0,null,0,{"$error":"#DIV/0!"},0,0,0,{"$error":"#DIV/0!"},0,0,0,0,0,null,null,0,0,0,0,0,0,0,0,0,0]
["1 Mar 2024 to 31 Mar 2024","DHC EXPRESS-KOWLOON CITY (LOKSINTONG)","DHC EXPRESS-KC-CC","DHC",2548616569,"EPIS",1,"Local System + LAAM","Local System",1699,0,1699,"",0,null,0,0,0,0,0,0,null,null,null,null,null,null,null,0,0,0,0,0,0,0,0,0,0]
["1 Mar 2024 to 31 Mar 2024","DR. LEUNG KIN KAY","DR. LEUNG KIN KAY","SOLO",3226804803,"AL1","3,2","OnRamp","Local System",0,0,"",0,0,null,0,{"$error":"#DIV/0!"},0,0,0,{"$error":"#DIV/0!"},0,0,0,0,0,null,null,0,0,0,0,0,0,0,0,0,0]
["1 Mar 2024 to 31 Mar 2024","HONG KONG BAPTIST HOSPITAL","HK BAPTIST HOSPITAL","PH",3650324540,"AL1",3,"Local System + LAAM","Local System",1928,1,"",1119,808,null,1,5.1867219917012448E-4,1,0,1191,0.61773858921161828,1191,0,0,1191,0,null,null,808,0.41908713692946059,0,0,0,0,0,0,0,0]
["1 Mar 2024 to 31 Mar 2024","THE HONG KONG POLYTECHNIC UNIVERSITY","POLYU","HCAI",4578805814,"IMMU",3,"Local system","Local System",19,0,"","",19,null,0,0,0,0,0,0,0,0,0,0,0,null,null,19,1,0,0,0,0,0,0,0,0]
["1 Mar 2024 to 31 Mar 2024","HAVEN OF HOPE CHRISTIAN SERVICE","HOHCS","NGO",5176004890,"ENCTR",3,"OnRamp","Local System",0,0,"","",0,null,0,{"$error":"#DIV/0!"},0,0,0,{"$error":"#DIV/0!"},null,null,null,null,null,null,null,0,0,0,0,0,0,0,0,0,0]
["1 Mar 2024 to 31 Mar 2024","HONG KONG AIRCRAFT ENGINEERING COMPANY LIMITED","HKAECL","GROUP",5197076289,"REF",1,"OnRamp","Local System",0,0,0,"",0,null,0,{"$error":"#DIV/0!"},0,0,0,{"$error":"#DIV/0!"},null,null,null,null,null,null,null,0,0,0,0,0,0,0,0,0,0]
["1 Mar 2024 to 31 Mar 2024","DR WONG CHUN POR","DR CP WONG CLINIC","SOLO",5528991274,"REF",1,"Local system","Local System",15,0,15,"",0,null,0,0,0,0,0,0,null,null,null,null,null,null,null,0,0,0,0,0,0,0,0,0,0]
["1 Mar 2024 to 31 Mar 2024","PENG CHAU MEDICAL CENTRE","PENG CHAU MEDICAL CENTRE","SOLO",5977831183,"ENCTR",3,"OnRamp","Local System",0,0,"","",0,null,0,{"$error":"#DIV/0!"},0,0,0,{"$error":"#DIV/0!"},null,null,null,null,null,null,null,0,0,0,0,0,0,0,0,0,0]
["1 Mar 2024 to 31 Mar 2024","DHC EXPRESS-SAI KUNG (HOHCS)","DHC EXPRESS-SAI KUNG-CC","DHC",6402782674,"ADR",3,"Local System + LAAM","Local System",0,0,"","",0,null,0,{"$error":"#DIV/0!"},0,0,0,{"$error":"#DIV/0!"},0,0,0,0,0,null,null,0,0,0,0,0,0,0,0,0,0]
["1 Mar 2024 to 31 Mar 2024","18 Chinese Medicine Clinic cum Traing and Research Centre (Pok Oi Hospital)","18CMCTRs (POH)","NGO",6758313621,"CMRXO","3,2","Local System + LAAM","EC Connect",1484,0,"",318,1166,null,0,0,0,0,318,0.21428571428571427,318,0,0,318,0,null,null,1166,0.7857142857142857,0,0,0,0,0,0,0,0]
["1 Mar 2024 to 31 Mar 2024","DHC EXPRESS-KWUN TONG (UCMS)","DHC EXPRESS-KWUN TONG-CC","DHC",7334960147,"ADR",3,"Local System + LAAM","Local System",0,0,"","",0,null,0,{"$error":"#DIV/0!"},0,0,0,{"$error":"#DIV/0!"},0,0,0,0,0,null,null,0,0,0,0,0,0,0,0,0,0]
["1 Mar 2024 to 31 Mar 2024","ST.TERESA's HOSPITAL","STH","PH",7969980015,"ADR",3,"Local system","Local System",38,0,"",2,36,null,0,0,0,0,2,5.2631578947368418E-2,2,0,0,2,0,null,null,36,0.94736842105263153,0,0,0,0,0,0,0,0]
["1 Mar 2024 to 31 Mar 2024","HEALTH IN ACTION LIMITED","HEALTH IN ACTION LIMITED","SOLO",8040919535,"PROB","3,2","OnRamp","Local System",0,0,"",0,0,null,0,{"$error":"#DIV/0!"},0,0,0,{"$error":"#DIV/0!"},0,0,0,0,0,0,null,0,0,0,0,0,0,0,0,0,0]
["1 Mar 2024 to 31 Mar 2024","HK MERCY MEDICAL LIMITED","HK MERCY MEDICAL LIMITED","SOLO",9056383716,"AL1","3,2","OnRamp","Local System",1,0,"",0,1,null,0,0,0,0,0,0,0,0,0,0,0,null,null,1,1,0,0,0,0,0,0,0,0]
["1 Mar 2024 to 31 Mar 2024","Hong Kong Breast Cancer and Disease Centre Limited","HKBCADC","SOLO           ",9407305541,"ADR","2,3","OnRamp","Local System",0,0,"",0,0,null,0,{"$error":"#DIV/0!"},0,0,0,{"$error":"#DIV/0!"},0,0,0,0,0,null,null,0,0,0,0,0,0,0,0,0,0]
["1 Mar 2024 to 31 Mar 2024","PRECIOUS MEDICAL  (HK)  LIMITED","PRECIOUS MEDICAL  (HK)  LIMITED","SOLO",9675260245,"AL1","3,2","OnRamp","Local System",0,0,"",0,0,null,0,{"$error":"#DIV/0!"},0,0,0,{"$error":"#DIV/0!"},0,0,0,0,0,null,null,0,0,0,0,0,0,0,0,0,0]
["1 Mar 2024 to 31 Mar 2024","DISTRICT HEALTH CENTRE-SHAM SHUI PO (SJS)","DHC-SHAM SHUI PO","DHC",9681600318,"AL1",3,"Local System + LAAM","Local System",0,0,"","",0,null,0,{"$error":"#DIV/0!"},0,0,0,{"$error":"#DIV/0!"},0,0,0,0,0,null,null,0,0,0,0,0,0,0,0,0,0]
["1 Mar 2024 to 31 Mar 2024","WELL BEING CHINESE MEDICINE CLINIC","WBCMC","SOLO",1667592556,"CMRXO","3,2","Local System + LAAM","EC Connect",17,0,"",3,14,null,0,0,0,0,0,0,0,0,0,0,0,null,null,14,0.82352941176470584,0,0,0,0,0,0,0,0]
["1 Mar 2024 to 31 Mar 2024","MORDERN ASCENT LIMITED","MORDERN ASCENT LIMITED","SOLO",2342444283,"RAD",3,"Local System + LAAM","Local System",715,0,"",77,638,null,0,0,0,0,0,0,0,0,0,0,0,null,null,638,0.89230769230769236,77,0.1076923076923077,0,0,0,0,77,0]
["1 Mar 2024 to 31 Mar 2024","VMC Healthcare Group Limited","VMC HEALTHCARE GROUP","SOLO",3747982882,"RXD",2,"ClinicSolution","Local System",37,0,"",37,0,null,0,0,0,0,0,0,0,0,0,0,0,null,null,0,0,0,0,0,0,0,0,0,0]
["1 Mar 2024 to 31 Mar 2024","PASSION MEDICAL LIMITED","PASSION MEDICAL","SOLO",5772944231,"REF",1,"ClinicSolution","Local System",0,0,0,"",0,null,0,{"$error":"#DIV/0!"},0,0,0,{"$error":"#DIV/0!"},0,0,0,0,0,null,null,0,0,0,0,0,0,0,0,0,0]
["1 Mar 2024 to 31 Mar 2024","ALL WELL (ASIA) LIMITED","ADVANZ PHYSIO CENTRE","GROUP",8891674942,"ENCTR",3,"ClinicSolution","Local System",285,197,"","",88,null,197,0.69122807017543864,0,197,0,0,null,null,null,null,null,null,null,88,0.30877192982456142,0,0,0,0,0,0,0,0]
["1 Mar 2024 to 31 Mar 2024","PRIME FAMILY HEALTH LIMITED","PRIME FAMILY HEALTH LTD","SOLO",7607550051,"RXD",2,"ClinicSolution","Local System",0,0,"",0,0,null,0,{"$error":"#DIV/0!"},0,0,0,{"$error":"#DIV/0!"},0,0,0,0,0,null,null,0,0,0,0,0,0,0,0,0,0]
["1 Mar 2024 to 31 Mar 2024","KingMed Diagnostics (Hong Kong) Limited","KINGMED DIAGNOSTICS (HK)","GROUP",3150524068,"LABAP",1,"Pathways Laboratory Information System","Local System",0,0,0,0,0,null,0,{"$error":"#DIV/0!"},0,0,0,{"$error":"#DIV/0!"},null,null,null,null,null,null,null,0,0,0,0,0,0,0,0,0,0]
["1 Mar 2024 to 31 Mar 2024","208 Medical Centre","208 MEDICAL CENTRE","SOLO",3499048393,"ENCTR",3,"ClinicSolution","Local System",0,0,"","",0,null,0,{"$error":"#DIV/0!"},0,0,0,{"$error":"#DIV/0!"},0,0,0,0,0,null,null,0,0,0,0,0,0,0,0,0,0]
["1 Mar 2024 to 31 Mar 2024","DR. TSANG FAN KWONG","DR. TSANG FAN KWONG","SOLO",9585979787,"ENCTR",3,"ClinicSolution","Local System",0,0,"","",0,null,0,{"$error":"#DIV/0!"},0,0,0,{"$error":"#DIV/0!"},0,0,0,0,0,null,null,0,0,0,0,0,0,0,0,0,0]
["1 Apr 2024 to 30 Apr 2024","DR. YEE YUK KEI","DR. YK YEE","SOLO",2310917092,"ENCTR",3,"Local System","Local System",160,0,0,0,160,null,0,0,0,0,0,0,0,0,0,0,0,0,null,160,1,0,0,0,0,0,0,0,0]
["1 Apr 2024 to 30 Apr 2024","DEPARTMENT OF HEALTH","DH","DH",2438744730,"REF",1,"CIMS2","Local System",3225,0,3225,0,0,null,0,0,0,0,0,0,0,0,0,0,0,0,null,0,0,0,0,0,0,0,0,0,0]
["1 Apr 2024 to 30 Apr 2024","KingMed Diagnostics (Hong Kong) Limited","KINGMED DIAGNOSTICS (HK)","GROUP",3150524068,"LABGEN",1,"Pathways Laboratory Information System","Local System",4799,1,4798,0,0,null,1,2.0837674515524068E-4,0,1,0,0,0,0,0,0,0,0,null,0,0,0,0,0,0,0,0,0,0]
["1 Apr 2024 to 30 Apr 2024","DHC EXPRESS-SHA TIN (HKSR)","DHC EXPRESS-SHA TIN-CC","DHC",3628187450,"EPIS",1,"Local System","Local System",2033,0,2033,0,0,null,0,0,0,0,0,0,0,0,0,0,0,0,null,0,0,0,0,0,0,0,0,0,0]
["1 Apr 2024 to 30 Apr 2024","IPATH LABORATORY LIMITED","IPATH LABORATORY LIMITED","GROUP",4178262222,"LABAP",1,"Local System","Local System",33,0,33,0,0,null,0,0,0,0,0,0,0,0,0,0,0,0,null,0,0,0,0,0,0,0,0,0,0]
["1 Apr 2024 to 30 Apr 2024","ST. PAUL'S HOSPITAL","SPH","PH",5156724947,"RAD",3,"SPH HIS","Local System",2638,0,0,0,2638,null,0,0,0,0,0,0,0,0,0,0,0,0,null,2638,1,0,0,0,0,0,0,0,0]
["1 Apr 2024 to 30 Apr 2024","HONG KONG HEALTH CHECK (HEAD OFFICE)","HONG KONG HEALTH CHECK","GROUP",5596680865,"RAD",3,"RHI2","Local System",928,0,0,0,928,null,0,0,0,0,0,0,0,0,0,0,0,0,null,928,1,0,0,0,0,0,0,0,0]
["1 Apr 2024 to 30 Apr 2024","CUHK MEDICAL CENTRE LIMITED","CUHK MEDICAL CENTRE","PH",5963779130,"RAD",3,"HIS","Local System",3308,0,0,0,3308,null,0,0,0,0,0,0,0,0,0,0,0,0,null,3308,1,0,0,0,0,0,0,0,0]
["1 Apr 2024 to 30 Apr 2024","DISTRICT HEALTH CENTRE-TUEN MUN (ELCHK)","DHC-TUEN MUN-CC","DHC",6303033042,"ENCTR",3,"Local System","Local System",24783,0,0,0,24783,null,0,0,0,0,0,0,0,0,0,0,0,0,null,24783,1,0,0,0,0,0,0,0,0]
["1 Apr 2024 to 30 Apr 2024","Dagon Corporation Holdings Limited","DRAGON CORPORATION","GROUP",6738094014,"CMRXO",3,"Local System","EC Connect",2,0,0,2,0,null,0,0,0,0,0,0,0,0,0,0,0,0,null,0,0,0,0,0,0,0,0,0,0]
["1 Apr 2024 to 30 Apr 2024","DHC EXPRESS-TAI PO (UCMS)","DHC EXPRESS-TAI PO-CC","DHC",7444819250,"EPIS",1,"Local System","Local System",966,0,966,0,0,null,0,0,0,0,0,0,0,0,0,0,0,0,null,0,0,0,0,0,0,0,0,0,0]
["1 Apr 2024 to 30 Apr 2024","CANOSSA HOSPITAL (CARITAS)","CANNOSSA HOSPITAL","PH",8252506240,"ADR",3,"Canossa Hospital Management System","Local System",7,0,0,0,7,null,0,0,0,0,0,0,0,0,0,0,0,0,null,7,1,0,0,0,0,0,0,0,0]
["1 Apr 2024 to 30 Apr 2024","DISTRICT HEALTH CENTRE-SOUTHERN (AKA)","DHC-SOUTHERN","DHC",8900325933,"ENCTR",3,"Local System","Local System",16177,0,0,0,16177,null,0,0,0,0,0,0,0,0,0,0,0,0,null,16177,1,0,0,0,0,0,0,0,0]
["1 Apr 2024 to 30 Apr 2024","Hong Kong Christian Service","HKCS","GROUP",9179355867,"RXD",3,"Local System","Local System",162,0,0,88,74,null,0,0,0,0,0,0,0,0,0,0,0,0,null,74,0.4567901234567901,0,0,0,0,0,0,0,0]
["1 Apr 2024 to 30 Apr 2024","DR. CHUNG CHI PING SIMON","DR. SIMON C.P. CHUNG","SOLO",9398567973,"RXD",2,"ClinicSolution","Local System",12,0,0,12,0,null,0,0,0,0,0,0,0,0,0,0,0,0,null,0,0,0,0,0,0,0,0,0,0]
["1 May 2024 to 31 May 2024","Han Qi Chinese Medicine Limited","HAN QI CHINESE MEDICINE","GROUP",2091864776,"ENCTR",3,"Local System","Local System",5,0,0,0,5,null,0,0,0,0,0,0,0,0,0,0,0,0,null,5,1,0,0,0,0,0,0,0,0]
["1 May 2024 to 31 May 2024","DR SUM NAM CHU'S CLINIC","DR SUM NAM CHU'S CLINIC","SOLO",2308765964,"IMMU",3,"Local System","Local System",3,0,0,3,0,null,0,0,0,0,0,0,0,0,0,0,0,0,null,0,0,0,0,0,0,0,0,0,0]
["1 May 2024 to 31 May 2024","DEPARTMENT OF HEALTH","DH","DH",2438744730,"RXO",3,"CIMS2","Local System",141256,0,0,51747,89509,null,0,0,0,0,51945,0.36773659171999773,51945,0,0,51945,0,0,null,89509,0.63366511864982722," 3",2.1238035906439374E-5," 0"," 0"," 0"," 3"," 0"," 0"]
["1 May 2024 to 31 May 2024","HEALTH IMAGING & CHECK-UP CENTRE LIMITED","HICUC","SOLO",3168691844,"RAD",3,"RHI2","Local System",13,0,0,0,13,null,0,0,0,0,0,0,0,0,0,0,0,0,null,13,1,0,0,0,0,0,0,0,0]
["1 May 2024 to 31 May 2024","Confidence Medical Centre Limited","CONFIDENCE MEDICAL CTR","SOLO",3923060878,"RXD",2,"ClinicSolution","Local System",19,0,0,19,0,null,0,0,0,0,0,0,0,0,0,0,0,0,null,0,0,0,0,0,0,0,0,0,0]
["1 May 2024 to 31 May 2024","HONG KONG BAPTIST HOSPITAL (COMMUNITY CLINIC)","HK  BAPTIST HOSPITAL","PH",4480228848,"RXD",3,"Onramp","Local System",793,0,0,33,760,null,0,0,0,0,0,0,0,0,0,0,0,0,null,760,0.95838587641866335,0,0,0,0,0,0,0,0]
["1 May 2024 to 31 May 2024","HKSH Medical Group Limited","HKSH MEDICAL FROUP","PH",4773496701,"LABMB",1,"HKSH e-HR gateway","Local System",1531,0,1531,0,0,null,0,0,0,0,0,0,0,0,0,0,0,0,null,0,0,0,0,0,0,0,0,0,0]
["1 May 2024 to 31 May 2024","L & C CLINICAL PRACTICE","L & C CLINICAL PRACTICE","GROUP",5251825990,"RXD",2,"ClinicSolution","Local System",51,0,0,51,0,null,0,0,0,0,0,0,0,0,0,0,0,0,null,0,0,0,0,0,0,0,0,0,0]
["1 May 2024 to 31 May 2024","UNION HOSPITAL","UNION HOSPITAL","PH",5712620300,"ADR",3,"UHLAAM","Local System",22,0,0,0,22,null,0,0,0,0,0,0,0,0,0,0,0,0,null,22,1,0,0,0,0,0,0,0,0]
["1 May 2024 to 31 May 2024","EASY RESULT LIMITED","EASY RESULT","SOLO",6592085876,"AL1",2,"ClinicSolution","Local System",2,0,0,2,0,null,0,0,0,0,0,0,0,0,0,0,0,0,null,0,0,0,0,0,0,0,0,0,0]
["1 May 2024 to 31 May 2024","DR. TONY CHUN KIT LEE MEDICAL PRATICE LIMITED","DR. TONY CHUN KIT LEE","SOLO",7071207758,"RXD",2,"ClinicSolution","Local System",6,0,0,6,0,null,0,0,0,0,0,0,0,0,0,0,0,0,null,0,0,0,0,0,0,0,0,0,0]
["1 May 2024 to 31 May 2024","DHC EXPRESS-TAI PO (UCMS)","DHC EXPRESS-TAI PO-CC","DHC",7444819250,"EPIS",1,"Local System","Local System",748,0,748,0,0,null,0,0,0,0,0,0,0,0,0,0,0,0,null,0,0,0,0,0,0,0,0,0,0]
["1 May 2024 to 31 May 2024","Shao Yao Chinese Medicine Clinic Limited","SYCMC LTD","SOLO",8061038543,"CMPX",3,"Local System","EC Connect",2,0,0,0,2,null,0,0,0,0,0,0,0,0,0,0,0,0,null,2,1,0,0,0,0,0,0,0,0]
["1 May 2024 to 31 May 2024","DR. CHAN KIT YAN SELINA","DR. CHAN KIT YAN SELINA","SOLO",8895790679,"IMMU",3,"Local System","Local System",4,0,0,1,3,null,0,0,0,0,0,0,0,0,0,0,0,0,null,3,0.75,0,0,0,0,0,0,0,0]
["1 May 2024 to 31 May 2024","Grande Medical Scanning Centre","GMSC","SOLO",9141981346,"RAD",3,"RHI2","Local System",414,0,0,0,414,null,0,0,0,0,0,0,0,0,0,0,0,0,null,414,1,0,0,0,0,0,0,0,0]
["1 May 2024 to 31 May 2024","DHC EXPRESS-WAN CHAI (MC)","DHC EXPRESS-WAN CHAI-CC","DHC",9421690548,"EPIS",1,"Local System","Local System",1054,0,1054,0,0,null,0,0,0,0,0,0,0,0,0,0,0,0,null,0,0,0,0,0,0,0,0,0,0]
["1 Jun 2024 to 30 Jun 2024","Han Qi Chinese Medicine Limited","HAN QI CHINESE MEDICINE","GROUP",2091864776,"CMPROB",3,"Local System","EC Connect",5,0,0,4,1,null,0,0,0,0,0,0,0,0,0,0,0,0,null,1,0.2,0,0,0,0,0,0,0,0]
["1 Jun 2024 to 30 Jun 2024","EVANGEL HOSPITAL","EVANGEL HOSPITAL","PH",2206285885,"AL1",3,"HMS","Local System",145,0,0,81,64,null,0,0,0,0,80,0.55172413793103448,80,0,0,80,0,0,null,64,0.44137931034482758,0,0,0,0,0,0,0,0]
["1 Jun 2024 to 30 Jun 2024","DR. YEE YUK KEI","DR. YK YEE","SOLO",2310917092,"RXD",3,"Local System","Local System",422,0,0,348,74,null,0,0,0,0,0,0,0,0,0,0,0,0,null,74,0.17535545023696683,0,0,0,0,0,0,0,0]
["1 Jun 2024 to 30 Jun 2024","KingMed Diagnostics (Hong Kong) Limited","KINGMED DIAGNOSTICS (HK)","GROUP",3150524068,"LABGEN",1,"Pathways Laboratory Information System","Local System",6389,0,6389,0,0,null,0,0,0,0,0,0,0,0,0,0,0,0,null,0,0,0,0,0,0,0,0,0,0]
["1 Jun 2024 to 30 Jun 2024","DHC EXPRESS-SHA TIN (HKSR)","DHC EXPRESS-SHA TIN-CC","DHC",3628187450,"ENCTR",3,"Local System","Local System",4438,0,0,0,4438,null,0,0,0,0,0,0,0,0,0,0,0,0,null,4438,1,0,0,0,0,0,0,0,0]
["1 Jun 2024 to 30 Jun 2024","VMC Healthcare Group Limited","VMC HEALTHCARE GROUP","SOLO",3747982882,"RXD",2,"ClinicSolution","Local System",45,0,0,45,0,null,0,0,0,0,0,0,0,0,0,0,0,0,null,0,0,0,0,0,0,0,0,0,0]
["1 Jun 2024 to 30 Jun 2024","DR CHAN YUEN SANG","DR CHAN YUEN SANG","SOLO",4830743861,"RXD",2,"ClinicSolution","Local System",63,0,0,63,0,null,0,0,0,0,0,0,0,0,0,0,0,0,null,0,0,0,0,0,0,0,0,0,0]
["1 Jun 2024 to 30 Jun 2024","Trinity Medical Imaging Centre Limited","TRINITY MEDICAL IMG","SOLO",5453649547,"RAD",3,"RIS (LAAM)","Local System",1244,0,0,0,1244,null,0,0,0,0,0,0,0,0,0,0,0,0,null,1244,1,0,0,0,0,0,0,0,0]
["1 Jun 2024 to 30 Jun 2024","PASSION MEDICAL LIMITED","PASSION MEDICAL","SOLO",5772944231,"RXD",2,"ClinicSolution","Local System",15,0,0,15,0,null,0,0,0,0,0,0,0,0,0,0,0,0,null,0,0,0,0,0,0,0,0,0,0]
["1 Jun 2024 to 30 Jun 2024","DISTRICT HEALTH CENTRE-TUEN MUN (ELCHK)","DHC-TUEN MUN-CC","DHC",6303033042,"AL1",3,"Local System","Local System",{"$f":"SUM(K19894:N19894)","v":5},{"$f":"P19894","v":0},0,1,4,null,{"$f":"SUM(R19894:S19894)","v":0},0,0,0,{"$f":"SUM(Y19894:AA19894)","v":1},0.2,1,0,0,1,0,0,null,{"$f":"N19894","v":4},{"$f":"IF(J19894=0,0,AC19894/J19894)","v":0.8},0,{"$f":"IF(J19894=0,0,AE19894/J19894)","v":0},0,0,0,0,0,0]
["1 Jun 2024 to 30 Jun 2024","EASY RESULT LIMITED","EASY RESULT","SOLO",6592085876,"RXO",2,"ClinicSolution","Local System",264,0,0,264,0,null,0,0,0,0,0,0,0,0,0,0,0,0,null,0,0,0,0,0,0,0,0,0,0]
["1 Jun 2024 to 30 Jun 2024","HONG KONG ADVENTIST HOSPITAL - STUBBS ROAD","HK ADVENTIST - SR","PH",7029571085,"ADR",3,"HKAHLAAM","Local System",32,0,0,4,28,null,0,0,0,0,4,0.125,4,0,0,4,0,0,null,28,0.875,0,0,0,0,0,0,0,0]
["1 Jun 2024 to 30 Jun 2024","DR HO CHUNG PING","C.P. HO","SOLO",7889756707,"PROB",3,"Local System","Local System",83,0,0,3,80,null,0,0,0,0,0,0,0,0,0,0,0,0,null,80,0.96385542168674698,0,0,0,0,0,0,0,0]
["1 Jun 2024 to 30 Jun 2024","HEALTH & WEALTH MEDICAL CENTRE","HWMCL","SOLO",8832216811,"ENCTR",3,"ClinicSolution","Local System",27,0,0,0,27,null,0,0,0,0,0,0,0,0,0,0,0,0,null,27,1,0,0,0,0,0,0,0,0]
["1 Jun 2024 to 30 Jun 2024","DISTRICT HEALTH CENTRE-SOUTHERN (AKA)","DHC-SOUTHERN","DHC",8900325933,"EPIS",1,"Local System","Local System",2773,0,2773,0,0,null,0,0,0,0,0,0,0,0,0,0,0,0,null,0,0,0,0,0,0,0,0,0,0]
["1 Jun 2024 to 30 Jun 2024","DR. CHUNG CHI PING SIMON","DR. SIMON C.P. CHUNG","SOLO",9398567973,"ENCTR",3,"ClinicSolution","Local System",{"$f":"SUM(K20022:N20022)","v":17},{"$f":"P20022","v":0},0,0,17,null,{"$f":"SUM(R20022:S20022)","v":0},0,0,0,{"$f":"SUM(Y20022:AA20022)","v":0},0,0,0,0,0,0,0,null,{"$f":"N20022","v":17},{"$f":"IF(J20022=0,0,AC20022/J20022)","v":1},0,{"$f":"IF(J20022=0,0,AE20022/J20022)","v":0},0,0,0,0,0,0]
["1 Jun 2024 to 30 Jun 2024","HOSPITAL AUTHORITY","HA","HA",3098159131,"ADR",3,"Enterprise Application Integration (EAI)","Local System",0,0,0,0,0,null,0,{"$error":"#DIV/0!"},0,0,277,{"$error":"#DIV/0!"},277,0,0,277,0,0,null,0,0,0,0,0,0,0,0,0,0]
["1 Jun 2024 to 30 Jun 2024","ZZZ VERIFICATION HOSPITAL","ZZZ_VH","OTH",9907819043,"RAD",3,"Local System","Local System",1,0,0,0,1,null,0,0,0,0,0,0,0,0,0,0,0,0,null,1,1,0,0,0,0,0,0,0,0]
["1 Jul 2024 to 31 Jul 2024","St. Teresa's Hospital - Chinese Medicine Centre","STH-CMC","PH",1728942726,"CMPROB",3,"STH HIS","EC Connect",220,0,0,51,169,null,0,0,0,0,12,5.4545454545454543E-2,12,0,0,12,0,0,null,169,0.76818181818181819,0,0,0,0,0,0,0,0]
["1 Jul 2024 to 31 Jul 2024","DR. YEE YUK KEI","DR. YK YEE","SOLO",2310917092,"ENCTR",3,"Local System","Local System",291,0,0,0,291,null,0,0,0,0,0,0,0,0,0,0,0,0,null,291,1,0,0,0,0,0,0,0,0]
["1 Jul 2024 to 31 Jul 2024","DEPARTMENT OF HEALTH","DH","DH",2438744730,"RAD",3,"CIMS2","Local System",16338,0,0,0,16338,null,0,0,0,0,0,0,0,0,0,0,0,0,null,16338,1,0,0,0,0,0,0,0,0]
["1 Jul 2024 to 31 Jul 2024","Choi Ying Medical Centre LTD","CHOI YING MEDICAL CTR LTD","SOLO",3425265108,"ENCTR",3,"ClinicSolution","Local System",74,0,0,0,74,null,0,0,0,0,0,0,0,0,0,0,0,0,null,74,1,0,0,0,0,0,0,0,0]
["1 Jul 2024 to 31 Jul 2024","The University of Hong Kong","HKU","HCAI",3726405388,"RAD",3,"Local System","Local System",476,0,0,0,476,null,0,0,0,0,0,0,0,0,0,0,0,0,null,476,1,0,0,0,0,0,0,0,0]
["1 Jul 2024 to 31 Jul 2024","LEUNG MAN CHIT CLINIC","LEUNG MAN CHIT CLINIC","SOLO",4427383241,"ENCTR",3,"ClinicSolution","Local System",391,0,0,0,391,null,0,0,0,0,0,0,0,0,0,0,0,0,null,391,1,0,0,0,0,0,0,0,0]
["1 Jul 2024 to 31 Jul 2024","THE HONG KONG POLYTECHNIC UNIVERSITY","POLYU","HCAI",4578805814,"IMMU",3,"ClinicMaster Information System","Local System",34,0,0,0,34,null,0,0,0,0,0,0,0,0,0,0,0,0,null,34,1,0,0,0,0,0,0,0,0]
["1 Jul 2024 to 31 Jul 2024","ST. PAUL'S HOSPITAL","SPH","PH",5156724947,"RXD",3,"SPH HIS","Local System",4764,0,0,537,4227,null,0,0,0,0,537,0.11272040302267003,537,0,0,537,0,0,null,4227,0.88727959697732994,0,0,0,0,0,0,0,0]
["1 Jul 2024 to 31 Jul 2024","Primehealth Medical Centre Limited","PMC","SOLO",5826741564,"RXO",2,"ClinicSolution","Local System",55,0,0,55,0,null,0,0,0,0,0,0,0,0,0,0,0,0,null,0,0,0,0,0,0,0,0,0,0]
["1 Jul 2024 to 31 Jul 2024","DR. WONG MAN HUNG","DR. WONG MAN HUNG","SOLO",6256774535,"RXD",2,"ClinicSolution","Local System",26,0,0,26,0,null,0,0,0,0,0,0,0,0,0,0,0,0,null,0,0,0,0,0,0,0,0,0,0]
["1 Jul 2024 to 31 Jul 2024","EASY RESULT LIMITED","EASY RESULT","SOLO",6592085876,"ENCTR",3,"ClinicSolution","Local System",93,0,0,0,93,null,0,0,0,0,0,0,0,0,0,0,0,0,null,93,1,0,0,0,0,0,0,0,0]
["1 Jul 2024 to 31 Jul 2024","18 Chinese Medicine Clinic cum Traing and Research Centre (Pok Oi Hospital)","18CMCTRs (POH)","NGO",6758313621,"ENCTR",3,"Local System","Local System",2904,0,0,0,2904,null,0,0,0,0,0,0,0,0,0,0,0,0,null,2904,1,0,0,0,0,0,0,0,0]
["1 Jul 2024 to 31 Jul 2024","BNS Medical Imaging Limited                                                                                                                         ","BNS MEDICAL IMAGING LTD","GROUP",7417567584,"RAD",3,"RHI2","Local System",37,0,0,0,37,null,0,0,0,0,0,0,0,0,0,0,0,0,null,37,1,0,0,0,0,0,0,0,0]
["1 Jul 2024 to 31 Jul 2024","CANOSSA HOSPITAL (CARITAS)","CANNOSSA HOSPITAL","PH",8252506240,"ADR",3,"Canossa Hospital Management System","Local System",4,0,0,0,4,null,0,0,0,0,0,0,0,0,0,0,0,0,null,4,1,0,0,0,0,0,0,0,0]
["1 Jul 2024 to 31 Jul 2024","DR. CHAN KIT YAN SELINA","DR. CHAN KIT YAN SELINA","SOLO",8895790679,"IMMU",3,"Local System","Local System",3,0,0,0,3,null,0,0,0,0,0,0,0,0,0,0,0,0,null,3,1,0,0,0,0,0,0,0,0]
["1 Jul 2024 to 31 Jul 2024","Grande Medical Scanning Centre","GMSC","SOLO",9141981346,"RAD",3,"RHI2","Local System",531,0,0,0,531,null,0,0,0,0,0,0,0,0,0,0,0,0,null,531,1,0,0,0,0,0,0,0,0]
["1 Jul 2024 to 31 Jul 2024","QUALITY HEALTHCARE MEDICAL CENTRE LIMITED","QHMS","GROUP",9265486345,"IMMU",2,"QHMS EMR","Local System",380,0,0,380,0,null,0,0,0,0,0,0,0,0,0,0,0,0,null,0,0,0,0,0,0,0,0,0,0]
["1 Jul 2024 to 31 Jul 2024","HOSPITAL AUTHORITY","HA","HA",3098159131,"LABGEN",3,"Enterprise Application Integration (EAI)","Local System",103,103,0,0,0,null,103,1,22,81,76973,747.31067961165047,76943,0,30,74673,2300,0,null,0,0,0,0,0,0,0,0,0,0]
["1 Jul 2024 to 31 Jul 2024","HEALS CLINIC LIMITED","HEALS CLINIC LIMITED","SOLO",9841327550,"ENCTR",3,"ClinicSolution","Local System",8,2,0,0,6,null,2,0.25,0,2,0,0,0,0,0,0,0,0,null,6,0.75,0,0,0,0,0,0,0,0]
["1 Aug 2024 to 31 Aug 2024","DR SUM NAM CHU'S CLINIC","DR SUM NAM CHU'S CLINIC","SOLO",2308765964,"IMMU",3,"Local System","Local System",2,0,0,0,2,null,0,0,0,0,0,0,0,0,0,0,0,0,null,2,1,0,0,0,0,0,0,0,0]
["1 Aug 2024 to 31 Aug 2024","DEPARTMENT OF HEALTH","DH","DH",2438744730,"LABGEN",1,"CIMS2","Local System",18809,0,18809,0,0,null,0,0,0,0,0,0,0,0,0,0,0,0,null,0,0,0,0,0,0,0,0,0,0]
["1 Aug 2024 to 31 Aug 2024","DR. LEUNG KIN KAY","DR. LEUNG KIN KAY","SOLO",3226804803,"PROB",3,"Local System","Local System",62,0,0,4,58,null,0,0,0,0,0,0,0,0,0,0,0,0,null,58,0.93548387096774188,0,0,0,0,0,0,0,0]
["1 Aug 2024 to 31 Aug 2024","DHC EXPRESS-SHA TIN (HKSR)","DHC EXPRESS-SHA TIN-CC","DHC",3628187450,"EPIS",1,"Local System","Local System",2088,0,2088,0,0,null,0,0,0,0,0,0,0,0,0,0,0,0,null,0,0,0,0,0,0,0,0,0,0]
["1 Aug 2024 to 31 Aug 2024","CHOW KAI LAI","CKL","SOLO",3955467232,"ENCTR",3,"ClinicSolution","Local System",81,81,0,0,0,null,81,1,81,0,0,0,0,0,0,0,0,0,null,0,0,0,0,0,0,0,0,0,0]
["1 Aug 2024 to 31 Aug 2024","DISTRICT HEALTH CENTRE-WONG TAI SIN (HKSKHWCL)","DHC-WONG TAI SIN","DHC",4437392776,"EPIS",1,"Local System","Local System",10512,0,10512,0,0,null,0,0,0,0,0,0,0,0,0,0,0,0,null,0,0,0,0,0,0,0,0,0,0]
["1 Aug 2024 to 31 Aug 2024","HKSH Medical Group Limited","HKSH MEDICAL FROUP","PH",4773496701,"RAD",3,"HKSH e-HR gateway","Local System",3689,0,0,0,3689,null,0,0,0,0,0,0,0,0,0,0,0,0,null,3689,1,0,0,0,0,0,0,0,0]
["1 Aug 2024 to 31 Aug 2024","18 Chinese Medicine Clinic cum Traing and Research Centre (Tung Wah Group of Hospital)","18CMCTRs(TWGHS)","NGO",5249502353,"CMRXO",3,"Local System","EC Connect",1049,0,0,266,783,null,0,0,0,0,266,0.25357483317445184,266,0,0,266,0,0,null,783,0.74642516682554816,0,0,0,0,0,0,0,0]
["1 Aug 2024 to 31 Aug 2024","CUHK MEDICAL CENTRE LIMITED","CUHK MEDICAL CENTRE","PH",5963779130,"LABMB",1,"HIS","Local System",1446,0,1446,0,0,null,0,0,0,0,0,0,0,0,0,0,0,0,null,0,0,0,0,0,0,0,0,0,0]
["1 Aug 2024 to 31 Aug 2024","GENHOPE TCM CLINIC","GENHOPE TCM CLINIC","SOLO",6360872899,"ENCTR",3,"Local System","Local System",6,0,0,0,6,null,0,0,0,0,0,0,0,0,0,0,0,0,null,6,1,0,0,0,0,0,0,0,0]
["1 Aug 2024 to 31 Aug 2024","18 Chinese Medicine Clinic cum Traing and Research Centre (Pok Oi Hospital)","18CMCTRs (POH)","NGO",6758313621,"CMPX",3,"Local System","EC Connect",791,0,0,32,759,null,0,0,0,0,32,4.0455120101137804E-2,32,0,0,32,0,0,null,759,0.95954487989886217,0,0,0,0,0,0,0,0]
["1 Aug 2024 to 31 Aug 2024","DISTRICT HEALTH CENTRE-YUEN LONG (POH)","DHC-YUEN LONG","DHC",7218241485,"EPIS",1,"Local System","Local System",11521,0,11521,0,0,null,0,0,0,0,0,0,0,0,0,0,0,0,null,0,0,0,0,0,0,0,0,0,0]
["1 Aug 2024 to 31 Aug 2024","HOI YING TRADITION AND MODERN MEDICINE LIMITED","HYTMM","SOLO",7957606088,"ENCTR",3,"Local System","Local System",6,0,0,0,6,null,0,0,0,0,0,0,0,0,0,0,0,0,null,6,1,0,0,0,0,0,0,0,0]
["1 Aug 2024 to 31 Aug 2024","DR. CHAN KIT YAN SELINA","DR. CHAN KIT YAN SELINA","SOLO",8895790679,"AL1",3,"Local System","Local System",7,0,0,3,4,null,0,0,0,0,2,0.2857142857142857,2,0,0,2,0,0,null,4,0.5714285714285714,0,0,0,0,0,0,0,0]
["1 Aug 2024 to 31 Aug 2024","DISTRICT HEALTH CENTRE-SOUTHERN (AKA)","DHC-SOUTHERN","DHC",8900325933,"ENCTR",3,"Local System","Local System",22451,0,0,0,22451,null,0,0,0,0,0,0,0,0,0,0,0,0,null,22451,1,0,0,0,0,0,0,0,0]
["1 Aug 2024 to 31 Aug 2024","Hong Kong Christian Service","HKCS","GROUP",9179355867,"ADR",3,"Local System","Local System",1,0,0,1,0,null,0,0,0,0,1,1,0,1,0,1,0,0,null,0,0,0,0,0,0,0,0,0,0]
["1 Aug 2024 to 31 Aug 2024","Hong Kong Breast Cancer and Disease Centre Limited","HKBCADC","SOLO           ",9407305541,"AL1",3,"Local System","Local System",2,0,0,0,2,null,0,0,0,0,0,0,0,0,0,0,0,0,null,2,1,0,0,0,0,0,0,0,0]
["1 Aug 2024 to 31 Aug 2024","HOSPITAL AUTHORITY","HA","HA",3098159131,"RAD",3,"Enterprise Application Integration (EAI)","Local System",0,0,0,0,0,null,0,{"$error":"#DIV/0!"},0,0,0,{"$error":"#DIV/0!"},0,0,0,0,0,0,null,0,0,0,0,0,0,0,0,0,0]
["1 Sep 2024 to 30 Sep 2024","18 Chinese Medicine Clinic cum Traing and Research Centre (The Hong Kong Tuberculosis Association)","18CMCTRs(HKTBA)","NGO",2231879813,"CMRXO",3,"Local System","EC Connect",252,0,0,72,180,null,0,0,0,0,72,0.2857142857142857,72,0,0,72,0,0,null,180,0.7142857142857143,0,0,0,0,0,0,0,0]
["1 Sep 2024 to 30 Sep 2024","DR. YEE YUK KEI","DR. YK YEE","SOLO",2310917092,"PX",3,"Local System","Local System",33,0,0,0,33,null,0,0,0,0,0,0,0,0,0,0,0,0,null,33,1,0,0,0,0,0,0,0,0]
["1 Sep 2024 to 30 Sep 2024","DEPARTMENT OF HEALTH","DH","DH",2438744730,"PROB",3,"CIMS2","Local System",103457,0,0,13637,89820,null,0,0,0,0,13643,0.13187121219443826,13643,0,0,13643,0,0,null,89820,0.86818678291464091,17,1.6431947572421391E-4,0,17,0,0,0,0]
["1 Sep 2024 to 30 Sep 2024","KingMed Diagnostics (Hong Kong) Limited","KINGMED DIAGNOSTICS (HK)","GROUP",3150524068,"LABGEN",1,"Pathways Laboratory Information System","Local System",7370,0,7370,0,0,null,0,0,0,0,0,0,0,0,0,0,0,0,null,0,0,0,0,0,0,0,0,0,0]
["1 Sep 2024 to 30 Sep 2024","VMC Healthcare Group Limited","VMC HEALTHCARE GROUP","SOLO",3747982882,"ENCTR",3,"ClinicSolution","Local System",30,0,0,0,30,null,0,0,0,0,0,0,0,0,0,0,0,0,null,30,1,0,0,0,0,0,0,0,0]
["1 Sep 2024 to 30 Sep 2024","JP PARTNERS MEDICAL","JP PARTNERS MEDICAL","GROUP",4066698256,"PROB",3,"ClinicSolution","Local System",106,1,0,105,0,null,1,9.433962264150943E-3,1,0,105,0.99056603773584906,105,0,0,105,0,0,null,0,0,0,0,0,0,0,0,0,0]
["1 Sep 2024 to 30 Sep 2024","18 Chinese Medicine Clinic cum Traing and Research Centre (HKFTU Worker's Medical Clinics)","18CMCTRs(HKFTU)","NGO",4746565267,"CMPROB",3,"Local System","EC Connect",569,0,0,53,516,null,0,0,0,0,26,4.5694200351493852E-2,26,0,0,26,0,0,null,516,0.90685413005272408,0,0,0,0,0,0,0,0]
["1 Sep 2024 to 30 Sep 2024","ST. PAUL'S HOSPITAL","SPH","PH",5156724947,"EPIS",1,"SPH HIS","Local System",545,0,545,0,0,null,0,0,0,0,0,0,0,0,0,0,0,0,null,0,0,0,0,0,0,0,0,0,0]
["1 Sep 2024 to 30 Sep 2024","DR WONG CHUN POR","DR CP WONG CLINIC","SOLO",5528991274,"AL1",3,"Local System","Local System",3,0,0,0,3,null,0,0,0,0,0,0,0,0,0,0,0,0,null,3,1,0,0,0,0,0,0,0,0]
["1 Sep 2024 to 30 Sep 2024","18 Chinese Medicine Clinic cum Traing and Research Centre (Yan Chai Hospital)","18CMCTRs (YCH)","NGO",6255376532,"CMRXO",3,"Local System","EC Connect",504,0,0,112,392,null,0,0,0,0,112,0.22222222222222221,112,0,0,112,0,0,null,392,0.77777777777777779,0,0,0,0,0,0,0,0]
["1 Sep 2024 to 30 Sep 2024","CITY SURGICAL CENTER LIMITED","CITY SURGICAL CENTER","GROUP",6467582028,"AL1",2,"ClinicSolution","Local System",2,0,0,2,0,null,0,0,0,0,0,0,0,0,0,0,0,0,null,0,0,0,0,0,0,0,0,0,0]
["1 Sep 2024 to 30 Sep 2024","Island Professional Service Company Limited","ISLAND PROF SVC CO LTD","SOLO",6916175566,"IMMU",3,"Local System","Local System",9,0,0,0,9,null,0,0,0,0,0,0,0,0,0,0,0,0,null,9,1,0,0,0,0,0,0,0,0]
["1 Sep 2024 to 30 Sep 2024","DR. TONY CHUN KIT LEE MEDICAL PRATICE LIMITED","DR. TONY CHUN KIT LEE","SOLO",7071207758,"AL1",2,"ClinicSolution","Local System",5,0,0,5,0,null,0,0,0,0,0,0,0,0,0,0,0,0,null,0,0,0,0,0,0,0,0,0,0]
["1 Sep 2024 to 30 Sep 2024","CELESTIAL HEALTHCARE                                                                                                                                                                                                                                                                                                                                                                                                                                                                                                             ","DR. LIM CHAW NAM","SOLO",8154807797,"PROB",3,"ClinicSolution","Local System",407,10,0,397,0,null,10,2.4570024570024569E-2,10,0,397,0.97542997542997545,397,0,0,397,0,0,null,0,0,0,0,0,0,0,0,0,0]
["1 Sep 2024 to 30 Sep 2024","CELESTIAL HEALTHCARE                                                                                                                                                                                                                                                                                                                                                                                                                                                                                                             ","DR. LIM CHAW NAM","SOLO",8154807797,"RXO",2,"ClinicSolution","Local System",260,0,0,260,0,null,0,0,0,0,0,0,0,0,0,0,0,0,null,0,0,0,0,0,0,0,0,0,0]
["1 Sep 2024 to 30 Sep 2024","DISTRICT HEALTH CENTRE-SOUTHERN (AKA)","DHC-SOUTHERN","DHC",8900325933,"ENCTR",3,"Local System","Local System",19270,0,0,0,19270,null,0,0,0,0,0,0,0,0,0,0,0,0,null,19270,1,0,0,0,0,0,0,0,0]
["1 Sep 2024 to 30 Sep 2024","DR. LAM SEE YUI JOSEPH","DR. S.Y. LAM                                                                                                                                                                                                                                                                                                                                                                                                                                                                                                                                                                                                                                                                                                                                                                                                                                                                                                                                                                                                                                                                           ","SOLO",8962900949,"RXD",2,"ClinicSolution","Local System",65,0,0,65,0,null,0,0,0,0,0,0,0,0,0,0,0,0,null,0,0,0,0,0,0,0,0,0,0]
["1 Sep 2024 to 30 Sep 2024","DR. CHUNG CHI PING SIMON","DR. SIMON C.P. CHUNG","SOLO",9398567973,"RXO",2,"ClinicSolution","Local System",14,0,0,14,0,null,0,0,0,0,0,0,0,0,0,0,0,0,null,0,0,0,0,0,0,0,0,0,0]
["1 Sep 2024 to 30 Sep 2024","HOSPITAL AUTHORITY","HA","HA",3098159131,"BIRTH",3,"Enterprise Application Integration (EAI)","Local System",1,1,0,0,0,null,1,1,0,1,0,0,0,0,0,0,0,0,null,0,0,0,0,0,0,0,0,0,0]
["1 Sep 2024 to 30 Sep 2024","HOSPITAL AUTHORITY","HA","HA",3098159131,"RXO",3,"Enterprise Application Integration (EAI)","Local System",9,9,0,0,0,null,9,1,9,0,150187,16687.444444444445,150187,0,0,150187,0,0,null,0,0,0,0,0,0,0,0,0,0]
["1 Oct 2024 to 31 Oct 2024","St. Teresa's Hospital - Chinese Medicine Centre","STH-CMC","PH",1728942726,"CMRXD",3,"STH HIS","EC Connect",142,0,0,0,142,null,0,0,0,0,0,0,0,0,0,0,0,0,null,142,1,0,0,0,0,0,0,0,0]
["1 Oct 2024 to 31 Oct 2024","DR. YEE YUK KEI","DR. YK YEE","SOLO",2310917092,"ENCTR",3,"Local System","Local System",301,0,0,0,301,null,0,0,0,0,0,0,0,0,0,0,0,0,null,301,1,0,0,0,0,0,0,0,0]
["1 Oct 2024 to 31 Oct 2024","DEPARTMENT OF HEALTH","DH","DH",2438744730,"RAD",3,"CIMS2","Local System",20435,0,0,0,20435,null,0,0,0,0,0,0,0,0,0,0,0,0,null,20435,{"$f":"AC21333/J21333","v":1},0,0,0,0,0,0,0,0]
["1 Oct 2024 to 31 Oct 2024","208 Medical Centre","208 MEDICAL CENTRE","SOLO",3499048393,"AL1",2,"ClinicSolution","Local System",8,0,0,8,0,null,0,0,0,0,0,0,0,0,0,0,0,0,null,0,0,0,0,0,0,0,0,0,0]
["1 Oct 2024 to 31 Oct 2024","HONG KONG BAPTIST HOSPITAL","HK BAPTIST HOSPITAL","PH",3650324540,"RAD",3,"Trakcare","Local System",4432,2,0,0,4430,null,2,4.512635379061372E-4,2,0,0,0,0,0,0,0,0,0,null,4430,0.99954873646209386,0,0,0,0,0,0,0,0]
["1 Oct 2024 to 31 Oct 2024","Venus Health and Imaging Centre Limited","VENUS HELATH CENTRE","SOLO",4048010991,"RAD",3,"RHI2","Local System",526,0,0,0,526,null,0,0,0,0,0,0,0,0,0,0,0,0,null,526,1,0,0,0,0,0,0,0,0]
["1 Oct 2024 to 31 Oct 2024","HONG KONG BAPTIST HOSPITAL (COMMUNITY CLINIC)","HK  BAPTIST HOSPITAL","PH",4480228848,"RXD",3,"Onramp","Local System",679,0,0,22,657,null,0,0,0,0,0,0,0,0,0,0,0,0,null,657,0.96759941089837997,0,0,0,0,0,0,0,0]
["1 Oct 2024 to 31 Oct 2024","18 Chinese Medicine Clinic cum Traing and Research Centre (Tung Wah Group of Hospital)","18CMCTRs(TWGHS)","NGO",5249502353,"CMPX",3,"Local System","EC Connect",560,0,0,0,560,null,0,0,0,0,0,0,0,0,0,0,0,0,null,560,1,0,0,0,0,0,0,0,0]
["1 Oct 2024 to 31 Oct 2024","HUMAN HEALTH MEDICAL CENTRE.","HUMAN  HEALTH","GROUP",5634981022,"RAD",1,"RCMS_LAAM","Local System",111,0,111,0,0,null,0,0,0,0,0,0,0,0,0,0,0,0,null,0,0,0,0,0,0,0,0,0,0]
["1 Oct 2024 to 31 Oct 2024","CUHK MEDICAL CENTRE LIMITED","CUHK MEDICAL CENTRE","PH",5963779130,"INVR",1,"HIS","Local System",499,0,499,0,0,null,0,0,0,0,0,0,0,0,0,0,0,0,null,0,0,0,0,0,0,0,0,0,0]
["1 Oct 2024 to 31 Oct 2024","DISTRICT HEALTH CENTRE-TUEN MUN (ELCHK)","DHC-TUEN MUN-CC","DHC",6303033042,"AL1",3,"Local System","Local System",3,0,0,0,3,null,0,0,0,0,0,0,0,0,0,0,0,0,null,3,1,0,0,0,0,0,0,0,0]
["1 Oct 2024 to 31 Oct 2024","DHC EXPRESS-NORTH (HKSR)","DHC EXPRESS-NORTH-CC","DHC",6678116401,"ENCTR",3,"Local System","Local System",2788,0,0,0,2788,null,0,0,0,0,0,0,0,0,0,0,0,0,null,2788,{"$f":"AC21525/J21525","v":1},0,0,0,0,0,0,0,0]
["1 Oct 2024 to 31 Oct 2024","HONG KONG ADVENTIST HOSPITAL - STUBBS ROAD","HK ADVENTIST - SR","PH",7029571085,"RAD",2,"HKAHLAAM","Local System",811,0,0,811,0,null,0,0,0,0,0,0,0,0,0,0,0,0,null,0,0,0,0,0,0,0,0,0,0]
["1 Oct 2024 to 31 Oct 2024","NGAN SZE YUEN","NGAN SZE YUEN","SOLO",8033207557,"ENCTR",3,"ClinicSolution","Local System",8,0,0,0,8,null,0,0,0,0,0,0,0,0,0,0,0,0,null,8,1,0,0,0,0,0,0,0,0]
["1 Oct 2024 to 31 Oct 2024","18 Chinese Medicine Clinic cum Traing and Research Centre (The Hong Kong Buddist Association)","18CMCTRs (HKBA)","NGO",8296860643,"CMPX",3,"Local System","EC Connect",89,0,0,0,89,null,0,0,0,0,0,0,0,0,0,0,0,0,null,89,1,0,0,0,0,0,0,0,0]
["1 Oct 2024 to 31 Oct 2024","HONG KONG ADVENTIST HOSPITAL - TSUEN WAN","HK ADVENTIST - TW","PH",8909436562,"AL1",3,"TWAHLAAM","Local System",744,0,0,227,517,null,0,0,0,0,186,0.25,186,0,0,186,0,0,null,517,0.69489247311827962,0,0,0,0,0,0,0,0]
["1 Oct 2024 to 31 Oct 2024","DR DANIEL YIANG WU","DR DANIEL YIANG WU","SOLO",8958425524,"PROB",3,"ClinicSolution","Local System",1,0,0,1,0,null,0,0,0,0,1,1,1,0,0,1,0,0,null,0,0,0,0,0,0,0,0,0,0]
["1 Oct 2024 to 31 Oct 2024","DR. CHUNG CHI PING SIMON","DR. SIMON C.P. CHUNG","SOLO",9398567973,"PX",3,"ClinicSolution","Local System",5,0,0,5,0,null,0,0,0,0,5,1,5,0,0,5,0,0,null,0,0,0,0,0,0,0,0,0,0]
["1 Oct 2024 to 31 Oct 2024","DISTRICT HEALTH CENTRE-SHAM SHUI PO (SJS)","DHC-SHAM SHUI PO","DHC",9681600318,"AL1",3,"Local System","Local System",6,0,0,0,6,null,0,0,0,0,0,0,0,0,0,0,0,0,null,6,1,0,0,0,0,0,0,0,0]
["1 Oct 2024 to 31 Oct 2024","HOSPITAL AUTHORITY","HA","HA",3098159131,"MEDCER",1,"Enterprise Application Integration (EAI)","Local System",269,269,0,0,0,null,269,1,269,0,0,0,0,0,0,0,0,0,null,0,0,0,0,0,0,0,0,0,0]
["1 Nov 2024 to 30 Nov 2024","St. Teresa's Hospital - Chinese Medicine Centre","STH-CMC","PH",1728942726,"CMPROB",3,"STH HIS","EC Connect",332,0,0,165,167,null,{"$f":"SUM(R21717:S21717)","v":0},0,0,0,18,5.4216867469879519E-2,18,0,0,18,0,0,null,167,0.50301204819277112,0,0,0,0,0,0,0,0]
["1 Nov 2024 to 30 Nov 2024","DEPARTMENT OF HEALTH","DH","DH",2438744730,"LABGEN",1,"CIMS2","Local System",17153,0,1326,652,15175,null,0,0,0,0,2019,0.1177053576633825,2019,0,0,652,1367,0,null,15175,0.88468489477059409,0,0,0,0,0,0,0,0]
["1 Nov 2024 to 30 Nov 2024","18 Chinese Medicine Clinic cum Traing and Research Centre (Yan Oi Tong)","18CMCTRs (YOT)","NGO",2971417573,"CMPROB",3,"Local System","EC Connect",540,0,0,93,447,null,0,0,0,0,70,0.12962962962962962,70,0,0,70,0,0,null,447,0.82777777777777772,0,0,0,0,0,0,0,0]
["1 Nov 2024 to 30 Nov 2024","HOSPITAL AUTHORITY","HA","HA",3098159131,"PROB",3,"Enterprise Application Integration (EAI)","Local System",1246452,0,0,0,1246452,null,0,0,0,0,0,0,0,0,0,0,0,0,null,1246452,1,0,0,0,0,0,0,0,0]
["1 Nov 2024 to 30 Nov 2024","18 Chinese Medicine Clinic cum Traing and Research Centre (Haven of Hope)","18CMCTRs(HOHCS)","NGO",3237753992,"CMRXO",3,"Local System","EC Connect",981,0,0,306,675,null,0,0,0,0,306,0.31192660550458717,306,0,0,306,0,0,null,675,0.68807339449541283,0,0,0,0,0,0,0,0]
["1 Nov 2024 to 30 Nov 2024","CLEARBRIDGE MEDICAL CENTER","CLEARBRIDGE MEDICAL","SOLO",3545073904,"RXD",2,"ClinicSolution","Local System",10,0,0,10,0,null,0,0,0,0,0,0,0,0,0,0,0,0,null,0,0,0,0,0,0,0,0,0,0]
["1 Nov 2024 to 30 Nov 2024","HONG KONG BAPTIST HOSPITAL (COMMUNITY CLINIC)","HK  BAPTIST HOSPITAL","PH",4480228848,"IMMU",3,"Onramp","Local System",25,0,0,0,25,null,0,0,0,0,0,0,0,0,0,0,0,0,null,25,1,0,0,0,0,0,0,0,0]
["1 Nov 2024 to 30 Nov 2024","HKSH Medical Group Limited","HKSH MEDICAL FROUP","PH",4773496701,"RAD",3,"HKSH e-HR gateway","Local System",3799,0,0,0,3799,null,0,0,0,0,0,0,0,0,0,0,0,0,null,3799,1,0,0,0,0,0,0,0,0]
["1 Nov 2024 to 30 Nov 2024","Gleneagles Hong Kong Hospital","GHK HOSPITAL LIMITED","PH",5189883789,"RAD",3,"HMS","Local System",3225,0,0,0,3225,null,0,0,0,0,0,0,0,0,0,0,0,0,null,3225,1,0,0,0,0,0,0,0,0]
["1 Nov 2024 to 30 Nov 2024","HONG KONG MEDICAL ADVANCED IMAGING LIMITED","HKMAIL","GROUP",5414310424,"RAD",3,"CSP","Local System",5140,0,0,0,5140,null,0,0,0,0,0,0,0,0,0,0,0,0,null,5140,1,0,0,0,0,0,0,0,0]
["1 Nov 2024 to 30 Nov 2024","Mongkok MRI Centre Limited","MONGKOK MRI CENTRE LTD","GROUP",5833341375,"RAD",3,"RHI2","Local System",267,0,0,0,267,null,0,0,0,0,0,0,0,0,0,0,0,0,null,267,1,0,0,0,0,0,0,0,0]
["1 Nov 2024 to 30 Nov 2024","DHC EXPRESS-SAI KUNG (HOHCS)","DHC EXPRESS-SAI KUNG-CC","DHC",6402782674,"ENCTR",3,"Local System","Local System",4063,0,0,0,4063,null,0,{"$f":"P21969/J21969","v":0},0,0,0,{"$f":"T21969/J21969","v":0},0,0,0,0,0,0,null,4063,1,0,0,0,0,0,0,0,0]
["1 Nov 2024 to 30 Nov 2024","18 Chinese Medicine Clinic cum Traing and Research Centre (Pok Oi Hospital)","18CMCTRs (POH)","NGO",6758313621,"CMPROB",3,"Local System","EC Connect",2955,0,0,966,1989,null,0,0,0,0,538,0.18206429780033842,538,0,0,538,0,0,null,1989,0.67309644670050761,0,0,0,0,0,0,0,0]
["1 Nov 2024 to 30 Nov 2024","DISTRICT HEALTH CENTRE-YUEN LONG (POH)","DHC-YUEN LONG","DHC",7218241485,"ADR",3,"Local System","Local System",2,0,0,0,2,null,0,0,0,0,0,0,0,0,0,0,0,0,null,2,1,0,0,0,0,0,0,0,0]
["1 Nov 2024 to 30 Nov 2024","HOLISTIC MIND LIMITED","HOLISTIC MIND","SOLO",7228524127,"CMRXO",3,"Local System","EC Connect",3,0,0,2,1,null,0,0,0,0,0,0,0,0,0,0,0,0,null,1,0.33333333333333331,0,0,0,0,0,0,0,0]
["1 Nov 2024 to 30 Nov 2024","DR LAM KOON MAN CLINIC","DR LAM KOON MAN CLINIC","SOLO",8256954924,"ENCTR",3,"ClinicSolution","Local System",13,0,0,0,13,null,0,0,0,0,0,0,0,0,0,0,0,0,null,13,1,0,0,0,0,0,0,0,0]
["1 Nov 2024 to 30 Nov 2024","HEALTHFOCUS MEDICAL CENTRE LIMITED","HEALTHFOCUS MEDICAL","SOLO",8755083644,"RXD",2,"ClinicSolution","Local System",4,0,0,4,0,null,0,0,0,0,0,0,0,0,0,0,0,0,null,0,0,0,0,0,0,0,0,0,0]
["1 Nov 2024 to 30 Nov 2024","HONG KONG ADVENTIST HOSPITAL - TSUEN WAN","HK ADVENTIST - TW","PH",8909436562,"BIRTH",3,"TWAHLAAM","Local System",3,0,0,0,3,null,0,0,0,0,0,0,0,0,0,0,0,0,null,3,1,0,0,0,0,0,0,0,0]
["1 Nov 2024 to 30 Nov 2024","DISTRICT HEALTH CENTRE-TSUEN WAN (YCHB)","DHC-TSUEN WAN","DHC",9043776781,"ENCTR",3,"Local System","Local System",13084,0,0,0,13084,null,0,0,0,0,0,0,0,0,0,0,0,0,null,13084,1,0,0,0,0,0,0,0,0]
["1 Nov 2024 to 30 Nov 2024","Hong Kong Christian Service","HKCS","GROUP",9179355867,"RXO",3,"Local System","Local System",85,0,0,22,63,null,0,0,0,0,0,0,0,0,0,0,0,0,null,63,0.74117647058823533,0,0,0,0,0,0,0,0]
["1 Dec 2024 to 31 Dec 2024","WELL BEING CHINESE MEDICINE CLINIC","WBCMC","SOLO",1667592556,"CMRXD",3,"Local System","EC Connect",1,0,0,0,1,null,{"$f":"SUM(R22161:S22161)","v":0},{"$f":"P22161/J22161","v":0},0,0,0,{"$f":"T22161/J22161","v":0},0,0,0,0,0,0,null,1,1,0,0,0,0,0,0,0,0]
["1 Dec 2024 to 31 Dec 2024","EVANGEL HOSPITAL","EVANGEL HOSPITAL","PH",2206285885,"AL1",3,"HMS","Local System",157,0,0,79,78,null,0,0,0,0,79,0.50318471337579618,79,0,0,79,0,0,null,78,0.49681528662420382,0,0,0,0,0,0,0,0]
["1 Dec 2024 to 31 Dec 2024","DR. YEE YUK KEI","DR. YK YEE","SOLO",2310917092,"RXD",3,"Local System","Local System",381,0,0,297,84,null,0,0,0,0,0,0,0,0,0,0,0,0,null,84,0.22047244094488189,0,0,0,0,0,0,0,0]
["1 Dec 2024 to 31 Dec 2024","DEPARTMENT OF HEALTH","DH","DH",2438744730,"REF",1,"CIMS2","Local System",4117,0,4117,0,0,null,0,0,0,0,0,0,0,0,0,0,0,0,null,0,0,0,0,0,0,0,0,0,0]
["1 Dec 2024 to 31 Dec 2024","HOSPITAL AUTHORITY","HA","HA",3098159131,"BIRTH",3,"Enterprise Application Integration (EAI)","Local System",8428,0,0,0,8428,null,0,0,0,0,0,0,0,0,0,0,0,0,null,8428,1,0,0,0,0,0,0,0,0]
["1 Dec 2024 to 31 Dec 2024","DR. LEUNG KIN KAY","DR. LEUNG KIN KAY","SOLO",3226804803,"IMMU",3,"Local System","Local System",2,0,0,0,2,null,0,0,0,0,0,0,0,0,0,0,0,0,null,2,1,0,0,0,0,0,0,0,0]
["1 Dec 2024 to 31 Dec 2024","18 Chinese Medicine Clinic cum Traing and Research Centre (United Christian Nethersole Community Health Service)","18CMCTRs (UCN)","NGO",3740691088,"CMPROB",3,"Local System","EC Connect",2012,0,0,233,1779,null,0,0,0,0,182,9.0457256461232607E-2,182,0,0,182,0,0,null,1779,0.88419483101391649,0,0,0,0,0,0,0,0]
["1 Dec 2024 to 31 Dec 2024","DISTRICT HEALTH CENTRE-WONG TAI SIN (HKSKHWCL)","DHC-WONG TAI SIN","DHC",4437392776,"EPIS",1,"Local System","Local System",8336,0,8336,0,0,null,0,0,0,0,0,0,0,0,0,0,0,0,null,0,0,0,0,0,0,0,0,0,0]
["1 Dec 2024 to 31 Dec 2024","HKSH Medical Group Limited","HKSH MEDICAL FROUP","PH",4773496701,"PROB",3,"HKSH e-HR gateway","Local System",4880,0,0,0,4880,null,0,0,0,0,0,0,0,0,0,0,0,0,null,4880,1,0,0,0,0,0,0,0,0]
["1 Dec 2024 to 31 Dec 2024","ST. PAUL'S HOSPITAL","SPH","PH",5156724947,"RXD",3,"SPH HIS","Local System",5489,0,0,678,4811,null,0,0,0,0,678,0.12351976680633996,678,0,0,678,0,0,null,4811,0.87648023319366009,0,0,0,0,0,0,0,0]
["1 Dec 2024 to 31 Dec 2024","Gleneagles Hong Kong Hospital","GHK HOSPITAL LIMITED","PH",5189883789,"AL1",3,"HMS","Local System",1309,0,0,897,412,null,0,0,0,0,893,0.68220015278838808,893,0,0,893,0,0,null,412,0.3147440794499618,0,0,0,0,0,0,0,0]
["1 Dec 2024 to 31 Dec 2024","Gleneagles Hong Kong Hospital","GHK HOSPITAL LIMITED","PH",5189883789,"RAD",3,"HMS","Local System",3237,0,0,0,3237,null,0,0,0,0,0,0,0,0,0,0,0,0,null,3237,1,0,0,0,0,0,0,0,0]
["1 Dec 2024 to 31 Dec 2024","BETHEL MEDICAL LIMITED","BETHEL MEDICAL LIMITED","SOLO",5197855501,"ENCTR",3,"ClinicSolution","Local System",15,0,0,0,15,null,0,0,0,0,0,0,0,0,0,0,0,0,null,15,1,0,0,0,0,0,0,0,0]
["1 Dec 2024 to 31 Dec 2024","BETHEL MEDICAL LIMITED","BETHEL MEDICAL LIMITED","SOLO",5197855501,"PROB",3,"ClinicSolution","Local System",9,0,0,9,0,null,0,0,0,0,9,1,9,0,0,9,0,0,null,0,0,0,0,0,0,0,0,0,0]
["1 Dec 2024 to 31 Dec 2024","BETHEL MEDICAL LIMITED","BETHEL MEDICAL LIMITED","SOLO",5197855501,"RXD",2,"ClinicSolution","Local System",5,0,0,5,0,null,0,0,0,0,0,0,0,0,0,0,0,0,null,0,0,0,0,0,0,0,0,0,0]
["1 Dec 2024 to 31 Dec 2024","BETHEL MEDICAL LIMITED","BETHEL MEDICAL LIMITED","SOLO",5197855501,"RXO",2,"ClinicSolution","Local System",5,0,0,5,0,null,0,0,0,0,0,0,0,0,0,0,0,0,null,0,0,0,0,0,0,0,0,0,0]
["1 Dec 2024 to 31 Dec 2024","18 Chinese Medicine Clinic cum Traing and Research Centre (Tung Wah Group of Hospital)","18CMCTRs(TWGHS)","NGO",5249502353,"CMPROB",3,"Local System","EC Connect",2543,0,0,664,1879,null,0,0,0,0,365,0.14353126228863547,365,0,0,365,0,0,null,1879,0.73889107353519468,0,0,0,0,0,0,0,0]
["1 Dec 2024 to 31 Dec 2024","18 Chinese Medicine Clinic cum Traing and Research Centre (Tung Wah Group of Hospital)","18CMCTRs(TWGHS)","NGO",5249502353,"CMPX",3,"Local System","EC Connect",626,0,0,0,626,null,0,0,0,0,0,0,0,0,0,0,0,0,null,626,1,0,0,0,0,0,0,0,0]
["1 Dec 2024 to 31 Dec 2024","18 Chinese Medicine Clinic cum Traing and Research Centre (Tung Wah Group of Hospital)","18CMCTRs(TWGHS)","NGO",5249502353,"CMRXO",3,"Local System","EC Connect",1016,0,0,257,759,null,0,0,0,0,257,0.25295275590551181,257,0,0,257,0,0,null,759,0.74704724409448819,0,0,0,0,0,0,0,0]
["1 Dec 2024 to 31 Dec 2024","18 Chinese Medicine Clinic cum Traing and Research Centre (Tung Wah Group of Hospital)","18CMCTRs(TWGHS)","NGO",5249502353,"ENCTR",3,"Local System","Local System",2163,0,0,0,2163,null,0,0,0,0,0,0,0,0,0,0,0,0,null,2163,1,0,0,0,0,0,0,0,0]
["1 Dec 2024 to 31 Dec 2024","L & C CLINICAL PRACTICE","L & C CLINICAL PRACTICE","GROUP",5251825990,"ENCTR",3,"ClinicSolution","Local System",4,0,0,0,4,null,0,0,0,0,0,0,0,0,0,0,0,0,null,4,1,0,0,0,0,0,0,0,0]
["1 Dec 2024 to 31 Dec 2024","L & C CLINICAL PRACTICE","L & C CLINICAL PRACTICE","GROUP",5251825990,"PROB",3,"ClinicSolution","Local System",3,0,0,3,0,null,0,0,0,0,3,1,3,0,0,3,0,0,null,0,0,0,0,0,0,0,0,0,0]
["1 Dec 2024 to 31 Dec 2024","L & C CLINICAL PRACTICE","L & C CLINICAL PRACTICE","GROUP",5251825990,"RXD",2,"ClinicSolution","Local System",13,0,0,13,0,null,0,0,0,0,0,0,0,0,0,0,0,0,null,0,0,0,0,0,0,0,0,0,0]
["1 Dec 2024 to 31 Dec 2024","L & C CLINICAL PRACTICE","L & C CLINICAL PRACTICE","GROUP",5251825990,"RXO",2,"ClinicSolution","Local System",13,0,0,13,0,null,0,0,0,0,0,0,0,0,0,0,0,0,null,0,0,0,0,0,0,0,0,0,0]
["1 Dec 2024 to 31 Dec 2024","Alpha Medical (CWB)","ALPHA MEDICAL (CWB)","GROUP",5292537029,"RAD",3,"RIS (LAAM)","Local System",406,0,0,0,406,null,0,0,0,0,0,0,0,0,0,0,0,0,null,406,1,0,0,0,0,0,0,0,0]
["1 Dec 2024 to 31 Dec 2024","HEALTH INTEGRATED LIMITED","HEALTH INTEGRATED LIMITED","OTH",5368445357,"ENCTR",3,"ClinicSolution","Local System",13,0,0,0,13,null,0,0,0,0,0,0,0,0,0,0,0,0,null,13,1,0,0,0,0,0,0,0,0]
["1 Dec 2024 to 31 Dec 2024","HEALTH INTEGRATED LIMITED","HEALTH INTEGRATED LIMITED","OTH",5368445357,"PROB",3,"ClinicSolution","Local System",1,0,0,1,0,null,0,0,0,0,1,1,1,0,0,1,0,0,null,0,0,0,0,0,0,0,0,0,0]
["1 Dec 2024 to 31 Dec 2024","HEALTH INTEGRATED LIMITED","HEALTH INTEGRATED LIMITED","OTH",5368445357,"RXD",2,"ClinicSolution","Local System",{"$f":"SUM(K22352:N22352)","v":61},{"$f":"P22352","v":0},0,61,0,null,0,0,0,0,{"$f":"SUM(Y22352:AA22352)","v":0},0,0,0,0,0,0,0,null,{"$f":"N22352","v":0},0,0,{"$f":"IF(J22352=0,0,AE22352/J22352)","v":0},0,0,0,0,0,0]
["1 Dec 2024 to 31 Dec 2024","HEALTH INTEGRATED LIMITED","HEALTH INTEGRATED LIMITED","OTH",5368445357,"RXO",2,"ClinicSolution","Local System",61,0,0,61,0,null,{"$f":"SUM(R22353:S22353)","v":0},{"$f":"P22353/J22353","v":0},0,0,0,{"$f":"T22353/J22353","v":0},0,0,0,0,0,0,null,0,0,0,0,0,0,0,0,0,0]
["1 Dec 2024 to 31 Dec 2024","HONG KONG MEDICAL ADVANCED IMAGING LIMITED","HKMAIL","GROUP",5414310424,"RAD",3,"CSP","Local System",4831,0,0,0,4831,null,0,0,0,0,0,0,0,0,0,0,0,0,null,4831,1,0,0,0,0,0,0,0,0]
["1 Dec 2024 to 31 Dec 2024","Trinity Medical Imaging Centre Limited","TRINITY MEDICAL IMG","SOLO",5453649547,"RAD",3,"RIS (LAAM)","Local System",1231,0,0,0,1231,null,0,0,0,0,0,0,0,0,0,0,0,0,null,1231,1,0,0,0,0,0,0,0,0]
["1 Dec 2024 to 31 Dec 2024","DR WONG CHUN POR","DR CP WONG CLINIC","SOLO",5528991274,"ADR",3,"Local System","Local System",1,0,0,0,1,null,0,0,0,0,0,0,0,0,0,0,0,0,null,1,1,0,0,0,0,0,0,0,0]
["1 Dec 2024 to 31 Dec 2024","DR WONG CHUN POR","DR CP WONG CLINIC","SOLO",5528991274,"AL1",3,"Local System","Local System",1,0,0,0,1,null,0,0,0,0,0,0,0,0,0,0,0,0,null,1,1,0,0,0,0,0,0,0,0]
["1 Dec 2024 to 31 Dec 2024","DR WONG CHUN POR","DR CP WONG CLINIC","SOLO",5528991274,"ENCTR",3,"Local System","Local System",687,0,0,0,687,null,0,0,0,0,0,0,0,0,0,0,0,0,null,687,1,0,0,0,0,0,0,0,0]
["1 Dec 2024 to 31 Dec 2024","DR WONG CHUN POR","DR CP WONG CLINIC","SOLO",5528991274,"IMMU",3,"Local System","Local System",25,0,0,0,25,null,0,0,0,0,0,0,0,0,0,0,0,0,null,25,1,0,0,0,0,0,0,0,0]
["1 Dec 2024 to 31 Dec 2024","DR WONG CHUN POR","DR CP WONG CLINIC","SOLO",5528991274,"PROB",3,"Local System","Local System",678,0,0,18,660,null,0,0,0,0,0,0,0,0,0,0,0,0,null,660,{"$f":"AC22360/J22360","v":0.97345132743362828},0,0,0,0,0,0,0,0]
["1 Dec 2024 to 31 Dec 2024","DR WONG CHUN POR","DR CP WONG CLINIC","SOLO",5528991274,"RXD",3,"Local System","Local System",868,0,0,96,772,null,0,0,0,0,0,0,0,0,0,0,0,0,null,772,0.88940092165898621,0,0,0,0,0,0,0,0]
["1 Dec 2024 to 31 Dec 2024","DR WONG CHUN POR","DR CP WONG CLINIC","SOLO",5528991274,"RXO",3,"Local System","Local System",904,0,0,100,804,null,0,0,0,0,0,0,0,0,0,0,0,0,null,804,0.88938053097345138,0,0,0,0,0,0,0,0]
["1 Dec 2024 to 31 Dec 2024","HONG KONG HEALTH CHECK (HEAD OFFICE)","HONG KONG HEALTH CHECK","GROUP",5596680865,"RAD",3,"RHI2","Local System",1046,0,0,0,1046,null,0,0,0,0,0,0,0,0,0,0,0,0,null,1046,1,0,0,0,0,0,0,0,0]
["1 Dec 2024 to 31 Dec 2024","HUMAN HEALTH MEDICAL CENTRE.","HUMAN  HEALTH","GROUP",5634981022,"EPIS",1,"RCMS_LAAM","Local System",161,0,161,0,0,null,0,0,0,0,0,0,0,0,0,0,0,0,null,0,0,0,0,0,0,0,0,0,0]
["1 Dec 2024 to 31 Dec 2024","HUMAN HEALTH MEDICAL CENTRE.","HUMAN  HEALTH","GROUP",5634981022,"RAD",1,"RCMS_LAAM","Local System",106,0,106,0,0,null,0,0,0,0,0,0,0,0,0,0,0,0,null,0,0,0,0,0,0,0,0,0,0]
["1 Dec 2024 to 31 Dec 2024","UNION HOSPITAL","UNION HOSPITAL","PH",5712620300,"ADR",3,"UHLAAM","Local System",39,0,0,6,33,null,0,0,0,0,6,0.15384615384615385,6,0,0,6,0,0,null,33,0.84615384615384615,0,0,0,0,0,0,0,0]
["1 Dec 2024 to 31 Dec 2024","UNION HOSPITAL","UNION HOSPITAL","PH",5712620300,"AL1",3,"UHLAAM","Local System",1265,0,0,278,987,null,0,0,0,0,265,0.20948616600790515,265,0,0,265,0,0,null,987,0.78023715415019768,0,0,0,0,0,0,0,0]
["1 Dec 2024 to 31 Dec 2024","UNION HOSPITAL","UNION HOSPITAL","PH",5712620300,"BIRTH",3,"UHLAAM","Local System",6,0,0,6,0,null,0,0,0,0,0,0,0,0,0,0,0,0,null,0,0,0,0,0,0,0,0,0,0]
["1 Dec 2024 to 31 Dec 2024","UNION HOSPITAL","UNION HOSPITAL","PH",5712620300,"EPIS",1,"UHLAAM","Local System",447,0,447,0,0,null,0,0,0,0,0,0,0,0,0,0,0,0,null,0,0,0,0,0,0,0,0,0,0]
["1 Dec 2024 to 31 Dec 2024","UNION HOSPITAL","UNION HOSPITAL","PH",5712620300,"IMMU",2,"UHLAAM","Local System",161,0,0,161,0,null,0,0,0,0,0,0,0,0,0,0,0,0,null,0,0,0,0,0,0,0,0,0,0]
["1 Dec 2024 to 31 Dec 2024","UNION HOSPITAL","UNION HOSPITAL","PH",5712620300,"RAD",3,"UHLAAM","Local System",3392,0,0,0,3392,null,0,0,0,0,0,0,0,0,0,0,0,0,null,3392,1,0,0,0,0,0,0,0,0]
["1 Dec 2024 to 31 Dec 2024","PASSION MEDICAL LIMITED","PASSION MEDICAL","SOLO",5772944231,"ENCTR",3,"ClinicSolution","Local System",9,0,0,0,9,null,0,0,0,0,0,0,0,0,0,0,0,0,null,9,1,0,0,0,0,0,0,0,0]
["1 Dec 2024 to 31 Dec 2024","PASSION MEDICAL LIMITED","PASSION MEDICAL","SOLO",5772944231,"PROB",3,"ClinicSolution","Local System",5,0,0,5,0,null,0,0,0,0,5,1,5,0,0,5,0,0,null,0,0,0,0,0,0,0,0,0,0]
["1 Dec 2024 to 31 Dec 2024","PASSION MEDICAL LIMITED","PASSION MEDICAL","SOLO",5772944231,"RXD",2,"ClinicSolution","Local System",13,0,0,13,0,null,0,0,0,0,0,0,0,0,0,0,0,0,null,0,0,0,0,0,0,0,0,0,0]
["1 Dec 2024 to 31 Dec 2024","PASSION MEDICAL LIMITED","PASSION MEDICAL","SOLO",5772944231,"RXO",2,"ClinicSolution","Local System",13,0,0,13,0,null,0,0,0,0,0,0,0,0,0,0,0,0,null,0,0,0,0,0,0,0,0,0,0]
["1 Dec 2024 to 31 Dec 2024","Primehealth Medical Centre Limited","PMC","SOLO",5826741564,"ENCTR",3,"ClinicSolution","Local System",2,0,0,0,2,null,0,0,0,0,0,0,0,0,0,0,0,0,null,2,1,0,0,0,0,0,0,0,0]
["1 Dec 2024 to 31 Dec 2024","Primehealth Medical Centre Limited","PMC","SOLO",5826741564,"PROB",3,"ClinicSolution","Local System",1,0,0,1,0,null,0,0,0,0,1,1,1,0,0,1,0,0,null,0,0,0,0,0,0,0,0,0,0]
["1 Dec 2024 to 31 Dec 2024","Primehealth Medical Centre Limited","PMC","SOLO",5826741564,"RXD",2,"ClinicSolution","Local System",5,0,0,5,0,null,0,0,0,0,0,0,0,0,0,0,0,0,null,0,0,0,0,0,0,0,0,0,0]
["1 Dec 2024 to 31 Dec 2024","Primehealth Medical Centre Limited","PMC","SOLO",5826741564,"RXO",2,"ClinicSolution","Local System",5,0,0,5,0,null,0,0,0,0,0,0,0,0,0,0,0,0,null,0,0,0,0,0,0,0,0,0,0]
["1 Dec 2024 to 31 Dec 2024","DHC EXPRESS-YAU TSIM MONG (LOKSINTONG)","DHC EXPRESS-YTM-CC","DHC",5832575528,"ENCTR",3,"Local System","Local System",2065,0,0,0,2065,null,0,0,0,0,0,0,0,0,0,0,0,0,null,2065,1,0,0,0,0,0,0,0,0]
["1 Dec 2024 to 31 Dec 2024","DHC EXPRESS-YAU TSIM MONG (LOKSINTONG)","DHC EXPRESS-YTM-CC","DHC",5832575528,"EPIS",1,"Local System","Local System",1239,0,1239,0,0,null,0,0,0,0,0,0,0,0,0,0,0,0,null,0,0,0,0,0,0,0,0,0,0]
["1 Dec 2024 to 31 Dec 2024","Mongkok MRI Centre Limited","MONGKOK MRI CENTRE LTD","GROUP",5833341375,"RAD",3,"RHI2","Local System",291,0,0,0,291,null,0,0,0,0,0,0,0,0,0,0,0,0,null,291,1,0,0,0,0,0,0,0,0]
["1 Dec 2024 to 31 Dec 2024","DR. CHOI KAM YEE SAMUEL","DR. CHOI KAM YEE SAMUEL","SOLO",5849557920,"ENCTR",3,"ClinicSolution","Local System",2,0,0,0,2,null,0,0,0,0,0,0,0,0,0,0,0,0,null,2,1,0,0,0,0,0,0,0,0]
["1 Dec 2024 to 31 Dec 2024","DR. CHOI KAM YEE SAMUEL","DR. CHOI KAM YEE SAMUEL","SOLO",5849557920,"PROB",3,"ClinicSolution","Local System",2,0,0,2,0,null,0,0,0,0,2,1,2,0,0,2,0,0,null,0,0,0,0,0,0,0,0,0,0]
["1 Dec 2024 to 31 Dec 2024","CUHK MEDICAL CENTRE LIMITED","CUHK MEDICAL CENTRE","PH",5963779130,"INVR",1,"HIS","Local System",600,0,600,0,0,null,0,0,0,0,0,0,0,0,0,0,0,0,null,0,0,0,0,0,0,0,0,0,0]
["1 Dec 2024 to 31 Dec 2024","CUHK MEDICAL CENTRE LIMITED","CUHK MEDICAL CENTRE","PH",5963779130,"LABAP",1,"HIS","Local System",1061,0,1061,0,0,null,0,0,0,0,0,0,0,0,0,0,0,0,null,0,0,0,0,0,0,0,0,0,0]
["1 Dec 2024 to 31 Dec 2024","CUHK MEDICAL CENTRE LIMITED","CUHK MEDICAL CENTRE","PH",5963779130,"LABGEN",1,"HIS","Local System",7395,0,7395,0,0,null,0,0,0,0,0,0,0,0,0,0,0,0,null,0,0,0,0,0,0,0,0,0,0]
["1 Dec 2024 to 31 Dec 2024","CUHK MEDICAL CENTRE LIMITED","CUHK MEDICAL CENTRE","PH",5963779130,"LABMB",1,"HIS","Local System",1602,0,1602,0,0,null,0,0,0,0,0,0,0,0,0,0,0,0,null,0,0,0,0,0,0,0,0,0,0]
["1 Dec 2024 to 31 Dec 2024","CUHK MEDICAL CENTRE LIMITED","CUHK MEDICAL CENTRE","PH",5963779130,"RAD",3,"HIS","Local System",4086,0,0,0,4086,null,0,0,0,0,0,0,0,0,0,0,0,0,null,4086,1,0,0,0,0,0,0,0,0]
["1 Dec 2024 to 31 Dec 2024","PENG CHAU MEDICAL CENTRE","PENG CHAU MEDICAL CENTRE","SOLO",5977831183,"ENCTR",3,"Local System","Local System",1,0,0,0,1,null,0,0,0,0,0,0,0,0,0,0,0,0,null,1,1,0,0,0,0,0,0,0,0]
["1 Dec 2024 to 31 Dec 2024","PENG CHAU MEDICAL CENTRE","PENG CHAU MEDICAL CENTRE","SOLO",5977831183,"RXD",3,"Local System","Local System",10,0,0,1,9,null,0,0,0,0,1,0.1,1,0,0,1,0,0,null,9,0.9,0,0,0,0,0,0,0,0]
["1 Dec 2024 to 31 Dec 2024","PENG CHAU MEDICAL CENTRE","PENG CHAU MEDICAL CENTRE","SOLO",5977831183,"RXO",3,"Local System","Local System",5,0,0,1,4,null,0,0,0,0,1,0.2,1,0,0,1,0,0,null,4,0.8,0,0,0,0,0,0,0,0]
["1 Dec 2024 to 31 Dec 2024","DHC EXPRESS-ISLANDS (NAAC)","DHC EXPRESS-ISLANDS-CC","DHC",6142872901,"ENCTR",3,"Local System","Local System",2390,0,0,0,2390,null,0,0,0,0,0,0,0,0,0,0,0,0,null,2390,1,0,0,0,0,0,0,0,0]
["1 Dec 2024 to 31 Dec 2024","DHC EXPRESS-ISLANDS (NAAC)","DHC EXPRESS-ISLANDS-CC","DHC",6142872901,"EPIS",1,"Local System","Local System",795,0,795,0,0,null,0,0,0,0,0,0,0,0,0,0,0,0,null,0,0,0,0,0,0,0,0,0,0]
["1 Dec 2024 to 31 Dec 2024","18 Chinese Medicine Clinic cum Traing and Research Centre (Yan Chai Hospital)","18CMCTRs (YCH)","NGO",6255376532,"CMPROB",3,"Local System","EC Connect",1194,0,0,261,933,null,0,0,0,0,145,0.12144053601340034,145,0,0,145,0,0,null,933,0.78140703517587939,0,0,0,0,0,0,0,0]
["1 Dec 2024 to 31 Dec 2024","18 Chinese Medicine Clinic cum Traing and Research Centre (Yan Chai Hospital)","18CMCTRs (YCH)","NGO",6255376532,"CMPX",3,"Local System","EC Connect",149,0,0,0,149,null,0,0,0,0,0,0,0,0,0,0,0,0,null,149,1,0,0,0,0,0,0,0,0]
["1 Dec 2024 to 31 Dec 2024","18 Chinese Medicine Clinic cum Traing and Research Centre (Yan Chai Hospital)","18CMCTRs (YCH)","NGO",6255376532,"CMRXO",3,"Local System","EC Connect",638,0,0,272,366,null,0,0,0,0,272,0.42633228840125392,272,0,0,272,0,0,null,366,0.57366771159874608,0,0,0,0,0,0,0,0]
["1 Dec 2024 to 31 Dec 2024","18 Chinese Medicine Clinic cum Traing and Research Centre (Yan Chai Hospital)","18CMCTRs (YCH)","NGO",6255376532,"ENCTR",3,"Local System","Local System",1107,0,0,0,1107,null,0,0,0,0,0,0,0,0,0,0,0,0,null,1107,1,0,0,0,0,0,0,0,0]
["1 Dec 2024 to 31 Dec 2024","DR. WONG MAN HUNG","DR. WONG MAN HUNG","SOLO",6256774535,"ENCTR",3,"ClinicSolution","Local System",19,0,0,0,19,null,0,0,0,0,0,0,0,0,0,0,0,0,null,19,1,0,0,0,0,0,0,0,0]
["1 Dec 2024 to 31 Dec 2024","DR. WONG MAN HUNG","DR. WONG MAN HUNG","SOLO",6256774535,"RXD",2,"ClinicSolution","Local System",52,0,0,52,0,null,0,0,0,0,0,0,0,0,0,0,0,0,null,0,0,0,0,0,0,0,0,0,0]
["1 Dec 2024 to 31 Dec 2024","DR. WONG MAN HUNG","DR. WONG MAN HUNG","SOLO",6256774535,"RXO",2,"ClinicSolution","Local System",52,0,0,52,0,null,0,0,0,0,0,0,0,0,0,0,0,0,null,0,0,0,0,0,0,0,0,0,0]
["1 Dec 2024 to 31 Dec 2024","DISTRICT HEALTH CENTRE-TUEN MUN (ELCHK)","DHC-TUEN MUN-CC","DHC",6303033042,"ADR",3,"Local System","Local System",2,0,0,0,2,null,0,0,0,0,0,0,0,0,0,0,0,0,null,2,1,0,0,0,0,0,0,0,0]
["1 Dec 2024 to 31 Dec 2024","DISTRICT HEALTH CENTRE-TUEN MUN (ELCHK)","DHC-TUEN MUN-CC","DHC",6303033042,"AL1",3,"Local System","Local System",12,0,0,0,12,null,0,0,0,0,0,0,0,0,0,0,0,0,null,12,1,0,0,0,0,0,0,0,0]
["1 Dec 2024 to 31 Dec 2024","DISTRICT HEALTH CENTRE-TUEN MUN (ELCHK)","DHC-TUEN MUN-CC","DHC",6303033042,"ENCTR",3,"Local System","Local System",26830,0,0,0,26830,null,0,0,0,0,0,0,0,0,0,0,0,0,null,26830,1,0,0,0,0,0,0,0,0]
["1 Dec 2024 to 31 Dec 2024","DISTRICT HEALTH CENTRE-TUEN MUN (ELCHK)","DHC-TUEN MUN-CC","DHC",6303033042,"EPIS",1,"Local System","Local System",7770,0,7770,0,0,null,0,0,0,0,0,0,0,0,0,0,0,0,null,0,0,0,0,0,0,0,0,0,0]
["1 Dec 2024 to 31 Dec 2024","DHC EXPRESS-SAI KUNG (HOHCS)","DHC EXPRESS-SAI KUNG-CC","DHC",6402782674,"ENCTR",3,"Local System","Local System",3059,0,0,0,3059,null,0,0,0,0,0,0,0,0,0,0,0,0,null,3059,1,0,0,0,0,0,0,0,0]
["1 Dec 2024 to 31 Dec 2024","DHC EXPRESS-SAI KUNG (HOHCS)","DHC EXPRESS-SAI KUNG-CC","DHC",6402782674,"EPIS",1,"Local System","Local System",1168,0,1168,0,0,null,0,0,0,0,0,0,0,0,0,0,0,0,null,0,0,0,0,0,0,0,0,0,0]
["1 Dec 2024 to 31 Dec 2024","CITY SURGICAL CENTER LIMITED","CITY SURGICAL CENTER","GROUP",6467582028,"AL1",2,"ClinicSolution","Local System",2,0,0,2,0,null,0,0,0,0,0,0,0,0,0,0,0,0,null,0,0,0,0,0,0,0,0,0,0]
["1 Dec 2024 to 31 Dec 2024","CITY SURGICAL CENTER LIMITED","CITY SURGICAL CENTER","GROUP",6467582028,"ENCTR",3,"ClinicSolution","Local System",156,0,0,0,156,null,0,0,0,0,0,0,0,0,0,0,0,0,null,156,1,0,0,0,0,0,0,0,0]
["1 Dec 2024 to 31 Dec 2024","CITY SURGICAL CENTER LIMITED","CITY SURGICAL CENTER","GROUP",6467582028,"PROB",3,"ClinicSolution","Local System",94,5,0,89,0,null,5,5.3191489361702128E-2,5,0,89,0.94680851063829785,89,0,0,89,0,0,null,0,0,0,0,0,0,0,0,0,0]
["1 Dec 2024 to 31 Dec 2024","CITY SURGICAL CENTER LIMITED","CITY SURGICAL CENTER","GROUP",6467582028,"RXD",2,"ClinicSolution","Local System",20,0,0,20,0,null,0,0,0,0,0,0,0,0,0,0,0,0,null,0,0,0,0,0,0,0,0,0,0]
["1 Dec 2024 to 31 Dec 2024","CITY SURGICAL CENTER LIMITED","CITY SURGICAL CENTER","GROUP",6467582028,"RXO",2,"ClinicSolution","Local System",20,0,0,20,0,null,0,0,0,0,0,0,0,0,0,0,0,0,null,0,0,0,0,0,0,0,0,0,0]
["1 Dec 2024 to 31 Dec 2024","DHC EXPRESS-EASTERN (HKSR)","DHC EXPRESS-EASTERN-CC","DHC",6542377532,"ENCTR",3,"Local System","Local System",2272,0,0,0,2272,null,0,0,0,0,0,0,0,0,0,0,0,0,null,2272,1,0,0,0,0,0,0,0,0]
["1 Dec 2024 to 31 Dec 2024","DHC EXPRESS-EASTERN (HKSR)","DHC EXPRESS-EASTERN-CC","DHC",6542377532,"EPIS",1,"Local System","Local System",1154,0,1154,0,0,null,0,0,0,0,0,0,0,0,0,0,0,0,null,0,0,0,0,0,0,0,0,0,0]
["1 Dec 2024 to 31 Dec 2024","IRAD MEDICAL HOLDING LIMITED","IRAD MEDICAL","GROUP",6609847497,"RAD",3,"RHI2","Local System",2253,4,0,0,2249,null,4,1.7754105636928539E-3,0,4,0,0,0,0,0,0,0,0,null,2249,0.9982245894363071,0,0,0,0,0,0,0,0]
["1 Dec 2024 to 31 Dec 2024","DHC EXPRESS-CENTRAL AND WESTERN (HKSR)","DHC EXPRESS-C&W-CC","DHC",6645809992,"ENCTR",3,"Local System","Local System",{"$f":"SUM(K22416:N22416)","v":2061},{"$f":"P22416","v":0},0,0,2061,null,0,0,0,0,{"$f":"SUM(Y22416:AA22416)","v":0},0,0,0,0,0,0,0,null,{"$f":"N22416","v":2061},1,0,{"$f":"IF(J22416=0,0,AE22416/J22416)","v":0},0,0,0,0,0,0]
["1 Dec 2024 to 31 Dec 2024","DHC EXPRESS-CENTRAL AND WESTERN (HKSR)","DHC EXPRESS-C&W-CC","DHC",6645809992,"EPIS",1,"Local System","Local System",704,0,704,0,0,null,{"$f":"SUM(R22417:S22417)","v":0},{"$f":"P22417/J22417","v":0},0,0,0,{"$f":"T22417/J22417","v":0},0,0,0,0,0,0,null,0,0,0,0,0,0,0,0,0,0]
["1 Dec 2024 to 31 Dec 2024","DHC EXPRESS-NORTH (HKSR)","DHC EXPRESS-NORTH-CC","DHC",6678116401,"ENCTR",3,"Local System","Local System",3009,0,0,0,3009,null,0,0,0,0,0,0,0,0,0,0,0,0,null,3009,1,0,0,0,0,0,0,0,0]
["1 Dec 2024 to 31 Dec 2024","DHC EXPRESS-NORTH (HKSR)","DHC EXPRESS-NORTH-CC","DHC",6678116401,"EPIS",1,"Local System","Local System",1288,0,1288,0,0,null,0,0,0,0,0,0,0,0,0,0,0,0,null,0,0,0,0,0,0,0,0,0,0]
["1 Dec 2024 to 31 Dec 2024","HONG KONG INTEGRATED IMAGING AND ENDOSCOPY DIANOSTIC CENTRE","HKIDIC","GROUP",6691242811,"RAD",3,"Local System","Local System",836,0,0,0,836,null,0,0,0,0,0,0,0,0,0,0,0,0,null,836,1,0,0,0,0,0,0,0,0]
["1 Dec 2024 to 31 Dec 2024","Dagon Corporation Holdings Limited","DRAGON CORPORATION","GROUP",6738094014,"CMPROB",3,"Local System","EC Connect",3,0,0,2,1,null,0,0,0,0,0,0,0,0,0,0,0,0,null,1,0.33333333333333331,0,0,0,0,0,0,0,0]
["1 Dec 2024 to 31 Dec 2024","Dagon Corporation Holdings Limited","DRAGON CORPORATION","GROUP",6738094014,"CMRXD",3,"Local System","EC Connect",1,0,0,0,1,null,0,0,0,0,0,0,0,0,0,0,0,0,null,1,1,0,0,0,0,0,0,0,0]
["1 Dec 2024 to 31 Dec 2024","Dagon Corporation Holdings Limited","DRAGON CORPORATION","GROUP",6738094014,"CMRXO",3,"Local System","EC Connect",1,0,0,0,1,null,0,0,0,0,0,0,0,0,0,0,0,0,null,1,1,0,0,0,0,0,0,0,0]
["1 Dec 2024 to 31 Dec 2024","Dagon Corporation Holdings Limited","DRAGON CORPORATION","GROUP",6738094014,"ENCTR",3,"Local System","Local System",3,0,0,0,3,null,0,0,0,0,0,0,0,0,0,0,0,0,null,3,{"$f":"AC22424/J22424","v":1},0,0,0,0,0,0,0,0]
["1 Dec 2024 to 31 Dec 2024","18 Chinese Medicine Clinic cum Traing and Research Centre (Pok Oi Hospital)","18CMCTRs (POH)","NGO",6758313621,"CMPROB",3,"Local System","EC Connect",3045,0,0,968,2077,null,0,0,0,0,507,0.1665024630541872,507,0,0,507,0,0,null,2077,0.68210180623973726,0,0,0,0,0,0,0,0]
["1 Dec 2024 to 31 Dec 2024","18 Chinese Medicine Clinic cum Traing and Research Centre (Pok Oi Hospital)","18CMCTRs (POH)","NGO",6758313621,"CMPX",3,"Local System","EC Connect",852,0,0,26,826,null,0,0,0,0,26,3.0516431924882629E-2,26,0,0,26,0,0,null,826,0.96948356807511737,0,0,0,0,0,0,0,0]
["1 Dec 2024 to 31 Dec 2024","18 Chinese Medicine Clinic cum Traing and Research Centre (Pok Oi Hospital)","18CMCTRs (POH)","NGO",6758313621,"CMRXO",3,"Local System","EC Connect",1401,0,0,380,1021,null,0,0,0,0,380,0.27123483226266953,380,0,0,380,0,0,null,1021,0.72876516773733047,0,0,0,0,0,0,0,0]
["1 Dec 2024 to 31 Dec 2024","18 Chinese Medicine Clinic cum Traing and Research Centre (Pok Oi Hospital)","18CMCTRs (POH)","NGO",6758313621,"ENCTR",3,"Local System","Local System",2520,0,0,0,2520,null,0,0,0,0,0,0,0,0,0,0,0,0,null,2520,1,0,0,0,0,0,0,0,0]
["1 Dec 2024 to 31 Dec 2024","PRECIOUS BLOOD HOSPITAL (CARITAS)","PRECIOUS BLOOD HOSPITAL","PH",7002059678,"ADR",3,"PBHIS","Local System",109,0,0,9,100,null,0,0,0,0,9,8.2568807339449546E-2,9,0,0,9,0,0,null,100,0.91743119266055051,0,0,0,0,0,0,0,0]
["1 Dec 2024 to 31 Dec 2024","PRECIOUS BLOOD HOSPITAL (CARITAS)","PRECIOUS BLOOD HOSPITAL","PH",7002059678,"AL1",3,"PBHIS","Local System",420,0,0,155,265,null,0,0,0,0,128,0.30476190476190479,128,0,0,128,0,0,null,265,0.63095238095238093,0,0,0,0,0,0,0,0]
["1 Dec 2024 to 31 Dec 2024","PRECIOUS BLOOD HOSPITAL (CARITAS)","PRECIOUS BLOOD HOSPITAL","PH",7002059678,"ENCTR",3,"PBHIS","Local System",775,0,0,0,775,null,0,0,0,0,0,0,0,0,0,0,0,0,null,775,1,0,0,0,0,0,0,0,0]
["1 Dec 2024 to 31 Dec 2024","PRECIOUS BLOOD HOSPITAL (CARITAS)","PRECIOUS BLOOD HOSPITAL","PH",7002059678,"RAD",3,"PBHIS","Local System",389,0,0,0,389,null,0,0,0,0,0,0,0,0,0,0,0,0,null,389,1,0,0,0,0,0,0,0,0]
["1 Dec 2024 to 31 Dec 2024","HONG KONG ADVENTIST HOSPITAL - STUBBS ROAD","HK ADVENTIST - SR","PH",7029571085,"ADR",3,"HKAHLAAM","Local System",5,0,0,0,5,null,0,0,0,0,0,0,0,0,0,0,0,0,null,5,1,0,0,0,0,0,0,0,0]
["1 Dec 2024 to 31 Dec 2024","HONG KONG ADVENTIST HOSPITAL - STUBBS ROAD","HK ADVENTIST - SR","PH",7029571085,"AL1",3,"HKAHLAAM","Local System",13,0,0,6,7,null,0,0,0,0,6,0.46153846153846156,6,0,0,6,0,0,null,7,0.53846153846153844,0,0,0,0,0,0,0,0]
["1 Dec 2024 to 31 Dec 2024","HONG KONG ADVENTIST HOSPITAL - STUBBS ROAD","HK ADVENTIST - SR","PH",7029571085,"ENCTR",3,"HKAHLAAM","Local System",651,0,0,0,651,null,0,0,0,0,0,0,0,0,0,0,0,0,null,651,1,0,0,0,0,0,0,0,0]
["1 Dec 2024 to 31 Dec 2024","HONG KONG ADVENTIST HOSPITAL - STUBBS ROAD","HK ADVENTIST - SR","PH",7029571085,"LABAP",1,"HKAHLAAM","Local System",28,0,28,0,0,null,0,0,0,0,0,0,0,0,0,0,0,0,null,0,0,0,0,0,0,0,0,0,0]
["1 Dec 2024 to 31 Dec 2024","HONG KONG ADVENTIST HOSPITAL - STUBBS ROAD","HK ADVENTIST - SR","PH",7029571085,"LABGEN",3,"HKAHLAAM","Local System",600,0,0,169,431,null,0,0,0,0,166,0.27666666666666667,166,0,0,166,0,0,null,431,0.71833333333333338,3,5.0000000000000001E-3,0,0,0,0,0,0]
["1 Dec 2024 to 31 Dec 2024","HONG KONG ADVENTIST HOSPITAL - STUBBS ROAD","HK ADVENTIST - SR","PH",7029571085,"RAD",2,"HKAHLAAM","Local System",466,0,0,0,466,null,0,0,0,0,0,0,0,0,0,0,0,0,null,466,1,0,0,0,0,0,0,0,0]
["1 Dec 2024 to 31 Dec 2024","HONG KONG ADVENTIST HOSPITAL - STUBBS ROAD","HK ADVENTIST - SR","PH",7029571085,"RXD",2,"HKAHLAAM","Local System",734,0,0,734,0,null,0,0,0,0,0,0,0,0,0,0,0,0,null,0,0,0,0,0,0,0,0,0,0]
["1 Dec 2024 to 31 Dec 2024","Department of Health Vaccination Schemes","DH VACCINE SCHEMES","DH",7054385794,"IMMU",3,"Local System","Local System",168251,0,0,0,168251,null,0,0,0,0,0,0,0,0,0,0,0,0,null,168251,1,0,0,0,0,0,0,0,0]
["1 Dec 2024 to 31 Dec 2024","DR. TONY CHUN KIT LEE MEDICAL PRATICE LIMITED","DR. TONY CHUN KIT LEE","SOLO",7071207758,"AL1",2,"ClinicSolution","Local System",2,0,0,2,0,null,0,0,0,0,0,0,0,0,0,0,0,0,null,0,0,0,0,0,0,0,0,0,0]
["1 Dec 2024 to 31 Dec 2024","DR. TONY CHUN KIT LEE MEDICAL PRATICE LIMITED","DR. TONY CHUN KIT LEE","SOLO",7071207758,"ENCTR",3,"ClinicSolution","Local System",16,0,0,0,16,null,0,0,0,0,0,0,0,0,0,0,0,0,null,16,1,0,0,0,0,0,0,0,0]
["1 Dec 2024 to 31 Dec 2024","DR. TONY CHUN KIT LEE MEDICAL PRATICE LIMITED","DR. TONY CHUN KIT LEE","SOLO",7071207758,"PROB",3,"ClinicSolution","Local System",2,0,0,2,0,null,0,0,0,0,2,1,2,0,0,2,0,0,null,0,0,0,0,0,0,0,0,0,0]
["1 Dec 2024 to 31 Dec 2024","DR. TONY CHUN KIT LEE MEDICAL PRATICE LIMITED","DR. TONY CHUN KIT LEE","SOLO",7071207758,"RXD",2,"ClinicSolution","Local System",16,0,0,16,0,null,0,0,0,0,0,0,0,0,0,0,0,0,null,0,0,0,0,0,0,0,0,0,0]
["1 Dec 2024 to 31 Dec 2024","DR. TONY CHUN KIT LEE MEDICAL PRATICE LIMITED","DR. TONY CHUN KIT LEE","SOLO",7071207758,"RXO",2,"ClinicSolution","Local System",16,0,0,16,0,null,0,0,0,0,0,0,0,0,0,0,0,0,null,0,0,0,0,0,0,0,0,0,0]
["1 Dec 2024 to 31 Dec 2024","DISTRICT HEALTH CENTRE-YUEN LONG (POH)","DHC-YUEN LONG","DHC",7218241485,"ADR",3,"Local System","Local System",1,0,0,0,1,null,0,0,0,0,0,0,0,0,0,0,0,0,null,1,1,0,0,0,0,0,0,0,0]
["1 Dec 2024 to 31 Dec 2024","DISTRICT HEALTH CENTRE-YUEN LONG (POH)","DHC-YUEN LONG","DHC",7218241485,"AL1",3,"Local System","Local System",9,0,0,0,9,null,0,0,0,0,0,0,0,0,0,0,0,0,null,9,1,0,0,0,0,0,0,0,0]
["1 Dec 2024 to 31 Dec 2024","DISTRICT HEALTH CENTRE-YUEN LONG (POH)","DHC-YUEN LONG","DHC",7218241485,"ENCTR",3,"Local System","Local System",17632,0,0,0,17632,null,0,0,0,0,0,0,0,0,0,0,0,0,null,17632,1,0,0,0,0,0,0,0,0]
["1 Dec 2024 to 31 Dec 2024","DISTRICT HEALTH CENTRE-YUEN LONG (POH)","DHC-YUEN LONG","DHC",7218241485,"EPIS",1,"Local System","Local System",10110,0,10110,0,0,null,0,0,0,0,0,0,0,0,0,0,0,0,null,0,0,0,0,0,0,0,0,0,0]
["1 Dec 2024 to 31 Dec 2024","Acton Digital PET-CT Centre Limited","ACTON DIGITAL PET-CT CTR","GROUP",7221331623,"RAD",3,"Local System","Local System",76,0,0,0,76,null,0,0,0,0,0,0,0,0,0,0,0,0,null,76,1,0,0,0,0,0,0,0,0]
["1 Dec 2024 to 31 Dec 2024","HOLISTIC MIND LIMITED","HOLISTIC MIND","SOLO",7228524127,"CMPROB",3,"Local System","EC Connect",7,0,0,6,1,null,0,0,0,0,3,0.42857142857142855,3,0,0,3,0,0,null,1,0.14285714285714285,0,0,0,0,0,0,0,0]
["1 Dec 2024 to 31 Dec 2024","HOLISTIC MIND LIMITED","HOLISTIC MIND","SOLO",7228524127,"CMPX",3,"Local System","EC Connect",2,0,0,1,1,null,0,0,0,0,0,0,0,0,0,0,0,0,null,1,0.5,0,0,0,0,0,0,0,0]
["1 Dec 2024 to 31 Dec 2024","HOLISTIC MIND LIMITED","HOLISTIC MIND","SOLO",7228524127,"CMRXD",3,"Local System","EC Connect",3,0,0,3,0,null,0,0,0,0,0,0,0,0,0,0,0,0,null,0,0,0,0,0,0,0,0,0,0]
["1 Dec 2024 to 31 Dec 2024","HOLISTIC MIND LIMITED","HOLISTIC MIND","SOLO",7228524127,"CMRXO",3,"Local System","EC Connect",3,0,0,3,0,null,0,0,0,0,0,0,0,0,0,0,0,0,null,0,0,0,0,0,0,0,0,0,0]
["1 Dec 2024 to 31 Dec 2024","HOLISTIC MIND LIMITED","HOLISTIC MIND","SOLO",7228524127,"ENCTR",3,"Local System","Local System",4,0,0,0,4,null,0,0,0,0,0,0,0,0,0,0,0,0,null,4,1,0,0,0,0,0,0,0,0]
["1 Dec 2024 to 31 Dec 2024","DHC EXPRESS-KWUN TONG (UCMS)","DHC EXPRESS-KWUN TONG-CC","DHC",7334960147,"ENCTR",3,"Local System","Local System",2136,0,0,0,2136,null,0,0,0,0,0,0,0,0,0,0,0,0,null,2136,1,0,0,0,0,0,0,0,0]
["1 Dec 2024 to 31 Dec 2024","DHC EXPRESS-KWUN TONG (UCMS)","DHC EXPRESS-KWUN TONG-CC","DHC",7334960147,"EPIS",1,"Local System","Local System",1149,0,1149,0,0,null,0,0,0,0,0,0,0,0,0,0,0,0,null,0,0,0,0,0,0,0,0,0,0]
["1 Dec 2024 to 31 Dec 2024","BNS Medical Imaging Limited                                                                                                                         ","BNS MEDICAL IMAGING LTD","GROUP",7417567584,"RAD",3,"RHI2","Local System",84,0,0,0,84,null,0,0,0,0,0,0,0,0,0,0,0,0,null,84,1,0,0,0,0,0,0,0,0]
["1 Dec 2024 to 31 Dec 2024","DHC EXPRESS-TAI PO (UCMS)","DHC EXPRESS-TAI PO-CC","DHC",7444819250,"ENCTR",3,"Local System","Local System",1886,0,0,0,1886,null,0,0,0,0,0,0,0,0,0,0,0,0,null,1886,1,0,0,0,0,0,0,0,0]
["1 Dec 2024 to 31 Dec 2024","DHC EXPRESS-TAI PO (UCMS)","DHC EXPRESS-TAI PO-CC","DHC",7444819250,"EPIS",1,"Local System","Local System",1189,0,1189,0,0,null,0,0,0,0,0,0,0,0,0,0,0,0,null,0,0,0,0,0,0,0,0,0,0]
["1 Dec 2024 to 31 Dec 2024","CECILIACHINESEMED LIMITED","CECILIACHINESEMED LIMITED","SOLO",7603434324,"ENCTR",3,"Local System","Local System",1,0,0,0,1,null,0,0,0,0,0,0,0,0,0,0,0,0,null,1,1,0,0,0,0,0,0,0,0]
["1 Dec 2024 to 31 Dec 2024","eHealth Declaration Form","eHealth Declaration Form","DH",7764187800,"IMMU",3,"Local System","Local System",3360,0,0,0,3360,null,0,0,0,0,0,0,0,0,0,0,0,0,null,3360,1,0,0,0,0,0,0,0,0]
["1 Dec 2024 to 31 Dec 2024","DR HO CHUNG PING","C.P. HO","SOLO",7889756707,"ENCTR",3,"Local System","Local System",138,0,0,0,138,null,0,0,0,0,0,0,0,0,0,0,0,0,null,138,1,0,0,0,0,0,0,0,0]
["1 Dec 2024 to 31 Dec 2024","DR HO CHUNG PING","C.P. HO","SOLO",7889756707,"EPIS",1,"Local System","Local System",122,0,122,0,0,null,0,0,0,0,0,0,0,0,0,0,0,0,null,0,0,0,0,0,0,0,0,0,0]
["1 Dec 2024 to 31 Dec 2024","DR HO CHUNG PING","C.P. HO","SOLO",7889756707,"IMMU",3,"Local System","Local System",4,0,0,0,4,null,0,0,0,0,0,0,0,0,0,0,0,0,null,4,1,0,0,0,0,0,0,0,0]
["1 Dec 2024 to 31 Dec 2024","DR HO CHUNG PING","C.P. HO","SOLO",7889756707,"PROB",3,"Local System","Local System",125,0,0,5,120,null,0,0,0,0,0,0,0,0,0,0,0,0,null,120,0.96,0,0,0,0,0,0,0,0]
["1 Dec 2024 to 31 Dec 2024","DR HO CHUNG PING","C.P. HO","SOLO",7889756707,"RXD",3,"Local System","Local System",316,0,0,36,280,null,0,0,0,0,0,0,0,0,0,0,0,0,null,280,0.88607594936708856,0,0,0,0,0,0,0,0]
["1 Dec 2024 to 31 Dec 2024","DR HO CHUNG PING","C.P. HO","SOLO",7889756707,"RXO",3,"Local System","Local System",320,0,0,36,284,null,0,0,0,0,0,0,0,0,0,0,0,0,null,284,0.88749999999999996,0,0,0,0,0,0,0,0]
["1 Dec 2024 to 31 Dec 2024","ST.TERESA's HOSPITAL","STH","PH",7969980015,"ADR",3,"STH HIS","Local System",17,0,0,2,15,null,0,0,0,0,3,0.17647058823529413,3,0,0,3,0,0,null,15,0.88235294117647056,0,0,0,0,0,0,0,0]
["1 Dec 2024 to 31 Dec 2024","ST.TERESA's HOSPITAL","STH","PH",7969980015,"AL1",3,"STH HIS","Local System",350,0,0,113,237,null,0,0,0,0,106,0.30285714285714288,106,0,0,106,0,0,null,237,0.67714285714285716,0,0,0,0,0,0,0,0]
["1 Dec 2024 to 31 Dec 2024","ST.TERESA's HOSPITAL","STH","PH",7969980015,"BIRTH",3,"STH HIS","Local System",7,0,0,0,7,null,0,0,0,0,0,0,0,0,0,0,0,0,null,7,1,0,0,0,0,0,0,0,0]
["1 Dec 2024 to 31 Dec 2024","ST.TERESA's HOSPITAL","STH","PH",7969980015,"EPIS",1,"STH HIS","Local System",1400,0,1400,0,0,null,0,0,0,0,0,0,0,0,0,0,0,0,null,0,0,0,0,0,0,0,0,0,0]
["1 Dec 2024 to 31 Dec 2024","ST.TERESA's HOSPITAL","STH","PH",7969980015,"LABAP",1,"STH HIS","Local System",870,0,870,0,0,null,0,0,0,0,0,0,0,0,0,0,0,0,null,0,0,0,0,0,0,0,0,0,0]
["1 Dec 2024 to 31 Dec 2024","ST.TERESA's HOSPITAL","STH","PH",7969980015,"RAD",3,"STH HIS","Local System",4563,0,0,0,4563,null,0,0,0,0,0,0,0,0,0,0,0,0,null,4563,1,0,0,0,0,0,0,0,0]
["1 Dec 2024 to 31 Dec 2024","ST.TERESA's HOSPITAL","STH","PH",7969980015,"RXD",3,"STH HIS","Local System",12977,9,0,454,12514,null,9,6.9353471526546967E-4,9,0,454,3.4984973414502581E-2,454,0,0,454,0,0,null,12514,0.96432149187023197,0,0,0,0,0,0,0,0]
["1 Dec 2024 to 31 Dec 2024","NGAN SZE YUEN","NGAN SZE YUEN","SOLO",8033207557,"ENCTR",3,"ClinicSolution","Local System",2,0,0,0,2,null,0,0,0,0,0,0,0,0,0,0,0,0,null,2,1,0,0,0,0,0,0,0,0]
["1 Dec 2024 to 31 Dec 2024","Shao Yao Chinese Medicine Clinic Limited","SYCMC LTD","SOLO",8061038543,"CMPROB",3,"Local System","EC Connect",1,0,0,0,1,null,0,0,0,0,0,0,0,0,0,0,0,0,null,1,1,0,0,0,0,0,0,0,0]
["1 Dec 2024 to 31 Dec 2024","Shao Yao Chinese Medicine Clinic Limited","SYCMC LTD","SOLO",8061038543,"CMPX",3,"Local System","EC Connect",1,0,0,0,1,null,0,0,0,0,0,0,0,0,0,0,0,0,null,1,1,0,0,0,0,0,0,0,0]
["1 Dec 2024 to 31 Dec 2024","Shao Yao Chinese Medicine Clinic Limited","SYCMC LTD","SOLO",8061038543,"CMRXD",3,"Local System","EC Connect",1,0,0,0,1,null,0,0,0,0,0,0,0,0,0,0,0,0,null,1,1,0,0,0,0,0,0,0,0]
["1 Dec 2024 to 31 Dec 2024","Shao Yao Chinese Medicine Clinic Limited","SYCMC LTD","SOLO",8061038543,"CMRXO",3,"Local System","EC Connect",{"$f":"SUM(K22480:N22480)","v":1},{"$f":"P22480","v":0},0,0,1,null,0,0,0,0,{"$f":"SUM(Y22480:AA22480)","v":0},0,0,0,0,0,0,0,null,{"$f":"N22480","v":1},1,0,{"$f":"IF(J22480=0,0,AE22480/J22480)","v":0},0,0,0,0,0,0]
["1 Dec 2024 to 31 Dec 2024","Shao Yao Chinese Medicine Clinic Limited","SYCMC LTD","SOLO",8061038543,"ENCTR",3,"Local System","Local System",3,0,0,0,3,null,{"$f":"SUM(R22481:S22481)","v":0},{"$f":"P22481/J22481","v":0},0,0,0,{"$f":"T22481/J22481","v":0},0,0,0,0,0,0,null,3,1,0,0,0,0,0,0,0,0]
["1 Dec 2024 to 31 Dec 2024","CELESTIAL HEALTHCARE                                                                                                                                                                                                                                                                                                                                                                                                                                                                                                             ","DR. LIM CHAW NAM","SOLO",8154807797,"ENCTR",3,"ClinicSolution","Local System",318,0,0,0,318,null,0,0,0,0,0,0,0,0,0,0,0,0,null,318,1,0,0,0,0,0,0,0,0]
["1 Dec 2024 to 31 Dec 2024","CELESTIAL HEALTHCARE                                                                                                                                                                                                                                                                                                                                                                                                                                                                                                             ","DR. LIM CHAW NAM","SOLO",8154807797,"PROB",3,"ClinicSolution","Local System",81,0,0,81,0,null,0,0,0,0,81,1,81,0,0,81,0,0,null,0,0,0,0,0,0,0,0,0,0]
["1 Dec 2024 to 31 Dec 2024","CELESTIAL HEALTHCARE                                                                                                                                                                                                                                                                                                                                                                                                                                                                                                             ","DR. LIM CHAW NAM","SOLO",8154807797,"PX",3,"ClinicSolution","Local System",9,1,0,8,0,null,1,0.1111111111111111,1,0,8,0.88888888888888884,8,0,0,8,0,0,null,0,0,0,0,0,0,0,0,0,0]
["1 Dec 2024 to 31 Dec 2024","CELESTIAL HEALTHCARE                                                                                                                                                                                                                                                                                                                                                                                                                                                                                                             ","DR. LIM CHAW NAM","SOLO",8154807797,"RXD",2,"ClinicSolution","Local System",362,0,0,362,0,null,0,0,0,0,0,0,0,0,0,0,0,0,null,0,0,0,0,0,0,0,0,0,0]
["1 Dec 2024 to 31 Dec 2024","CELESTIAL HEALTHCARE                                                                                                                                                                                                                                                                                                                                                                                                                                                                                                             ","DR. LIM CHAW NAM","SOLO",8154807797,"RXO",2,"ClinicSolution","Local System",362,0,0,362,0,null,0,0,0,0,0,0,0,0,0,0,0,0,null,0,0,0,0,0,0,0,0,0,0]
["1 Dec 2024 to 31 Dec 2024","CANOSSA HOSPITAL (CARITAS)","CANNOSSA HOSPITAL","PH",8252506240,"ADR",3,"Canossa Hospital Management System","Local System",1,0,0,0,1,null,0,0,0,0,0,0,0,0,0,0,0,0,null,1,1,0,0,0,0,0,0,0,0]
["1 Dec 2024 to 31 Dec 2024","CANOSSA HOSPITAL (CARITAS)","CANNOSSA HOSPITAL","PH",8252506240,"AL1",3,"Canossa Hospital Management System","Local System",24,0,0,9,15,null,0,0,0,0,8,0.33333333333333331,8,0,0,8,0,0,null,15,{"$f":"AC22488/J22488","v":0.625},0,0,0,0,0,0,0,0]
["1 Dec 2024 to 31 Dec 2024","CANOSSA HOSPITAL (CARITAS)","CANNOSSA HOSPITAL","PH",8252506240,"RAD",3,"Canossa Hospital Management System","Local System",15,0,0,4,11,null,0,0,0,0,0,0,0,0,0,0,0,0,null,11,0.73333333333333328,4,0.26666666666666666,0,0,0,0,4,0]
["1 Dec 2024 to 31 Dec 2024","DR LAM KOON MAN CLINIC","DR LAM KOON MAN CLINIC","SOLO",8256954924,"ENCTR",3,"ClinicSolution","Local System",11,0,0,0,11,null,0,0,0,0,0,0,0,0,0,0,0,0,null,11,1,0,0,0,0,0,0,0,0]
["1 Dec 2024 to 31 Dec 2024","18 Chinese Medicine Clinic cum Traing and Research Centre (The Hong Kong Buddist Association)","18CMCTRs (HKBA)","NGO",8296860643,"CMPROB",3,"Local System","EC Connect",278,0,0,55,223,null,0,0,0,0,41,0.14748201438848921,41,0,0,41,0,0,null,223,0.80215827338129497,0,0,0,0,0,0,0,0]
["1 Dec 2024 to 31 Dec 2024","18 Chinese Medicine Clinic cum Traing and Research Centre (The Hong Kong Buddist Association)","18CMCTRs (HKBA)","NGO",8296860643,"CMPX",3,"Local System","EC Connect",63,0,0,0,63,null,0,0,0,0,0,0,0,0,0,0,0,0,null,63,1,0,0,0,0,0,0,0,0]
["1 Dec 2024 to 31 Dec 2024","18 Chinese Medicine Clinic cum Traing and Research Centre (The Hong Kong Buddist Association)","18CMCTRs (HKBA)","NGO",8296860643,"CMRXO",3,"Local System","EC Connect",160,0,0,21,139,null,0,0,0,0,21,0.13125000000000001,21,0,0,21,0,0,null,139,0.86875000000000002,0,0,0,0,0,0,0,0]
["1 Dec 2024 to 31 Dec 2024","18 Chinese Medicine Clinic cum Traing and Research Centre (The Hong Kong Buddist Association)","18CMCTRs (HKBA)","NGO",8296860643,"ENCTR",3,"Local System","Local System",307,0,0,0,307,null,0,0,0,0,0,0,0,0,0,0,0,0,null,307,1,0,0,0,0,0,0,0,0]
["1 Dec 2024 to 31 Dec 2024","DY EYE CONSULTANT LIMITED","DY EYE CONSULTANT LIMITED","SOLO",8558761107,"ENCTR",3,"ClinicSolution","Local System",96,0,0,0,96,null,0,0,0,0,0,0,0,0,0,0,0,0,null,96,1,0,0,0,0,0,0,0,0]
["1 Dec 2024 to 31 Dec 2024","DY EYE CONSULTANT LIMITED","DY EYE CONSULTANT LIMITED","SOLO",8558761107,"PROB",3,"ClinicSolution","Local System",48,0,0,48,0,null,0,0,0,0,48,1,48,0,0,48,0,0,null,0,0,0,0,0,0,0,0,0,0]
["1 Dec 2024 to 31 Dec 2024","DY EYE CONSULTANT LIMITED","DY EYE CONSULTANT LIMITED","SOLO",8558761107,"PX",3,"ClinicSolution","Local System",11,0,0,11,0,null,0,0,0,0,11,1,11,0,0,11,0,0,null,0,0,0,0,0,0,0,0,0,0]
["1 Dec 2024 to 31 Dec 2024","DY EYE CONSULTANT LIMITED","DY EYE CONSULTANT LIMITED","SOLO",8558761107,"RXD",2,"ClinicSolution","Local System",33,0,0,33,0,null,0,0,0,0,0,0,0,0,0,0,0,0,null,0,0,0,0,0,0,0,0,0,0]
["1 Dec 2024 to 31 Dec 2024","DY EYE CONSULTANT LIMITED","DY EYE CONSULTANT LIMITED","SOLO",8558761107,"RXO",2,"ClinicSolution","Local System",33,0,0,33,0,null,0,0,0,0,0,0,0,0,0,0,0,0,null,0,0,0,0,0,0,0,0,0,0]
["1 Dec 2024 to 31 Dec 2024","HEALTH & WEALTH MEDICAL CENTRE","HWMCL","SOLO",8832216811,"ENCTR",3,"ClinicSolution","Local System",27,0,0,0,27,null,0,0,0,0,0,0,0,0,0,0,0,0,null,27,1,0,0,0,0,0,0,0,0]
["1 Dec 2024 to 31 Dec 2024","HEALTH & WEALTH MEDICAL CENTRE","HWMCL","SOLO",8832216811,"IMMU",2,"ClinicSolution","Local System",1,0,0,1,0,null,0,0,0,0,0,0,0,0,0,0,0,0,null,0,0,0,0,0,0,0,0,0,0]
["1 Dec 2024 to 31 Dec 2024","HEALTH & WEALTH MEDICAL CENTRE","HWMCL","SOLO",8832216811,"PROB",3,"ClinicSolution","Local System",27,0,0,27,0,null,0,0,0,0,27,1,27,0,0,27,0,0,null,0,0,0,0,0,0,0,0,0,0]
["1 Dec 2024 to 31 Dec 2024","HEALTH & WEALTH MEDICAL CENTRE","HWMCL","SOLO",8832216811,"RXD",2,"ClinicSolution","Local System",34,0,0,34,0,null,0,0,0,0,0,0,0,0,0,0,0,0,null,0,0,0,0,0,0,0,0,0,0]
["1 Dec 2024 to 31 Dec 2024","HEALTH & WEALTH MEDICAL CENTRE","HWMCL","SOLO",8832216811,"RXO",2,"ClinicSolution","Local System",34,0,0,34,0,null,0,0,0,0,0,0,0,0,0,0,0,0,null,0,0,0,0,0,0,0,0,0,0]
["1 Dec 2024 to 31 Dec 2024","ALL WELL (ASIA) LIMITED","ADVANZ PHYSIO CENTRE","GROUP",8891674942,"ENCTR",3,"ClinicSolution","Local System",117,0,0,0,117,null,0,0,0,0,0,0,0,0,0,0,0,0,null,117,1,0,0,0,0,0,0,0,0]
["1 Dec 2024 to 31 Dec 2024","ALL WELL (ASIA) LIMITED","ADVANZ PHYSIO CENTRE","GROUP",8891674942,"PROB",3,"ClinicSolution","Local System",27,0,0,27,0,null,0,0,0,0,27,1,27,0,0,27,0,0,null,0,0,0,0,0,0,0,0,0,0]
["1 Dec 2024 to 31 Dec 2024","DR. CHAN KIT YAN SELINA","DR. CHAN KIT YAN SELINA","SOLO",8895790679,"ADR",3,"Local System","Local System",1,0,0,0,1,null,0,0,0,0,0,0,0,0,0,0,0,0,null,1,1,0,0,0,0,0,0,0,0]
["1 Dec 2024 to 31 Dec 2024","DR. CHAN KIT YAN SELINA","DR. CHAN KIT YAN SELINA","SOLO",8895790679,"ENCTR",3,"Local System","Local System",290,0,0,0,290,null,0,0,0,0,0,0,0,0,0,0,0,0,null,290,1,0,0,0,0,0,0,0,0]
["1 Dec 2024 to 31 Dec 2024","DR. CHAN KIT YAN SELINA","DR. CHAN KIT YAN SELINA","SOLO",8895790679,"IMMU",3,"Local System","Local System",8,0,0,0,8,null,0,0,0,0,0,0,0,0,0,0,0,0,null,8,1,0,0,0,0,0,0,0,0]
["1 Dec 2024 to 31 Dec 2024","DR. CHAN KIT YAN SELINA","DR. CHAN KIT YAN SELINA","SOLO",8895790679,"PROB",3,"Local System","Local System",206,0,0,40,166,null,0,0,0,0,0,0,0,0,0,0,0,0,null,166,0.80582524271844658,0,0,0,0,0,0,0,0]
["1 Dec 2024 to 31 Dec 2024","DR. CHAN KIT YAN SELINA","DR. CHAN KIT YAN SELINA","SOLO",8895790679,"RXD",3,"Local System","Local System",283,0,0,5,278,null,0,0,0,0,0,0,0,0,0,0,0,0,null,278,0.98233215547703179,0,0,0,0,0,0,0,0]
["1 Dec 2024 to 31 Dec 2024","DR. CHAN KIT YAN SELINA","DR. CHAN KIT YAN SELINA","SOLO",8895790679,"RXO",3,"Local System","Local System",306,0,0,19,287,null,0,0,0,0,0,0,0,0,0,0,0,0,null,287,0.93790849673202614,0,0,0,0,0,0,0,0]
["1 Dec 2024 to 31 Dec 2024","DISTRICT HEALTH CENTRE-SOUTHERN (AKA)","DHC-SOUTHERN","DHC",8900325933,"AL1",3,"Local System","Local System",1,0,0,0,1,null,0,0,0,0,0,0,0,0,0,0,0,0,null,1,1,0,0,0,0,0,0,0,0]
["1 Dec 2024 to 31 Dec 2024","DISTRICT HEALTH CENTRE-SOUTHERN (AKA)","DHC-SOUTHERN","DHC",8900325933,"ENCTR",3,"Local System","Local System",21974,0,0,0,21974,null,0,0,0,0,0,0,0,0,0,0,0,0,null,21974,1,0,0,0,0,0,0,0,0]
["1 Dec 2024 to 31 Dec 2024","DISTRICT HEALTH CENTRE-SOUTHERN (AKA)","DHC-SOUTHERN","DHC",8900325933,"EPIS",1,"Local System","Local System",2836,0,2836,0,0,null,0,0,0,0,0,0,0,0,0,0,0,0,null,0,0,0,0,0,0,0,0,0,0]
["1 Dec 2024 to 31 Dec 2024","HONG KONG ADVENTIST HOSPITAL - TSUEN WAN","HK ADVENTIST - TW","PH",8909436562,"ADR",3,"TWAHLAAM","Local System",65,0,0,8,57,null,0,0,0,0,8,0.12307692307692308,8,0,0,8,0,0,null,57,0.87692307692307692,0,0,0,0,0,0,0,0]
["1 Dec 2024 to 31 Dec 2024","HONG KONG ADVENTIST HOSPITAL - TSUEN WAN","HK ADVENTIST - TW","PH",8909436562,"AL1",3,"TWAHLAAM","Local System",725,0,0,198,527,null,0,0,0,0,163,0.22482758620689655,163,0,0,163,0,0,null,527,0.72689655172413792,0,0,0,0,0,0,0,0]
["1 Dec 2024 to 31 Dec 2024","HONG KONG ADVENTIST HOSPITAL - TSUEN WAN","HK ADVENTIST - TW","PH",8909436562,"BIRTH",3,"TWAHLAAM","Local System",11,0,0,0,11,null,0,0,0,0,0,0,0,0,0,0,0,0,null,11,1,0,0,0,0,0,0,0,0]
["1 Dec 2024 to 31 Dec 2024","HONG KONG ADVENTIST HOSPITAL - TSUEN WAN","HK ADVENTIST - TW","PH",8909436562,"ENCTR",3,"TWAHLAAM","Local System",7685,0,0,0,7685,null,0,0,0,0,0,0,0,0,0,0,0,0,null,7685,1,0,0,0,0,0,0,0,0]
["1 Dec 2024 to 31 Dec 2024","HONG KONG ADVENTIST HOSPITAL - TSUEN WAN","HK ADVENTIST - TW","PH",8909436562,"LABAP",1,"TWAHLAAM","Local System",473,5,468,0,0,null,5,1.0570824524312896E-2,0,5,0,0,0,0,0,0,0,0,null,0,0,0,0,0,0,0,0,0,0]
["1 Dec 2024 to 31 Dec 2024","HONG KONG ADVENTIST HOSPITAL - TSUEN WAN","HK ADVENTIST - TW","PH",8909436562,"LABGEN",3,"TWAHLAAM","Local System",28565,0,0,2201,26364,null,0,0,0,0,2250,7.8767722737615967E-2,2250,0,0,2250,0,0,null,26364,0.9229476632242255,0,0,0,0,0,0,0,0]
["1 Dec 2024 to 31 Dec 2024","HONG KONG ADVENTIST HOSPITAL - TSUEN WAN","HK ADVENTIST - TW","PH",8909436562,"RAD",2,"TWAHLAAM","Local System",3627,0,0,0,3627,null,0,0,0,0,0,0,0,0,0,0,0,0,null,3627,1,0,0,0,0,0,0,0,0]
["1 Dec 2024 to 31 Dec 2024","HONG KONG ADVENTIST HOSPITAL - TSUEN WAN","HK ADVENTIST - TW","PH",8909436562,"RXD",2,"TWAHLAAM","Local System",9863,0,0,9863,0,null,0,0,0,0,0,0,0,0,0,0,0,0,null,0,0,0,0,0,0,0,0,0,0]
["1 Dec 2024 to 31 Dec 2024","DR DANIEL YIANG WU","DR DANIEL YIANG WU","SOLO",8958425524,"ENCTR",3,"ClinicSolution","Local System",3,0,0,0,3,null,0,0,0,0,0,0,0,0,0,0,0,0,null,3,1,0,0,0,0,0,0,0,0]
["1 Dec 2024 to 31 Dec 2024","DR DANIEL YIANG WU","DR DANIEL YIANG WU","SOLO",8958425524,"PROB",3,"ClinicSolution","Local System",2,0,0,2,0,null,0,0,0,0,2,1,2,0,0,2,0,0,null,0,0,0,0,0,0,0,0,0,0]
["1 Dec 2024 to 31 Dec 2024","DR. LAM SEE YUI JOSEPH","DR. S.Y. LAM                                                                                                                                                                                                                                                                                                                                                                                                                                                                                                                                                                                                                                                                                                                                                                                                                                                                                                                                                                                                                                                                           ","SOLO",8962900949,"AL1",2,"ClinicSolution","Local System",2,1,0,1,0,null,1,0.5,1,0,0,0,0,0,0,0,0,0,null,0,0,0,0,0,0,0,0,0,0]
["1 Dec 2024 to 31 Dec 2024","DR. LAM SEE YUI JOSEPH","DR. S.Y. LAM                                                                                                                                                                                                                                                                                                                                                                                                                                                                                                                                                                                                                                                                                                                                                                                                                                                                                                                                                                                                                                                                           ","SOLO",8962900949,"ENCTR",3,"ClinicSolution","Local System",1224,0,0,0,1224,null,0,0,0,0,0,0,0,0,0,0,0,0,null,1224,1,0,0,0,0,0,0,0,0]
["1 Dec 2024 to 31 Dec 2024","DR. LAM SEE YUI JOSEPH","DR. S.Y. LAM                                                                                                                                                                                                                                                                                                                                                                                                                                                                                                                                                                                                                                                                                                                                                                                                                                                                                                                                                                                                                                                                           ","SOLO",8962900949,"PROB",3,"ClinicSolution","Local System",141,0,0,95,46,null,0,0,0,0,95,0.67375886524822692,95,0,0,95,0,0,null,46,0.32624113475177308,0,0,0,0,0,0,0,0]
["1 Dec 2024 to 31 Dec 2024","DR. LAM SEE YUI JOSEPH","DR. S.Y. LAM                                                                                                                                                                                                                                                                                                                                                                                                                                                                                                                                                                                                                                                                                                                                                                                                                                                                                                                                                                                                                                                                           ","SOLO",8962900949,"RXD",2,"ClinicSolution","Local System",6,0,0,6,0,null,0,0,0,0,0,0,0,0,0,0,0,0,null,0,0,0,0,0,0,0,0,0,0]
["1 Dec 2024 to 31 Dec 2024","DR. LAM SEE YUI JOSEPH","DR. S.Y. LAM                                                                                                                                                                                                                                                                                                                                                                                                                                                                                                                                                                                                                                                                                                                                                                                                                                                                                                                                                                                                                                                                           ","SOLO",8962900949,"RXO",2,"ClinicSolution","Local System",6,0,0,6,0,null,0,0,0,0,0,0,0,0,0,0,0,0,null,0,0,0,0,0,0,0,0,0,0]
["1 Dec 2024 to 31 Dec 2024","DISTRICT HEALTH CENTRE-TSUEN WAN (YCHB)","DHC-TSUEN WAN","DHC",9043776781,"ENCTR",3,"Local System","Local System",12666,0,0,0,12666,null,0,0,0,0,0,0,0,0,0,0,0,0,null,12666,1,0,0,0,0,0,0,0,0]
["1 Dec 2024 to 31 Dec 2024","DISTRICT HEALTH CENTRE-TSUEN WAN (YCHB)","DHC-TSUEN WAN","DHC",9043776781,"EPIS",1,"Local System","Local System",7911,0,7911,0,0,null,0,0,0,0,0,0,0,0,0,0,0,0,null,0,0,0,0,0,0,0,0,0,0]
["1 Dec 2024 to 31 Dec 2024","HK MERCY MEDICAL LIMITED","HK MERCY MEDICAL LIMITED","SOLO",9056383716,"ENCTR",3,"Local System","Local System",169,0,0,0,169,null,0,0,0,0,0,0,0,0,0,0,0,0,null,169,1,0,0,0,0,0,0,0,0]
["1 Dec 2024 to 31 Dec 2024","HK MERCY MEDICAL LIMITED","HK MERCY MEDICAL LIMITED","SOLO",9056383716,"PROB",3,"Local System","Local System",173,0,0,71,102,null,0,0,0,0,0,0,0,0,0,0,0,0,null,102,0.58959537572254339,0,0,0,0,0,0,0,0]
["1 Dec 2024 to 31 Dec 2024","HK MERCY MEDICAL LIMITED","HK MERCY MEDICAL LIMITED","SOLO",9056383716,"RXD",3,"Local System","Local System",491,0,0,178,313,null,0,0,0,0,0,0,0,0,0,0,0,0,null,313,0.63747454175152751,0,0,0,0,0,0,0,0]
["1 Dec 2024 to 31 Dec 2024","HK MERCY MEDICAL LIMITED","HK MERCY MEDICAL LIMITED","SOLO",9056383716,"RXO",3,"Local System","Local System",492,0,0,179,313,null,0,0,0,0,0,0,0,0,0,0,0,0,null,313,0.63617886178861793,0,0,0,0,0,0,0,0]
["1 Dec 2024 to 31 Dec 2024","Grande Medical Scanning Centre","GMSC","SOLO",9141981346,"RAD",3,"RHI2","Local System",427,0,0,0,427,null,0,0,0,0,0,0,0,0,0,0,0,0,null,427,1,0,0,0,0,0,0,0,0]
["1 Dec 2024 to 31 Dec 2024","KINDNESS CHINESE MEDICAL CLINIC LIMITED","KINDNESS CHINESE MEDICAL","SOLO",9165130652,"CMPROB",3,"Local System","EC Connect",7,0,0,3,4,null,0,0,0,0,0,0,0,0,0,0,0,0,null,4,0.5714285714285714,0,0,0,0,0,0,0,0]
["1 Dec 2024 to 31 Dec 2024","KINDNESS CHINESE MEDICAL CLINIC LIMITED","KINDNESS CHINESE MEDICAL","SOLO",9165130652,"CMPX",3,"Local System","EC Connect",1,0,0,0,1,null,0,0,0,0,0,0,0,0,0,0,0,0,null,1,1,0,0,0,0,0,0,0,0]
["1 Dec 2024 to 31 Dec 2024","KINDNESS CHINESE MEDICAL CLINIC LIMITED","KINDNESS CHINESE MEDICAL","SOLO",9165130652,"CMRXD",3,"Local System","EC Connect",6,0,0,0,6,null,0,0,0,0,0,0,0,0,0,0,0,0,null,6,1,0,0,0,0,0,0,0,0]
["1 Dec 2024 to 31 Dec 2024","KINDNESS CHINESE MEDICAL CLINIC LIMITED","KINDNESS CHINESE MEDICAL","SOLO",9165130652,"CMRXO",3,"Local System","EC Connect",6,0,0,0,6,null,0,0,0,0,0,0,0,0,0,0,0,0,null,6,1,0,0,0,0,0,0,0,0]
["1 Dec 2024 to 31 Dec 2024","KINDNESS CHINESE MEDICAL CLINIC LIMITED","KINDNESS CHINESE MEDICAL","SOLO",9165130652,"ENCTR",3,"Local System","Local System",8,0,0,0,8,null,0,0,0,0,0,0,0,0,0,0,0,0,null,8,1,0,0,0,0,0,0,0,0]
["1 Dec 2024 to 31 Dec 2024","Hong Kong Christian Service","HKCS","GROUP",9179355867,"AL1",3,"Local System","Local System",3,0,0,1,2,null,0,0,0,0,1,0.33333333333333331,1,0,0,1,0,0,null,2,0.66666666666666663,0,0,0,0,0,0,0,0]
["1 Dec 2024 to 31 Dec 2024","Hong Kong Christian Service","HKCS","GROUP",9179355867,"ENCTR",3,"Local System","Local System",{"$f":"SUM(K22544:N22544)","v":78},{"$f":"P22544","v":0},0,0,78,null,0,0,0,0,{"$f":"SUM(Y22544:AA22544)","v":0},0,0,0,0,0,0,0,null,{"$f":"N22544","v":78},1,0,{"$f":"IF(J22544=0,0,AE22544/J22544)","v":0},0,0,0,0,0,0]
["1 Dec 2024 to 31 Dec 2024","Hong Kong Christian Service","HKCS","GROUP",9179355867,"IMMU",3,"Local System","Local System",4,0,0,2,2,null,{"$f":"SUM(R22545:S22545)","v":0},{"$f":"P22545/J22545","v":0},0,0,0,{"$f":"T22545/J22545","v":0},0,0,0,0,0,0,null,2,0.5,0,0,0,0,0,0,0,0]
["1 Dec 2024 to 31 Dec 2024","Hong Kong Christian Service","HKCS","GROUP",9179355867,"RXD",3,"Local System","Local System",193,0,0,100,93,null,0,0,0,0,0,0,0,0,0,0,0,0,null,93,0.48186528497409326,0,0,0,0,0,0,0,0]
["1 Dec 2024 to 31 Dec 2024","Hong Kong Christian Service","HKCS","GROUP",9179355867,"RXO",3,"Local System","Local System",199,0,0,105,94,null,0,0,0,0,0,0,0,0,0,0,0,0,null,94,0.47236180904522612,0,0,0,0,0,0,0,0]
["1 Dec 2024 to 31 Dec 2024","QUALITY HEALTHCARE MEDICAL CENTRE LIMITED","QHMS","GROUP",9265486345,"AL1",3,"QHMS EMR","Local System",363,0,0,363,0,null,0,0,0,0,343,0.94490358126721763,343,0,0,343,0,0,null,0,0,0,0,0,0,0,0,0,0]
["1 Dec 2024 to 31 Dec 2024","QUALITY HEALTHCARE MEDICAL CENTRE LIMITED","QHMS","GROUP",9265486345,"ENCTR",3,"QHMS EMR","Local System",17328,0,0,0,17328,null,0,0,0,0,0,0,0,0,0,0,0,0,null,17328,1,0,0,0,0,0,0,0,0]
["1 Dec 2024 to 31 Dec 2024","QUALITY HEALTHCARE MEDICAL CENTRE LIMITED","QHMS","GROUP",9265486345,"IMMU",2,"QHMS EMR","Local System",956,0,0,956,0,null,0,0,0,0,0,0,0,0,0,0,0,0,null,0,0,0,0,0,0,0,0,0,0]
["1 Dec 2024 to 31 Dec 2024","QUALITY HEALTHCARE MEDICAL CENTRE LIMITED","QHMS","GROUP",9265486345,"RXD",2,"QHMS EMR","Local System",33548,0,0,33548,0,null,0,0,0,0,0,0,0,0,0,0,0,0,null,0,0,0,0,0,0,0,0,0,0]
["1 Dec 2024 to 31 Dec 2024","Advance X-Ray & Medical Diagnostic Centre Ltd","AXMDCL","SOLO",9306084059,"ENCTR",3,"CMS5.0 (HKMA)","Local System",21,0,0,0,21,null,0,0,0,0,0,0,0,0,0,0,0,0,null,21,{"$f":"AC22552/J22552","v":1},0,0,0,0,0,0,0,0]
["1 Dec 2024 to 31 Dec 2024","Advance X-Ray & Medical Diagnostic Centre Ltd","AXMDCL","SOLO",9306084059,"LABGEN",1,"CMS5.0 (HKMA)","Local System",21,0,21,0,0,null,0,0,0,0,0,0,0,0,0,0,0,0,null,0,0,0,0,0,0,0,0,0,0]
["1 Dec 2024 to 31 Dec 2024","DR. CHUNG CHI PING SIMON","DR. SIMON C.P. CHUNG","SOLO",9398567973,"ENCTR",3,"ClinicSolution","Local System",9,0,0,0,9,null,0,0,0,0,0,0,0,0,0,0,0,0,null,9,1,0,0,0,0,0,0,0,0]
["1 Dec 2024 to 31 Dec 2024","DR. CHUNG CHI PING SIMON","DR. SIMON C.P. CHUNG","SOLO",9398567973,"PROB",3,"ClinicSolution","Local System",19,0,0,19,0,null,0,0,0,0,19,1,19,0,0,19,0,0,null,0,0,0,0,0,0,0,0,0,0]
["1 Dec 2024 to 31 Dec 2024","DR. CHUNG CHI PING SIMON","DR. SIMON C.P. CHUNG","SOLO",9398567973,"RXD",2,"ClinicSolution","Local System",6,0,0,6,0,null,0,0,0,0,0,0,0,0,0,0,0,0,null,0,0,0,0,0,0,0,0,0,0]
["1 Dec 2024 to 31 Dec 2024","DR. CHUNG CHI PING SIMON","DR. SIMON C.P. CHUNG","SOLO",9398567973,"RXO",2,"ClinicSolution","Local System",6,0,0,6,0,null,0,0,0,0,0,0,0,0,0,0,0,0,null,0,0,0,0,0,0,0,0,0,0]
["1 Dec 2024 to 31 Dec 2024","Hong Kong Breast Cancer and Disease Centre Limited","HKBCADC","SOLO           ",9407305541,"AL1",3,"Local System","Local System",4,0,0,0,4,null,0,0,0,0,0,0,0,0,0,0,0,0,null,4,1,0,0,0,0,0,0,0,0]
["1 Dec 2024 to 31 Dec 2024","Hong Kong Breast Cancer and Disease Centre Limited","HKBCADC","SOLO           ",9407305541,"RXD",3,"Local System","Local System",33,0,0,1,32,null,0,0,0,0,0,0,0,0,0,0,0,0,null,32,0.96969696969696972,0,0,0,0,0,0,0,0]
["1 Dec 2024 to 31 Dec 2024","Hong Kong Breast Cancer and Disease Centre Limited","HKBCADC","SOLO           ",9407305541,"RXO",3,"Local System","Local System",37,0,0,5,32,null,0,0,0,0,0,0,0,0,0,0,0,0,null,32,0.86486486486486491,0,0,0,0,0,0,0,0]
["1 Dec 2024 to 31 Dec 2024","DHC EXPRESS-WAN CHAI (MC)","DHC EXPRESS-WAN CHAI-CC","DHC",9421690548,"AL1",3,"Local System","Local System",3,0,0,0,3,null,0,0,0,0,0,0,0,0,0,0,0,0,null,3,1,0,0,0,0,0,0,0,0]
["1 Dec 2024 to 31 Dec 2024","DHC EXPRESS-WAN CHAI (MC)","DHC EXPRESS-WAN CHAI-CC","DHC",9421690548,"ENCTR",3,"Local System","Local System",5024,0,0,0,5024,null,0,0,0,0,0,0,0,0,0,0,0,0,null,5024,1,0,0,0,0,0,0,0,0]
["1 Dec 2024 to 31 Dec 2024","DHC EXPRESS-WAN CHAI (MC)","DHC EXPRESS-WAN CHAI-CC","DHC",9421690548,"EPIS",1,"Local System","Local System",1348,0,1348,0,0,null,0,0,0,0,0,0,0,0,0,0,0,0,null,0,0,0,0,0,0,0,0,0,0]
["1 Dec 2024 to 31 Dec 2024","DR. TSANG FAN KWONG","DR. TSANG FAN KWONG","SOLO",9585979787,"ENCTR",3,"ClinicSolution","Local System",3,0,0,0,3,null,0,0,0,0,0,0,0,0,0,0,0,0,null,3,1,0,0,0,0,0,0,0,0]
["1 Dec 2024 to 31 Dec 2024","DR. TSANG FAN KWONG","DR. TSANG FAN KWONG","SOLO",9585979787,"RXD",2,"ClinicSolution","Local System",5,0,0,5,0,null,0,0,0,0,0,0,0,0,0,0,0,0,null,0,0,0,0,0,0,0,0,0,0]
["1 Dec 2024 to 31 Dec 2024","DR. TSANG FAN KWONG","DR. TSANG FAN KWONG","SOLO",9585979787,"RXO",2,"ClinicSolution","Local System",5,0,0,5,0,null,0,0,0,0,0,0,0,0,0,0,0,0,null,0,0,0,0,0,0,0,0,0,0]
["1 Dec 2024 to 31 Dec 2024","DISTRICT HEALTH CENTRE-SHAM SHUI PO (SJS)","DHC-SHAM SHUI PO","DHC",9681600318,"ADR",3,"Local System","Local System",2,0,0,0,2,null,0,0,0,0,0,0,0,0,0,0,0,0,null,2,1,0,0,0,0,0,0,0,0]
["1 Dec 2024 to 31 Dec 2024","DISTRICT HEALTH CENTRE-SHAM SHUI PO (SJS)","DHC-SHAM SHUI PO","DHC",9681600318,"AL1",3,"Local System","Local System",10,0,0,1,9,null,0,0,0,0,1,0.1,1,0,0,1,0,0,null,9,0.9,0,0,0,0,0,0,0,0]
["1 Dec 2024 to 31 Dec 2024","DISTRICT HEALTH CENTRE-SHAM SHUI PO (SJS)","DHC-SHAM SHUI PO","DHC",9681600318,"ENCTR",3,"Local System","Local System",27524,0,0,0,27524,null,0,0,0,0,0,0,0,0,0,0,0,0,null,27524,1,0,0,0,0,0,0,0,0]
["1 Dec 2024 to 31 Dec 2024","DISTRICT HEALTH CENTRE-SHAM SHUI PO (SJS)","DHC-SHAM SHUI PO","DHC",9681600318,"EPIS",1,"Local System","Local System",7400,0,7400,0,0,null,0,0,0,0,0,0,0,0,0,0,0,0,null,0,0,0,0,0,0,0,0,0,0]
["1 Dec 2024 to 31 Dec 2024","ANCHOR ONCOLOGY AND HEMATOLOGY CENTRE LIMITED","AOHC","GROUP",9713227452,"ENCTR",3,"ClinicSolution","Local System",236,0,0,0,236,null,0,0,0,0,0,0,0,0,0,0,0,0,null,236,1,0,0,0,0,0,0,0,0]
["1 Dec 2024 to 31 Dec 2024","ANCHOR ONCOLOGY AND HEMATOLOGY CENTRE LIMITED","AOHC","GROUP",9713227452,"RXD",2,"ClinicSolution","Local System",57,0,0,57,0,null,0,0,0,0,0,0,0,0,0,0,0,0,null,0,0,0,0,0,0,0,0,0,0]
["1 Dec 2024 to 31 Dec 2024","ANCHOR ONCOLOGY AND HEMATOLOGY CENTRE LIMITED","AOHC","GROUP",9713227452,"RXO",2,"ClinicSolution","Local System",57,0,0,57,0,null,0,0,0,0,0,0,0,0,0,0,0,0,null,0,0,0,0,0,0,0,0,0,0]
["1 Dec 2024 to 31 Dec 2024","QUALITY HEALTHCARE MEDICAL CENTRE LIMITED","QHMS","GROUP",9761710951,"RAD",3,"RHI2_QHMS","Local System",710,0,0,0,710,null,0,0,0,0,0,0,0,0,0,0,0,0,null,710,1,0,0,0,0,0,0,0,0]
["1 Dec 2024 to 31 Dec 2024","18 Chinese Medicine Clinic cum Traing and Research Centre (Christiam Family Service Centre)","18CMCTRs (CFSC)","NGO",9805671910,"CMPROB",3,"Local System","EC Connect",576,0,0,171,405,null,0,0,0,0,70,0.12152777777777778,70,0,0,70,0,0,null,405,0.703125,0,0,0,0,0,0,0,0]
["1 Dec 2024 to 31 Dec 2024","18 Chinese Medicine Clinic cum Traing and Research Centre (Christiam Family Service Centre)","18CMCTRs (CFSC)","NGO",9805671910,"CMPX",3,"Local System","EC Connect",112,0,0,0,112,null,0,0,0,0,0,0,0,0,0,0,0,0,null,112,1,0,0,0,0,0,0,0,0]
["1 Dec 2024 to 31 Dec 2024","18 Chinese Medicine Clinic cum Traing and Research Centre (Christiam Family Service Centre)","18CMCTRs (CFSC)","NGO",9805671910,"CMRXO",3,"Local System","EC Connect",192,0,0,1,191,null,0,0,0,0,1,5.208333333333333E-3,1,0,0,1,0,0,null,191,0.99479166666666663,0,0,0,0,0,0,0,0]
["1 Dec 2024 to 31 Dec 2024","18 Chinese Medicine Clinic cum Traing and Research Centre (Christiam Family Service Centre)","18CMCTRs (CFSC)","NGO",9805671910,"ENCTR",3,"Local System","Local System",422,0,0,0,422,null,0,0,0,0,0,0,0,0,0,0,0,0,null,422,1,0,0,0,0,0,0,0,0]
["1 Dec 2024 to 31 Dec 2024","HEALS CLINIC LIMITED","HEALS CLINIC LIMITED","SOLO",9841327550,"ENCTR",3,"ClinicSolution","Local System",2,0,0,0,2,null,0,0,0,0,0,0,0,0,0,0,0,0,null,2,1,0,0,0,0,0,0,0,0]
["1 Dec 2024 to 31 Dec 2024","HEALS CLINIC LIMITED","HEALS CLINIC LIMITED","SOLO",9841327550,"RXD",2,"ClinicSolution","Local System",1,0,0,1,0,null,0,0,0,0,0,0,0,0,0,0,0,0,null,0,0,0,0,0,0,0,0,0,0]
["1 Dec 2024 to 31 Dec 2024","HEALS CLINIC LIMITED","HEALS CLINIC LIMITED","SOLO",9841327550,"RXO",2,"ClinicSolution","Local System",1,0,0,1,0,null,0,0,0,0,0,0,0,0,0,0,0,0,null,0,0,0,0,0,0,0,0,0,0]
["1 Dec 2024 to 31 Dec 2024","UMP MEDICAL CENTRE","UMP MEDICAL CENTRE","GROUP",9927384828,"RAD",3,"RHI2","Local System",645,1,0,0,644,null,1,1.5503875968992248E-3,1,0,0,0,0,0,0,0,0,0,null,644,0.99844961240310082,0,0,0,0,0,0,0,0]
["1 Dec 2024 to 31 Dec 2024 Total",null,null,null,null,null,null,null,null,{"$f":"SUM(J22160:J22582)","v":46824976},{"$f":"SUM(K22160:K22582)","v":2095},{"$f":"SUM(L22160:L22582)","v":1015991},{"$f":"SUM(M22160:M22582)","v":10122475},{"$f":"SUM(N22160:N22582)","v":35684415},null,{"$f":"SUM(P22160:P22582)","v":2095},4.4741080059496451E-5,{"$f":"SUM(R22160:R22582)","v":1990},{"$f":"SUM(S22160:S22582)","v":105},{"$f":"SUM(T22160:T22582)","v":1044731},2.2311404922022812E-2,{"$f":"SUM(V22160:V22582)","v":1041055},0,3676,1039309,5422,0,null,{"$f":"SUM(AC22160:AC22582)","v":35684415},0.7620807963681604,{"$f":"SUM(AE22160:AE22582)","v":3101},{"$f":"AE22583/J22583","v":6.6225340937708116E-5},{"$f":"SUM(AG22160:AG22582)","v":0},2985,0,48,64,2]

{"sheet":"Data","index":1,"n_rows":825,"n_cols":27,"rows_kept":825,"cut":false,"hidden":false,"merged":[]}
["RPT_DATE per month","HCP Full Name","HCP Type","HCP ID","Domain","Data level","System","Connection System","Total Upload Case","Total Reject Case","Total cases display as L1 in EVE","Total cases display as L2 in EVE","Total cases display as L3 in EVE","Missed mandatory data","Fail validation rule","Total regraded cases","Missed RT data","CDU Level 3 to 2","CDU Level 3 to 1","CDU Level 2 to 1","Total regraded cases  (Level 3 to 2)","Mis-match RT name","Inappropriate hierarchy","Mis-match RT code","Mis-match RT description","Mis-match codex code","Mis-match codex description"]
["2024-11-01","HOSPITAL AUTHORITY","HA",3098159131,"RXD",3,"Enterprise Application Integration (EAI)","Local System",16822221,0,0,6402601,10419620,0,0,508034,508034,508034,0,0,0,0,0,0,0,0,0]
["2024-11-01","HOSPITAL AUTHORITY","HA",3098159131,"ENCTR",3,"Enterprise Application Integration (EAI)","Local System",11968013,0,0,0,11968013,0,0,0,0,0,0,0,0,0,0,0,0,0,0]
["2024-11-01","HOSPITAL AUTHORITY","HA",3098159131,"RXO",3,"Enterprise Application Integration (EAI)","Local System",9263654,1,0,4179174,5084479,1,0,170718,170718,170718,0,0,0,0,0,0,0,0,0]
["2024-11-01","HOSPITAL AUTHORITY","HA",3098159131,"LABGEN",3,"Enterprise Application Integration (EAI)","Local System",4420493,117,1930,77011,4341435,30,87,81746,81746,79850,1896,0,0,0,0,0,0,0,0]
["2024-11-01","HOSPITAL AUTHORITY","HA",3098159131,"PROB",3,"Enterprise Application Integration (EAI)","Local System",1246452,0,0,0,1246452,0,0,0,0,0,0,0,0,0,0,0,0,0,0]
["2024-11-01","HOSPITAL AUTHORITY","HA",3098159131,"LABMB",3,"Enterprise Application Integration (EAI)","Local System",859734,208,2813,117117,739596,68,140,119155,119155,117278,1877,0,0,0,0,0,0,0,0]
["2024-11-01","HOSPITAL AUTHORITY","HA",3098159131,"RAD",3,"Enterprise Application Integration (EAI)","Local System",782842,0,0,0,782842,0,0,0,0,0,0,0,0,0,0,0,0,0,0]
["2024-11-01","HOSPITAL AUTHORITY","HA",3098159131,"EPIS",1,"Enterprise Application Integration (EAI)","Local System",434094,1398,432696,0,0,1398,0,0,0,0,0,0,0,0,0,0,0,0,0]
["2024-11-01","HOSPITAL AUTHORITY","HA",3098159131,"PX",3,"Enterprise Application Integration (EAI)","Local System",391004,0,0,0,391004,0,0,0,0,0,0,0,0,0,0,0,0,0,0]
["2024-11-01","HOSPITAL AUTHORITY","HA",3098159131,"MEDCER",1,"Enterprise Application Integration (EAI)","Local System",274613,239,274374,0,0,239,0,0,0,0,0,0,0,0,0,0,0,0,0]
["2024-11-01","HOSPITAL AUTHORITY","HA",3098159131,"IMMU",3,"Enterprise Application Integration (EAI)","Local System",207112,0,0,11553,195559,0,0,11181,11181,11181,0,0,380,0,380,0,0,0,0]
["2024-11-01","HOSPITAL AUTHORITY","HA",3098159131,"REF",1,"Enterprise Application Integration (EAI)","Local System",185708,175,185533,0,0,175,0,0,0,0,0,0,0,0,0,0,0,0,0]
["2024-11-01","HOSPITAL AUTHORITY","HA",3098159131,"LABAP",3,"Enterprise Application Integration (EAI)","Local System",98967,11,0,31134,67822,11,0,31404,28420,31404,0,0,3,0,3,0,0,0,0]
["2024-11-01","HOSPITAL AUTHORITY","HA",3098159131,"OBS",3,"Enterprise Application Integration (EAI)","Local System",44399,27,0,0,44372,27,0,0,0,0,0,0,0,0,0,0,0,0,0]
["2024-11-01","HOSPITAL AUTHORITY","HA",3098159131,"INVR",1,"Enterprise Application Integration (EAI)","Local System",33491,36,33455,0,0,36,0,0,0,0,0,0,0,0,0,0,0,0,0]
["2024-11-01","HOSPITAL AUTHORITY","HA",3098159131,"BIRTH",3,"Enterprise Application Integration (EAI)","Local System",11843,0,0,0,11843,0,0,0,0,0,0,0,0,0,0,0,0,0,0]
["2024-11-01","HOSPITAL AUTHORITY","HA",3098159131,"AL1",3,"Enterprise Application Integration (EAI)","Local System",6091,0,0,1717,4374,0,0,1602,1602,1602,0,0,0,0,0,0,0,0,0]
["2024-11-01","HOSPITAL AUTHORITY","HA",3098159131,"ADR",3,"Enterprise Application Integration (EAI)","Local System",5116,0,0,320,4796,0,0,318,318,318,0,0,0,0,0,0,0,0,0]
["2024-11-01","DEPARTMENT OF HEALTH","DH",2438744730,"ENCTR",3,"CIMS2","Local System",528906,0,0,0,528906,0,0,0,0,0,0,0,0,0,0,0,0,0,0]
["2024-11-01","DEPARTMENT OF HEALTH","DH",2438744730,"IMMU",3,"CIMS2","Local System",222694,0,0,29003,193691,0,0,29005,29005,29005,0,0,0,0,0,0,0,0,0]
["2024-11-01","DEPARTMENT OF HEALTH","DH",2438744730,"RXO",3,"CIMS2","Adaptation",154299,0,0,53632,100667,0,0,53860,53860,53860,0,0,5,0,0,0,5,0,0]
["2024-11-01","DEPARTMENT OF HEALTH","DH",2438744730,"PX",3,"CIMS2","Local System",118544,0,0,8922,109622,0,0,6037,6037,6037,0,0,2907,0,2907,0,0,0,0]
["2024-11-01","DEPARTMENT OF HEALTH","DH",2438744730,"PROB",3,"CIMS2","Local System",117906,2,0,15734,102170,2,0,15727,15727,15727,0,0,26,0,26,0,0,0,0]
["2024-11-01","DEPARTMENT OF HEALTH","DH",2438744730,"RXD",2,"CIMS2","Local System",99696,0,0,99696,0,0,0,0,0,0,0,0,0,0,0,0,0,0,0]
["2024-11-01","DEPARTMENT OF HEALTH","DH",2438744730,"LABGEN",3,"CIMS2","Local System",17153,0,1326,652,15175,0,0,2019,2019,652,1367,0,0,0,0,0,0,0,0]
["2024-11-01","DEPARTMENT OF HEALTH","DH",2438744730,"LABMB",1,"CIMS2","Local System",16594,0,16594,0,0,0,0,0,0,0,0,0,0,0,0,0,0,0,0]
["2024-11-01","DEPARTMENT OF HEALTH","DH",2438744730,"RAD",3,"CIMS2","Local System",16220,0,0,0,16220,0,0,0,0,0,0,0,0,0,0,0,0,0,0]
["2024-11-01","DEPARTMENT OF HEALTH","DH",2438744730,"OBS",3,"CIMS2","Local System",7249,0,0,0,7249,0,0,0,0,0,0,0,0,0,0,0,0,0,0]
["2024-11-01","DEPARTMENT OF HEALTH","DH",2438744730,"LABAP",1,"CIMS2","Local System",6695,0,6695,0,0,0,0,0,0,0,0,0,0,0,0,0,0,0,0]
["2024-11-01","DEPARTMENT OF HEALTH","DH",2438744730,"REF",1,"CIMS2","Local System",4620,0,4620,0,0,0,0,0,0,0,0,0,0,0,0,0,0,0,0]
["2024-11-01","DEPARTMENT OF HEALTH","DH",2438744730,"AL1",3,"CIMS2","Adaptation",1435,0,0,337,1098,0,0,310,310,310,0,0,0,0,0,0,0,0,0]
["2024-11-01","DEPARTMENT OF HEALTH","DH",2438744730,"ADR",3,"CIMS2","Adaptation",356,0,0,57,299,0,0,57,57,57,0,0,0,0,0,0,0,0,0]
["2024-11-01","QUALITY HEALTHCARE MEDICAL CENTRE LIMITED","GRP",9265486345,"RXD",2,"QHMS EMR","Local System",37824,0,0,37824,0,0,0,0,0,0,0,0,0,0,0,0,0,0,0]
["2024-11-01","QUALITY HEALTHCARE MEDICAL CENTRE LIMITED","GRP",9265486345,"ENCTR",3,"QHMS EMR","Local System",25897,0,0,0,25897,0,0,0,0,0,0,0,0,0,0,0,0,0,0]
["2024-11-01","QUALITY HEALTHCARE MEDICAL CENTRE LIMITED","GRP",9265486345,"IMMU",2,"QHMS EMR","Local System",3325,0,0,3325,0,0,0,0,0,0,0,0,0,0,0,0,0,0,0]
["2024-11-01","QUALITY HEALTHCARE MEDICAL CENTRE LIMITED","GRP",9265486345,"AL1","3,2","QHMS EMR","Local System",519,0,0,519,0,0,0,494,494,494,0,0,0,0,0,0,0,0,0]
["2024-11-01","QUALITY HEALTHCARE MEDICAL CENTRE LIMITED","GRP",9761710951,"RAD",3,"RHI2_QHMS","Local System",879,0,0,0,879,0,0,0,0,0,0,0,0,0,0,0,0,0,0]
["2024-11-01","DEPARTMENT OF HEALTH COVID-19 VACCINATION PROGRAMME","DH",3681219587,"IMMU",3,"CIMS1","Local System",54553,0,0,0,54553,0,0,0,0,0,0,0,0,0,0,0,0,0,0]
["2024-11-01","HONG KONG ADVENTIST HOSPITAL - TSUEN WAN","PH",8909436562,"LABGEN",3,"TWAHLAAM","Local System",29522,0,0,1766,27756,0,0,1767,1767,1767,0,0,0,0,0,0,0,0,0]
["2024-11-01","HONG KONG ADVENTIST HOSPITAL - TSUEN WAN","PH",8909436562,"RXD",2,"TWAHLAAM","Local System",8697,0,0,8697,0,0,0,0,0,0,0,0,0,0,0,0,0,0,0]
["2024-11-01","HONG KONG ADVENTIST HOSPITAL - TSUEN WAN","PH",8909436562,"ENCTR",3,"TWAHLAAM","Local System",7550,0,0,0,7550,0,0,0,0,0,0,0,0,0,0,0,0,0,0]
["2024-11-01","HONG KONG ADVENTIST HOSPITAL - TSUEN WAN","PH",8909436562,"RAD","3,2","TWAHLAAM","Local System",3726,0,0,0,3726,0,0,0,0,0,0,0,0,0,0,0,0,0,0]
["2024-11-01","HONG KONG ADVENTIST HOSPITAL - TSUEN WAN","PH",8909436562,"AL1",3,"TWAHLAAM","Adaptation",783,0,0,185,598,0,0,156,156,156,0,0,0,0,0,0,0,0,0]
["2024-11-01","HONG KONG ADVENTIST HOSPITAL - TSUEN WAN","PH",8909436562,"LABAP",1,"TWAHLAAM","Local System",511,1,510,0,0,0,1,0,0,0,0,0,0,0,0,0,0,0,0]
["2024-11-01","HONG KONG ADVENTIST HOSPITAL - TSUEN WAN","PH",8909436562,"ADR",3,"TWAHLAAM","Adaptation",32,0,0,3,29,0,0,3,3,3,0,0,0,0,0,0,0,0,0]
["2024-11-01","HONG KONG ADVENTIST HOSPITAL - TSUEN WAN","PH",8909436562,"BIRTH",3,"TWAHLAAM","Local System",3,0,0,0,3,0,0,0,0,0,0,0,0,0,0,0,0,0,0]
["2024-11-01","DISTRICT HEALTH CENTRE-SHAM SHUI PO (SJS)","DHC",9681600318,"ENCTR",3,"DHCCMS","Local System",37123,0,0,0,37123,0,0,0,0,0,0,0,0,0,0,0,0,0,0]
["2024-11-01","DISTRICT HEALTH CENTRE-SHAM SHUI PO (SJS)","DHC",9681600318,"EPIS",1,"DHCCMS","Local System",8009,0,8009,0,0,0,0,0,0,0,0,0,0,0,0,0,0,0,0]
["2024-11-01","DISTRICT HEALTH CENTRE-SHAM SHUI PO (SJS)","DHC",9681600318,"AL1",3,"DHCCMS","Local System",13,0,0,2,11,0,0,1,1,1,0,0,0,0,0,0,0,0,0]
["2024-11-01","DISTRICT HEALTH CENTRE-TUEN MUN (ELCHK)","DHC",6303033042,"ENCTR",3,"DHCCMS","Local System",26635,0,0,0,26635,0,0,0,0,0,0,0,0,0,0,0,0,0,0]
["2024-11-01","DISTRICT HEALTH CENTRE-TUEN MUN (ELCHK)","DHC",6303033042,"EPIS",1,"DHCCMS","Local System",9739,0,9739,0,0,0,0,0,0,0,0,0,0,0,0,0,0,0,0]
["2024-11-01","DISTRICT HEALTH CENTRE-TUEN MUN (ELCHK)","DHC",6303033042,"AL1",3,"DHCCMS","Local System",15,0,0,4,11,0,0,4,4,4,0,0,0,0,0,0,0,0,0]
["2024-11-01","DISTRICT HEALTH CENTRE-TUEN MUN (ELCHK)","DHC",6303033042,"ADR",3,"DHCCMS","Local System",11,0,0,1,10,0,0,1,1,1,0,0,0,0,0,0,0,0,0]
["2024-11-01","DISTRICT HEALTH CENTRE-WONG TAI SIN (HKSKHWCL)","DHC",4437392776,"ENCTR",3,"DHCCMS","Local System",23272,0,0,0,23272,0,0,0,0,0,0,0,0,0,0,0,0,0,0]
["2024-11-01","DISTRICT HEALTH CENTRE-WONG TAI SIN (HKSKHWCL)","DHC",4437392776,"EPIS",1,"DHCCMS","Local System",10589,0,10589,0,0,0,0,0,0,0,0,0,0,0,0,0,0,0,0]
["2024-11-01","DISTRICT HEALTH CENTRE-WONG TAI SIN (HKSKHWCL)","DHC",4437392776,"AL1",3,"DHCCMS","Local System",13,0,0,2,11,0,0,2,2,2,0,0,0,0,0,0,0,0,0]
["2024-11-01","DISTRICT HEALTH CENTRE-YUEN LONG (POH)","DHC",7218241485,"ENCTR",3,"DHCCMS","Local System",19812,0,0,0,19812,0,0,0,0,0,0,0,0,0,0,0,0,0,0]
["2024-11-01","DISTRICT HEALTH CENTRE-YUEN LONG (POH)","DHC",7218241485,"EPIS",1,"DHCCMS","Local System",10733,0,10733,0,0,0,0,0,0,0,0,0,0,0,0,0,0,0,0]
["2024-11-01","DISTRICT HEALTH CENTRE-YUEN LONG (POH)","DHC",7218241485,"AL1",3,"DHCCMS","Local System",6,0,0,2,4,0,0,2,2,2,0,0,0,0,0,0,0,0,0]
["2024-11-01","DISTRICT HEALTH CENTRE-YUEN LONG (POH)","DHC",7218241485,"ADR",3,"DHCCMS","Local System",2,0,0,0,2,0,0,0,0,0,0,0,0,0,0,0,0,0,0]
["2024-11-01","DISTRICT HEALTH CENTRE-SOUTHERN (AKA)","DHC",8900325933,"ENCTR",3,"DHCCMS","Local System",23068,0,0,0,23068,0,0,0,0,0,0,0,0,0,0,0,0,0,0]
["2024-11-01","DISTRICT HEALTH CENTRE-SOUTHERN (AKA)","DHC",8900325933,"EPIS",1,"DHCCMS","Local System",3369,0,3369,0,0,0,0,0,0,0,0,0,0,0,0,0,0,0,0]
["2024-11-01","DISTRICT HEALTH CENTRE-SOUTHERN (AKA)","DHC",8900325933,"AL1",3,"DHCCMS","Local System",8,0,0,0,8,0,0,0,0,0,0,0,0,0,0,0,0,0,0]
["2024-11-01","DISTRICT HEALTH CENTRE-KWAI TSING (KTSCHCA)","DHC",3040418583,"ENCTR",3,"DHCCMS","Local System",17563,0,0,0,17563,0,0,0,0,0,0,0,0,0,0,0,0,0,0]
["2024-11-01","DISTRICT HEALTH CENTRE-KWAI TSING (KTSCHCA)","DHC",3040418583,"EPIS",1,"DHCCMS","Local System",5016,0,5016,0,0,0,0,0,0,0,0,0,0,0,0,0,0,0,0]
["2024-11-01","HKSH MEDICAL GROUP LIMITED","PH",4773496701,"LABGEN",1,"HKSH e-HR gateway","Local System",9954,0,9954,0,0,0,0,0,0,0,0,0,0,0,0,0,0,0,0]
["2024-11-01","HKSH MEDICAL GROUP LIMITED","PH",4773496701,"PROB",3,"HKSH e-HR gateway","Local System",4283,0,0,0,4283,0,0,0,0,0,0,0,0,0,0,0,0,0,0]
["2024-11-01","HKSH MEDICAL GROUP LIMITED","PH",4773496701,"RAD","3,2","HKSH e-HR gateway","Local System",3799,0,0,0,3799,0,0,0,0,0,0,0,0,0,0,0,0,0,0]
["2024-11-01","HKSH MEDICAL GROUP LIMITED","PH",4773496701,"LABMB",1,"HKSH e-HR gateway","Local System",1544,0,1544,0,0,0,0,0,0,0,0,0,0,0,0,0,0,0,0]
["2024-11-01","HKSH MEDICAL GROUP LIMITED","PH",4773496701,"EPIS",1,"HKSH e-HR gateway","Local System",826,0,826,0,0,0,0,0,0,0,0,0,0,0,0,0,0,0,0]
["2024-11-01","HKSH MEDICAL GROUP LIMITED","PH",4773496701,"LABAP",1,"HKSH e-HR gateway","Local System",815,0,815,0,0,0,0,0,0,0,0,0,0,0,0,0,0,0,0]
["2024-11-01","HKSH MEDICAL GROUP LIMITED","PH",4773496701,"AL1",3,"HKSH e-HR gateway","Local System",759,0,0,333,426,0,0,268,268,268,0,0,0,0,0,0,0,0,0]
["2024-11-01","HKSH MEDICAL GROUP LIMITED","PH",4773496701,"PX",3,"HKSH e-HR gateway","Local System",131,0,0,0,131,0,0,0,0,0,0,0,0,0,0,0,0,0,0]
["2024-11-01","HKSH MEDICAL GROUP LIMITED","PH",4773496701,"ADR",3,"HKSH e-HR gateway","Local System",106,0,0,9,97,0,0,9,9,9,0,0,0,0,0,0,0,0,0]
["2024-11-01","HKSH MEDICAL GROUP LIMITED","PH",4773496701,"BIRTH",3,"HKSH e-HR gateway","Local System",2,0,0,0,2,0,0,0,0,0,0,0,0,0,0,0,0,0,0]
["2024-11-01","HONG KONG BAPTIST HOSPITAL","PH",3650324540,"LABGEN",1,"Trakcare","Local System",8945,2,8943,0,0,0,2,0,0,0,0,0,0,0,0,0,0,0,0]
["2024-11-01","HONG KONG BAPTIST HOSPITAL","PH",3650324540,"RAD","3,2","Trakcare","Local System",4711,0,0,0,4711,0,0,0,0,0,0,0,0,0,0,0,0,0,0]
["2024-11-01","HONG KONG BAPTIST HOSPITAL","PH",3650324540,"LABMB",1,"Trakcare","Local System",2935,0,2935,0,0,0,0,0,0,0,0,0,0,0,0,0,0,0,0]
["2024-11-01","HONG KONG BAPTIST HOSPITAL","PH",3650324540,"AL1",3,"Trakcare","Local System",1961,2,0,1170,789,2,0,1169,1169,1169,0,0,0,0,0,0,0,0,0]
["2024-11-01","HONG KONG BAPTIST HOSPITAL","PH",3650324540,"LABAP",1,"Trakcare","Local System",1297,0,1297,0,0,0,0,0,0,0,0,0,0,0,0,0,0,0,0]
["2024-11-01","HONG KONG BAPTIST HOSPITAL","PH",3650324540,"BIRTH",3,"Trakcare","Local System",1,0,0,0,1,0,0,0,0,0,0,0,0,0,0,0,0,0,0]
["2024-11-01","HONG KONG BAPTIST HOSPITAL","PH",4480228848,"RXD","3,2","CMS On-ramp","CMS On-ramp",724,0,0,56,668,0,0,0,0,0,0,0,0,0,0,0,0,0,0]
["2024-11-01","HONG KONG BAPTIST HOSPITAL","PH",4480228848,"RXO","3,2","CMS On-ramp","CMS On-ramp",724,0,0,56,668,0,0,0,0,0,0,0,0,0,0,0,0,0,0]
["2024-11-01","HONG KONG BAPTIST HOSPITAL","PH",4480228848,"PROB","3,2","CMS On-ramp","CMS On-ramp",241,0,0,28,213,0,0,0,0,0,0,0,0,0,0,0,0,0,0]
["2024-11-01","HONG KONG BAPTIST HOSPITAL","PH",4480228848,"ENCTR",3,"CMS On-ramp","CMS On-ramp",221,0,0,0,221,0,0,0,0,0,0,0,0,0,0,0,0,0,0]
["2024-11-01","HONG KONG BAPTIST HOSPITAL","PH",4480228848,"IMMU","3,2","CMS On-ramp","CMS On-ramp",25,0,0,0,25,0,0,0,0,0,0,0,0,0,0,0,0,0,0]
["2024-11-01","HONG KONG BAPTIST HOSPITAL","PH",4480228848,"AL1","3,2","CMS On-ramp","CMS On-ramp",2,0,0,0,2,0,0,0,0,0,0,0,0,0,0,0,0,0,0]
["2024-11-01","THE HONG KONG POLYTECHNIC UNIVERSITY","ACAD",4578805814,"RXO",3,"ClinicMaster Information System","Local System",21202,4,0,2023,19175,4,0,2024,2024,2024,0,0,0,0,0,0,0,0,0]
["2024-11-01","THE HONG KONG POLYTECHNIC UNIVERSITY","ACAD",4578805814,"ENCTR",3,"ClinicMaster Information System","Local System",268,0,0,0,268,0,0,0,0,0,0,0,0,0,0,0,0,0,0]
["2024-11-01","THE HONG KONG POLYTECHNIC UNIVERSITY","ACAD",4578805814,"IMMU",3,"ClinicMaster Information System","Local System",38,0,0,0,38,0,0,0,0,0,0,0,0,0,0,0,0,0,0]
["2024-11-01","ST. TERESA'S HOSPITAL","PH",7969980015,"RXD",3,"STH HIS","Local System",11275,13,0,412,10850,13,0,412,412,412,0,0,0,0,0,0,0,0,0]
["2024-11-01","ST. TERESA'S HOSPITAL","PH",7969980015,"RAD",3,"STH HIS","Local System",4611,0,0,0,4611,0,0,0,0,0,0,0,0,0,0,0,0,0,0]
["2024-11-01","ST. TERESA'S HOSPITAL","PH",7969980015,"EPIS",1,"STH HIS","Local System",1417,0,1417,0,0,0,0,0,0,0,0,0,0,0,0,0,0,0,0]
["2024-11-01","ST. TERESA'S HOSPITAL","PH",7969980015,"LABAP",1,"STH HIS","Local System",886,0,886,0,0,0,0,0,0,0,0,0,0,0,0,0,0,0,0]
["2024-11-01","ST. TERESA'S HOSPITAL","PH",7969980015,"AL1",3,"STH HIS","Local System",264,0,0,90,174,0,0,79,79,79,0,0,0,0,0,0,0,0,0]
["2024-11-01","ST. TERESA'S HOSPITAL","PH",7969980015,"ADR",3,"STH HIS","Local System",24,0,0,0,24,0,0,0,0,0,0,0,0,0,0,0,0,0,0]
["2024-11-01","ST. TERESA'S HOSPITAL","PH",7969980015,"BIRTH",3,"STH HIS","Local System",6,0,0,0,6,0,0,0,0,0,0,0,0,0,0,0,0,0,0]
["2024-11-01","DISTRICT HEALTH CENTRE-TSUEN WAN (YCHB)","DHC",9043776781,"ENCTR",3,"DHCCMS","Local System",13084,0,0,0,13084,0,0,0,0,0,0,0,0,0,0,0,0,0,0]
["2024-11-01","DISTRICT HEALTH CENTRE-TSUEN WAN (YCHB)","DHC",9043776781,"EPIS",1,"DHCCMS","Local System",5386,0,5386,0,0,0,0,0,0,0,0,0,0,0,0,0,0,0,0]
["2024-11-01","DISTRICT HEALTH CENTRE-TSUEN WAN (YCHB)","DHC",9043776781,"AL1",3,"DHCCMS","Local System",5,0,0,0,5,0,0,0,0,0,0,0,0,0,0,0,0,0,0]
["2024-11-01","DISTRICT HEALTH CENTRE-TSUEN WAN (YCHB)","DHC",9043776781,"ADR",3,"DHCCMS","Local System",2,0,0,0,2,0,0,0,0,0,0,0,0,0,0,0,0,0,0]
["2024-11-01","CUHK MEDICAL CENTRE LIMITED","PH",5963779130,"LABGEN",1,"HIS","Local System",7315,0,7315,0,0,0,0,0,0,0,0,0,0,0,0,0,0,0,0]
["2024-11-01","CUHK MEDICAL CENTRE LIMITED","PH",5963779130,"RAD",3,"HIS","Local System",4212,0,0,0,4212,0,0,0,0,0,0,0,0,0,0,0,0,0,0]
["2024-11-01","CUHK MEDICAL CENTRE LIMITED","PH",5963779130,"LABMB",1,"HIS","Local System",1477,0,1477,0,0,0,0,0,0,0,0,0,0,0,0,0,0,0,0]
["2024-11-01","CUHK MEDICAL CENTRE LIMITED","PH",5963779130,"LABAP",1,"HIS","Local System",965,0,965,0,0,0,0,0,0,0,0,0,0,0,0,0,0,0,0]
["2024-11-01","CUHK MEDICAL CENTRE LIMITED","PH",5963779130,"INVR",1,"HIS","Local System",532,0,532,0,0,0,0,0,0,0,0,0,0,0,0,0,0,0,0]
["2024-11-01","ST. PAUL'S HOSPITAL","PH",5156724947,"RXD",3,"SPH HIS","Local System",4837,0,0,597,4240,0,0,599,599,599,0,0,0,0,0,0,0,0,0]
["2024-11-01","ST. PAUL'S HOSPITAL","PH",5156724947,"RAD",3,"SPH HIS","Local System",3694,0,0,0,3694,0,0,0,0,0,0,0,0,0,0,0,0,0,0]
["2024-11-01","ST. PAUL'S HOSPITAL","PH",5156724947,"EPIS",1,"SPH HIS","Local System",804,0,804,0,0,0,0,0,0,0,0,0,0,0,0,0,0,0,0]
["2024-11-01","ST. PAUL'S HOSPITAL","PH",5156724947,"AL1",3,"SPH HIS","Adaptation",254,0,0,102,152,0,0,86,86,86,0,0,0,0,0,0,0,0,0]
["2024-11-01","ST. PAUL'S HOSPITAL","PH",5156724947,"ADR",3,"SPH HIS","Adaptation",33,0,0,3,30,0,0,3,3,3,0,0,0,0,0,0,0,0,0]
["2024-11-01","KINGMED DIAGNOSTICS (HONG KONG) LIMITED","GRP",3150524068,"LABGEN",3,"PLDMS","Local System",8537,2,8535,0,0,0,2,0,0,0,0,0,0,0,0,0,0,0,0]
["2024-11-01","PRECIOUS BLOOD HOSPITAL (CARITAS)","PH",7002059678,"ENCTR",3,"PBHIS","Local System",7637,0,0,0,7637,0,0,0,0,0,0,0,0,0,0,0,0,0,0]
["2024-11-01","PRECIOUS BLOOD HOSPITAL (CARITAS)","PH",7002059678,"RAD",3,"PBHIS","Local System",565,0,0,0,565,0,0,0,0,0,0,0,0,0,0,0,0,0,0]
["2024-11-01","PRECIOUS BLOOD HOSPITAL (CARITAS)","PH",7002059678,"AL1",3,"PBHIS","Local System",163,0,0,70,93,0,0,55,55,55,0,0,0,0,0,0,0,0,0]
["2024-11-01","PRECIOUS BLOOD HOSPITAL (CARITAS)","PH",7002059678,"ADR",3,"PBHIS","Local System",17,0,0,0,17,0,0,0,0,0,0,0,0,0,0,0,0,0,0]
["2024-11-01","18 CHINESE MEDICINE CLINIC CUM TRAINING AND RESEARCH CENTRE (POK OI HOSPITAL)","NGO",6758313621,"CMPROB",3,"HA CMIS","Local System",2955,0,0,966,1989,0,0,538,538,538,0,0,0,0,0,0,0,0,0]
["2024-11-01","18 CHINESE MEDICINE CLINIC CUM TRAINING AND RESEARCH CENTRE (POK OI HOSPITAL)","NGO",6758313621,"ENCTR",3,"HA CMIS","Local System",2721,0,0,0,2721,0,0,0,0,0,0,0,0,0,0,0,0,0,0]
["2024-11-01","18 CHINESE MEDICINE CLINIC CUM TRAINING AND RESEARCH CENTRE (POK OI HOSPITAL)","NGO",6758313621,"CMRXO",3,"HA CMIS","Local System",1502,0,0,337,1165,0,0,337,337,337,0,0,0,0,0,0,0,0,0]
["2024-11-01","18 CHINESE MEDICINE CLINIC CUM TRAINING AND RESEARCH CENTRE (POK OI HOSPITAL)","NGO",6758313621,"CMPX",3,"HA CMIS","Local System",1020,0,0,157,863,0,0,157,157,157,0,0,0,0,0,0,0,0,0]
["2024-11-01","18 CHINESE MEDICINE CLINIC CUM TRAINING AND RESEARCH CENTRE (UNITED CHRISTIAN NETHERSOLE COMMUNITY HEALTH SERVICE)","NGO",3740691088,"CMPROB",3,"HA CMIS","Local System",3302,0,0,238,3064,0,0,153,153,153,0,0,0,0,0,0,0,0,0]
["2024-11-01","18 CHINESE MEDICINE CLINIC CUM TRAINING AND RESEARCH CENTRE (UNITED CHRISTIAN NETHERSOLE COMMUNITY HEALTH SERVICE)","NGO",3740691088,"ENCTR",3,"HA CMIS","Local System",2603,0,0,0,2603,0,0,0,0,0,0,0,0,0,0,0,0,0,0]
["2024-11-01","18 CHINESE MEDICINE CLINIC CUM TRAINING AND RESEARCH CENTRE (UNITED CHRISTIAN NETHERSOLE COMMUNITY HEALTH SERVICE)","NGO",3740691088,"CMRXO",3,"HA CMIS","Local System",1328,0,0,670,658,0,0,670,670,670,0,0,0,0,0,0,0,0,0]
["2024-11-01","18 CHINESE MEDICINE CLINIC CUM TRAINING AND RESEARCH CENTRE (UNITED CHRISTIAN NETHERSOLE COMMUNITY HEALTH SERVICE)","NGO",3740691088,"CMPX",3,"HA CMIS","Local System",946,0,0,1,945,0,0,1,1,1,0,0,0,0,0,0,0,0,0]
["2024-11-01","DHC EXPRESS-SHA TIN (HKSR)","DHC",3628187450,"ENCTR",3,"DHCCMS","Local System",5227,0,0,0,5227,0,0,0,0,0,0,0,0,0,0,0,0,0,0]
["2024-11-01","DHC EXPRESS-SHA TIN (HKSR)","DHC",3628187450,"EPIS",1,"DHCCMS","Local System",2363,0,2363,0,0,0,0,0,0,0,0,0,0,0,0,0,0,0,0]
["2024-11-01","DHC EXPRESS-SHA TIN (HKSR)","DHC",3628187450,"AL1",3,"DHCCMS","Local System",2,0,0,2,0,0,0,2,2,2,0,0,0,0,0,0,0,0,0]
["2024-11-01","DHC EXPRESS-WAN CHAI (MC)","DHC",9421690548,"ENCTR",3,"DHCCMS","Local System",5465,0,0,0,5465,0,0,0,0,0,0,0,0,0,0,0,0,0,0]
["2024-11-01","DHC EXPRESS-WAN CHAI (MC)","DHC",9421690548,"EPIS",1,"DHCCMS","Local System",1727,0,1727,0,0,0,0,0,0,0,0,0,0,0,0,0,0,0,0]
["2024-11-01","DHC EXPRESS-WAN CHAI (MC)","DHC",9421690548,"AL1",3,"DHCCMS","Local System",5,0,0,0,5,0,0,0,0,0,0,0,0,0,0,0,0,0,0]
["2024-11-01","18 CHINESE MEDICINE CLINIC CUM TRAINING AND RESEARCH CENTRE (TUNG WAH GROUP OF HOSPITALS)","NGO",5249502353,"CMPROB",3,"HA CMIS","Local System",2846,0,0,617,2229,0,0,350,350,350,0,0,0,0,0,0,0,0,0]
["2024-11-01","18 CHINESE MEDICINE CLINIC CUM TRAINING AND RESEARCH CENTRE (TUNG WAH GROUP OF HOSPITALS)","NGO",5249502353,"ENCTR",3,"HA CMIS","Local System",2372,0,0,0,2372,0,0,0,0,0,0,0,0,0,0,0,0,0,0]
["2024-11-01","18 CHINESE MEDICINE CLINIC CUM TRAINING AND RESEARCH CENTRE (TUNG WAH GROUP OF HOSPITALS)","NGO",5249502353,"CMRXO",3,"HA CMIS","Local System",1276,0,0,472,804,0,0,472,472,472,0,0,0,0,0,0,0,0,0]
["2024-11-01","18 CHINESE MEDICINE CLINIC CUM TRAINING AND RESEARCH CENTRE (TUNG WAH GROUP OF HOSPITALS)","NGO",5249502353,"CMPX",3,"HA CMIS","Local System",611,0,0,0,611,0,0,0,0,0,0,0,0,0,0,0,0,0,0]
["2024-11-01","18 CHINESE MEDICINE CLINIC CUM TRAINING AND RESEARCH CENTRE (HAVEN OF HOPE)","NGO",3237753992,"CMPROB",3,"HA CMIS","Local System",2662,0,0,505,2157,0,0,396,396,396,0,0,0,0,0,0,0,0,0]
["2024-11-01","18 CHINESE MEDICINE CLINIC CUM TRAINING AND RESEARCH CENTRE (HAVEN OF HOPE)","NGO",3237753992,"ENCTR",3,"HA CMIS","Local System",2452,0,0,0,2452,0,0,0,0,0,0,0,0,0,0,0,0,0,0]
["2024-11-01","18 CHINESE MEDICINE CLINIC CUM TRAINING AND RESEARCH CENTRE (HAVEN OF HOPE)","NGO",3237753992,"CMRXO",3,"HA CMIS","Local System",981,0,0,306,675,0,0,306,306,306,0,0,0,0,0,0,0,0,0]
["2024-11-01","18 CHINESE MEDICINE CLINIC CUM TRAINING AND RESEARCH CENTRE (HAVEN OF HOPE)","NGO",3237753992,"CMPX",3,"HA CMIS","Local System",621,0,0,0,621,0,0,0,0,0,0,0,0,0,0,0,0,0,0]
["2024-11-01","UNION HOSPITAL","PH",5712620300,"RAD",3,"UHLAAM","Local System",4239,0,0,0,4239,0,0,0,0,0,0,0,0,0,0,0,0,0,0]
["2024-11-01","UNION HOSPITAL","PH",5712620300,"AL1",3,"UHLAAM","Adaptation",1296,0,0,278,1018,0,0,265,265,265,0,0,0,0,0,0,0,0,0]
["2024-11-01","UNION HOSPITAL","PH",5712620300,"EPIS",1,"UHLAAM","Local System",464,0,464,0,0,0,0,0,0,0,0,0,0,0,0,0,0,0,0]
["2024-11-01","UNION HOSPITAL","PH",5712620300,"IMMU",2,"UHLAAM","Local System",167,0,0,167,0,0,0,0,0,0,0,0,0,0,0,0,0,0,0]
["2024-11-01","UNION HOSPITAL","PH",5712620300,"ADR",3,"UHLAAM","Adaptation",59,0,0,16,43,0,0,16,16,16,0,0,0,0,0,0,0,0,0]
["2024-11-01","UNION HOSPITAL","PH",5712620300,"BIRTH",3,"UHLAAM","Local System",6,0,0,6,0,0,0,6,0,6,0,0,0,0,0,0,0,0,0]
["2024-11-01","DHC EXPRESS-KOWLOON CITY (LOKSINTONG)","DHC",2548616569,"ENCTR",3,"DHCCMS","Local System",3890,0,0,0,3890,0,0,0,0,0,0,0,0,0,0,0,0,0,0]
["2024-11-01","DHC EXPRESS-KOWLOON CITY (LOKSINTONG)","DHC",2548616569,"EPIS",1,"DHCCMS","Local System",2337,0,2337,0,0,0,0,0,0,0,0,0,0,0,0,0,0,0,0]
["2024-11-01","DHC EXPRESS-SAI KUNG (HOHCS)","DHC",6402782674,"ENCTR",3,"DHCCMS","Local System",4063,0,0,0,4063,0,0,0,0,0,0,0,0,0,0,0,0,0,0]
["2024-11-01","DHC EXPRESS-SAI KUNG (HOHCS)","DHC",6402782674,"EPIS",1,"DHCCMS","Local System",1591,0,1591,0,0,0,0,0,0,0,0,0,0,0,0,0,0,0,0]
["2024-11-01","DHC EXPRESS-KWUN TONG (UCMS)","DHC",7334960147,"ENCTR",3,"DHCCMS","Local System",3464,0,0,0,3464,0,0,0,0,0,0,0,0,0,0,0,0,0,0]
["2024-11-01","DHC EXPRESS-KWUN TONG (UCMS)","DHC",7334960147,"EPIS",1,"DHCCMS","Local System",1962,0,1962,0,0,0,0,0,0,0,0,0,0,0,0,0,0,0,0]
["2024-11-01","HONG KONG MEDICAL ADVANCED IMAGING LIMITED","GRP",5414310424,"RAD",3,"CSP","Local System",5140,0,0,0,5140,0,0,0,0,0,0,0,0,0,0,0,0,0,0]
["2024-11-01","DHC EXPRESS-EASTERN (HKSR)","DHC",6542377532,"ENCTR",3,"DHCCMS","Local System",3452,0,0,0,3452,0,0,0,0,0,0,0,0,0,0,0,0,0,0]
["2024-11-01","DHC EXPRESS-EASTERN (HKSR)","DHC",6542377532,"EPIS",1,"DHCCMS","Local System",1375,0,1375,0,0,0,0,0,0,0,0,0,0,0,0,0,0,0,0]
["2024-11-01","GLENEAGLES HONG KONG HOSPITAL","PH",5189883789,"RAD",3,"HMS","Local System",3225,0,0,0,3225,0,0,0,0,0,0,0,0,0,0,0,0,0,0]
["2024-11-01","GLENEAGLES HONG KONG HOSPITAL","PH",5189883789,"AL1",3,"HMS","Local System",1414,0,0,1003,411,0,0,1002,1002,1002,0,0,0,0,0,0,0,0,0]
["2024-11-01","EVANGEL HOSPITAL","PH",2206285885,"ENCTR",3,"HMS","Local System",3849,0,0,0,3849,0,0,0,0,0,0,0,0,0,0,0,0,0,0]
["2024-11-01","EVANGEL HOSPITAL","PH",2206285885,"RAD",3,"HMS","Local System",616,3,0,0,613,3,0,0,0,0,0,0,0,0,0,0,0,0,0]
["2024-11-01","EVANGEL HOSPITAL","PH",2206285885,"AL1",3,"HMS","Local System",163,0,0,87,76,0,0,87,87,87,0,0,0,0,0,0,0,0,0]
["2024-11-01","DHC EXPRESS-NORTH (YWCA)","DHC",6678116401,"ENCTR",3,"DHCCMS","Local System",3105,0,0,0,3105,0,0,0,0,0,0,0,0,0,0,0,0,0,0]
["2024-11-01","DHC EXPRESS-NORTH (YWCA)","DHC",6678116401,"EPIS",1,"DHCCMS","Local System",1430,0,1430,0,0,0,0,0,0,0,0,0,0,0,0,0,0,0,0]
["2024-11-01","DHC EXPRESS-CENTRAL AND WESTERN (HKSR)","DHC",6645809992,"ENCTR",3,"DHCCMS","Local System",2662,0,0,0,2662,0,0,0,0,0,0,0,0,0,0,0,0,0,0]
["2024-11-01","DHC EXPRESS-CENTRAL AND WESTERN (HKSR)","DHC",6645809992,"EPIS",1,"DHCCMS","Local System",1122,0,1122,0,0,0,0,0,0,0,0,0,0,0,0,0,0,0,0]
["2024-11-01","DHC EXPRESS-YAU TSIM MONG (LOKSINTONG)","DHC",5832575528,"ENCTR",3,"DHCCMS","Local System",2362,0,0,0,2362,0,0,0,0,0,0,0,0,0,0,0,0,0,0]
["2024-11-01","DHC EXPRESS-YAU TSIM MONG (LOKSINTONG)","DHC",5832575528,"EPIS",1,"DHCCMS","Local System",813,0,813,0,0,0,0,0,0,0,0,0,0,0,0,0,0,0,0]
["2024-11-01","18 CHINESE MEDICINE CLINIC CUM TRAINING AND RESEARCH CENTRE (YAN CHAI HOSPITAL)","NGO",6255376532,"CMPROB",3,"HA CMIS","Local System",1098,0,0,358,740,0,0,254,254,254,0,0,0,0,0,0,0,0,0]
["2024-11-01","18 CHINESE MEDICINE CLINIC CUM TRAINING AND RESEARCH CENTRE (YAN CHAI HOSPITAL)","NGO",6255376532,"ENCTR",3,"HA CMIS","Local System",976,0,0,0,976,0,0,0,0,0,0,0,0,0,0,0,0,0,0]
["2024-11-01","18 CHINESE MEDICINE CLINIC CUM TRAINING AND RESEARCH CENTRE (YAN CHAI HOSPITAL)","NGO",6255376532,"CMRXO",3,"HA CMIS","Local System",559,0,0,211,348,0,0,211,211,211,0,0,0,0,0,0,0,0,0]
["2024-11-01","18 CHINESE MEDICINE CLINIC CUM TRAINING AND RESEARCH CENTRE (YAN CHAI HOSPITAL)","NGO",6255376532,"CMPX",3,"HA CMIS","Local System",214,0,0,0,214,0,0,0,0,0,0,0,0,0,0,0,0,0,0]
["2024-11-01","DHC EXPRESS-TAI PO (UCMS)","DHC",7444819250,"ENCTR",3,"DHCCMS","Local System",1889,0,0,0,1889,0,0,0,0,0,0,0,0,0,0,0,0,0,0]
["2024-11-01","DHC EXPRESS-TAI PO (UCMS)","DHC",7444819250,"EPIS",1,"DHCCMS","Local System",864,0,864,0,0,0,0,0,0,0,0,0,0,0,0,0,0,0,0]
["2024-11-01","DR WONG CHUN POR","SOLO",5528991274,"RXO","3,2","CMS On-ramp","CMS On-ramp",716,0,0,73,643,0,0,1,1,1,0,0,0,0,0,0,0,0,0]
["2024-11-01","DR WONG CHUN POR","SOLO",5528991274,"RXD","3,2","CMS On-ramp","CMS On-ramp",700,0,0,71,629,0,0,1,1,1,0,0,0,0,0,0,0,0,0]
["2024-11-01","DR WONG CHUN POR","SOLO",5528991274,"PROB","3,2","CMS On-ramp","CMS On-ramp",693,0,0,13,680,0,0,0,0,0,0,0,0,0,0,0,0,0,0]
["2024-11-01","DR WONG CHUN POR","SOLO",5528991274,"ENCTR",3,"CMS On-ramp","CMS On-ramp",483,0,0,0,483,0,0,0,0,0,0,0,0,0,0,0,0,0,0]
["2024-11-01","DR WONG CHUN POR","SOLO",5528991274,"IMMU","3,2","CMS On-ramp","CMS On-ramp",29,0,0,1,28,0,0,1,1,1,0,0,0,0,0,0,0,0,0]
["2024-11-01","DR WONG CHUN POR","SOLO",5528991274,"AL1","3,2","CMS On-ramp","CMS On-ramp",3,0,0,0,3,0,0,0,0,0,0,0,0,0,0,0,0,0,0]
["2024-11-01","18 CHINESE MEDICINE CLINIC CUM TRAINING AND RESEARCH CENTRE (CHRISTIAN FAMILY SERVICE CENTRE)","NGO",9805671910,"CMPROB",3,"HA CMIS","Local System",1231,0,0,510,721,0,0,170,170,170,0,0,0,0,0,0,0,0,0]
["2024-11-01","18 CHINESE MEDICINE CLINIC CUM TRAINING AND RESEARCH CENTRE (CHRISTIAN FAMILY SERVICE CENTRE)","NGO",9805671910,"ENCTR",3,"HA CMIS","Local System",749,0,0,0,749,0,0,0,0,0,0,0,0,0,0,0,0,0,0]
["2024-11-01","18 CHINESE MEDICINE CLINIC CUM TRAINING AND RESEARCH CENTRE (CHRISTIAN FAMILY SERVICE CENTRE)","NGO",9805671910,"CMRXO",3,"HA CMIS","Local System",366,0,0,106,260,0,0,106,106,106,0,0,0,0,0,0,0,0,0]
["2024-11-01","18 CHINESE MEDICINE CLINIC CUM TRAINING AND RESEARCH CENTRE (CHRISTIAN FAMILY SERVICE CENTRE)","NGO",9805671910,"CMPX",3,"HA CMIS","Local System",222,0,0,0,222,0,0,0,0,0,0,0,0,0,0,0,0,0,0]
["2024-11-01","DHC EXPRESS-ISLANDS (NAAC)","DHC",6142872901,"ENCTR",3,"DHCCMS","Local System",2030,0,0,0,2030,0,0,0,0,0,0,0,0,0,0,0,0,0,0]
["2024-11-01","DHC EXPRESS-ISLANDS (NAAC)","DHC",6142872901,"EPIS",1,"DHCCMS","Local System",524,0,524,0,0,0,0,0,0,0,0,0,0,0,0,0,0,0,0]
["2024-11-01","IRAD MEDICAL HOLDING LIMITED","GRP",6609847497,"RAD",3,"RHI2","Local System",2418,0,0,0,2418,0,0,0,0,0,0,0,0,0,0,0,0,0,0]
["2024-11-01","HONG KONG ADVENTIST HOSPITAL - STUBBS ROAD","PH",7029571085,"RAD","3,2","HKAHLAAM","Local System",691,0,0,392,299,0,0,0,0,0,0,0,0,0,0,0,0,0,0]
["2024-11-01","HONG KONG ADVENTIST HOSPITAL - STUBBS ROAD","PH",7029571085,"RXD",2,"HKAHLAAM","Local System",651,0,0,651,0,0,0,0,0,0,0,0,0,0,0,0,0,0,0]
["2024-11-01","HONG KONG ADVENTIST HOSPITAL - STUBBS ROAD","PH",7029571085,"ENCTR",3,"HKAHLAAM","Local System",544,0,0,0,544,0,0,0,0,0,0,0,0,0,0,0,0,0,0]
["2024-11-01","HONG KONG ADVENTIST HOSPITAL - STUBBS ROAD","PH",7029571085,"LABGEN",3,"HKAHLAAM","Local System",457,0,0,164,293,0,0,164,164,164,0,0,0,0,0,0,0,0,0]
["2024-11-01","HONG KONG ADVENTIST HOSPITAL - STUBBS ROAD","PH",7029571085,"AL1",3,"HKAHLAAM","Local System",20,0,0,2,18,0,0,2,2,2,0,0,0,0,0,0,0,0,0]
["2024-11-01","HONG KONG ADVENTIST HOSPITAL - STUBBS ROAD","PH",7029571085,"LABAP",1,"HKAHLAAM","Local System",19,0,19,0,0,0,0,0,0,0,0,0,0,0,0,0,0,0,0]
["2024-11-01","HONG KONG ADVENTIST HOSPITAL - STUBBS ROAD","PH",7029571085,"ADR",3,"HKAHLAAM","Local System",1,0,0,0,1,0,0,0,0,0,0,0,0,0,0,0,0,0,0]
["2024-11-01","DR. YEE YUK KEI","SOLO",2310917092,"PROB",3,"CMS On-ramp","CMS On-ramp",559,0,0,19,540,0,0,0,0,0,0,0,0,0,0,0,0,0,0]
["2024-11-01","DR. YEE YUK KEI","SOLO",2310917092,"RXD",3,"CMS On-ramp","CMS On-ramp",532,0,0,382,150,0,0,0,0,0,0,0,0,0,0,0,0,0,0]
["2024-11-01","DR. YEE YUK KEI","SOLO",2310917092,"RXO",3,"CMS On-ramp","CMS On-ramp",532,0,0,382,150,0,0,0,0,0,0,0,0,0,0,0,0,0,0]
["2024-11-01","DR. YEE YUK KEI","SOLO",2310917092,"ENCTR",3,"CMS On-ramp","CMS On-ramp",350,0,0,0,350,0,0,0,0,0,0,0,0,0,0,0,0,0,0]
["2024-11-01","DR. YEE YUK KEI","SOLO",2310917092,"EPIS",1,"CMS On-ramp","CMS On-ramp",332,0,332,0,0,0,0,0,0,0,0,0,0,0,0,0,0,0,0]
["2024-11-01","DR. YEE YUK KEI","SOLO",2310917092,"PX",3,"CMS On-ramp","CMS On-ramp",57,0,0,0,57,0,0,0,0,0,0,0,0,0,0,0,0,0,0]
["2024-11-01","DR. YEE YUK KEI","SOLO",2310917092,"IMMU",3,"CMS On-ramp","CMS On-ramp",10,0,0,10,0,0,0,0,0,0,0,0,0,0,0,0,0,0,0]
["2024-11-01","DR. YEE YUK KEI","SOLO",2310917092,"AL1",3,"CMS On-ramp","CMS On-ramp",4,0,0,0,4,0,0,0,0,0,0,0,0,0,0,0,0,0,0]
["2024-11-01","208 MEDICAL CENTRE","SOLO",3499048393,"RXD",2,"ClinicSolution","Local System",602,0,0,602,0,0,0,0,0,0,0,0,0,0,0,0,0,0,0]
["2024-11-01","208 MEDICAL CENTRE","SOLO",3499048393,"RXO",2,"ClinicSolution","Local System",602,0,0,602,0,0,0,0,0,0,0,0,0,0,0,0,0,0,0]
["2024-11-01","208 MEDICAL CENTRE","SOLO",3499048393,"ENCTR",3,"ClinicSolution","Local System",363,0,0,0,363,0,0,0,0,0,0,0,0,0,0,0,0,0,0]
["2024-11-01","208 MEDICAL CENTRE","SOLO",3499048393,"PROB",3,"ClinicSolution","Local System",302,21,0,281,0,21,0,281,281,281,0,0,0,0,0,0,0,0,0]
["2024-11-01","208 MEDICAL CENTRE","SOLO",3499048393,"AL1",2,"ClinicSolution","Local System",4,0,0,4,0,0,0,0,0,0,0,0,0,0,0,0,0,0,0]
["2024-11-01","DR. LAM SEE YUI JOSEPH","SOLO",8962900949,"ENCTR",3,"ClinicSolution","Local System",885,0,0,0,885,0,0,0,0,0,0,0,0,0,0,0,0,0,0]
["2024-11-01","DR. LAM SEE YUI JOSEPH","SOLO",8962900949,"PROB",3,"ClinicSolution","Local System",790,0,0,255,535,0,0,255,255,255,0,0,0,0,0,0,0,0,0]
["2024-11-01","DR. LAM SEE YUI JOSEPH","SOLO",8962900949,"RXD",2,"ClinicSolution","Local System",20,0,0,20,0,0,0,0,0,0,0,0,0,0,0,0,0,0,0]
["2024-11-01","DR. LAM SEE YUI JOSEPH","SOLO",8962900949,"RXO",2,"ClinicSolution","Local System",20,0,0,20,0,0,0,0,0,0,0,0,0,0,0,0,0,0,0]
["2024-11-01","DR. LAM SEE YUI JOSEPH","SOLO",8962900949,"AL1",2,"ClinicSolution","Local System",4,0,0,4,0,0,0,0,0,0,0,0,0,0,0,0,0,0,0]
["2024-11-01","DR HO CHUNG PING","SOLO",7889756707,"RXO","3,2","CMSEHR","Local System",391,0,0,34,357,0,0,0,0,0,0,0,0,0,0,0,0,0,0]
["2024-11-01","DR HO CHUNG PING","SOLO",7889756707,"RXD","3,2","CMSEHR","Local System",380,0,0,32,348,0,0,0,0,0,0,0,0,0,0,0,0,0,0]
["2024-11-01","DR HO CHUNG PING","SOLO",7889756707,"ENCTR",3,"CMSEHR","Local System",329,0,0,0,329,0,0,0,0,0,0,0,0,0,0,0,0,0,0]
["2024-11-01","DR HO CHUNG PING","SOLO",7889756707,"PROB","3,2","CMSEHR","Local System",320,0,0,3,317,0,0,0,0,0,0,0,0,0,0,0,0,0,0]
["2024-11-01","DR HO CHUNG PING","SOLO",7889756707,"EPIS",1,"CMSEHR","Local System",268,1,267,0,0,1,0,0,0,0,0,0,0,0,0,0,0,0,0]
["2024-11-01","DR HO CHUNG PING","SOLO",7889756707,"AL1","3,2","CMSEHR","Local System",2,0,0,0,2,0,0,0,0,0,0,0,0,0,0,0,0,0,0]
["2024-11-01","DR HO CHUNG PING","SOLO",7889756707,"IMMU","3,2","CMSEHR","Local System",1,0,0,0,1,0,0,0,0,0,0,0,0,0,0,0,0,0,0]
["2024-11-01","18 CHINESE MEDICINE CLINIC CUM TRAINING AND RESEARCH CENTRE (YAN OI TONG)","NGO",2971417573,"ENCTR",3,"HA CMIS","Local System",580,0,0,0,580,0,0,0,0,0,0,0,0,0,0,0,0,0,0]
["2024-11-01","18 CHINESE MEDICINE CLINIC CUM TRAINING AND RESEARCH CENTRE (YAN OI TONG)","NGO",2971417573,"CMPROB",3,"HA CMIS","Local System",540,0,0,93,447,0,0,70,70,70,0,0,0,0,0,0,0,0,0]
["2024-11-01","18 CHINESE MEDICINE CLINIC CUM TRAINING AND RESEARCH CENTRE (YAN OI TONG)","NGO",2971417573,"CMRXO",3,"HA CMIS","Local System",284,0,0,42,242,0,0,42,42,42,0,0,0,0,0,0,0,0,0]
["2024-11-01","18 CHINESE MEDICINE CLINIC CUM TRAINING AND RESEARCH CENTRE (YAN OI TONG)","NGO",2971417573,"CMPX",3,"HA CMIS","Local System",123,0,0,0,123,0,0,0,0,0,0,0,0,0,0,0,0,0,0]
["2024-11-01","18 CHINESE MEDICINE CLINIC CUM TRAINING AND RESEARCH CENTRE (HKFTU WORKERS' MEDICAL CLINICS)","NGO",4746565267,"CMPROB",3,"HA CMIS","Local System",484,0,0,87,397,0,0,63,63,63,0,0,0,0,0,0,0,0,0]
["2024-11-01","18 CHINESE MEDICINE CLINIC CUM TRAINING AND RESEARCH CENTRE (HKFTU WORKERS' MEDICAL CLINICS)","NGO",4746565267,"ENCTR",3,"HA CMIS","Local System",441,0,0,0,441,0,0,0,0,0,0,0,0,0,0,0,0,0,0]
["2024-11-01","18 CHINESE MEDICINE CLINIC CUM TRAINING AND RESEARCH CENTRE (HKFTU WORKERS' MEDICAL CLINICS)","NGO",4746565267,"CMRXO",3,"HA CMIS","Local System",226,0,0,25,201,0,0,25,25,25,0,0,0,0,0,0,0,0,0]
["2024-11-01","18 CHINESE MEDICINE CLINIC CUM TRAINING AND RESEARCH CENTRE (HKFTU WORKERS' MEDICAL CLINICS)","NGO",4746565267,"CMPX",3,"HA CMIS","Local System",103,0,0,0,103,0,0,0,0,0,0,0,0,0,0,0,0,0,0]
["2024-11-01","ST. TERESA'S HOSPITAL - CHINESE MEDICINE CENTRE","PH",1728942726,"CMPROB",3,"STH HIS","EC Connect",332,0,0,165,167,0,0,18,18,18,0,0,0,0,0,0,0,0,0]
["2024-11-01","ST. TERESA'S HOSPITAL - CHINESE MEDICINE CENTRE","PH",1728942726,"ENCTR",3,"STH HIS","EC Connect",318,0,0,0,318,0,0,0,0,0,0,0,0,0,0,0,0,0,0]
["2024-11-01","ST. TERESA'S HOSPITAL - CHINESE MEDICINE CENTRE","PH",1728942726,"CMRXO",3,"STH HIS","EC Connect",235,0,0,7,228,0,0,0,0,0,0,0,0,0,0,0,0,0,0]
["2024-11-01","ST. TERESA'S HOSPITAL - CHINESE MEDICINE CENTRE","PH",1728942726,"CMRXD",3,"STH HIS","EC Connect",230,0,0,6,224,0,0,0,0,0,0,0,0,0,0,0,0,0,0]
["2024-11-01","ST. TERESA'S HOSPITAL - CHINESE MEDICINE CENTRE","PH",1728942726,"CMPX",3,"STH HIS","EC Connect",58,0,0,0,58,0,0,0,0,0,0,0,0,0,0,0,0,0,0]
["2024-11-01","HONG KONG BREAST CANCER FOUNDATION LIMITED","NGO",2295233392,"RAD",3,"MTG_CMS_RIS","Local System",1119,0,0,0,1119,0,0,0,0,0,0,0,0,0,0,0,0,0,0]
["2024-11-01","TRINITY MEDICAL IMAGING CENTRE LIMITED","SOLO",5453649547,"RAD",3,"RIS (LAAM)","Local System",1088,0,0,0,1088,0,0,0,0,0,0,0,0,0,0,0,0,0,0]
["2024-11-01","18 CHINESE MEDICINE CLINIC CUM TRAINING AND RESEARCH CENTRE (THE HONG KONG TUBERCULOSIS ASSOCIATION)","NGO",2231879813,"ENCTR",3,"HA CMIS","Local System",390,0,0,0,390,0,0,0,0,0,0,0,0,0,0,0,0,0,0]
["2024-11-01","18 CHINESE MEDICINE CLINIC CUM TRAINING AND RESEARCH CENTRE (THE HONG KONG TUBERCULOSIS ASSOCIATION)","NGO",2231879813,"CMPROB",3,"HA CMIS","Local System",371,0,0,124,247,0,0,69,69,69,0,0,0,0,0,0,0,0,0]
["2024-11-01","18 CHINESE MEDICINE CLINIC CUM TRAINING AND RESEARCH CENTRE (THE HONG KONG TUBERCULOSIS ASSOCIATION)","NGO",2231879813,"CMRXO",3,"HA CMIS","Local System",199,0,0,4,195,0,0,4,4,4,0,0,0,0,0,0,0,0,0]
["2024-11-01","18 CHINESE MEDICINE CLINIC CUM TRAINING AND RESEARCH CENTRE (THE HONG KONG TUBERCULOSIS ASSOCIATION)","NGO",2231879813,"CMPX",3,"HA CMIS","Local System",75,0,0,0,75,0,0,0,0,0,0,0,0,0,0,0,0,0,0]
["2024-11-01","CHOI YING MEDICAL CENTRE LTD","SOLO",3425265108,"RXD",2,"ClinicSolution","Local System",420,0,0,420,0,0,0,0,0,0,0,0,0,0,0,0,0,0,0]
["2024-11-01","CHOI YING MEDICAL CENTRE LTD","SOLO",3425265108,"RXO",2,"ClinicSolution","Local System",420,0,0,420,0,0,0,0,0,0,0,0,0,0,0,0,0,0,0]
["2024-11-01","CHOI YING MEDICAL CENTRE LTD","SOLO",3425265108,"ENCTR",3,"ClinicSolution","Local System",109,0,0,0,109,0,0,0,0,0,0,0,0,0,0,0,0,0,0]
["2024-11-01","CHOI YING MEDICAL CENTRE LTD","SOLO",3425265108,"PROB",3,"ClinicSolution","Local System",86,0,0,86,0,0,0,86,86,86,0,0,0,0,0,0,0,0,0]
["2024-11-01","DR. CHAN KIT YAN SELINA","SOLO",8895790679,"RXO","3,2","CMS On-ramp","CMS On-ramp",265,0,0,14,251,0,0,0,0,0,0,0,0,0,0,0,0,0,0]
["2024-11-01","DR. CHAN KIT YAN SELINA","SOLO",8895790679,"ENCTR",3,"CMS On-ramp","CMS On-ramp",259,0,0,0,259,0,0,0,0,0,0,0,0,0,0,0,0,0,0]
["2024-11-01","DR. CHAN KIT YAN SELINA","SOLO",8895790679,"RXD","3,2","CMS On-ramp","CMS On-ramp",254,0,0,12,242,0,0,0,0,0,0,0,0,0,0,0,0,0,0]
["2024-11-01","DR. CHAN KIT YAN SELINA","SOLO",8895790679,"PROB","3,2","CMS On-ramp","CMS On-ramp",204,0,0,38,166,0,0,0,0,0,0,0,0,0,0,0,0,0,0]
["2024-11-01","DR. CHAN KIT YAN SELINA","SOLO",8895790679,"IMMU","3,2","CMS On-ramp","CMS On-ramp",33,0,0,9,24,0,0,0,0,0,0,0,0,0,0,0,0,0,0]
["2024-11-01","DR. CHAN KIT YAN SELINA","SOLO",8895790679,"AL1","3,2","CMS On-ramp","CMS On-ramp",5,0,0,0,5,0,0,0,0,0,0,0,0,0,0,0,0,0,0]
["2024-11-01","DR. CHAN KIT YAN SELINA","SOLO",8895790679,"ADR","3,2","CMS On-ramp","CMS On-ramp",2,0,0,0,2,0,0,0,0,0,0,0,0,0,0,0,0,0,0]
["2024-11-01","HONG KONG HEALTH CHECK (HEAD OFFICE)","GRP",5596680865,"RAD",3,"RHI2","Local System",996,0,0,0,996,0,0,0,0,0,0,0,0,0,0,0,0,0,0]
["2024-11-01","CELESTIAL HEALTHCARE","SOLO",8154807797,"RXD",2,"ClinicSolution","Local System",302,0,0,302,0,0,0,0,0,0,0,0,0,0,0,0,0,0,0]
["2024-11-01","CELESTIAL HEALTHCARE","SOLO",8154807797,"RXO",2,"ClinicSolution","Local System",302,0,0,302,0,0,0,0,0,0,0,0,0,0,0,0,0,0,0]
["2024-11-01","CELESTIAL HEALTHCARE","SOLO",8154807797,"ENCTR",3,"ClinicSolution","Local System",272,0,0,0,272,0,0,0,0,0,0,0,0,0,0,0,0,0,0]
["2024-11-01","CELESTIAL HEALTHCARE","SOLO",8154807797,"PROB",3,"ClinicSolution","Local System",76,1,0,75,0,1,0,75,75,75,0,0,0,0,0,0,0,0,0]
["2024-11-01","CELESTIAL HEALTHCARE","SOLO",8154807797,"PX",3,"ClinicSolution","Local System",5,0,0,5,0,0,0,5,5,5,0,0,0,0,0,0,0,0,0]
["2024-11-01","18 CHINESE MEDICINE CLINIC CUM TRAINING AND RESEARCH CENTRE (THE HONG KONG BUDDHIST ASSOCIATION)","NGO",8296860643,"ENCTR",3,"HA CMIS","Local System",351,0,0,0,351,0,0,0,0,0,0,0,0,0,0,0,0,0,0]
["2024-11-01","18 CHINESE MEDICINE CLINIC CUM TRAINING AND RESEARCH CENTRE (THE HONG KONG BUDDHIST ASSOCIATION)","NGO",8296860643,"CMPROB",3,"HA CMIS","Local System",345,0,0,121,224,0,0,73,73,73,0,0,0,0,0,0,0,0,0]
["2024-11-01","18 CHINESE MEDICINE CLINIC CUM TRAINING AND RESEARCH CENTRE (THE HONG KONG BUDDHIST ASSOCIATION)","NGO",8296860643,"CMRXO",3,"HA CMIS","Local System",158,0,0,1,157,0,0,1,1,1,0,0,0,0,0,0,0,0,0]
["2024-11-01","18 CHINESE MEDICINE CLINIC CUM TRAINING AND RESEARCH CENTRE (THE HONG KONG BUDDHIST ASSOCIATION)","NGO",8296860643,"CMPX",3,"HA CMIS","Local System",81,0,0,0,81,0,0,0,0,0,0,0,0,0,0,0,0,0,0]
["2024-11-01","HONG KONG INTEGRATED ONCOLOGY CENTRE","GRP",6691242811,"RAD",3,"RHI2","Local System",931,0,0,0,931,0,0,0,0,0,0,0,0,0,0,0,0,0,0]
["2024-11-01","HK MERCY MEDICAL LIMITED","SOLO",9056383716,"RXO","3,2","CMS On-ramp","CMS On-ramp",317,0,0,109,208,0,0,0,0,0,0,0,0,0,0,0,0,0,0]
["2024-11-01","HK MERCY MEDICAL LIMITED","SOLO",9056383716,"RXD","3,2","CMS On-ramp","CMS On-ramp",316,0,0,108,208,0,0,0,0,0,0,0,0,0,0,0,0,0,0]
["2024-11-01","HK MERCY MEDICAL LIMITED","SOLO",9056383716,"ENCTR",3,"CMS On-ramp","CMS On-ramp",160,0,0,0,160,0,0,0,0,0,0,0,0,0,0,0,0,0,0]
["2024-11-01","HK MERCY MEDICAL LIMITED","SOLO",9056383716,"PROB","3,2","CMS On-ramp","CMS On-ramp",126,0,0,59,67,0,0,0,0,0,0,0,0,0,0,0,0,0,0]
["2024-11-01","HK MERCY MEDICAL LIMITED","SOLO",9056383716,"IMMU","3,2","CMS On-ramp","CMS On-ramp",2,0,0,1,1,0,0,0,0,0,0,0,0,0,0,0,0,0,0]
["2024-11-01","MODERN ASCENT LIMITED","SOLO",2342444283,"RAD",3,"RHI2","Local System",766,0,0,75,691,0,0,0,0,0,0,0,75,0,0,0,0,75,0]
["2024-11-01","HAN QI CHINESE MEDICINE LIMITED","GRP",2091864776,"CMPROB",3,"EC Connect","EC Connect",215,0,0,65,150,0,0,21,21,21,0,0,0,0,0,0,0,0,0]
["2024-11-01","HAN QI CHINESE MEDICINE LIMITED","GRP",2091864776,"ENCTR",3,"EC Connect","EC Connect",175,0,0,0,175,0,0,0,0,0,0,0,0,0,0,0,0,0,0]
["2024-11-01","HAN QI CHINESE MEDICINE LIMITED","GRP",2091864776,"CMRXD",3,"EC Connect","EC Connect",174,0,0,158,16,0,0,0,0,0,0,0,0,0,0,0,0,0,0]
["2024-11-01","HAN QI CHINESE MEDICINE LIMITED","GRP",2091864776,"CMRXO",3,"EC Connect","EC Connect",174,0,0,158,16,0,0,0,0,0,0,0,0,0,0,0,0,0,0]
["2024-11-01","PATHLAB MEDICAL LABORATORIES LIMITED","GRP",2381250555,"LABGEN",3,"PLDMS","Local System",708,0,708,0,0,0,0,0,0,0,0,0,0,0,0,0,0,0,0]
["2024-11-01","TUNG WAH GROUP OF HOSPITALS","NGO",4471430786,"RAD",3,"TWBHCT-LAAM","Local System",684,0,0,0,684,0,0,0,0,0,0,0,0,0,0,0,0,0,0]
["2024-11-01","LEUNG MAN CHIT CLINIC","SOLO",4427383241,"ENCTR",3,"ClinicSolution","Local System",569,0,0,0,569,0,0,0,0,0,0,0,0,0,0,0,0,0,0]
["2024-11-01","CENTRUM / CENTRA MRI CENTRE LIMITED","SOLO",3603160126,"RAD",3,"RHI2","Local System",532,0,0,0,532,0,0,0,0,0,0,0,0,0,0,0,0,0,0]
["2024-11-01","UMP MEDICAL CENTRE","GRP",9927384828,"RAD",3,"RHI2","Local System",520,1,0,0,519,1,0,0,0,0,0,0,0,0,0,0,0,0,0]
["2024-11-01","VENUS HEALTH AND IMAGING CENTRE LIMITED","SOLO",4048010991,"RAD",3,"RHI2","Local System",518,0,0,0,518,0,0,0,0,0,0,0,0,0,0,0,0,0,0]
["2024-11-01","ALPHA MEDICAL (CWB)","GRP",5292537029,"RAD",3,"RIS (LAAM)","Local System",474,0,0,0,474,0,0,0,0,0,0,0,0,0,0,0,0,0,0]
["2024-11-01","DR SHUM NAM CHU'S CLINIC","SOLO",2308765964,"RXO",3,"CMS On-ramp","CMS On-ramp",158,0,0,26,132,0,0,0,0,0,0,0,0,0,0,0,0,0,0]
["2024-11-01","DR SHUM NAM CHU'S CLINIC","SOLO",2308765964,"RXD",3,"CMS On-ramp","CMS On-ramp",134,0,0,20,114,0,0,0,0,0,0,0,0,0,0,0,0,0,0]
["2024-11-01","DR SHUM NAM CHU'S CLINIC","SOLO",2308765964,"PROB",3,"CMS On-ramp","CMS On-ramp",88,0,0,2,86,0,0,0,0,0,0,0,0,0,0,0,0,0,0]
["2024-11-01","DR SHUM NAM CHU'S CLINIC","SOLO",2308765964,"ENCTR",3,"CMS On-ramp","CMS On-ramp",70,0,0,0,70,0,0,0,0,0,0,0,0,0,0,0,0,0,0]
["2024-11-01","DR SHUM NAM CHU'S CLINIC","SOLO",2308765964,"IMMU",3,"CMS On-ramp","CMS On-ramp",19,0,0,2,17,0,0,0,0,0,0,0,0,0,0,0,0,0,0]
["2024-11-01","GRANDE MEDICAL SCANNING CENTRE","SOLO",9141981346,"RAD",3,"RHI2","Local System",437,0,0,0,437,0,0,0,0,0,0,0,0,0,0,0,0,0,0]
["2024-11-01","THE UNIVERSITY OF HONG KONG","ACAD",3726405388,"RAD",3,"RHI2","Local System",430,0,0,0,430,0,0,0,0,0,0,0,0,0,0,0,0,0,0]
["2024-11-01","ANCHOR ONCOLOGY AND HEMATOLOGY CENTRE LIMITED","GRP",9713227452,"ENCTR",3,"ClinicSolution","Local System",232,0,0,0,232,0,0,0,0,0,0,0,0,0,0,0,0,0,0]
["2024-11-01","ANCHOR ONCOLOGY AND HEMATOLOGY CENTRE LIMITED","GRP",9713227452,"RXD",2,"ClinicSolution","Local System",82,0,0,82,0,0,0,0,0,0,0,0,0,0,0,0,0,0,0]
["2024-11-01","ANCHOR ONCOLOGY AND HEMATOLOGY CENTRE LIMITED","GRP",9713227452,"RXO",2,"ClinicSolution","Local System",82,0,0,82,0,0,0,0,0,0,0,0,0,0,0,0,0,0,0]
["2024-11-01","DY EYE CONSULTANT LIMITED","SOLO",8558761107,"RXD",2,"ClinicSolution","Local System",94,0,0,94,0,0,0,0,0,0,0,0,0,0,0,0,0,0,0]
["2024-11-01","DY EYE CONSULTANT LIMITED","SOLO",8558761107,"RXO",2,"ClinicSolution","Local System",94,0,0,94,0,0,0,0,0,0,0,0,0,0,0,0,0,0,0]
["2024-11-01","DY EYE CONSULTANT LIMITED","SOLO",8558761107,"ENCTR",3,"ClinicSolution","Local System",88,0,0,0,88,0,0,0,0,0,0,0,0,0,0,0,0,0,0]
["2024-11-01","DY EYE CONSULTANT LIMITED","SOLO",8558761107,"PROB",3,"ClinicSolution","Local System",44,0,0,44,0,0,0,44,44,44,0,0,0,0,0,0,0,0,0]
["2024-11-01","DY EYE CONSULTANT LIMITED","SOLO",8558761107,"PX",3,"ClinicSolution","Local System",4,0,0,4,0,0,0,4,4,4,0,0,0,0,0,0,0,0,0]
["2024-11-01","CITY SURGICAL CENTER LIMITED","GRP",6467582028,"ENCTR",3,"ClinicSolution","Local System",152,0,0,0,152,0,0,0,0,0,0,0,0,0,0,0,0,0,0]
["2024-11-01","CITY SURGICAL CENTER LIMITED","GRP",6467582028,"PROB",3,"ClinicSolution","Local System",105,5,0,100,0,5,0,100,100,100,0,0,0,0,0,0,0,0,0]
["2024-11-01","CITY SURGICAL CENTER LIMITED","GRP",6467582028,"RXD",2,"ClinicSolution","Local System",15,0,0,15,0,0,0,0,0,0,0,0,0,0,0,0,0,0,0]
["2024-11-01","CITY SURGICAL CENTER LIMITED","GRP",6467582028,"RXO",2,"ClinicSolution","Local System",15,0,0,15,0,0,0,0,0,0,0,0,0,0,0,0,0,0,0]
["2024-11-01","CITY SURGICAL CENTER LIMITED","GRP",6467582028,"AL1",2,"ClinicSolution","Local System",1,0,0,1,0,0,0,0,0,0,0,0,0,0,0,0,0,0,0]
["2024-11-01","MONGKOK MRI CENTRE LIMITED","GRP",5833341375,"RAD",3,"RHI2","Local System",267,0,0,0,267,0,0,0,0,0,0,0,0,0,0,0,0,0,0]
["2024-11-01","HONG KONG CHRISTIAN SERVICE","NGO",9179355867,"RXD","3,2","CMS On-ramp","CMS On-ramp",85,0,0,22,63,0,0,0,0,0,0,0,0,0,0,0,0,0,0]
["2024-11-01","HONG KONG CHRISTIAN SERVICE","NGO",9179355867,"RXO","3,2","CMS On-ramp","CMS On-ramp",85,0,0,22,63,0,0,0,0,0,0,0,0,0,0,0,0,0,0]
["2024-11-01","HONG KONG CHRISTIAN SERVICE","NGO",9179355867,"ENCTR",3,"CMS On-ramp","CMS On-ramp",48,0,0,0,48,0,0,0,0,0,0,0,0,0,0,0,0,0,0]
["2024-11-01","HONG KONG CHRISTIAN SERVICE","NGO",9179355867,"IMMU","3,2","CMS On-ramp","CMS On-ramp",6,0,0,3,3,0,0,0,0,0,0,0,0,0,0,0,0,0,0]
["2024-11-01","HONG KONG CHRISTIAN SERVICE","NGO",9179355867,"AL1","3,2","CMS On-ramp","CMS On-ramp",3,0,0,1,2,0,0,1,1,1,0,0,0,0,0,0,0,0,0]
["2024-11-01","ALL WELL (ASIA) LIMITED","GRP",8891674942,"ENCTR",3,"ClinicSolution","Local System",144,0,0,0,144,0,0,0,0,0,0,0,0,0,0,0,0,0,0]
["2024-11-01","ALL WELL (ASIA) LIMITED","GRP",8891674942,"PROB",3,"ClinicSolution","Local System",39,0,0,39,0,0,0,39,39,39,0,0,0,0,0,0,0,0,0]
["2024-11-01","IPATH LABORATORY LIMITED","GRP",4178262222,"LABAP",1,"iPath","Local System",169,0,169,0,0,0,0,0,0,0,0,0,0,0,0,0,0,0,0]
["2024-11-01","DR LEUNG KAM FUNG","SOLO",2825508730,"ENCTR",3,"ClinicSolution","Local System",71,0,0,0,71,0,0,0,0,0,0,0,0,0,0,0,0,0,0]
["2024-11-01","DR LEUNG KAM FUNG","SOLO",2825508730,"RXD",2,"ClinicSolution","Local System",41,0,0,41,0,0,0,0,0,0,0,0,0,0,0,0,0,0,0]
["2024-11-01","DR LEUNG KAM FUNG","SOLO",2825508730,"RXO",2,"ClinicSolution","Local System",41,0,0,41,0,0,0,0,0,0,0,0,0,0,0,0,0,0,0]
["2024-11-01","CHOW KAI LAI","SOLO",3955467232,"RXD",2,"ClinicSolution","Local System",50,0,0,50,0,0,0,0,0,0,0,0,0,0,0,0,0,0,0]
["2024-11-01","CHOW KAI LAI","SOLO",3955467232,"RXO",2,"ClinicSolution","Local System",50,0,0,50,0,0,0,0,0,0,0,0,0,0,0,0,0,0,0]
["2024-11-01","CHOW KAI LAI","SOLO",3955467232,"ENCTR",3,"ClinicSolution","Local System",24,0,0,0,24,0,0,0,0,0,0,0,0,0,0,0,0,0,0]
["2024-11-01","CHOW KAI LAI","SOLO",3955467232,"PROB",3,"ClinicSolution","Local System",13,0,0,13,0,0,0,13,13,13,0,0,0,0,0,0,0,0,0]
["2024-11-01","CHOW KAI LAI","SOLO",3955467232,"PX",3,"ClinicSolution","Local System",9,0,0,9,0,0,0,9,9,9,0,0,0,0,0,0,0,0,0]
["2024-11-01","CHOW KAI LAI","SOLO",3955467232,"AL1",2,"ClinicSolution","Local System",2,0,0,2,0,0,0,0,0,0,0,0,0,0,0,0,0,0,0]
["2024-11-01","DR. LEUNG KIN KAY","SOLO",3226804803,"ENCTR",3,"CMS On-ramp","CMS On-ramp",49,0,0,0,49,0,0,0,0,0,0,0,0,0,0,0,0,0,0]
["2024-11-01","DR. LEUNG KIN KAY","SOLO",3226804803,"RXD","3,2","CMS On-ramp","CMS On-ramp",31,0,0,1,30,0,0,0,0,0,0,0,1,0,0,0,1,0,0]
["2024-11-01","DR. LEUNG KIN KAY","SOLO",3226804803,"RXO","3,2","CMS On-ramp","CMS On-ramp",31,0,0,1,30,0,0,0,0,0,0,0,1,0,0,0,1,0,0]
["2024-11-01","DR. LEUNG KIN KAY","SOLO",3226804803,"PROB","3,2","CMS On-ramp","CMS On-ramp",22,0,0,0,22,0,0,0,0,0,0,0,0,0,0,0,0,0,0]
["2024-11-01","DR. LEUNG KIN KAY","SOLO",3226804803,"IMMU","3,2","CMS On-ramp","CMS On-ramp",1,0,0,0,1,0,0,0,0,0,0,0,0,0,0,0,0,0,0]
["2024-11-01","HEALTH & WEALTH MEDICAL CENTRE","SOLO",8832216811,"RXD",2,"ClinicSolution","Local System",40,0,0,40,0,0,0,0,0,0,0,0,0,0,0,0,0,0,0]
["2024-11-01","HEALTH & WEALTH MEDICAL CENTRE","SOLO",8832216811,"RXO",2,"ClinicSolution","Local System",40,0,0,40,0,0,0,0,0,0,0,0,0,0,0,0,0,0,0]
["2024-11-01","HEALTH & WEALTH MEDICAL CENTRE","SOLO",8832216811,"PROB",3,"ClinicSolution","Local System",20,0,0,20,0,0,0,20,20,20,0,0,0,0,0,0,0,0,0]
["2024-11-01","HEALTH & WEALTH MEDICAL CENTRE","SOLO",8832216811,"ENCTR",3,"ClinicSolution","Local System",19,0,0,0,19,0,0,0,0,0,0,0,0,0,0,0,0,0,0]
["2024-11-01","HEALTH & WEALTH MEDICAL CENTRE","SOLO",8832216811,"AL1",2,"ClinicSolution","Local System",2,0,0,2,0,0,0,0,0,0,0,0,0,0,0,0,0,0,0]
["2024-11-01","HEALTH & WEALTH MEDICAL CENTRE","SOLO",8832216811,"IMMU",2,"ClinicSolution","Local System",2,0,0,2,0,0,0,0,0,0,0,0,0,0,0,0,0,0,0]
["2024-11-01","VMC HEALTHCARE GROUP LIMITED","SOLO",3747982882,"PX",3,"ClinicSolution","Local System",58,8,0,50,0,8,0,50,50,50,0,0,0,0,0,0,0,0,0]
["2024-11-01","VMC HEALTHCARE GROUP LIMITED","SOLO",3747982882,"ENCTR",3,"ClinicSolution","Local System",55,0,0,0,55,0,0,0,0,0,0,0,0,0,0,0,0,0,0]
["2024-11-01","VMC HEALTHCARE GROUP LIMITED","SOLO",3747982882,"AL1",2,"ClinicSolution","Local System",3,0,0,3,0,0,0,0,0,0,0,0,0,0,0,0,0,0,0]
["2024-11-01","VMC HEALTHCARE GROUP LIMITED","SOLO",3747982882,"PROB",3,"ClinicSolution","Local System",1,0,0,1,0,0,0,1,1,1,0,0,0,0,0,0,0,0,0]
["2024-11-01","DR CHAN YUEN SANG","SOLO",4830743861,"RXD",2,"ClinicSolution","Local System",39,0,0,39,0,0,0,0,0,0,0,0,0,0,0,0,0,0,0]
["2024-11-01","DR CHAN YUEN SANG","SOLO",4830743861,"RXO",2,"ClinicSolution","Local System",39,0,0,39,0,0,0,0,0,0,0,0,0,0,0,0,0,0,0]
["2024-11-01","DR CHAN YUEN SANG","SOLO",4830743861,"PROB",3,"ClinicSolution","Local System",33,0,0,33,0,0,0,33,33,33,0,0,0,0,0,0,0,0,0]
["2024-11-01","DR CHAN YUEN SANG","SOLO",4830743861,"PX",3,"ClinicSolution","Local System",1,0,0,1,0,0,0,1,1,1,0,0,0,0,0,0,0,0,0]
["2024-11-01","HEALTH IMAGING & CHECK-UP CENTRE LIMITED","SOLO",3168691844,"RAD",3,"RHI2","Local System",109,0,0,0,109,0,0,0,0,0,0,0,0,0,0,0,0,0,0]
["2024-11-01","HEALTH INTEGRATED LIMITED","SOLO",5368445357,"RXD",2,"ClinicSolution","Local System",41,41,0,0,0,41,0,0,0,0,0,0,0,0,0,0,0,0,0]
["2024-11-01","HEALTH INTEGRATED LIMITED","SOLO",5368445357,"RXO",2,"ClinicSolution","Local System",41,41,0,0,0,41,0,0,0,0,0,0,0,0,0,0,0,0,0]
["2024-11-01","HEALTH INTEGRATED LIMITED","SOLO",5368445357,"ENCTR",3,"ClinicSolution","Local System",10,10,0,0,0,10,0,0,0,0,0,0,0,0,0,0,0,0,0]
["2024-11-01","HEALTH INTEGRATED LIMITED","SOLO",5368445357,"PROB",3,"ClinicSolution","Local System",10,1,0,9,0,1,0,9,9,9,0,0,0,0,0,0,0,0,0]
["2024-11-01","HEALTH INTEGRATED LIMITED","SOLO",5368445357,"PX",3,"ClinicSolution","Local System",3,0,0,3,0,0,0,3,3,3,0,0,0,0,0,0,0,0,0]
["2024-11-01","ACTON DIGITAL PET-CT CENTRE LIMITED","GRP",7221331623,"RAD",3,"RHI2","Local System",98,0,0,0,98,0,0,0,0,0,0,0,0,0,0,0,0,0,0]
["2024-11-01","HUMAN HEALTH MEDICAL CENTRE.","GRP",5634981022,"RAD",1,"RCMS_LAAM","Local System",46,0,46,0,0,0,0,0,0,0,0,0,0,0,0,0,0,0,0]
["2024-11-01","HUMAN HEALTH MEDICAL CENTRE.","GRP",5634981022,"EPIS",1,"RCMS_LAAM","Local System",43,0,43,0,0,0,0,0,0,0,0,0,0,0,0,0,0,0,0]
["2024-11-01","INSTA MEDLAB MRI CENTRE LIMITED","GRP",3426117536,"RAD",3,"RIS(LAAM for Insta MedLab PRD)","Local System",83,0,0,0,83,0,0,0,0,0,0,0,0,0,0,0,0,0,0]
["2024-11-01","BNS MEDICAL IMAGING LIMITED","GRP",7417567584,"RAD",3,"RHI2","Local System",76,0,0,0,76,0,0,0,0,0,0,0,0,0,0,0,0,0,0]
["2024-11-01","ADVANCE X-RAY & MEDICAL DIAGNOSTIC CENTRE LTD","SOLO",9306084059,"LABGEN",1,"HKMA CMS for LAAM","Local System",73,0,73,0,0,0,0,0,0,0,0,0,0,0,0,0,0,0,0]
["2024-11-01","ADVANCE X-RAY & MEDICAL DIAGNOSTIC CENTRE LTD","SOLO",9306084059,"ENCTR",3,"HKMA CMS for LAAM","Local System",2,0,0,0,2,0,0,0,0,0,0,0,0,0,0,0,0,0,0]
["2024-11-01","DR. WONG MAN HUNG","SOLO",6256774535,"RXD",2,"ClinicSolution","Local System",23,0,0,23,0,0,0,0,0,0,0,0,0,0,0,0,0,0,0]
["2024-11-01","DR. WONG MAN HUNG","SOLO",6256774535,"RXO",2,"ClinicSolution","Local System",23,0,0,23,0,0,0,0,0,0,0,0,0,0,0,0,0,0,0]
["2024-11-01","DR. WONG MAN HUNG","SOLO",6256774535,"ENCTR",3,"ClinicSolution","Local System",17,0,0,0,17,0,0,0,0,0,0,0,0,0,0,0,0,0,0]
["2024-11-01","DR. WONG MAN HUNG","SOLO",6256774535,"AL1",2,"ClinicSolution","Local System",1,0,0,1,0,0,0,0,0,0,0,0,0,0,0,0,0,0,0]
["2024-11-01","HEALS CLINIC LIMITED","SOLO",9841327550,"ENCTR",3,"ClinicSolution","Local System",18,0,0,0,18,0,0,0,0,0,0,0,0,0,0,0,0,0,0]
["2024-11-01","HEALS CLINIC LIMITED","SOLO",9841327550,"RXD",2,"ClinicSolution","Local System",17,0,0,17,0,0,0,0,0,0,0,0,0,0,0,0,0,0,0]
["2024-11-01","HEALS CLINIC LIMITED","SOLO",9841327550,"RXO",2,"ClinicSolution","Local System",17,0,0,17,0,0,0,0,0,0,0,0,0,0,0,0,0,0,0]
["2024-11-01","HEALS CLINIC LIMITED","SOLO",9841327550,"MEDCER",3,"ClinicSolution","Local System",5,0,0,0,5,0,0,0,0,0,0,0,0,0,0,0,0,5,0]
["2024-11-01","HEALS CLINIC LIMITED","SOLO",9841327550,"PROB",3,"ClinicSolution","Local System",2,0,0,0,2,0,0,0,0,0,0,0,0,0,0,0,0,0,0]
["2024-11-01","CLEARBRIDGE MEDICAL CENTER","SOLO",3545073904,"PROB",3,"ClinicSolution","Local System",19,0,0,19,0,0,0,19,19,19,0,0,0,0,0,0,0,0,0]
["2024-11-01","CLEARBRIDGE MEDICAL CENTER","SOLO",3545073904,"ENCTR",3,"ClinicSolution","Local System",11,0,0,0,11,0,0,0,0,0,0,0,0,0,0,0,0,0,0]
["2024-11-01","CLEARBRIDGE MEDICAL CENTER","SOLO",3545073904,"RXD",2,"ClinicSolution","Local System",10,0,0,10,0,0,0,0,0,0,0,0,0,0,0,0,0,0,0]
["2024-11-01","CLEARBRIDGE MEDICAL CENTER","SOLO",3545073904,"RXO",2,"ClinicSolution","Local System",10,0,0,10,0,0,0,0,0,0,0,0,0,0,0,0,0,0,0]
["2024-11-01","CLEARBRIDGE MEDICAL CENTER","SOLO",3545073904,"AL1",2,"ClinicSolution","Local System",1,0,0,1,0,0,0,0,0,0,0,0,0,0,0,0,0,0,0]
["2024-11-01","DR. CHUNG CHI PING SIMON","SOLO",9398567973,"PROB",3,"ClinicSolution","Local System",17,0,0,17,0,0,0,17,17,17,0,0,0,0,0,0,0,0,0]
["2024-11-01","DR. CHUNG CHI PING SIMON","SOLO",9398567973,"ENCTR",3,"ClinicSolution","Local System",11,0,0,0,11,0,0,0,0,0,0,0,0,0,0,0,0,0,0]
["2024-11-01","DR. CHUNG CHI PING SIMON","SOLO",9398567973,"RXD",2,"ClinicSolution","Local System",10,0,0,10,0,0,0,0,0,0,0,0,0,0,0,0,0,0,0]
["2024-11-01","DR. CHUNG CHI PING SIMON","SOLO",9398567973,"RXO",2,"ClinicSolution","Local System",10,0,0,10,0,0,0,0,0,0,0,0,0,0,0,0,0,0,0]
["2024-11-01","BETHEL MEDICAL LIMITED","SOLO",5197855501,"ENCTR",3,"ClinicSolution","Local System",21,0,0,0,21,0,0,0,0,0,0,0,0,0,0,0,0,0,0]
["2024-11-01","BETHEL MEDICAL LIMITED","SOLO",5197855501,"PROB",3,"ClinicSolution","Local System",9,0,0,9,0,0,0,9,9,9,0,0,0,0,0,0,0,0,0]
["2024-11-01","BETHEL MEDICAL LIMITED","SOLO",5197855501,"RXD",2,"ClinicSolution","Local System",8,0,0,8,0,0,0,0,0,0,0,0,0,0,0,0,0,0,0]
["2024-11-01","BETHEL MEDICAL LIMITED","SOLO",5197855501,"RXO",2,"ClinicSolution","Local System",8,0,0,8,0,0,0,0,0,0,0,0,0,0,0,0,0,0,0]
["2024-11-01","CANOSSA HOSPITAL (CARITAS)","PH",8252506240,"AL1",3,"Canossa Hospital Management System","Local System",26,0,0,8,18,0,0,8,8,8,0,0,0,0,0,0,0,0,0]
["2024-11-01","CANOSSA HOSPITAL (CARITAS)","PH",8252506240,"RAD",3,"Canossa Hospital Management System","Local System",17,0,0,8,9,0,0,0,0,0,0,0,8,0,0,0,0,8,0]
["2024-11-01","CANOSSA HOSPITAL (CARITAS)","PH",8252506240,"ADR",3,"Canossa Hospital Management System","Local System",2,0,0,0,2,0,0,0,0,0,0,0,0,0,0,0,0,0,0]
["2024-11-01","HONG KONG BREAST CANCER AND DISEASE CENTRE LIMITED","SOLO",9407305541,"RXO","3,2","CMS On-ramp","CMS On-ramp",21,0,0,3,18,0,0,0,0,0,0,0,0,0,0,0,0,0,0]
["2024-11-01","HONG KONG BREAST CANCER AND DISEASE CENTRE LIMITED","SOLO",9407305541,"RXD","3,2","CMS On-ramp","CMS On-ramp",19,0,0,1,18,0,0,0,0,0,0,0,0,0,0,0,0,0,0]
["2024-11-01","HONG KONG BREAST CANCER AND DISEASE CENTRE LIMITED","SOLO",9407305541,"AL1","3,2","CMS On-ramp","CMS On-ramp",3,0,0,0,3,0,0,0,0,0,0,0,0,0,0,0,0,0,0]
["2024-11-01","APOLLO MRI CENTRE LIMITED","SOLO",3973708225,"RAD",3,"RHI2","Local System",39,0,0,0,39,0,0,0,0,0,0,0,0,0,0,0,0,0,0]
["2024-11-01","DR. TSANG FAN KWONG","SOLO",9585979787,"RXD",2,"ClinicSolution","Local System",14,0,0,14,0,0,0,0,0,0,0,0,0,0,0,0,0,0,0]
["2024-11-01","DR. TSANG FAN KWONG","SOLO",9585979787,"RXO",2,"ClinicSolution","Local System",14,0,0,14,0,0,0,0,0,0,0,0,0,0,0,0,0,0,0]
["2024-11-01","DR. TSANG FAN KWONG","SOLO",9585979787,"ENCTR",3,"ClinicSolution","Local System",7,0,0,0,7,0,0,0,0,0,0,0,0,0,0,0,0,0,0]
["2024-11-01","DR. TSANG FAN KWONG","SOLO",9585979787,"PROB",3,"ClinicSolution","Local System",2,0,0,2,0,0,0,2,2,2,0,0,0,0,0,0,0,0,0]
["2024-11-01","DR. TONY CHUN KIT LEE MEDICAL PRACTICE LIMITED","SOLO",7071207758,"ENCTR",3,"ClinicSolution","Local System",15,0,0,0,15,0,0,0,0,0,0,0,0,0,0,0,0,0,0]
["2024-11-01","DR. TONY CHUN KIT LEE MEDICAL PRACTICE LIMITED","SOLO",7071207758,"PROB",3,"ClinicSolution","Local System",5,0,0,5,0,0,0,5,5,5,0,0,0,0,0,0,0,0,0]
["2024-11-01","DR. TONY CHUN KIT LEE MEDICAL PRACTICE LIMITED","SOLO",7071207758,"RXD",2,"ClinicSolution","Local System",5,0,0,5,0,0,0,0,0,0,0,0,0,0,0,0,0,0,0]
["2024-11-01","DR. TONY CHUN KIT LEE MEDICAL PRACTICE LIMITED","SOLO",7071207758,"RXO",2,"ClinicSolution","Local System",5,0,0,5,0,0,0,0,0,0,0,0,0,0,0,0,0,0,0]
["2024-11-01","WELL BEING CHINESE MEDICINE CLINIC","SOLO",1667592556,"CMRXO",3,"EC Connect","EC Connect",13,0,0,0,13,0,0,0,0,0,0,0,0,0,0,0,0,0,0]
["2024-11-01","WELL BEING CHINESE MEDICINE CLINIC","SOLO",1667592556,"CMPROB",3,"EC Connect","EC Connect",7,0,0,7,0,0,0,1,1,1,0,0,0,0,0,0,0,0,0]
["2024-11-01","WELL BEING CHINESE MEDICINE CLINIC","SOLO",1667592556,"ENCTR",3,"EC Connect","EC Connect",6,0,0,0,6,0,0,0,0,0,0,0,0,0,0,0,0,0,0]
["2024-11-01","PASSION MEDICAL LIMITED","SOLO",5772944231,"RXD",2,"ClinicSolution","Local System",8,0,0,8,0,0,0,0,0,0,0,0,0,0,0,0,0,0,0]
["2024-11-01","PASSION MEDICAL LIMITED","SOLO",5772944231,"RXO",2,"ClinicSolution","Local System",8,0,0,8,0,0,0,0,0,0,0,0,0,0,0,0,0,0,0]
["2024-11-01","PASSION MEDICAL LIMITED","SOLO",5772944231,"ENCTR",3,"ClinicSolution","Local System",7,0,0,0,7,0,0,0,0,0,0,0,0,0,0,0,0,0,0]
["2024-11-01","PASSION MEDICAL LIMITED","SOLO",5772944231,"PROB",3,"ClinicSolution","Local System",1,0,0,1,0,0,0,1,1,1,0,0,0,0,0,0,0,0,0]
["2024-11-01","L & C CLINICAL PRACTICE","GRP",5251825990,"RXD",2,"ClinicSolution","Local System",8,0,0,8,0,0,0,0,0,0,0,0,0,0,0,0,0,0,0]
["2024-11-01","L & C CLINICAL PRACTICE","GRP",5251825990,"RXO",2,"ClinicSolution","Local System",8,0,0,8,0,0,0,0,0,0,0,0,0,0,0,0,0,0,0]
["2024-11-01","L & C CLINICAL PRACTICE","GRP",5251825990,"ENCTR",3,"ClinicSolution","Local System",3,0,0,0,3,0,0,0,0,0,0,0,0,0,0,0,0,0,0]
["2024-11-01","L & C CLINICAL PRACTICE","GRP",5251825990,"PROB",3,"ClinicSolution","Local System",3,0,0,3,0,0,0,3,3,3,0,0,0,0,0,0,0,0,0]
["2024-11-01","SHAO YAO CHINESE MEDICINE CLINIC LIMITED","SOLO",8061038543,"CMPROB",3,"EC Connect","EC Connect",5,0,0,1,4,0,0,0,0,0,0,0,0,0,0,0,0,0,0]
["2024-11-01","SHAO YAO CHINESE MEDICINE CLINIC LIMITED","SOLO",8061038543,"CMRXO",3,"EC Connect","EC Connect",5,0,0,0,5,0,0,0,0,0,0,0,0,0,0,0,0,0,0]
["2024-11-01","SHAO YAO CHINESE MEDICINE CLINIC LIMITED","SOLO",8061038543,"ENCTR",3,"EC Connect","EC Connect",5,0,0,0,5,0,0,0,0,0,0,0,0,0,0,0,0,0,0]
["2024-11-01","SHAO YAO CHINESE MEDICINE CLINIC LIMITED","SOLO",8061038543,"CMRXD",3,"EC Connect","EC Connect",4,0,0,0,4,0,0,0,0,0,0,0,0,0,0,0,0,0,0]
["2024-11-01","SHAO YAO CHINESE MEDICINE CLINIC LIMITED","SOLO",8061038543,"CMPX",3,"EC Connect","EC Connect",1,0,0,0,1,0,0,0,0,0,0,0,0,0,0,0,0,0,0]
["2024-11-01","CONFIDENCE MEDICAL CENTRE LIMITED","SOLO",3923060878,"ENCTR",3,"ClinicSolution","Local System",18,0,0,0,18,0,0,0,0,0,0,0,0,0,0,0,0,0,0]
["2024-11-01","DR LAM KOON MAN CLINIC","SOLO",8256954924,"ENCTR",3,"ClinicSolution","Local System",13,0,0,0,13,0,0,0,0,0,0,0,0,0,0,0,0,0,0]
["2024-11-01","DR LAM KOON MAN CLINIC","SOLO",8256954924,"RXD",2,"ClinicSolution","Local System",2,0,0,2,0,0,0,0,0,0,0,0,0,0,0,0,0,0,0]
["2024-11-01","DR LAM KOON MAN CLINIC","SOLO",8256954924,"RXO",2,"ClinicSolution","Local System",2,0,0,2,0,0,0,0,0,0,0,0,0,0,0,0,0,0,0]
["2024-11-01","DR. CHOI KAM YEE SAMUEL","SOLO",5849557920,"RXD",2,"ClinicSolution","Local System",7,0,0,7,0,0,0,0,0,0,0,0,0,0,0,0,0,0,0]
["2024-11-01","DR. CHOI KAM YEE SAMUEL","SOLO",5849557920,"RXO",2,"ClinicSolution","Local System",7,0,0,7,0,0,0,0,0,0,0,0,0,0,0,0,0,0,0]
["2024-11-01","DR. CHOI KAM YEE SAMUEL","SOLO",5849557920,"ENCTR",3,"ClinicSolution","Local System",1,0,0,0,1,0,0,0,0,0,0,0,0,0,0,0,0,0,0]
["2024-11-01","DR. CHOI KAM YEE SAMUEL","SOLO",5849557920,"PROB",3,"ClinicSolution","Local System",1,0,0,1,0,0,0,1,1,1,0,0,0,0,0,0,0,0,0]
["2024-11-01","KINDNESS CHINESE MEDICAL CLINIC LIMITED","SOLO",9165130652,"CMPROB",3,"EC Connect","EC Connect",3,0,0,0,3,0,0,0,0,0,0,0,0,0,0,0,0,0,0]
["2024-11-01","KINDNESS CHINESE MEDICAL CLINIC LIMITED","SOLO",9165130652,"CMRXD",3,"EC Connect","EC Connect",3,0,0,0,3,0,0,0,0,0,0,0,0,0,0,0,0,0,0]
["2024-11-01","KINDNESS CHINESE MEDICAL CLINIC LIMITED","SOLO",9165130652,"CMRXO",3,"EC Connect","EC Connect",3,0,0,0,3,0,0,0,0,0,0,0,0,0,0,0,0,0,0]
["2024-11-01","KINDNESS CHINESE MEDICAL CLINIC LIMITED","SOLO",9165130652,"ENCTR",3,"EC Connect","EC Connect",3,0,0,0,3,0,0,0,0,0,0,0,0,0,0,0,0,0,0]
["2024-11-01","PRIMECARE MEDICAL CENTRE","SOLO",3093463431,"ENCTR",3,"ClinicSolution","Local System",8,0,0,0,8,0,0,0,0,0,0,0,0,0,0,0,0,0,0]
["2024-11-01","DR DANIEL YIANG WU","SOLO",8958425524,"ENCTR",3,"ClinicSolution","Local System",4,0,0,0,4,0,0,0,0,0,0,0,0,0,0,0,0,0,0]
["2024-11-01","DR DANIEL YIANG WU","SOLO",8958425524,"PROB",3,"ClinicSolution","Local System",1,0,0,1,0,0,0,1,1,1,0,0,0,0,0,0,0,0,0]
["2024-11-01","MEDIC-TECH X-RAY & LABORATORY SERVICE","SOLO",1960920902,"LABGEN",1,"HKMA CMS for LAAM","Local System",5,0,5,0,0,0,0,0,0,0,0,0,0,0,0,0,0,0,0]
["2024-11-01","MAN YEE (TCM) MEDICAL CLINIC LIMITED","GRP",2822145488,"ENCTR",3,"EC Connect","EC Connect",2,0,0,0,2,0,0,0,0,0,0,0,0,0,0,0,0,0,0]
["2024-11-01","MAN YEE (TCM) MEDICAL CLINIC LIMITED","GRP",2822145488,"CMPROB",3,"EC Connect","EC Connect",1,0,0,0,1,0,0,0,0,0,0,0,0,0,0,0,0,0,0]
["2024-11-01","MAN YEE (TCM) MEDICAL CLINIC LIMITED","GRP",2822145488,"CMPX",3,"EC Connect","EC Connect",1,0,0,0,1,0,0,0,0,0,0,0,0,0,0,0,0,0,0]
["2024-11-01","NGAN SZE YUEN","SOLO",8033207557,"ENCTR",3,"ClinicSolution","Local System",4,0,0,0,4,0,0,0,0,0,0,0,0,0,0,0,0,0,0]
["2024-11-01","CONCORDE DIAGNOSTICS LIMITED","SOLO",2732778448,"RAD",3,"RHI2","Local System",3,0,0,0,3,0,0,0,0,0,0,0,0,0,0,0,0,0,0]
["2024-12-01","HOSPITAL AUTHORITY","HA",3098159131,"RXD",3,"Enterprise Application Integration (EAI)","Local System",16151737,0,0,5838937,10312800,0,0,521065,521065,521065,0,0,0,0,0,0,0,0,0]
["2024-12-01","HOSPITAL AUTHORITY","HA",3098159131,"ENCTR",3,"Enterprise Application Integration (EAI)","Local System",11398752,0,0,0,11398752,0,0,0,0,0,0,0,0,0,0,0,0,0,0]
["2024-12-01","HOSPITAL AUTHORITY","HA",3098159131,"RXO",3,"Enterprise Application Integration (EAI)","Local System",8879263,0,0,3795700,5083563,0,0,178835,178835,178835,0,0,0,0,0,0,0,0,0]
["2024-12-01","HOSPITAL AUTHORITY","HA",3098159131,"LABGEN",3,"Enterprise Application Integration (EAI)","Local System",4201002,93,1915,70702,4128292,21,72,75467,75410,73552,1915,0,0,0,0,0,0,0,0]
["2024-12-01","HOSPITAL AUTHORITY","HA",3098159131,"PROB",3,"Enterprise Application Integration (EAI)","Local System",1194247,0,0,0,1194247,0,0,0,0,0,0,0,0,0,0,0,0,0,0]
["2024-12-01","HOSPITAL AUTHORITY","HA",3098159131,"LABMB",3,"Enterprise Application Integration (EAI)","Local System",832940,136,2475,110486,719843,102,34,113143,112336,110664,2479,0,0,0,0,0,0,0,0]
["2024-12-01","HOSPITAL AUTHORITY","HA",3098159131,"RAD",3,"Enterprise Application Integration (EAI)","Local System",745535,0,0,0,745535,0,0,0,0,0,0,0,0,0,0,0,0,0,0]
["2024-12-01","HOSPITAL AUTHORITY","HA",3098159131,"EPIS",1,"Enterprise Application Integration (EAI)","Local System",416761,1385,415376,0,0,1385,0,0,0,0,0,0,0,0,0,0,0,0,0]
["2024-12-01","HOSPITAL AUTHORITY","HA",3098159131,"PX",3,"Enterprise Application Integration (EAI)","Local System",360773,0,0,0,360773,0,0,0,0,0,0,0,0,0,0,0,0,0,0]
["2024-12-01","HOSPITAL AUTHORITY","HA",3098159131,"MEDCER",1,"Enterprise Application Integration (EAI)","Local System",259559,416,259143,0,0,208,208,0,0,0,0,0,0,0,0,0,0,0,0]
["2024-12-01","HOSPITAL AUTHORITY","HA",3098159131,"REF",1,"Enterprise Application Integration (EAI)","Local System",173041,158,172883,0,0,158,0,0,0,0,0,0,0,0,0,0,0,0,0]
["2024-12-01","HOSPITAL AUTHORITY","HA",3098159131,"IMMU",3,"Enterprise Application Integration (EAI)","Local System",133096,0,0,11162,121934,0,0,10874,10874,10874,0,0,296,0,296,0,0,0,0]
["2024-12-01","HOSPITAL AUTHORITY","HA",3098159131,"LABAP",3,"Enterprise Application Integration (EAI)","Local System",93548,4,0,28848,64696,4,0,29077,26224,29077,0,0,1,0,1,0,0,0,0]
["2024-12-01","HOSPITAL AUTHORITY","HA",3098159131,"OBS",3,"Enterprise Application Integration (EAI)","Local System",42721,40,0,0,42681,28,12,0,0,0,0,0,0,0,0,0,0,0,0]
["2024-12-01","HOSPITAL AUTHORITY","HA",3098159131,"INVR",1,"Enterprise Application Integration (EAI)","Local System",31914,28,31886,0,0,28,0,0,0,0,0,0,0,0,0,0,0,0,0]
["2024-12-01","HOSPITAL AUTHORITY","HA",3098159131,"BIRTH",3,"Enterprise Application Integration (EAI)","Local System",8428,0,0,0,8428,0,0,0,0,0,0,0,0,0,0,0,0,0,0]
["2024-12-01","HOSPITAL AUTHORITY","HA",3098159131,"AL1",3,"Enterprise Application Integration (EAI)","Local System",5551,0,0,1548,4003,0,0,1460,1460,1460,0,0,0,0,0,0,0,0,0]
["2024-12-01","HOSPITAL AUTHORITY","HA",3098159131,"ADR",3,"Enterprise Application Integration (EAI)","Local System",4583,0,0,298,4285,0,0,291,291,291,0,0,0,0,0,0,0,0,0]
["2024-12-01","DEPARTMENT OF HEALTH","DH",2438744730,"ENCTR",3,"CIMS2","Local System",447747,0,0,0,447747,0,0,0,0,0,0,0,0,0,0,0,0,0,0]
["2024-12-01","DEPARTMENT OF HEALTH","DH",2438744730,"RXO",3,"CIMS2","Adaptation",157838,0,0,54100,103738,0,0,54228,54228,54228,0,0,5,0,0,0,5,0,0]
["2024-12-01","DEPARTMENT OF HEALTH","DH",2438744730,"IMMU",3,"CIMS2","Local System",154500,0,0,18621,135879,0,0,18621,18621,18621,0,0,0,0,0,0,0,0,0]
["2024-12-01","DEPARTMENT OF HEALTH","DH",2438744730,"PROB",3,"CIMS2","Local System",112764,0,0,15651,97113,0,0,15641,15641,15641,0,0,22,0,22,0,0,0,0]
["2024-12-01","DEPARTMENT OF HEALTH","DH",2438744730,"PX",3,"CIMS2","Local System",105140,0,0,8122,97018,0,0,5477,5477,5477,0,0,2666,0,2666,0,0,0,0]
["2024-12-01","DEPARTMENT OF HEALTH","DH",2438744730,"RXD",2,"CIMS2","Local System",95998,0,0,95998,0,0,0,0,0,0,0,0,0,0,0,0,0,0,0]
["2024-12-01","DEPARTMENT OF HEALTH","DH",2438744730,"RAD",3,"CIMS2","Local System",21343,0,0,0,21343,0,0,0,0,0,0,0,0,0,0,0,0,0,0]
["2024-12-01","DEPARTMENT OF HEALTH","DH",2438744730,"LABMB",1,"CIMS2","Local System",16521,0,16521,0,0,0,0,0,0,0,0,0,0,0,0,0,0,0,0]
["2024-12-01","DEPARTMENT OF HEALTH","DH",2438744730,"LABGEN",3,"CIMS2","Local System",15352,0,996,747,13609,0,0,1743,1743,747,996,0,0,0,0,0,0,0,0]
["2024-12-01","DEPARTMENT OF HEALTH","DH",2438744730,"OBS",3,"CIMS2","Local System",7045,0,0,0,7045,0,0,0,0,0,0,0,0,0,0,0,0,0,0]
["2024-12-01","DEPARTMENT OF HEALTH","DH",2438744730,"LABAP",1,"CIMS2","Local System",6739,0,6739,0,0,0,0,0,0,0,0,0,0,0,0,0,0,0,0]
["2024-12-01","DEPARTMENT OF HEALTH","DH",2438744730,"REF",1,"CIMS2","Local System",4117,0,4117,0,0,0,0,0,0,0,0,0,0,0,0,0,0,0,0]
["2024-12-01","DEPARTMENT OF HEALTH","DH",2438744730,"AL1",3,"CIMS2","Adaptation",1199,0,0,276,923,0,0,257,257,257,0,0,0,0,0,0,0,0,0]
["2024-12-01","DEPARTMENT OF HEALTH","DH",2438744730,"ADR",3,"CIMS2","Adaptation",343,0,0,44,299,0,0,44,44,44,0,0,0,0,0,0,0,0,0]
["2024-12-01","QUALITY HEALTHCARE MEDICAL CENTRE LIMITED","GRP",9265486345,"RXD",2,"QHMS EMR","Local System",33548,0,0,33548,0,0,0,0,0,0,0,0,0,0,0,0,0,0,0]
["2024-12-01","QUALITY HEALTHCARE MEDICAL CENTRE LIMITED","GRP",9265486345,"ENCTR",3,"QHMS EMR","Local System",17328,0,0,0,17328,0,0,0,0,0,0,0,0,0,0,0,0,0,0]
["2024-12-01","QUALITY HEALTHCARE MEDICAL CENTRE LIMITED","GRP",9265486345,"IMMU",2,"QHMS EMR","Local System",956,0,0,956,0,0,0,0,0,0,0,0,0,0,0,0,0,0,0]
["2024-12-01","QUALITY HEALTHCARE MEDICAL CENTRE LIMITED","GRP",9265486345,"AL1","3,2","QHMS EMR","Local System",363,0,0,363,0,0,0,343,343,343,0,0,0,0,0,0,0,0,0]
["2024-12-01","QUALITY HEALTHCARE MEDICAL CENTRE LIMITED","GRP",9761710951,"RAD",3,"RHI2_QHMS","Local System",710,0,0,0,710,0,0,0,0,0,0,0,0,0,0,0,0,0,0]
["2024-12-01","HONG KONG ADVENTIST HOSPITAL - TSUEN WAN","PH",8909436562,"LABGEN",3,"TWAHLAAM","Local System",28565,0,0,2201,26364,0,0,2250,2250,2250,0,0,0,0,0,0,0,0,0]
["2024-12-01","HONG KONG ADVENTIST HOSPITAL - TSUEN WAN","PH",8909436562,"RXD",2,"TWAHLAAM","Local System",9863,0,0,9863,0,0,0,0,0,0,0,0,0,0,0,0,0,0,0]
["2024-12-01","HONG KONG ADVENTIST HOSPITAL - TSUEN WAN","PH",8909436562,"ENCTR",3,"TWAHLAAM","Local System",7685,0,0,0,7685,0,0,0,0,0,0,0,0,0,0,0,0,0,0]
["2024-12-01","HONG KONG ADVENTIST HOSPITAL - TSUEN WAN","PH",8909436562,"RAD","3,2","TWAHLAAM","Local System",3627,0,0,0,3627,0,0,0,0,0,0,0,0,0,0,0,0,0,0]
["2024-12-01","HONG KONG ADVENTIST HOSPITAL - TSUEN WAN","PH",8909436562,"AL1",3,"TWAHLAAM","Adaptation",725,0,0,198,527,0,0,163,163,163,0,0,0,0,0,0,0,0,0]
["2024-12-01","HONG KONG ADVENTIST HOSPITAL - TSUEN WAN","PH",8909436562,"LABAP",1,"TWAHLAAM","Local System",473,5,468,0,0,0,5,0,0,0,0,0,0,0,0,0,0,0,0]
["2024-12-01","HONG KONG ADVENTIST HOSPITAL - TSUEN WAN","PH",8909436562,"ADR",3,"TWAHLAAM","Adaptation",65,0,0,8,57,0,0,8,8,8,0,0,0,0,0,0,0,0,0]
["2024-12-01","HONG KONG ADVENTIST HOSPITAL - TSUEN WAN","PH",8909436562,"BIRTH",3,"TWAHLAAM","Local System",11,0,0,0,11,0,0,0,0,0,0,0,0,0,0,0,0,0,0]
["2024-12-01","DEPARTMENT OF HEALTH COVID-19 VACCINATION PROGRAMME","DH",3681219587,"IMMU",3,"CIMS1","Local System",40192,0,0,0,40192,0,0,0,0,0,0,0,0,0,0,0,0,0,0]
["2024-12-01","DISTRICT HEALTH CENTRE-SHAM SHUI PO (SJS)","DHC",9681600318,"ENCTR",3,"DHCCMS","Local System",27524,0,0,0,27524,0,0,0,0,0,0,0,0,0,0,0,0,0,0]
["2024-12-01","DISTRICT HEALTH CENTRE-SHAM SHUI PO (SJS)","DHC",9681600318,"EPIS",1,"DHCCMS","Local System",7400,0,7400,0,0,0,0,0,0,0,0,0,0,0,0,0,0,0,0]
["2024-12-01","DISTRICT HEALTH CENTRE-SHAM SHUI PO (SJS)","DHC",9681600318,"AL1",3,"DHCCMS","Local System",10,0,0,1,9,0,0,1,1,1,0,0,0,0,0,0,0,0,0]
["2024-12-01","DISTRICT HEALTH CENTRE-SHAM SHUI PO (SJS)","DHC",9681600318,"ADR",3,"DHCCMS","Local System",2,0,0,0,2,0,0,0,0,0,0,0,0,0,0,0,0,0,0]
["2024-12-01","DISTRICT HEALTH CENTRE-TUEN MUN (ELCHK)","DHC",6303033042,"ENCTR",3,"DHCCMS","Local System",26830,0,0,0,26830,0,0,0,0,0,0,0,0,0,0,0,0,0,0]
["2024-12-01","DISTRICT HEALTH CENTRE-TUEN MUN (ELCHK)","DHC",6303033042,"EPIS",1,"DHCCMS","Local System",7770,0,7770,0,0,0,0,0,0,0,0,0,0,0,0,0,0,0,0]
["2024-12-01","DISTRICT HEALTH CENTRE-TUEN MUN (ELCHK)","DHC",6303033042,"AL1",3,"DHCCMS","Local System",12,0,0,0,12,0,0,0,0,0,0,0,0,0,0,0,0,0,0]
["2024-12-01","DISTRICT HEALTH CENTRE-TUEN MUN (ELCHK)","DHC",6303033042,"ADR",3,"DHCCMS","Local System",2,0,0,0,2,0,0,0,0,0,0,0,0,0,0,0,0,0,0]
["2024-12-01","DISTRICT HEALTH CENTRE-YUEN LONG (POH)","DHC",7218241485,"ENCTR",3,"DHCCMS","Local System",17632,0,0,0,17632,0,0,0,0,0,0,0,0,0,0,0,0,0,0]
["2024-12-01","DISTRICT HEALTH CENTRE-YUEN LONG (POH)","DHC",7218241485,"EPIS",1,"DHCCMS","Local System",10110,0,10110,0,0,0,0,0,0,0,0,0,0,0,0,0,0,0,0]
["2024-12-01","DISTRICT HEALTH CENTRE-YUEN LONG (POH)","DHC",7218241485,"AL1",3,"DHCCMS","Local System",9,0,0,0,9,0,0,0,0,0,0,0,0,0,0,0,0,0,0]
["2024-12-01","DISTRICT HEALTH CENTRE-YUEN LONG (POH)","DHC",7218241485,"ADR",3,"DHCCMS","Local System",1,0,0,0,1,0,0,0,0,0,0,0,0,0,0,0,0,0,0]
["2024-12-01","DISTRICT HEALTH CENTRE-WONG TAI SIN (HKSKHWCL)","DHC",4437392776,"ENCTR",3,"DHCCMS","Local System",18772,0,0,0,18772,0,0,0,0,0,0,0,0,0,0,0,0,0,0]
["2024-12-01","DISTRICT HEALTH CENTRE-WONG TAI SIN (HKSKHWCL)","DHC",4437392776,"EPIS",1,"DHCCMS","Local System",8336,0,8336,0,0,0,0,0,0,0,0,0,0,0,0,0,0,0,0]
["2024-12-01","DISTRICT HEALTH CENTRE-WONG TAI SIN (HKSKHWCL)","DHC",4437392776,"AL1",3,"DHCCMS","Local System",20,0,0,4,16,0,0,2,2,2,0,0,0,0,0,0,0,0,0]
["2024-12-01","DISTRICT HEALTH CENTRE-WONG TAI SIN (HKSKHWCL)","DHC",4437392776,"ADR",3,"DHCCMS","Local System",1,0,0,0,1,0,0,0,0,0,0,0,0,0,0,0,0,0,0]
["2024-12-01","DISTRICT HEALTH CENTRE-SOUTHERN (AKA)","DHC",8900325933,"ENCTR",3,"DHCCMS","Local System",21974,0,0,0,21974,0,0,0,0,0,0,0,0,0,0,0,0,0,0]
["2024-12-01","DISTRICT HEALTH CENTRE-SOUTHERN (AKA)","DHC",8900325933,"EPIS",1,"DHCCMS","Local System",2836,0,2836,0,0,0,0,0,0,0,0,0,0,0,0,0,0,0,0]
["2024-12-01","DISTRICT HEALTH CENTRE-SOUTHERN (AKA)","DHC",8900325933,"AL1",3,"DHCCMS","Local System",1,0,0,0,1,0,0,0,0,0,0,0,0,0,0,0,0,0,0]
["2024-12-01","HKSH MEDICAL GROUP LIMITED","PH",4773496701,"LABGEN",1,"HKSH e-HR gateway","Local System",9901,0,9901,0,0,0,0,0,0,0,0,0,0,0,0,0,0,0,0]
["2024-12-01","HKSH MEDICAL GROUP LIMITED","PH",4773496701,"PROB",3,"HKSH e-HR gateway","Local System",4880,0,0,0,4880,0,0,0,0,0,0,0,0,0,0,0,0,0,0]
["2024-12-01","HKSH MEDICAL GROUP LIMITED","PH",4773496701,"RAD","3,2","HKSH e-HR gateway","Local System",3702,0,0,0,3702,0,0,0,0,0,0,0,0,0,0,0,0,0,0]
["2024-12-01","HKSH MEDICAL GROUP LIMITED","PH",4773496701,"LABMB",1,"HKSH e-HR gateway","Local System",1402,0,1402,0,0,0,0,0,0,0,0,0,0,0,0,0,0,0,0]
["2024-12-01","HKSH MEDICAL GROUP LIMITED","PH",4773496701,"EPIS",1,"HKSH e-HR gateway","Local System",836,0,836,0,0,0,0,0,0,0,0,0,0,0,0,0,0,0,0]
["2024-12-01","HKSH MEDICAL GROUP LIMITED","PH",4773496701,"LABAP",1,"HKSH e-HR gateway","Local System",760,0,760,0,0,0,0,0,0,0,0,0,0,0,0,0,0,0,0]
["2024-12-01","HKSH MEDICAL GROUP LIMITED","PH",4773496701,"AL1",3,"HKSH e-HR gateway","Local System",637,0,0,306,331,0,0,234,234,234,0,0,0,0,0,0,0,0,0]
["2024-12-01","HKSH MEDICAL GROUP LIMITED","PH",4773496701,"PX",3,"HKSH e-HR gateway","Local System",141,0,0,0,141,0,0,0,0,0,0,0,0,0,0,0,0,0,0]
["2024-12-01","HKSH MEDICAL GROUP LIMITED","PH",4773496701,"ADR",3,"HKSH e-HR gateway","Local System",77,0,0,8,69,0,0,8,8,8,0,0,0,0,0,0,0,0,0]
["2024-12-01","HKSH MEDICAL GROUP LIMITED","PH",4773496701,"BIRTH",3,"HKSH e-HR gateway","Local System",5,0,0,0,5,0,0,0,0,0,0,0,0,0,0,0,0,0,0]
["2024-12-01","DISTRICT HEALTH CENTRE-KWAI TSING (KTSCHCA)","DHC",3040418583,"ENCTR",3,"DHCCMS","Local System",18442,0,0,0,18442,0,0,0,0,0,0,0,0,0,0,0,0,0,0]
["2024-12-01","DISTRICT HEALTH CENTRE-KWAI TSING (KTSCHCA)","DHC",3040418583,"EPIS",1,"DHCCMS","Local System",3116,0,3116,0,0,0,0,0,0,0,0,0,0,0,0,0,0,0,0]
["2024-12-01","HONG KONG BAPTIST HOSPITAL","PH",3650324540,"LABGEN",1,"Trakcare","Local System",8889,7,8882,0,0,0,7,0,0,0,0,0,0,0,0,0,0,0,0]
["2024-12-01","HONG KONG BAPTIST HOSPITAL","PH",3650324540,"RAD","3,2","Trakcare","Local System",4293,0,0,0,4293,0,0,0,0,0,0,0,0,0,0,0,0,0,0]
["2024-12-01","HONG KONG BAPTIST HOSPITAL","PH",3650324540,"LABMB",1,"Trakcare","Local System",2833,0,2833,0,0,0,0,0,0,0,0,0,0,0,0,0,0,0,0]
["2024-12-01","HONG KONG BAPTIST HOSPITAL","PH",3650324540,"AL1",3,"Trakcare","Local System",1805,2,0,1123,680,1,1,1108,1108,1108,0,0,0,0,0,0,0,0,0]
["2024-12-01","HONG KONG BAPTIST HOSPITAL","PH",3650324540,"LABAP",1,"Trakcare","Local System",1157,0,1157,0,0,0,0,0,0,0,0,0,0,0,0,0,0,0,0]
["2024-12-01","HONG KONG BAPTIST HOSPITAL","PH",4480228848,"RXD","3,2","CMS On-ramp","CMS On-ramp",657,0,0,54,603,0,0,0,0,0,0,0,0,0,0,0,0,0,0]
["2024-12-01","HONG KONG BAPTIST HOSPITAL","PH",4480228848,"RXO","3,2","CMS On-ramp","CMS On-ramp",657,0,0,54,603,0,0,0,0,0,0,0,0,0,0,0,0,0,0]
["2024-12-01","HONG KONG BAPTIST HOSPITAL","PH",4480228848,"PROB","3,2","CMS On-ramp","CMS On-ramp",181,0,0,10,171,0,0,0,0,0,0,0,0,0,0,0,0,0,0]
["2024-12-01","HONG KONG BAPTIST HOSPITAL","PH",4480228848,"ENCTR",3,"CMS On-ramp","CMS On-ramp",149,0,0,0,149,0,0,0,0,0,0,0,0,0,0,0,0,0,0]
["2024-12-01","HONG KONG BAPTIST HOSPITAL","PH",4480228848,"IMMU","3,2","CMS On-ramp","CMS On-ramp",5,0,0,0,5,0,0,0,0,0,0,0,0,0,0,0,0,0,0]
["2024-12-01","DISTRICT HEALTH CENTRE-TSUEN WAN (YCHB)","DHC",9043776781,"ENCTR",3,"DHCCMS","Local System",12666,0,0,0,12666,0,0,0,0,0,0,0,0,0,0,0,0,0,0]
["2024-12-01","DISTRICT HEALTH CENTRE-TSUEN WAN (YCHB)","DHC",9043776781,"EPIS",1,"DHCCMS","Local System",7911,0,7911,0,0,0,0,0,0,0,0,0,0,0,0,0,0,0,0]
["2024-12-01","ST. TERESA'S HOSPITAL","PH",7969980015,"RXD",3,"STH HIS","Local System",12986,18,0,454,12514,9,9,454,454,454,0,0,0,0,0,0,0,0,0]
["2024-12-01","ST. TERESA'S HOSPITAL","PH",7969980015,"RAD",3,"STH HIS","Local System",4563,0,0,0,4563,0,0,0,0,0,0,0,0,0,0,0,0,0,0]
["2024-12-01","ST. TERESA'S HOSPITAL","PH",7969980015,"EPIS",1,"STH HIS","Local System",1400,0,1400,0,0,0,0,0,0,0,0,0,0,0,0,0,0,0,0]
["2024-12-01","ST. TERESA'S HOSPITAL","PH",7969980015,"LABAP",1,"STH HIS","Local System",870,0,870,0,0,0,0,0,0,0,0,0,0,0,0,0,0,0,0]
["2024-12-01","ST. TERESA'S HOSPITAL","PH",7969980015,"AL1",3,"STH HIS","Local System",350,0,0,113,237,0,0,106,106,106,0,0,0,0,0,0,0,0,0]
["2024-12-01","ST. TERESA'S HOSPITAL","PH",7969980015,"ADR",3,"STH HIS","Local System",17,0,0,2,15,0,0,3,3,3,0,0,0,0,0,0,0,0,0]
["2024-12-01","ST. TERESA'S HOSPITAL","PH",7969980015,"BIRTH",3,"STH HIS","Local System",7,0,0,0,7,0,0,0,0,0,0,0,0,0,0,0,0,0,0]
["2024-12-01","CUHK MEDICAL CENTRE LIMITED","PH",5963779130,"LABGEN",1,"HIS","Local System",7395,0,7395,0,0,0,0,0,0,0,0,0,0,0,0,0,0,0,0]
["2024-12-01","CUHK MEDICAL CENTRE LIMITED","PH",5963779130,"RAD",3,"HIS","Local System",4086,0,0,0,4086,0,0,0,0,0,0,0,0,0,0,0,0,0,0]
["2024-12-01","CUHK MEDICAL CENTRE LIMITED","PH",5963779130,"LABMB",1,"HIS","Local System",1602,0,1602,0,0,0,0,0,0,0,0,0,0,0,0,0,0,0,0]
["2024-12-01","CUHK MEDICAL CENTRE LIMITED","PH",5963779130,"LABAP",1,"HIS","Local System",1061,0,1061,0,0,0,0,0,0,0,0,0,0,0,0,0,0,0,0]
["2024-12-01","CUHK MEDICAL CENTRE LIMITED","PH",5963779130,"INVR",1,"HIS","Local System",600,0,600,0,0,0,0,0,0,0,0,0,0,0,0,0,0,0,0]
["2024-12-01","ST. PAUL'S HOSPITAL","PH",5156724947,"RXD",3,"SPH HIS","Local System",5489,0,0,678,4811,0,0,678,678,678,0,0,0,0,0,0,0,0,0]
["2024-12-01","ST. PAUL'S HOSPITAL","PH",5156724947,"RAD",3,"SPH HIS","Local System",3142,0,0,0,3142,0,0,0,0,0,0,0,0,0,0,0,0,0,0]
["2024-12-01","ST. PAUL'S HOSPITAL","PH",5156724947,"EPIS",1,"SPH HIS","Local System",692,0,692,0,0,0,0,0,0,0,0,0,0,0,0,0,0,0,0]
["2024-12-01","ST. PAUL'S HOSPITAL","PH",5156724947,"AL1",3,"SPH HIS","Adaptation",297,0,0,151,146,0,0,116,116,116,0,0,0,0,0,0,0,0,0]
["2024-12-01","ST. PAUL'S HOSPITAL","PH",5156724947,"ADR",3,"SPH HIS","Adaptation",25,0,0,2,23,0,0,2,2,2,0,0,0,0,0,0,0,0,0]
["2024-12-01","KINGMED DIAGNOSTICS (HONG KONG) LIMITED","GRP",3150524068,"LABGEN",3,"PLDMS","Local System",8336,0,1005,6811,520,0,0,6815,6815,6811,4,0,0,0,0,0,0,0,0]
["2024-12-01","18 CHINESE MEDICINE CLINIC CUM TRAINING AND RESEARCH CENTRE (POK OI HOSPITAL)","NGO",6758313621,"CMPROB",3,"HA CMIS","Local System",3045,0,0,968,2077,0,0,507,507,507,0,0,0,0,0,0,0,0,0]
["2024-12-01","18 CHINESE MEDICINE CLINIC CUM TRAINING AND RESEARCH CENTRE (POK OI HOSPITAL)","NGO",6758313621,"ENCTR",3,"HA CMIS","Local System",2520,0,0,0,2520,0,0,0,0,0,0,0,0,0,0,0,0,0,0]
["2024-12-01","18 CHINESE MEDICINE CLINIC CUM TRAINING AND RESEARCH CENTRE (POK OI HOSPITAL)","NGO",6758313621,"CMRXO",3,"HA CMIS","Local System",1401,0,0,380,1021,0,0,380,380,380,0,0,0,0,0,0,0,0,0]
["2024-12-01","18 CHINESE MEDICINE CLINIC CUM TRAINING AND RESEARCH CENTRE (POK OI HOSPITAL)","NGO",6758313621,"CMPX",3,"HA CMIS","Local System",852,0,0,26,826,0,0,26,26,26,0,0,0,0,0,0,0,0,0]
["2024-12-01","DHC EXPRESS-WAN CHAI (MC)","DHC",9421690548,"ENCTR",3,"DHCCMS","Local System",5024,0,0,0,5024,0,0,0,0,0,0,0,0,0,0,0,0,0,0]
["2024-12-01","DHC EXPRESS-WAN CHAI (MC)","DHC",9421690548,"EPIS",1,"DHCCMS","Local System",1348,0,1348,0,0,0,0,0,0,0,0,0,0,0,0,0,0,0,0]
["2024-12-01","DHC EXPRESS-WAN CHAI (MC)","DHC",9421690548,"AL1",3,"DHCCMS","Local System",3,0,0,0,3,0,0,0,0,0,0,0,0,0,0,0,0,0,0]
["2024-12-01","18 CHINESE MEDICINE CLINIC CUM TRAINING AND RESEARCH CENTRE (TUNG WAH GROUP OF HOSPITALS)","NGO",5249502353,"CMPROB",3,"HA CMIS","Local System",2543,0,0,664,1879,0,0,365,365,365,0,0,0,0,0,0,0,0,0]
["2024-12-01","18 CHINESE MEDICINE CLINIC CUM TRAINING AND RESEARCH CENTRE (TUNG WAH GROUP OF HOSPITALS)","NGO",5249502353,"ENCTR",3,"HA CMIS","Local System",2163,0,0,0,2163,0,0,0,0,0,0,0,0,0,0,0,0,0,0]
["2024-12-01","18 CHINESE MEDICINE CLINIC CUM TRAINING AND RESEARCH CENTRE (TUNG WAH GROUP OF HOSPITALS)","NGO",5249502353,"CMRXO",3,"HA CMIS","Local System",1016,0,0,257,759,0,0,257,257,257,0,0,0,0,0,0,0,0,0]
["2024-12-01","18 CHINESE MEDICINE CLINIC CUM TRAINING AND RESEARCH CENTRE (TUNG WAH GROUP OF HOSPITALS)","NGO",5249502353,"CMPX",3,"HA CMIS","Local System",626,0,0,0,626,0,0,0,0,0,0,0,0,0,0,0,0,0,0]
["2024-12-01","DHC EXPRESS-SHA TIN (HKSR)","DHC",3628187450,"ENCTR",3,"DHCCMS","Local System",3901,0,0,0,3901,0,0,0,0,0,0,0,0,0,0,0,0,0,0]
["2024-12-01","DHC EXPRESS-SHA TIN (HKSR)","DHC",3628187450,"EPIS",1,"DHCCMS","Local System",2361,0,2361,0,0,0,0,0,0,0,0,0,0,0,0,0,0,0,0]
["2024-12-01","DHC EXPRESS-SHA TIN (HKSR)","DHC",3628187450,"ADR",3,"DHCCMS","Local System",1,0,0,0,1,0,0,0,0,0,0,0,0,0,0,0,0,0,0]
["2024-12-01","18 CHINESE MEDICINE CLINIC CUM TRAINING AND RESEARCH CENTRE (HAVEN OF HOPE)","NGO",3237753992,"ENCTR",3,"HA CMIS","Local System",2178,0,0,0,2178,0,0,0,0,0,0,0,0,0,0,0,0,0,0]
["2024-12-01","18 CHINESE MEDICINE CLINIC CUM TRAINING AND RESEARCH CENTRE (HAVEN OF HOPE)","NGO",3237753992,"CMPROB",3,"HA CMIS","Local System",2075,0,0,341,1734,0,0,256,256,256,0,0,0,0,0,0,0,0,0]
["2024-12-01","18 CHINESE MEDICINE CLINIC CUM TRAINING AND RESEARCH CENTRE (HAVEN OF HOPE)","NGO",3237753992,"CMRXO",3,"HA CMIS","Local System",1106,0,0,293,813,0,0,293,293,293,0,0,0,0,0,0,0,0,0]
["2024-12-01","18 CHINESE MEDICINE CLINIC CUM TRAINING AND RESEARCH CENTRE (HAVEN OF HOPE)","NGO",3237753992,"CMPX",3,"HA CMIS","Local System",286,0,0,0,286,0,0,0,0,0,0,0,0,0,0,0,0,0,0]
["2024-12-01","18 CHINESE MEDICINE CLINIC CUM TRAINING AND RESEARCH CENTRE (UNITED CHRISTIAN NETHERSOLE COMMUNITY HEALTH SERVICE)","NGO",3740691088,"CMPROB",3,"HA CMIS","Local System",2012,0,0,233,1779,0,0,182,182,182,0,0,0,0,0,0,0,0,0]
["2024-12-01","18 CHINESE MEDICINE CLINIC CUM TRAINING AND RESEARCH CENTRE (UNITED CHRISTIAN NETHERSOLE COMMUNITY HEALTH SERVICE)","NGO",3740691088,"ENCTR",3,"HA CMIS","Local System",1850,0,0,0,1850,0,0,0,0,0,0,0,0,0,0,0,0,0,0]
["2024-12-01","18 CHINESE MEDICINE CLINIC CUM TRAINING AND RESEARCH CENTRE (UNITED CHRISTIAN NETHERSOLE COMMUNITY HEALTH SERVICE)","NGO",3740691088,"CMRXO",3,"HA CMIS","Local System",1168,0,0,394,774,0,0,394,394,394,0,0,0,0,0,0,0,0,0]
["2024-12-01","18 CHINESE MEDICINE CLINIC CUM TRAINING AND RESEARCH CENTRE (UNITED CHRISTIAN NETHERSOLE COMMUNITY HEALTH SERVICE)","NGO",3740691088,"CMPX",3,"HA CMIS","Local System",449,0,0,0,449,0,0,0,0,0,0,0,0,0,0,0,0,0,0]
["2024-12-01","UNION HOSPITAL","PH",5712620300,"RAD",3,"UHLAAM","Local System",3392,0,0,0,3392,0,0,0,0,0,0,0,0,0,0,0,0,0,0]
["2024-12-01","UNION HOSPITAL","PH",5712620300,"AL1",3,"UHLAAM","Adaptation",1265,0,0,278,987,0,0,265,265,265,0,0,0,0,0,0,0,0,0]
["2024-12-01","UNION HOSPITAL","PH",5712620300,"EPIS",1,"UHLAAM","Local System",447,0,447,0,0,0,0,0,0,0,0,0,0,0,0,0,0,0,0]
["2024-12-01","UNION HOSPITAL","PH",5712620300,"IMMU",2,"UHLAAM","Local System",161,0,0,161,0,0,0,0,0,0,0,0,0,0,0,0,0,0,0]
["2024-12-01","UNION HOSPITAL","PH",5712620300,"ADR",3,"UHLAAM","Adaptation",39,0,0,6,33,0,0,6,6,6,0,0,0,0,0,0,0,0,0]
["2024-12-01","UNION HOSPITAL","PH",5712620300,"BIRTH",3,"UHLAAM","Local System",6,0,0,6,0,0,0,6,0,6,0,0,0,0,0,0,0,0,0]
["2024-12-01","DHC EXPRESS-KOWLOON CITY (LOKSINTONG)","DHC",2548616569,"ENCTR",3,"DHCCMS","Local System",3178,0,0,0,3178,0,0,0,0,0,0,0,0,0,0,0,0,0,0]
["2024-12-01","DHC EXPRESS-KOWLOON CITY (LOKSINTONG)","DHC",2548616569,"EPIS",1,"DHCCMS","Local System",1947,0,1947,0,0,0,0,0,0,0,0,0,0,0,0,0,0,0,0]
["2024-12-01","EVANGEL HOSPITAL","PH",2206285885,"ENCTR",3,"HMS","Local System",4268,0,0,0,4268,0,0,0,0,0,0,0,0,0,0,0,0,0,0]
["2024-12-01","EVANGEL HOSPITAL","PH",2206285885,"RAD",3,"HMS","Local System",549,0,0,0,549,0,0,0,0,0,0,0,0,0,0,0,0,0,0]
["2024-12-01","EVANGEL HOSPITAL","PH",2206285885,"AL1",3,"HMS","Local System",157,0,0,79,78,0,0,79,79,79,0,0,0,0,0,0,0,0,0]
["2024-12-01","HONG KONG MEDICAL ADVANCED IMAGING LIMITED","GRP",5414310424,"RAD",3,"CSP","Local System",4831,0,0,0,4831,0,0,0,0,0,0,0,0,0,0,0,0,0,0]
["2024-12-01","GLENEAGLES HONG KONG HOSPITAL","PH",5189883789,"RAD",3,"HMS","Local System",3237,0,0,0,3237,0,0,0,0,0,0,0,0,0,0,0,0,0,0]
["2024-12-01","GLENEAGLES HONG KONG HOSPITAL","PH",5189883789,"AL1",3,"HMS","Local System",1309,0,0,897,412,0,0,893,893,893,0,0,0,0,0,0,0,0,0]
["2024-12-01","DHC EXPRESS-NORTH (YWCA)","DHC",6678116401,"ENCTR",3,"DHCCMS","Local System",3009,0,0,0,3009,0,0,0,0,0,0,0,0,0,0,0,0,0,0]
["2024-12-01","DHC EXPRESS-NORTH (YWCA)","DHC",6678116401,"EPIS",1,"DHCCMS","Local System",1288,0,1288,0,0,0,0,0,0,0,0,0,0,0,0,0,0,0,0]
["2024-12-01","DHC EXPRESS-SAI KUNG (HOHCS)","DHC",6402782674,"ENCTR",3,"DHCCMS","Local System",3059,0,0,0,3059,0,0,0,0,0,0,0,0,0,0,0,0,0,0]
["2024-12-01","DHC EXPRESS-SAI KUNG (HOHCS)","DHC",6402782674,"EPIS",1,"DHCCMS","Local System",1168,0,1168,0,0,0,0,0,0,0,0,0,0,0,0,0,0,0,0]
["2024-12-01","DHC EXPRESS-EASTERN (HKSR)","DHC",6542377532,"ENCTR",3,"DHCCMS","Local System",2272,0,0,0,2272,0,0,0,0,0,0,0,0,0,0,0,0,0,0]
["2024-12-01","DHC EXPRESS-EASTERN (HKSR)","DHC",6542377532,"EPIS",1,"DHCCMS","Local System",1154,0,1154,0,0,0,0,0,0,0,0,0,0,0,0,0,0,0,0]
["2024-12-01","DHC EXPRESS-YAU TSIM MONG (LOKSINTONG)","DHC",5832575528,"ENCTR",3,"DHCCMS","Local System",2065,0,0,0,2065,0,0,0,0,0,0,0,0,0,0,0,0,0,0]
["2024-12-01","DHC EXPRESS-YAU TSIM MONG (LOKSINTONG)","DHC",5832575528,"EPIS",1,"DHCCMS","Local System",1239,0,1239,0,0,0,0,0,0,0,0,0,0,0,0,0,0,0,0]
["2024-12-01","DHC EXPRESS-KWUN TONG (UCMS)","DHC",7334960147,"ENCTR",3,"DHCCMS","Local System",2136,0,0,0,2136,0,0,0,0,0,0,0,0,0,0,0,0,0,0]
["2024-12-01","DHC EXPRESS-KWUN TONG (UCMS)","DHC",7334960147,"EPIS",1,"DHCCMS","Local System",1149,0,1149,0,0,0,0,0,0,0,0,0,0,0,0,0,0,0,0]
["2024-12-01","DHC EXPRESS-ISLANDS (NAAC)","DHC",6142872901,"ENCTR",3,"DHCCMS","Local System",2390,0,0,0,2390,0,0,0,0,0,0,0,0,0,0,0,0,0,0]
["2024-12-01","DHC EXPRESS-ISLANDS (NAAC)","DHC",6142872901,"EPIS",1,"DHCCMS","Local System",795,0,795,0,0,0,0,0,0,0,0,0,0,0,0,0,0,0,0]
["2024-12-01","DR WONG CHUN POR","SOLO",5528991274,"RXO","3,2","CMS On-ramp","CMS On-ramp",904,0,0,100,804,0,0,0,0,0,0,0,0,0,0,0,0,0,0]
["2024-12-01","DR WONG CHUN POR","SOLO",5528991274,"RXD","3,2","CMS On-ramp","CMS On-ramp",868,0,0,96,772,0,0,0,0,0,0,0,0,0,0,0,0,0,0]
["2024-12-01","DR WONG CHUN POR","SOLO",5528991274,"ENCTR",3,"CMS On-ramp","CMS On-ramp",687,0,0,0,687,0,0,0,0,0,0,0,0,0,0,0,0,0,0]
["2024-12-01","DR WONG CHUN POR","SOLO",5528991274,"PROB","3,2","CMS On-ramp","CMS On-ramp",678,0,0,18,660,0,0,0,0,0,0,0,0,0,0,0,0,0,0]
["2024-12-01","DR WONG CHUN POR","SOLO",5528991274,"IMMU","3,2","CMS On-ramp","CMS On-ramp",25,0,0,0,25,0,0,0,0,0,0,0,0,0,0,0,0,0,0]
["2024-12-01","DR WONG CHUN POR","SOLO",5528991274,"ADR","3,2","CMS On-ramp","CMS On-ramp",1,0,0,0,1,0,0,0,0,0,0,0,0,0,0,0,0,0,0]
["2024-12-01","DR WONG CHUN POR","SOLO",5528991274,"AL1","3,2","CMS On-ramp","CMS On-ramp",1,0,0,0,1,0,0,0,0,0,0,0,0,0,0,0,0,0,0]
["2024-12-01","18 CHINESE MEDICINE CLINIC CUM TRAINING AND RESEARCH CENTRE (YAN CHAI HOSPITAL)","NGO",6255376532,"CMPROB",3,"HA CMIS","Local System",1194,0,0,261,933,0,0,145,145,145,0,0,0,0,0,0,0,0,0]
["2024-12-01","18 CHINESE MEDICINE CLINIC CUM TRAINING AND RESEARCH CENTRE (YAN CHAI HOSPITAL)","NGO",6255376532,"ENCTR",3,"HA CMIS","Local System",1107,0,0,0,1107,0,0,0,0,0,0,0,0,0,0,0,0,0,0]
["2024-12-01","18 CHINESE MEDICINE CLINIC CUM TRAINING AND RESEARCH CENTRE (YAN CHAI HOSPITAL)","NGO",6255376532,"CMRXO",3,"HA CMIS","Local System",638,0,0,272,366,0,0,272,272,272,0,0,0,0,0,0,0,0,0]
["2024-12-01","18 CHINESE MEDICINE CLINIC CUM TRAINING AND RESEARCH CENTRE (YAN CHAI HOSPITAL)","NGO",6255376532,"CMPX",3,"HA CMIS","Local System",149,0,0,0,149,0,0,0,0,0,0,0,0,0,0,0,0,0,0]
["2024-12-01","DHC EXPRESS-TAI PO (UCMS)","DHC",7444819250,"ENCTR",3,"DHCCMS","Local System",1886,0,0,0,1886,0,0,0,0,0,0,0,0,0,0,0,0,0,0]
["2024-12-01","DHC EXPRESS-TAI PO (UCMS)","DHC",7444819250,"EPIS",1,"DHCCMS","Local System",1189,0,1189,0,0,0,0,0,0,0,0,0,0,0,0,0,0,0,0]
["2024-12-01","DHC EXPRESS-CENTRAL AND WESTERN (HKSR)","DHC",6645809992,"ENCTR",3,"DHCCMS","Local System",2061,0,0,0,2061,0,0,0,0,0,0,0,0,0,0,0,0,0,0]
["2024-12-01","DHC EXPRESS-CENTRAL AND WESTERN (HKSR)","DHC",6645809992,"EPIS",1,"DHCCMS","Local System",704,0,704,0,0,0,0,0,0,0,0,0,0,0,0,0,0,0,0]
["2024-12-01","HONG KONG ADVENTIST HOSPITAL - STUBBS ROAD","PH",7029571085,"RXD",2,"HKAHLAAM","Local System",734,0,0,734,0,0,0,0,0,0,0,0,0,0,0,0,0,0,0]
["2024-12-01","HONG KONG ADVENTIST HOSPITAL - STUBBS ROAD","PH",7029571085,"ENCTR",3,"HKAHLAAM","Local System",651,0,0,0,651,0,0,0,0,0,0,0,0,0,0,0,0,0,0]
["2024-12-01","HONG KONG ADVENTIST HOSPITAL - STUBBS ROAD","PH",7029571085,"LABGEN",3,"HKAHLAAM","Local System",600,0,0,169,431,0,0,166,166,166,0,0,3,0,0,0,0,0,0]
["2024-12-01","HONG KONG ADVENTIST HOSPITAL - STUBBS ROAD","PH",7029571085,"RAD","3,2","HKAHLAAM","Local System",466,0,0,0,466,0,0,0,0,0,0,0,0,0,0,0,0,0,0]
["2024-12-01","HONG KONG ADVENTIST HOSPITAL - STUBBS ROAD","PH",7029571085,"LABAP",1,"HKAHLAAM","Local System",28,0,28,0,0,0,0,0,0,0,0,0,0,0,0,0,0,0,0]
["2024-12-01","HONG KONG ADVENTIST HOSPITAL - STUBBS ROAD","PH",7029571085,"AL1",3,"HKAHLAAM","Local System",13,0,0,6,7,0,0,6,6,6,0,0,0,0,0,0,0,0,0]
["2024-12-01","HONG KONG ADVENTIST HOSPITAL - STUBBS ROAD","PH",7029571085,"ADR",3,"HKAHLAAM","Local System",5,0,0,0,5,0,0,0,0,0,0,0,0,0,0,0,0,0,0]
["2024-12-01","IRAD MEDICAL HOLDING LIMITED","GRP",6609847497,"RAD",3,"RHI2","Local System",2253,4,0,0,2249,0,4,0,0,0,0,0,0,0,0,0,0,0,0]
["2024-12-01","208 MEDICAL CENTRE","SOLO",3499048393,"RXD",2,"ClinicSolution","Local System",567,0,0,567,0,0,0,0,0,0,0,0,0,0,0,0,0,0,0]
["2024-12-01","208 MEDICAL CENTRE","SOLO",3499048393,"RXO",2,"ClinicSolution","Local System",567,0,0,567,0,0,0,0,0,0,0,0,0,0,0,0,0,0,0]
["2024-12-01","208 MEDICAL CENTRE","SOLO",3499048393,"ENCTR",3,"ClinicSolution","Local System",369,0,0,0,369,0,0,0,0,0,0,0,0,0,0,0,0,0,0]
["2024-12-01","208 MEDICAL CENTRE","SOLO",3499048393,"PROB",3,"ClinicSolution","Local System",317,22,0,295,0,22,0,295,295,295,0,0,0,0,0,0,0,0,0]
["2024-12-01","208 MEDICAL CENTRE","SOLO",3499048393,"AL1",2,"ClinicSolution","Local System",10,0,0,10,0,0,0,0,0,0,0,0,0,0,0,0,0,0,0]
["2024-12-01","PRECIOUS BLOOD HOSPITAL (CARITAS)","PH",7002059678,"ENCTR",3,"PBHIS","Local System",775,0,0,0,775,0,0,0,0,0,0,0,0,0,0,0,0,0,0]
["2024-12-01","PRECIOUS BLOOD HOSPITAL (CARITAS)","PH",7002059678,"AL1",3,"PBHIS","Local System",420,0,0,155,265,0,0,128,128,128,0,0,0,0,0,0,0,0,0]
["2024-12-01","PRECIOUS BLOOD HOSPITAL (CARITAS)","PH",7002059678,"RAD",3,"PBHIS","Local System",389,0,0,0,389,0,0,0,0,0,0,0,0,0,0,0,0,0,0]
["2024-12-01","PRECIOUS BLOOD HOSPITAL (CARITAS)","PH",7002059678,"ADR",3,"PBHIS","Local System",109,0,0,9,100,0,0,9,9,9,0,0,0,0,0,0,0,0,0]
["2024-12-01","DR. YEE YUK KEI","SOLO",2310917092,"RXO",3,"CMS On-ramp","CMS On-ramp",384,0,0,299,85,0,0,0,0,0,0,0,0,0,0,0,0,0,0]
["2024-12-01","DR. YEE YUK KEI","SOLO",2310917092,"RXD",3,"CMS On-ramp","CMS On-ramp",381,0,0,297,84,0,0,0,0,0,0,0,0,0,0,0,0,0,0]
["2024-12-01","DR. YEE YUK KEI","SOLO",2310917092,"PROB",3,"CMS On-ramp","CMS On-ramp",358,0,0,12,346,0,0,0,0,0,0,0,0,0,0,0,0,0,0]
["2024-12-01","DR. YEE YUK KEI","SOLO",2310917092,"ENCTR",3,"CMS On-ramp","CMS On-ramp",213,0,0,0,213,0,0,0,0,0,0,0,0,0,0,0,0,0,0]
["2024-12-01","DR. YEE YUK KEI","SOLO",2310917092,"EPIS",1,"CMS On-ramp","CMS On-ramp",199,0,199,0,0,0,0,0,0,0,0,0,0,0,0,0,0,0,0]
["2024-12-01","DR. YEE YUK KEI","SOLO",2310917092,"PX",3,"CMS On-ramp","CMS On-ramp",44,0,0,0,44,0,0,0,0,0,0,0,0,0,0,0,0,0,0]
["2024-12-01","DR. YEE YUK KEI","SOLO",2310917092,"IMMU",3,"CMS On-ramp","CMS On-ramp",12,0,0,11,1,0,0,0,0,0,0,0,0,0,0,0,0,0,0]
["2024-12-01","DR. YEE YUK KEI","SOLO",2310917092,"AL1",3,"CMS On-ramp","CMS On-ramp",3,0,0,0,3,0,0,0,0,0,0,0,0,0,0,0,0,0,0]
["2024-12-01","CHOI YING MEDICAL CENTRE LTD","SOLO",3425265108,"RXD",2,"ClinicSolution","Local System",638,0,0,638,0,0,0,0,0,0,0,0,0,0,0,0,0,0,0]
["2024-12-01","CHOI YING MEDICAL CENTRE LTD","SOLO",3425265108,"RXO",2,"ClinicSolution","Local System",638,0,0,638,0,0,0,0,0,0,0,0,0,0,0,0,0,0,0]
["2024-12-01","CHOI YING MEDICAL CENTRE LTD","SOLO",3425265108,"ENCTR",3,"ClinicSolution","Local System",145,0,0,0,145,0,0,0,0,0,0,0,0,0,0,0,0,0,0]
["2024-12-01","CHOI YING MEDICAL CENTRE LTD","SOLO",3425265108,"PROB",3,"ClinicSolution","Local System",140,2,0,138,0,2,0,138,138,138,0,0,0,0,0,0,0,0,0]
["2024-12-01","18 CHINESE MEDICINE CLINIC CUM TRAINING AND RESEARCH CENTRE (THE HONG KONG TUBERCULOSIS ASSOCIATION)","NGO",2231879813,"CMPROB",3,"HA CMIS","Local System",534,0,0,191,343,0,0,118,118,118,0,0,0,0,0,0,0,0,0]
["2024-12-01","18 CHINESE MEDICINE CLINIC CUM TRAINING AND RESEARCH CENTRE (THE HONG KONG TUBERCULOSIS ASSOCIATION)","NGO",2231879813,"ENCTR",3,"HA CMIS","Local System",513,0,0,0,513,0,0,0,0,0,0,0,0,0,0,0,0,0,0]
["2024-12-01","18 CHINESE MEDICINE CLINIC CUM TRAINING AND RESEARCH CENTRE (THE HONG KONG TUBERCULOSIS ASSOCIATION)","NGO",2231879813,"CMRXO",3,"HA CMIS","Local System",279,0,0,57,222,0,0,57,57,57,0,0,0,0,0,0,0,0,0]
["2024-12-01","18 CHINESE MEDICINE CLINIC CUM TRAINING AND RESEARCH CENTRE (THE HONG KONG TUBERCULOSIS ASSOCIATION)","NGO",2231879813,"CMPX",3,"HA CMIS","Local System",150,0,0,0,150,0,0,0,0,0,0,0,0,0,0,0,0,0,0]
["2024-12-01","18 CHINESE MEDICINE CLINIC CUM TRAINING AND RESEARCH CENTRE (YAN OI TONG)","NGO",2971417573,"ENCTR",3,"HA CMIS","Local System",573,0,0,0,573,0,0,0,0,0,0,0,0,0,0,0,0,0,0]
["2024-12-01","18 CHINESE MEDICINE CLINIC CUM TRAINING AND RESEARCH CENTRE (YAN OI TONG)","NGO",2971417573,"CMPROB",3,"HA CMIS","Local System",500,0,0,122,378,0,0,82,82,82,0,0,0,0,0,0,0,0,0]
["2024-12-01","18 CHINESE MEDICINE CLINIC CUM TRAINING AND RESEARCH CENTRE (YAN OI TONG)","NGO",2971417573,"CMRXO",3,"HA CMIS","Local System",263,0,0,0,263,0,0,0,0,0,0,0,0,0,0,0,0,0,0]
["2024-12-01","18 CHINESE MEDICINE CLINIC CUM TRAINING AND RESEARCH CENTRE (YAN OI TONG)","NGO",2971417573,"CMPX",3,"HA CMIS","Local System",122,0,0,0,122,0,0,0,0,0,0,0,0,0,0,0,0,0,0]
["2024-12-01","DR. LAM SEE YUI JOSEPH","SOLO",8962900949,"ENCTR",3,"ClinicSolution","Local System",1224,0,0,0,1224,0,0,0,0,0,0,0,0,0,0,0,0,0,0]
["2024-12-01","DR. LAM SEE YUI JOSEPH","SOLO",8962900949,"PROB",3,"ClinicSolution","Local System",141,0,0,95,46,0,0,95,95,95,0,0,0,0,0,0,0,0,0]
["2024-12-01","DR. LAM SEE YUI JOSEPH","SOLO",8962900949,"RXD",2,"ClinicSolution","Local System",6,0,0,6,0,0,0,0,0,0,0,0,0,0,0,0,0,0,0]
["2024-12-01","DR. LAM SEE YUI JOSEPH","SOLO",8962900949,"RXO",2,"ClinicSolution","Local System",6,0,0,6,0,0,0,0,0,0,0,0,0,0,0,0,0,0,0]
["2024-12-01","DR. LAM SEE YUI JOSEPH","SOLO",8962900949,"AL1",2,"ClinicSolution","Local System",2,1,0,1,0,1,0,0,0,0,0,0,0,0,0,0,0,0,0]
["2024-12-01","HK MERCY MEDICAL LIMITED","SOLO",9056383716,"RXO","3,2","CMS On-ramp","CMS On-ramp",492,0,0,179,313,0,0,0,0,0,0,0,0,0,0,0,0,0,0]
["2024-12-01","HK MERCY MEDICAL LIMITED","SOLO",9056383716,"RXD","3,2","CMS On-ramp","CMS On-ramp",491,0,0,178,313,0,0,0,0,0,0,0,0,0,0,0,0,0,0]
["2024-12-01","HK MERCY MEDICAL LIMITED","SOLO",9056383716,"PROB","3,2","CMS On-ramp","CMS On-ramp",173,0,0,71,102,0,0,0,0,0,0,0,0,0,0,0,0,0,0]
["2024-12-01","HK MERCY MEDICAL LIMITED","SOLO",9056383716,"ENCTR",3,"CMS On-ramp","CMS On-ramp",169,0,0,0,169,0,0,0,0,0,0,0,0,0,0,0,0,0,0]
["2024-12-01","18 CHINESE MEDICINE CLINIC CUM TRAINING AND RESEARCH CENTRE (CHRISTIAN FAMILY SERVICE CENTRE)","NGO",9805671910,"CMPROB",3,"HA CMIS","Local System",576,0,0,171,405,0,0,70,70,70,0,0,0,0,0,0,0,0,0]
["2024-12-01","18 CHINESE MEDICINE CLINIC CUM TRAINING AND RESEARCH CENTRE (CHRISTIAN FAMILY SERVICE CENTRE)","NGO",9805671910,"ENCTR",3,"HA CMIS","Local System",422,0,0,0,422,0,0,0,0,0,0,0,0,0,0,0,0,0,0]
["2024-12-01","18 CHINESE MEDICINE CLINIC CUM TRAINING AND RESEARCH CENTRE (CHRISTIAN FAMILY SERVICE CENTRE)","NGO",9805671910,"CMRXO",3,"HA CMIS","Local System",192,0,0,1,191,0,0,1,1,1,0,0,0,0,0,0,0,0,0]
["2024-12-01","18 CHINESE MEDICINE CLINIC CUM TRAINING AND RESEARCH CENTRE (CHRISTIAN FAMILY SERVICE CENTRE)","NGO",9805671910,"CMPX",3,"HA CMIS","Local System",112,0,0,0,112,0,0,0,0,0,0,0,0,0,0,0,0,0,0]
["2024-12-01","TRINITY MEDICAL IMAGING CENTRE LIMITED","SOLO",5453649547,"RAD",3,"RIS (LAAM)","Local System",1231,0,0,0,1231,0,0,0,0,0,0,0,0,0,0,0,0,0,0]
["2024-12-01","CELESTIAL HEALTHCARE","SOLO",8154807797,"RXD",2,"ClinicSolution","Local System",362,0,0,362,0,0,0,0,0,0,0,0,0,0,0,0,0,0,0]
["2024-12-01","CELESTIAL HEALTHCARE","SOLO",8154807797,"RXO",2,"ClinicSolution","Local System",362,0,0,362,0,0,0,0,0,0,0,0,0,0,0,0,0,0,0]
["2024-12-01","CELESTIAL HEALTHCARE","SOLO",8154807797,"ENCTR",3,"ClinicSolution","Local System",318,0,0,0,318,0,0,0,0,0,0,0,0,0,0,0,0,0,0]
["2024-12-01","CELESTIAL HEALTHCARE","SOLO",8154807797,"PROB",3,"ClinicSolution","Local System",81,0,0,81,0,0,0,81,81,81,0,0,0,0,0,0,0,0,0]
["2024-12-01","CELESTIAL HEALTHCARE","SOLO",8154807797,"PX",3,"ClinicSolution","Local System",9,1,0,8,0,1,0,8,8,8,0,0,0,0,0,0,0,0,0]
["2024-12-01","DR. CHAN KIT YAN SELINA","SOLO",8895790679,"RXO","3,2","CMS On-ramp","CMS On-ramp",306,0,0,19,287,0,0,0,0,0,0,0,0,0,0,0,0,0,0]
["2024-12-01","DR. CHAN KIT YAN SELINA","SOLO",8895790679,"ENCTR",3,"CMS On-ramp","CMS On-ramp",290,0,0,0,290,0,0,0,0,0,0,0,0,0,0,0,0,0,0]
["2024-12-01","DR. CHAN KIT YAN SELINA","SOLO",8895790679,"RXD","3,2","CMS On-ramp","CMS On-ramp",283,0,0,5,278,0,0,0,0,0,0,0,0,0,0,0,0,0,0]
["2024-12-01","DR. CHAN KIT YAN SELINA","SOLO",8895790679,"PROB","3,2","CMS On-ramp","CMS On-ramp",206,0,0,40,166,0,0,0,0,0,0,0,0,0,0,0,0,0,0]
["2024-12-01","DR. CHAN KIT YAN SELINA","SOLO",8895790679,"IMMU","3,2","CMS On-ramp","CMS On-ramp",8,0,0,0,8,0,0,0,0,0,0,0,0,0,0,0,0,0,0]
["2024-12-01","DR. CHAN KIT YAN SELINA","SOLO",8895790679,"ADR","3,2","CMS On-ramp","CMS On-ramp",1,0,0,0,1,0,0,0,0,0,0,0,0,0,0,0,0,0,0]
["2024-12-01","18 CHINESE MEDICINE CLINIC CUM TRAINING AND RESEARCH CENTRE (HKFTU WORKERS' MEDICAL CLINICS)","NGO",4746565267,"CMPROB",3,"HA CMIS","Local System",410,0,0,87,323,0,0,41,41,41,0,0,0,0,0,0,0,0,0]
["2024-12-01","18 CHINESE MEDICINE CLINIC CUM TRAINING AND RESEARCH CENTRE (HKFTU WORKERS' MEDICAL CLINICS)","NGO",4746565267,"ENCTR",3,"HA CMIS","Local System",369,0,0,0,369,0,0,0,0,0,0,0,0,0,0,0,0,0,0]
["2024-12-01","18 CHINESE MEDICINE CLINIC CUM TRAINING AND RESEARCH CENTRE (HKFTU WORKERS' MEDICAL CLINICS)","NGO",4746565267,"CMRXO",3,"HA CMIS","Local System",197,0,0,54,143,0,0,54,54,54,0,0,0,0,0,0,0,0,0]
["2024-12-01","18 CHINESE MEDICINE CLINIC CUM TRAINING AND RESEARCH CENTRE (HKFTU WORKERS' MEDICAL CLINICS)","NGO",4746565267,"CMPX",3,"HA CMIS","Local System",88,0,0,0,88,0,0,0,0,0,0,0,0,0,0,0,0,0,0]
["2024-12-01","HONG KONG HEALTH CHECK (HEAD OFFICE)","GRP",5596680865,"RAD",3,"RHI2","Local System",1046,0,0,0,1046,0,0,0,0,0,0,0,0,0,0,0,0,0,0]
["2024-12-01","HONG KONG BREAST CANCER FOUNDATION LIMITED","NGO",2295233392,"RAD",3,"MTG_CMS_RIS","Local System",1038,0,0,0,1038,0,0,0,0,0,0,0,0,0,0,0,0,0,0]
["2024-12-01","DR HO CHUNG PING","SOLO",7889756707,"RXO","3,2","CMSEHR","Local System",320,0,0,36,284,0,0,0,0,0,0,0,0,0,0,0,0,0,0]
["2024-12-01","DR HO CHUNG PING","SOLO",7889756707,"RXD","3,2","CMSEHR","Local System",316,0,0,36,280,0,0,0,0,0,0,0,0,0,0,0,0,0,0]
["2024-12-01","DR HO CHUNG PING","SOLO",7889756707,"ENCTR",3,"CMSEHR","Local System",138,0,0,0,138,0,0,0,0,0,0,0,0,0,0,0,0,0,0]
["2024-12-01","DR HO CHUNG PING","SOLO",7889756707,"PROB","3,2","CMSEHR","Local System",125,0,0,5,120,0,0,0,0,0,0,0,0,0,0,0,0,0,0]
["2024-12-01","DR HO CHUNG PING","SOLO",7889756707,"EPIS",1,"CMSEHR","Local System",122,0,122,0,0,0,0,0,0,0,0,0,0,0,0,0,0,0,0]
["2024-12-01","DR HO CHUNG PING","SOLO",7889756707,"IMMU","3,2","CMSEHR","Local System",4,0,0,0,4,0,0,0,0,0,0,0,0,0,0,0,0,0,0]
["2024-12-01","THE HONG KONG POLYTECHNIC UNIVERSITY","ACAD",4578805814,"RXO",3,"ClinicMaster Information System","Local System",563,0,0,76,487,0,0,76,76,76,0,0,0,0,0,0,0,0,0]
["2024-12-01","THE HONG KONG POLYTECHNIC UNIVERSITY","ACAD",4578805814,"ENCTR",3,"ClinicMaster Information System","Local System",397,0,0,0,397,0,0,0,0,0,0,0,0,0,0,0,0,0,0]
["2024-12-01","THE HONG KONG POLYTECHNIC UNIVERSITY","ACAD",4578805814,"IMMU",3,"ClinicMaster Information System","Local System",18,0,0,0,18,0,0,0,0,0,0,0,0,0,0,0,0,0,0]
["2024-12-01","THE HONG KONG POLYTECHNIC UNIVERSITY","ACAD",4578805814,"AL1",3,"ClinicMaster Information System","Local System",1,0,0,1,0,0,0,1,1,1,0,0,0,0,0,0,0,0,0]
["2024-12-01","HONG KONG INTEGRATED ONCOLOGY CENTRE","GRP",6691242811,"RAD",3,"RHI2","Local System",836,0,0,0,836,0,0,0,0,0,0,0,0,0,0,0,0,0,0]
["2024-12-01","18 CHINESE MEDICINE CLINIC CUM TRAINING AND RESEARCH CENTRE (THE HONG KONG BUDDHIST ASSOCIATION)","NGO",8296860643,"ENCTR",3,"HA CMIS","Local System",307,0,0,0,307,0,0,0,0,0,0,0,0,0,0,0,0,0,0]
["2024-12-01","18 CHINESE MEDICINE CLINIC CUM TRAINING AND RESEARCH CENTRE (THE HONG KONG BUDDHIST ASSOCIATION)","NGO",8296860643,"CMPROB",3,"HA CMIS","Local System",278,0,0,55,223,0,0,41,41,41,0,0,0,0,0,0,0,0,0]
["2024-12-01","18 CHINESE MEDICINE CLINIC CUM TRAINING AND RESEARCH CENTRE (THE HONG KONG BUDDHIST ASSOCIATION)","NGO",8296860643,"CMRXO",3,"HA CMIS","Local System",160,0,0,21,139,0,0,21,21,21,0,0,0,0,0,0,0,0,0]
["2024-12-01","18 CHINESE MEDICINE CLINIC CUM TRAINING AND RESEARCH CENTRE (THE HONG KONG BUDDHIST ASSOCIATION)","NGO",8296860643,"CMPX",3,"HA CMIS","Local System",63,0,0,0,63,0,0,0,0,0,0,0,0,0,0,0,0,0,0]
["2024-12-01","PATHLAB MEDICAL LABORATORIES LIMITED","GRP",2381250555,"LABGEN",3,"PLDMS","Local System",793,0,30,1,762,0,0,28,28,0,28,0,1,0,0,0,0,0,2]
["2024-12-01","MODERN ASCENT LIMITED","SOLO",2342444283,"RAD",3,"RHI2","Local System",682,0,0,60,622,0,0,0,0,0,0,0,60,0,0,0,0,60,0]
["2024-12-01","UMP MEDICAL CENTRE","GRP",9927384828,"RAD",3,"RHI2","Local System",645,1,0,0,644,1,0,0,0,0,0,0,0,0,0,0,0,0,0]
["2024-12-01","TUNG WAH GROUP OF HOSPITALS","NGO",4471430786,"RAD",3,"TWBHCT-LAAM","Local System",622,0,0,0,622,0,0,0,0,0,0,0,0,0,0,0,0,0,0]
["2024-12-01","LEUNG MAN CHIT CLINIC","SOLO",4427383241,"ENCTR",3,"ClinicSolution","Local System",620,0,0,0,620,0,0,0,0,0,0,0,0,0,0,0,0,0,0]
["2024-12-01","VENUS HEALTH AND IMAGING CENTRE LIMITED","SOLO",4048010991,"RAD",3,"RHI2","Local System",569,0,0,0,569,0,0,0,0,0,0,0,0,0,0,0,0,0,0]
["2024-12-01","ST. TERESA'S HOSPITAL - CHINESE MEDICINE CENTRE","PH",1728942726,"CMPROB",3,"STH HIS","EC Connect",163,0,0,44,119,0,0,10,10,10,0,0,0,0,0,0,0,0,0]
["2024-12-01","ST. TERESA'S HOSPITAL - CHINESE MEDICINE CENTRE","PH",1728942726,"ENCTR",3,"STH HIS","EC Connect",149,0,0,0,149,0,0,0,0,0,0,0,0,0,0,0,0,0,0]
["2024-12-01","ST. TERESA'S HOSPITAL - CHINESE MEDICINE CENTRE","PH",1728942726,"CMRXO",3,"STH HIS","EC Connect",99,0,0,7,92,0,0,0,0,0,0,0,0,0,0,0,0,0,0]
["2024-12-01","ST. TERESA'S HOSPITAL - CHINESE MEDICINE CENTRE","PH",1728942726,"CMRXD",3,"STH HIS","EC Connect",94,0,0,5,89,0,0,0,0,0,0,0,0,0,0,0,0,0,0]
["2024-12-01","ST. TERESA'S HOSPITAL - CHINESE MEDICINE CENTRE","PH",1728942726,"CMPX",3,"STH HIS","EC Connect",25,0,0,1,24,0,0,0,0,0,0,0,0,0,0,0,0,0,0]
["2024-12-01","HONG KONG CHRISTIAN SERVICE","NGO",9179355867,"RXO","3,2","CMS On-ramp","CMS On-ramp",199,0,0,105,94,0,0,0,0,0,0,0,0,0,0,0,0,0,0]
["2024-12-01","HONG KONG CHRISTIAN SERVICE","NGO",9179355867,"RXD","3,2","CMS On-ramp","CMS On-ramp",193,0,0,100,93,0,0,0,0,0,0,0,0,0,0,0,0,0,0]
["2024-12-01","HONG KONG CHRISTIAN SERVICE","NGO",9179355867,"ENCTR",3,"CMS On-ramp","CMS On-ramp",78,0,0,0,78,0,0,0,0,0,0,0,0,0,0,0,0,0,0]
["2024-12-01","HONG KONG CHRISTIAN SERVICE","NGO",9179355867,"IMMU","3,2","CMS On-ramp","CMS On-ramp",4,0,0,2,2,0,0,0,0,0,0,0,0,0,0,0,0,0,0]
["2024-12-01","HONG KONG CHRISTIAN SERVICE","NGO",9179355867,"AL1","3,2","CMS On-ramp","CMS On-ramp",3,0,0,1,2,0,0,1,1,1,0,0,0,0,0,0,0,0,0]
["2024-12-01","GRANDE MEDICAL SCANNING CENTRE","SOLO",9141981346,"RAD",3,"RHI2","Local System",427,0,0,0,427,0,0,0,0,0,0,0,0,0,0,0,0,0,0]
["2024-12-01","CENTRUM / CENTRA MRI CENTRE LIMITED","SOLO",3603160126,"RAD",3,"RHI2","Local System",422,0,0,0,422,0,0,0,0,0,0,0,0,0,0,0,0,0,0]
["2024-12-01","DR. LEUNG KIN KAY","SOLO",3226804803,"ENCTR",3,"CMS On-ramp","CMS On-ramp",138,0,0,0,138,0,0,0,0,0,0,0,0,0,0,0,0,0,0]
["2024-12-01","DR. LEUNG KIN KAY","SOLO",3226804803,"RXO","3,2","CMS On-ramp","CMS On-ramp",105,0,0,22,83,0,0,0,0,0,0,0,22,0,0,0,22,0,0]
["2024-12-01","DR. LEUNG KIN KAY","SOLO",3226804803,"RXD","3,2","CMS On-ramp","CMS On-ramp",98,0,0,21,77,0,0,0,0,0,0,0,21,0,0,0,21,0,0]
["2024-12-01","DR. LEUNG KIN KAY","SOLO",3226804803,"PROB","3,2","CMS On-ramp","CMS On-ramp",79,0,0,6,73,0,0,0,0,0,0,0,0,0,0,0,0,0,0]
["2024-12-01","DR. LEUNG KIN KAY","SOLO",3226804803,"IMMU","3,2","CMS On-ramp","CMS On-ramp",2,0,0,0,2,0,0,0,0,0,0,0,0,0,0,0,0,0,0]
["2024-12-01","ALPHA MEDICAL (CWB)","GRP",5292537029,"RAD",3,"RIS (LAAM)","Local System",406,0,0,0,406,0,0,0,0,0,0,0,0,0,0,0,0,0,0]
["2024-12-01","DR SHUM NAM CHU'S CLINIC","SOLO",2308765964,"RXO",3,"CMS On-ramp","CMS On-ramp",125,0,0,20,105,0,0,0,0,0,0,0,0,0,0,0,0,0,0]
["2024-12-01","DR SHUM NAM CHU'S CLINIC","SOLO",2308765964,"RXD",3,"CMS On-ramp","CMS On-ramp",109,0,0,17,92,0,0,0,0,0,0,0,0,0,0,0,0,0,0]
["2024-12-01","DR SHUM NAM CHU'S CLINIC","SOLO",2308765964,"PROB",3,"CMS On-ramp","CMS On-ramp",73,0,0,3,70,0,0,0,0,0,0,0,0,0,0,0,0,0,0]
["2024-12-01","DR SHUM NAM CHU'S CLINIC","SOLO",2308765964,"ENCTR",3,"CMS On-ramp","CMS On-ramp",62,0,0,0,62,0,0,0,0,0,0,0,0,0,0,0,0,0,0]
["2024-12-01","DR SHUM NAM CHU'S CLINIC","SOLO",2308765964,"IMMU",3,"CMS On-ramp","CMS On-ramp",12,0,0,4,8,0,0,0,0,0,0,0,0,0,0,0,0,0,0]
["2024-12-01","DR SHUM NAM CHU'S CLINIC","SOLO",2308765964,"AL1",3,"CMS On-ramp","CMS On-ramp",1,0,0,0,1,0,0,0,0,0,0,0,0,0,0,0,0,0,0]
["2024-12-01","THE UNIVERSITY OF HONG KONG","ACAD",3726405388,"RAD",3,"RHI2","Local System",359,0,0,0,359,0,0,0,0,0,0,0,0,0,0,0,0,0,0]
["2024-12-01","ANCHOR ONCOLOGY AND HEMATOLOGY CENTRE LIMITED","GRP",9713227452,"ENCTR",3,"ClinicSolution","Local System",236,0,0,0,236,0,0,0,0,0,0,0,0,0,0,0,0,0,0]
["2024-12-01","ANCHOR ONCOLOGY AND HEMATOLOGY CENTRE LIMITED","GRP",9713227452,"RXD",2,"ClinicSolution","Local System",57,0,0,57,0,0,0,0,0,0,0,0,0,0,0,0,0,0,0]
["2024-12-01","ANCHOR ONCOLOGY AND HEMATOLOGY CENTRE LIMITED","GRP",9713227452,"RXO",2,"ClinicSolution","Local System",57,0,0,57,0,0,0,0,0,0,0,0,0,0,0,0,0,0,0]
["2024-12-01","CITY SURGICAL CENTER LIMITED","GRP",6467582028,"ENCTR",3,"ClinicSolution","Local System",156,0,0,0,156,0,0,0,0,0,0,0,0,0,0,0,0,0,0]
["2024-12-01","CITY SURGICAL CENTER LIMITED","GRP",6467582028,"PROB",3,"ClinicSolution","Local System",94,5,0,89,0,5,0,89,89,89,0,0,0,0,0,0,0,0,0]
["2024-12-01","CITY SURGICAL CENTER LIMITED","GRP",6467582028,"RXD",2,"ClinicSolution","Local System",20,0,0,20,0,0,0,0,0,0,0,0,0,0,0,0,0,0,0]
["2024-12-01","CITY SURGICAL CENTER LIMITED","GRP",6467582028,"RXO",2,"ClinicSolution","Local System",20,0,0,20,0,0,0,0,0,0,0,0,0,0,0,0,0,0,0]
["2024-12-01","CITY SURGICAL CENTER LIMITED","GRP",6467582028,"AL1",2,"ClinicSolution","Local System",2,0,0,2,0,0,0,0,0,0,0,0,0,0,0,0,0,0,0]
["2024-12-01","MONGKOK MRI CENTRE LIMITED","GRP",5833341375,"RAD",3,"RHI2","Local System",291,0,0,0,291,0,0,0,0,0,0,0,0,0,0,0,0,0,0]
["2024-12-01","HUMAN HEALTH MEDICAL CENTRE.","GRP",5634981022,"EPIS",1,"RCMS_LAAM","Local System",161,0,161,0,0,0,0,0,0,0,0,0,0,0,0,0,0,0,0]
["2024-12-01","HUMAN HEALTH MEDICAL CENTRE.","GRP",5634981022,"RAD",1,"RCMS_LAAM","Local System",106,0,106,0,0,0,0,0,0,0,0,0,0,0,0,0,0,0,0]
["2024-12-01","DY EYE CONSULTANT LIMITED","SOLO",8558761107,"ENCTR",3,"ClinicSolution","Local System",96,0,0,0,96,0,0,0,0,0,0,0,0,0,0,0,0,0,0]
["2024-12-01","DY EYE CONSULTANT LIMITED","SOLO",8558761107,"PROB",3,"ClinicSolution","Local System",48,0,0,48,0,0,0,48,48,48,0,0,0,0,0,0,0,0,0]
["2024-12-01","DY EYE CONSULTANT LIMITED","SOLO",8558761107,"RXD",2,"ClinicSolution","Local System",33,0,0,33,0,0,0,0,0,0,0,0,0,0,0,0,0,0,0]
["2024-12-01","DY EYE CONSULTANT LIMITED","SOLO",8558761107,"RXO",2,"ClinicSolution","Local System",33,0,0,33,0,0,0,0,0,0,0,0,0,0,0,0,0,0,0]
["2024-12-01","DY EYE CONSULTANT LIMITED","SOLO",8558761107,"PX",3,"ClinicSolution","Local System",11,0,0,11,0,0,0,11,11,11,0,0,0,0,0,0,0,0,0]
["2024-12-01","ALL WELL (ASIA) LIMITED","GRP",8891674942,"ENCTR",3,"ClinicSolution","Local System",117,0,0,0,117,0,0,0,0,0,0,0,0,0,0,0,0,0,0]
["2024-12-01","ALL WELL (ASIA) LIMITED","GRP",8891674942,"PROB",3,"ClinicSolution","Local System",27,0,0,27,0,0,0,27,27,27,0,0,0,0,0,0,0,0,0]
["2024-12-01","DR CHAN YUEN SANG","SOLO",4830743861,"RXD",2,"ClinicSolution","Local System",57,0,0,57,0,0,0,0,0,0,0,0,0,0,0,0,0,0,0]
["2024-12-01","DR CHAN YUEN SANG","SOLO",4830743861,"RXO",2,"ClinicSolution","Local System",57,0,0,57,0,0,0,0,0,0,0,0,0,0,0,0,0,0,0]
["2024-12-01","DR CHAN YUEN SANG","SOLO",4830743861,"PROB",3,"ClinicSolution","Local System",26,0,0,26,0,0,0,26,26,26,0,0,0,0,0,0,0,0,0]
["2024-12-01","HEALTH INTEGRATED LIMITED","SOLO",5368445357,"RXD",2,"ClinicSolution","Local System",61,0,0,61,0,0,0,0,0,0,0,0,0,0,0,0,0,0,0]
["2024-12-01","HEALTH INTEGRATED LIMITED","SOLO",5368445357,"RXO",2,"ClinicSolution","Local System",61,0,0,61,0,0,0,0,0,0,0,0,0,0,0,0,0,0,0]
["2024-12-01","HEALTH INTEGRATED LIMITED","SOLO",5368445357,"ENCTR",3,"ClinicSolution","Local System",13,0,0,0,13,0,0,0,0,0,0,0,0,0,0,0,0,0,0]
["2024-12-01","HEALTH INTEGRATED LIMITED","SOLO",5368445357,"PROB",3,"ClinicSolution","Local System",1,0,0,1,0,0,0,1,1,1,0,0,0,0,0,0,0,0,0]
["2024-12-01","IPATH LABORATORY LIMITED","GRP",4178262222,"LABAP",1,"iPath","Local System",132,0,132,0,0,0,0,0,0,0,0,0,0,0,0,0,0,0,0]
["2024-12-01","DR. WONG MAN HUNG","SOLO",6256774535,"RXD",2,"ClinicSolution","Local System",52,0,0,52,0,0,0,0,0,0,0,0,0,0,0,0,0,0,0]
["2024-12-01","DR. WONG MAN HUNG","SOLO",6256774535,"RXO",2,"ClinicSolution","Local System",52,0,0,52,0,0,0,0,0,0,0,0,0,0,0,0,0,0,0]
["2024-12-01","DR. WONG MAN HUNG","SOLO",6256774535,"ENCTR",3,"ClinicSolution","Local System",19,0,0,0,19,0,0,0,0,0,0,0,0,0,0,0,0,0,0]
["2024-12-01","HEALTH & WEALTH MEDICAL CENTRE","SOLO",8832216811,"RXD",2,"ClinicSolution","Local System",34,0,0,34,0,0,0,0,0,0,0,0,0,0,0,0,0,0,0]
["2024-12-01","HEALTH & WEALTH MEDICAL CENTRE","SOLO",8832216811,"RXO",2,"ClinicSolution","Local System",34,0,0,34,0,0,0,0,0,0,0,0,0,0,0,0,0,0,0]
["2024-12-01","HEALTH & WEALTH MEDICAL CENTRE","SOLO",8832216811,"ENCTR",3,"ClinicSolution","Local System",27,0,0,0,27,0,0,0,0,0,0,0,0,0,0,0,0,0,0]
["2024-12-01","HEALTH & WEALTH MEDICAL CENTRE","SOLO",8832216811,"PROB",3,"ClinicSolution","Local System",27,0,0,27,0,0,0,27,27,27,0,0,0,0,0,0,0,0,0]
["2024-12-01","HEALTH & WEALTH MEDICAL CENTRE","SOLO",8832216811,"IMMU",2,"ClinicSolution","Local System",1,0,0,1,0,0,0,0,0,0,0,0,0,0,0,0,0,0,0]
["2024-12-01","CHOW KAI LAI","SOLO",3955467232,"PROB",3,"ClinicSolution","Local System",38,0,0,38,0,0,0,38,38,38,0,0,0,0,0,0,0,0,0]
["2024-12-01","CHOW KAI LAI","SOLO",3955467232,"ENCTR",3,"ClinicSolution","Local System",24,0,0,0,24,0,0,0,0,0,0,0,0,0,0,0,0,0,0]
["2024-12-01","CHOW KAI LAI","SOLO",3955467232,"RXD",2,"ClinicSolution","Local System",20,0,0,20,0,0,0,0,0,0,0,0,0,0,0,0,0,0,0]
["2024-12-01","CHOW KAI LAI","SOLO",3955467232,"RXO",2,"ClinicSolution","Local System",20,0,0,20,0,0,0,0,0,0,0,0,0,0,0,0,0,0,0]
["2024-12-01","CHOW KAI LAI","SOLO",3955467232,"PX",3,"ClinicSolution","Local System",1,0,0,1,0,0,0,1,1,1,0,0,0,0,0,0,0,0,0]
["2024-12-01","HEALTH IMAGING & CHECK-UP CENTRE LIMITED","SOLO",3168691844,"RAD",3,"RHI2","Local System",90,0,0,0,90,0,0,0,0,0,0,0,0,0,0,0,0,0,0]
["2024-12-01","BNS MEDICAL IMAGING LIMITED","GRP",7417567584,"RAD",3,"RHI2","Local System",84,0,0,0,84,0,0,0,0,0,0,0,0,0,0,0,0,0,0]
["2024-12-01","CLEARBRIDGE MEDICAL CENTER","SOLO",3545073904,"RXD",2,"ClinicSolution","Local System",25,0,0,25,0,0,0,0,0,0,0,0,0,0,0,0,0,0,0]
["2024-12-01","CLEARBRIDGE MEDICAL CENTER","SOLO",3545073904,"RXO",2,"ClinicSolution","Local System",25,0,0,25,0,0,0,0,0,0,0,0,0,0,0,0,0,0,0]
["2024-12-01","CLEARBRIDGE MEDICAL CENTER","SOLO",3545073904,"PROB",3,"ClinicSolution","Local System",23,0,0,23,0,0,0,23,23,23,0,0,0,0,0,0,0,0,0]
["2024-12-01","CLEARBRIDGE MEDICAL CENTER","SOLO",3545073904,"ENCTR",3,"ClinicSolution","Local System",11,0,0,0,11,0,0,0,0,0,0,0,0,0,0,0,0,0,0]
["2024-12-01","ACTON DIGITAL PET-CT CENTRE LIMITED","GRP",7221331623,"RAD",3,"RHI2","Local System",76,0,0,0,76,0,0,0,0,0,0,0,0,0,0,0,0,0,0]
["2024-12-01","DR LEUNG KAM FUNG","SOLO",2825508730,"ENCTR",3,"ClinicSolution","Local System",31,0,0,0,31,0,0,0,0,0,0,0,0,0,0,0,0,0,0]
["2024-12-01","DR LEUNG KAM FUNG","SOLO",2825508730,"RXD",2,"ClinicSolution","Local System",22,0,0,22,0,0,0,0,0,0,0,0,0,0,0,0,0,0,0]
["2024-12-01","DR LEUNG KAM FUNG","SOLO",2825508730,"RXO",2,"ClinicSolution","Local System",22,0,0,22,0,0,0,0,0,0,0,0,0,0,0,0,0,0,0]
["2024-12-01","HONG KONG BREAST CANCER AND DISEASE CENTRE LIMITED","SOLO",9407305541,"RXO","3,2","CMS On-ramp","CMS On-ramp",37,0,0,5,32,0,0,0,0,0,0,0,0,0,0,0,0,0,0]
["2024-12-01","HONG KONG BREAST CANCER AND DISEASE CENTRE LIMITED","SOLO",9407305541,"RXD","3,2","CMS On-ramp","CMS On-ramp",33,0,0,1,32,0,0,0,0,0,0,0,0,0,0,0,0,0,0]
["2024-12-01","HONG KONG BREAST CANCER AND DISEASE CENTRE LIMITED","SOLO",9407305541,"AL1","3,2","CMS On-ramp","CMS On-ramp",4,0,0,0,4,0,0,0,0,0,0,0,0,0,0,0,0,0,0]
["2024-12-01","VMC HEALTHCARE GROUP LIMITED","SOLO",3747982882,"ENCTR",3,"ClinicSolution","Local System",37,0,0,0,37,0,0,0,0,0,0,0,0,0,0,0,0,0,0]
["2024-12-01","VMC HEALTHCARE GROUP LIMITED","SOLO",3747982882,"PX",3,"ClinicSolution","Local System",33,10,0,23,0,10,0,23,23,23,0,0,0,0,0,0,0,0,0]
["2024-12-01","INSTA MEDLAB MRI CENTRE LIMITED","GRP",3426117536,"RAD",3,"RIS(LAAM for Insta MedLab PRD)","Local System",66,0,0,0,66,0,0,0,0,0,0,0,0,0,0,0,0,0,0]
["2024-12-01","DR. TONY CHUN KIT LEE MEDICAL PRACTICE LIMITED","SOLO",7071207758,"ENCTR",3,"ClinicSolution","Local System",16,0,0,0,16,0,0,0,0,0,0,0,0,0,0,0,0,0,0]
["2024-12-01","DR. TONY CHUN KIT LEE MEDICAL PRACTICE LIMITED","SOLO",7071207758,"RXD",2,"ClinicSolution","Local System",16,0,0,16,0,0,0,0,0,0,0,0,0,0,0,0,0,0,0]
["2024-12-01","DR. TONY CHUN KIT LEE MEDICAL PRACTICE LIMITED","SOLO",7071207758,"RXO",2,"ClinicSolution","Local System",16,0,0,16,0,0,0,0,0,0,0,0,0,0,0,0,0,0,0]
["2024-12-01","DR. TONY CHUN KIT LEE MEDICAL PRACTICE LIMITED","SOLO",7071207758,"AL1",2,"ClinicSolution","Local System",2,0,0,2,0,0,0,0,0,0,0,0,0,0,0,0,0,0,0]
["2024-12-01","DR. TONY CHUN KIT LEE MEDICAL PRACTICE LIMITED","SOLO",7071207758,"PROB",3,"ClinicSolution","Local System",2,0,0,2,0,0,0,2,2,2,0,0,0,0,0,0,0,0,0]
["2024-12-01","THE SPECIALISTS HEALTH CHECK AND DIAGNOSTIC IMAGING CENTRE LIMITED","SOLO",1999740540,"RAD",3,"RHI2","Local System",46,0,0,0,46,0,0,0,0,0,0,0,0,0,0,0,0,0,0]
["2024-12-01","ADVANCE X-RAY & MEDICAL DIAGNOSTIC CENTRE LTD","SOLO",9306084059,"ENCTR",3,"HKMA CMS for LAAM","Local System",21,0,0,0,21,0,0,0,0,0,0,0,0,0,0,0,0,0,0]
["2024-12-01","ADVANCE X-RAY & MEDICAL DIAGNOSTIC CENTRE LTD","SOLO",9306084059,"LABGEN",1,"HKMA CMS for LAAM","Local System",21,0,21,0,0,0,0,0,0,0,0,0,0,0,0,0,0,0,0]
["2024-12-01","CANOSSA HOSPITAL (CARITAS)","PH",8252506240,"AL1",3,"Canossa Hospital Management System","Local System",24,0,0,9,15,0,0,8,8,8,0,0,0,0,0,0,0,0,0]
["2024-12-01","CANOSSA HOSPITAL (CARITAS)","PH",8252506240,"RAD",3,"Canossa Hospital Management System","Local System",15,0,0,4,11,0,0,0,0,0,0,0,4,0,0,0,0,4,0]
["2024-12-01","CANOSSA HOSPITAL (CARITAS)","PH",8252506240,"ADR",3,"Canossa Hospital Management System","Local System",1,0,0,0,1,0,0,0,0,0,0,0,0,0,0,0,0,0,0]
["2024-12-01","DR. CHUNG CHI PING SIMON","SOLO",9398567973,"PROB",3,"ClinicSolution","Local System",19,0,0,19,0,0,0,19,19,19,0,0,0,0,0,0,0,0,0]
["2024-12-01","DR. CHUNG CHI PING SIMON","SOLO",9398567973,"ENCTR",3,"ClinicSolution","Local System",9,0,0,0,9,0,0,0,0,0,0,0,0,0,0,0,0,0,0]
["2024-12-01","DR. CHUNG CHI PING SIMON","SOLO",9398567973,"RXD",2,"ClinicSolution","Local System",6,0,0,6,0,0,0,0,0,0,0,0,0,0,0,0,0,0,0]
["2024-12-01","DR. CHUNG CHI PING SIMON","SOLO",9398567973,"RXO",2,"ClinicSolution","Local System",6,0,0,6,0,0,0,0,0,0,0,0,0,0,0,0,0,0,0]
["2024-12-01","PASSION MEDICAL LIMITED","SOLO",5772944231,"RXD",2,"ClinicSolution","Local System",13,0,0,13,0,0,0,0,0,0,0,0,0,0,0,0,0,0,0]
["2024-12-01","PASSION MEDICAL LIMITED","SOLO",5772944231,"RXO",2,"ClinicSolution","Local System",13,0,0,13,0,0,0,0,0,0,0,0,0,0,0,0,0,0,0]
["2024-12-01","PASSION MEDICAL LIMITED","SOLO",5772944231,"ENCTR",3,"ClinicSolution","Local System",9,0,0,0,9,0,0,0,0,0,0,0,0,0,0,0,0,0,0]
["2024-12-01","PASSION MEDICAL LIMITED","SOLO",5772944231,"PROB",3,"ClinicSolution","Local System",5,0,0,5,0,0,0,5,5,5,0,0,0,0,0,0,0,0,0]
["2024-12-01","PRIMECARE MEDICAL CENTRE","SOLO",3093463431,"ENCTR",3,"ClinicSolution","Local System",35,0,0,0,35,0,0,0,0,0,0,0,0,0,0,0,0,0,0]
["2024-12-01","BETHEL MEDICAL LIMITED","SOLO",5197855501,"ENCTR",3,"ClinicSolution","Local System",15,0,0,0,15,0,0,0,0,0,0,0,0,0,0,0,0,0,0]
["2024-12-01","BETHEL MEDICAL LIMITED","SOLO",5197855501,"PROB",3,"ClinicSolution","Local System",9,0,0,9,0,0,0,9,9,9,0,0,0,0,0,0,0,0,0]
["2024-12-01","BETHEL MEDICAL LIMITED","SOLO",5197855501,"RXD",2,"ClinicSolution","Local System",5,0,0,5,0,0,0,0,0,0,0,0,0,0,0,0,0,0,0]
["2024-12-01","BETHEL MEDICAL LIMITED","SOLO",5197855501,"RXO",2,"ClinicSolution","Local System",5,0,0,5,0,0,0,0,0,0,0,0,0,0,0,0,0,0,0]
["2024-12-01","L & C CLINICAL PRACTICE","GRP",5251825990,"RXD",2,"ClinicSolution","Local System",13,0,0,13,0,0,0,0,0,0,0,0,0,0,0,0,0,0,0]
["2024-12-01","L & C CLINICAL PRACTICE","GRP",5251825990,"RXO",2,"ClinicSolution","Local System",13,0,0,13,0,0,0,0,0,0,0,0,0,0,0,0,0,0,0]
["2024-12-01","L & C CLINICAL PRACTICE","GRP",5251825990,"ENCTR",3,"ClinicSolution","Local System",4,0,0,0,4,0,0,0,0,0,0,0,0,0,0,0,0,0,0]
["2024-12-01","L & C CLINICAL PRACTICE","GRP",5251825990,"PROB",3,"ClinicSolution","Local System",3,0,0,3,0,0,0,3,3,3,0,0,0,0,0,0,0,0,0]
["2024-12-01","KINDNESS CHINESE MEDICAL CLINIC LIMITED","SOLO",9165130652,"ENCTR",3,"EC Connect","EC Connect",8,0,0,0,8,0,0,0,0,0,0,0,0,0,0,0,0,0,0]
["2024-12-01","KINDNESS CHINESE MEDICAL CLINIC LIMITED","SOLO",9165130652,"CMPROB",3,"EC Connect","EC Connect",7,0,0,3,4,0,0,0,0,0,0,0,0,0,0,0,0,0,0]
["2024-12-01","KINDNESS CHINESE MEDICAL CLINIC LIMITED","SOLO",9165130652,"CMRXD",3,"EC Connect","EC Connect",6,0,0,0,6,0,0,0,0,0,0,0,0,0,0,0,0,0,0]
["2024-12-01","KINDNESS CHINESE MEDICAL CLINIC LIMITED","SOLO",9165130652,"CMRXO",3,"EC Connect","EC Connect",6,0,0,0,6,0,0,0,0,0,0,0,0,0,0,0,0,0,0]
["2024-12-01","KINDNESS CHINESE MEDICAL CLINIC LIMITED","SOLO",9165130652,"CMPX",3,"EC Connect","EC Connect",1,0,0,0,1,0,0,0,0,0,0,0,0,0,0,0,0,0,0]
["2024-12-01","APOLLO MRI CENTRE LIMITED","SOLO",3973708225,"RAD",3,"RHI2","Local System",25,0,0,0,25,0,0,0,0,0,0,0,0,0,0,0,0,0,0]
["2024-12-01","HAN QI CHINESE MEDICINE LIMITED","GRP",2091864776,"CMPROB",3,"EC Connect","EC Connect",7,0,0,1,6,0,0,0,0,0,0,0,0,0,0,0,0,0,0]
["2024-12-01","HAN QI CHINESE MEDICINE LIMITED","GRP",2091864776,"CMRXD",3,"EC Connect","EC Connect",6,0,0,6,0,0,0,0,0,0,0,0,0,0,0,0,0,0,0]
["2024-12-01","HAN QI CHINESE MEDICINE LIMITED","GRP",2091864776,"CMRXO",3,"EC Connect","EC Connect",6,0,0,6,0,0,0,0,0,0,0,0,0,0,0,0,0,0,0]
["2024-12-01","HAN QI CHINESE MEDICINE LIMITED","GRP",2091864776,"ENCTR",3,"EC Connect","EC Connect",6,0,0,0,6,0,0,0,0,0,0,0,0,0,0,0,0,0,0]
["2024-12-01","WELL BEING CHINESE MEDICINE CLINIC","SOLO",1667592556,"CMRXO",3,"EC Connect","EC Connect",8,0,0,0,8,0,0,0,0,0,0,0,0,0,0,0,0,0,0]
["2024-12-01","WELL BEING CHINESE MEDICINE CLINIC","SOLO",1667592556,"CMPROB",3,"EC Connect","EC Connect",6,0,0,3,3,0,0,0,0,0,0,0,0,0,0,0,0,0,0]
["2024-12-01","WELL BEING CHINESE MEDICINE CLINIC","SOLO",1667592556,"ENCTR",3,"EC Connect","EC Connect",5,0,0,0,5,0,0,0,0,0,0,0,0,0,0,0,0,0,0]
["2024-12-01","WELL BEING CHINESE MEDICINE CLINIC","SOLO",1667592556,"CMRXD",3,"EC Connect","EC Connect",1,0,0,0,1,0,0,0,0,0,0,0,0,0,0,0,0,0,0]
["2024-12-01","CONFIDENCE MEDICAL CENTRE LIMITED","SOLO",3923060878,"ENCTR",3,"ClinicSolution","Local System",19,0,0,0,19,0,0,0,0,0,0,0,0,0,0,0,0,0,0]
["2024-12-01","MEDIC-TECH X-RAY & LABORATORY SERVICE","SOLO",1960920902,"ENCTR",3,"HKMA CMS for LAAM","Local System",10,0,0,0,10,0,0,0,0,0,0,0,0,0,0,0,0,0,0]
["2024-12-01","MEDIC-TECH X-RAY & LABORATORY SERVICE","SOLO",1960920902,"LABGEN",1,"HKMA CMS for LAAM","Local System",9,0,9,0,0,0,0,0,0,0,0,0,0,0,0,0,0,0,0]
["2024-12-01","DR. TSANG FAN KWONG","SOLO",9585979787,"RXD",2,"ClinicSolution","Local System",5,0,0,5,0,0,0,0,0,0,0,0,0,0,0,0,0,0,0]
["2024-12-01","DR. TSANG FAN KWONG","SOLO",9585979787,"RXO",2,"ClinicSolution","Local System",5,0,0,5,0,0,0,0,0,0,0,0,0,0,0,0,0,0,0]
["2024-12-01","DR. TSANG FAN KWONG","SOLO",9585979787,"ENCTR",3,"ClinicSolution","Local System",3,0,0,0,3,0,0,0,0,0,0,0,0,0,0,0,0,0,0]
["2024-12-01","PRIMEHEALTH MEDICAL CENTRE LIMITED","SOLO",5826741564,"RXD",2,"ClinicSolution","Local System",5,0,0,5,0,0,0,0,0,0,0,0,0,0,0,0,0,0,0]
["2024-12-01","PRIMEHEALTH MEDICAL CENTRE LIMITED","SOLO",5826741564,"RXO",2,"ClinicSolution","Local System",5,0,0,5,0,0,0,0,0,0,0,0,0,0,0,0,0,0,0]
["2024-12-01","PRIMEHEALTH MEDICAL CENTRE LIMITED","SOLO",5826741564,"ENCTR",3,"ClinicSolution","Local System",2,0,0,0,2,0,0,0,0,0,0,0,0,0,0,0,0,0,0]
["2024-12-01","PRIMEHEALTH MEDICAL CENTRE LIMITED","SOLO",5826741564,"PROB",3,"ClinicSolution","Local System",1,0,0,1,0,0,0,1,1,1,0,0,0,0,0,0,0,0,0]
["2024-12-01","DR LAM KOON MAN CLINIC","SOLO",8256954924,"ENCTR",3,"ClinicSolution","Local System",11,0,0,0,11,0,0,0,0,0,0,0,0,0,0,0,0,0,0]
["2024-12-01","CONCORDE DIAGNOSTICS LIMITED","SOLO",2732778448,"RAD",3,"RHI2","Local System",8,4,0,0,4,4,0,0,0,0,0,0,0,0,0,0,0,0,0]
["2024-12-01","SHAO YAO CHINESE MEDICINE CLINIC LIMITED","SOLO",8061038543,"ENCTR",3,"EC Connect","EC Connect",3,0,0,0,3,0,0,0,0,0,0,0,0,0,0,0,0,0,0]
["2024-12-01","SHAO YAO CHINESE MEDICINE CLINIC LIMITED","SOLO",8061038543,"CMPROB",3,"EC Connect","EC Connect",1,0,0,0,1,0,0,0,0,0,0,0,0,0,0,0,0,0,0]
["2024-12-01","SHAO YAO CHINESE MEDICINE CLINIC LIMITED","SOLO",8061038543,"CMPX",3,"EC Connect","EC Connect",1,0,0,0,1,0,0,0,0,0,0,0,0,0,0,0,0,0,0]
["2024-12-01","SHAO YAO CHINESE MEDICINE CLINIC LIMITED","SOLO",8061038543,"CMRXD",3,"EC Connect","EC Connect",1,0,0,0,1,0,0,0,0,0,0,0,0,0,0,0,0,0,0]
["2024-12-01","SHAO YAO CHINESE MEDICINE CLINIC LIMITED","SOLO",8061038543,"CMRXO",3,"EC Connect","EC Connect",1,0,0,0,1,0,0,0,0,0,0,0,0,0,0,0,0,0,0]
["2024-12-01","DR DANIEL YIANG WU","SOLO",8958425524,"ENCTR",3,"ClinicSolution","Local System",3,0,0,0,3,0,0,0,0,0,0,0,0,0,0,0,0,0,0]
["2024-12-01","DR DANIEL YIANG WU","SOLO",8958425524,"PROB",3,"ClinicSolution","Local System",2,0,0,2,0,0,0,2,2,2,0,0,0,0,0,0,0,0,0]
["2024-12-01","DR. CHOI KAM YEE SAMUEL","SOLO",5849557920,"ENCTR",3,"ClinicSolution","Local System",2,0,0,0,2,0,0,0,0,0,0,0,0,0,0,0,0,0,0]
["2024-12-01","DR. CHOI KAM YEE SAMUEL","SOLO",5849557920,"PROB",3,"ClinicSolution","Local System",2,0,0,2,0,0,0,2,2,2,0,0,0,0,0,0,0,0,0]
["2024-12-01","HEALS CLINIC LIMITED","SOLO",9841327550,"ENCTR",3,"ClinicSolution","Local System",2,0,0,0,2,0,0,0,0,0,0,0,0,0,0,0,0,0,0]
["2024-12-01","HEALS CLINIC LIMITED","SOLO",9841327550,"RXD",2,"ClinicSolution","Local System",1,0,0,1,0,0,0,0,0,0,0,0,0,0,0,0,0,0,0]
["2024-12-01","HEALS CLINIC LIMITED","SOLO",9841327550,"RXO",2,"ClinicSolution","Local System",1,0,0,1,0,0,0,0,0,0,0,0,0,0,0,0,0,0,0]
["2024-12-01","MAN YEE (TCM) MEDICAL CLINIC LIMITED","GRP",2822145488,"ENCTR",3,"EC Connect","EC Connect",3,0,0,0,3,0,0,0,0,0,0,0,0,0,0,0,0,0,0]
["2024-12-01","NGAN SZE YUEN","SOLO",8033207557,"ENCTR",3,"ClinicSolution","Local System",2,0,0,0,2,0,0,0,0,0,0,0,0,0,0,0,0,0,0]

{"sheet":"Checking","index":2,"n_rows":878,"n_cols":120,"rows_kept":562,"cut":true,"hidden":false,"merged":[[3,10,3,14],[3,16,3,27],[3,29,3,38],[5,18,5,19],[5,22,5,24],[5,25,5,27],[5,33,5,38],[6,29,6,30],[6,1,7,1],[6,6,7,6],[6,7,7,7],[6,8,7,8],[6,10,7,10],[6,11,7,11],[6,12,7,12],[6,13,7,13],[6,14,7,14],[6,16,6,17],[6,20,6,21],[6,55,7,55],[6,31,6,32],[3,71,3,80],[5,60,5,61],[5,64,5,66],[5,67,5,69],[5,75,5,80],[6,43,7,43],[6,48,7,48],[6,49,7,49],[6,50,7,50],[6,52,7,52],[6,53,7,53],[6,54,7,54],[6,56,7,56],[6,58,6,59],[6,110,6,111],[6,112,6,113],[6,91,7,91],[6,92,7,92],[6,93,7,93],[6,94,7,94],[6,95,7,95],[3,110,3,119],[5,99,5,100],[5,103,5,105],[5,106,5,108],[5,114,5,119],[6,97,6,98],[6,62,6,63],[6,71,6,72],[6,73,6,74],[3,97,3,108],[6,101,6,102],[3,91,3,95],[6,82,7,82],[6,87,7,87],[6,88,7,88],[6,89,7,89]],"bounds":{"rows_first":250,"rows_last":62,"rows_between":250,"halvings":3}}
[]
[]
[]
[null,null,null,null,null,null,null,null,null,null,"Prepared by EHP4 Team",null,null,null,null,null,"Prepared by EHP11 Team",null,null,null,null,null,null,null,null,null,null,null,null,"Prepared by EHP4 Team",null,null,null,null,null,null,null,null,null,null,null,null,null,null,null,null,null,null,null,null,null,null,null,null,null,null,null,null,null,null,null,null,null,null,null,null,null,null,null,null,null,"Prepared by EHP4 Team",null,null,null,null,null,null,null,null,null,null,null,null,null,null,null,null,null,null,null,"Prepared by EHP4 Team",null,null,null,null,null,"Prepared by EHP11 Team",null,null,null,null,null,null,null,null,null,null,null,null,"Prepared by EHP4 Team"]
[null,null,null,null,null,null,null,null,null,null,null,null,null,null,null,null,null,null,null,null,null,null,null,null,null,null,null,null,null,null,null,null,null,null,null,null,null,null,null,null,null,null,{"$f":"AQ3=AQ2","v":true}]
[null,null,null,null,null,null,null,null,null,null,null,null,null,null,null,null,null,null,"Rejected reason",null,null,null,"Regraded reason",null,null,"Regraded level of data",null,null,null,null,null,null,null,"Regraded reason",null,null,null,null,null,{"$f":"COUNTIF(AN9:AN878,\"Y\")","v":44},{"$f":"COUNTIF(AO9:AO4933,\"Y\")","v":0},{"$f":"COUNTIF(AP9:AP4933,\"Y\")","v":478},null,null,null,null,null,null,null,null,null,null,null,null,null,null,null,null,null,null,"Rejected reason",null,null,null,"Regraded reason",null,null,"Regraded level of data",null,null,null,null,null,null,null,"Regraded reason",null,null,null,null,null,null,null,null,null,null,null,null,null,null,null,null,null,null,null,null,null,null,null,"Rejected reason",null,null,null,"Regraded reason",null,null,"Regraded level of data",null,null,null,null,null,null,null,"Regraded reason"]
[null,"Date","HCP Full Name","HCP Short Name","HCP Type","HCP ID","Domain ","Data level","System ","Connection System","Total uploaded cases","Total rejected cases","Total cases display as L1 in EVE","Total cases display as L2 in EVE","Total cases display as L3 in EVE",null,"Total rejected cases",null,"Missed mandatory data","Fail validation rule","Total regraded cases",null,"Missed RT data","Missed Codex data","Missed Other data","Level 3 to 2","Level 3 to 1","Level 2 to 1",null,"Total success uploaded level 3 cases",null,"Total regraded cases \n(Level 3 to 2)",null,"Mis-match RT name","Inappropriate hierarchy","Mis-match RT code","Mis-match RT description","Mis-match codex code","Mis-match codex description","Data Missing","Summary Missing","Mismatch",null,"Date","HCP Full Name","HCP Short Name","HCP Type","HCP ID","Domain ","Data level","System ","Connection System","Total uploaded cases","Total rejected cases","Total cases display as L1 in EVE","Total cases display as L2 in EVE","Total cases display as L3 in EVE",null,"Total rejected cases",null,"Missed mandatory data","Fail validation rule","Total regraded cases",null,"Missed RT data","Missed Codex data","Missed Other data","Level 3 to 2","Level 3 to 1","Level 2 to 1",null,"Total success uploaded level 3 cases",null,"Total regraded cases \n(Level 3 to 2)",null,"Mis-match RT name","Inappropriate hierarchy","Mis-match RT code","Mis-match RT description","Mis-match codex code","Mis-match codex description","Index","Date","HCP Full Name","HCP Short Name","HCP Type","HCP ID","Domain ","Data level","System ","Connection System","Total uploaded cases","Total rejected cases","Total cases display as L1 in EVE","Total cases display as L2 in EVE","Total cases display as L3 in EVE",null,"Total rejected cases",null,"Missed mandatory data","Fail validation rule","Total regraded cases",null,"Missed RT data","Missed Codex data","Missed Other data","Level 3 to 2","Level 3 to 1","Level 2 to 1",null,"Total success uploaded level 3 cases",null,"Total regraded cases \n(Level 3 to 2)",null,"Mis-match RT name","Inappropriate hierarchy","Mis-match RT code","Mis-match RT description","Mis-match codex code","Mis-match codex description"]
[null,null,null,null,null,null,null,null,null,null,null,null,null,null,null,null,"No.","%","No.","No.","No.","%","No.","No.","No.","Level 3 to 2","No.","No.",null,"No.","%","No.","%","No.","No.","No.","No.","No.","No.",null,null,null,null,null,null,null,null,null,null,null,null,null,null,null,null,null,null,null,"No.","%","No.","No.","No.","%","No.","No.","No.","Level 3 to 2","No.","No.",null,"No.","%","No.","%","No.","No.","No.","No.","No.","No.",null,null,null,null,null,null,null,null,null,null,null,null,null,null,null,null,"No.","%","No.","No.","No.","%","No.","No.","No.","Level 3 to 2","No.","No.",null,"No.","%","No.","%","No.","No.","No.","No.","No.","No."]
[{"$f":"IF(B9<>\"\",B9&F9&G9,\"\")","v":"1 Nov 2024 to 30 Nov 20241667592556CMPROB"},"1 Nov 2024 to 30 Nov 2024","WELL BEING CHINESE MEDICINE CLINIC","WBCMC","SOLO",1667592556,"CMPROB",3,"Local System","EC Connect",7,0,0,7,0,null,0,0,0,0,1,0.14285714285714285,1,0,0,1,0,0,null,0,0,0,0,0,0,0,0,0,0,{"$f":"IFERROR(IF(SEARCH(\"total\",A9)>0,\"\",\"\"),_xlfn.IFNA(IF(A9<>\"\",IF(MATCH(A9,AQ:AQ,0)>0,\"\",\"\"),\"\"),\"Y\"))","v":""},{"$f":"IFERROR(_xlfn.IFNA(IF(AQ9<>\"\",IF(MATCH(AQ9,A:A,0)>0,\"\",\"\"),\"\"),\"Y\"),\"\")","v":""},{"$f":"IF(OR(TRIM(UPPER(AS9))<>TRIM(UPPER(CF9)),AU9<>CH9,AV9<>CI9,AW9<>CJ9,AX9<>CK9,AY9<>CL9,AZ9<>CM9,BA9<>CN9,BB9<>CO9,BC9<>CP9,BD9<>CQ9,BE9<>CR9,BI9<>CV9,BJ9<>CW9,BK9<>CX9,BM9<>CZ9,BP9<>DC9,BQ9<>DD9,BR9<>DE9,BV9<>DI9,BX9<>DK9,BY9<>DL9,BZ9<>DM9,CA9<>DN9,CB9<>DO9,CC9<>DP9),\"Y\",\"\")","v":""},{"$f":"IF(AR9<>\"\",TEXT(AR9,\"d mmm yyyy\") &\" to \" & TEXT(EOMONTH(AR9,0),\"d mmm yyyy\") & AV9 & AW9,\"\")","v":"1 Nov 2024 to 30 Nov 20243098159131RXD"},{"$f":"Data!A2","v":"2024-11-01"},{"$f":"TRIM(Data!B2)","v":"HOSPITAL AUTHORITY"},null,{"$f":"TRIM(Data!C2)","v":"HA"},{"$f":"TRIM(Data!D2)","v":"3098159131"},{"$f":"TRIM(Data!E2)","v":"RXD"},{"$f":"TRIM(Data!F2)","v":"3"},{"$f":"TRIM(Data!G2)","v":"Enterprise Application Integration (EAI)"},{"$f":"TRIM(Data!H2)","v":"Local System"},{"$f":"TRIM(Data!I2)","v":"16822221"},{"$f":"TRIM(Data!J2)","v":"0"},{"$f":"TRIM(Data!K2)","v":"0"},{"$f":"TRIM(Data!L2)","v":"6402601"},{"$f":"TRIM(Data!M2)","v":"10419620"},null,null,null,{"$f":"TRIM(Data!N2)","v":"0"},{"$f":"TRIM(Data!O2)","v":"0"},{"$f":"TRIM(Data!P2)","v":"508034"},null,{"$f":"TRIM(Data!Q2)","v":"508034"},null,null,{"$f":"TRIM(Data!R2)","v":"508034"},{"$f":"TRIM(Data!S2)","v":"0"},{"$f":"TRIM(Data!T2)","v":"0"},null,null,null,{"$f":"TRIM(Data!U2)","v":"0"},null,{"$f":"TRIM(Data!V2)","v":"0"},{"$f":"TRIM(Data!W2)","v":"0"},{"$f":"TRIM(Data!X2)","v":"0"},{"$f":"TRIM(Data!Y2)","v":"0"},{"$f":"TRIM(Data!Z2)","v":"0"},{"$f":"TRIM(Data!AA2)","v":"0"},{"$f":"MATCH(AQ9,A:A,0)","v":91},{"$f":"TRIM(INDEX(B:B,$CD9))","v":"1 Nov 2024 to 30 Nov 2024"},{"$f":"TRIM(INDEX(C:C,$CD9))","v":"HOSPITAL AUTHORITY"},{"$f":"TRIM(INDEX(D:D,$CD9))","v":"HA"},{"$f":"TRIM(INDEX(E:E,$CD9))","v":"HA"},{"$f":"TRIM(INDEX(F:F,$CD9))","v":"3098159131"},{"$f":"TRIM(INDEX(G:G,$CD9))","v":"RXD"},{"$f":"TRIM(INDEX(H:H,$CD9))","v":"3"},{"$f":"TRIM(INDEX(I:I,$CD9))","v":"Enterprise Application Integration (EAI)"},{"$f":"TRIM(INDEX(J:J,$CD9))","v":"Local System"},{"$f":"TRIM(INDEX(K:K,$CD9))","v":"16822221"},{"$f":"TRIM(INDEX(L:L,$CD9))","v":"0"},{"$f":"TRIM(INDEX(M:M,$CD9))","v":"0"},{"$f":"TRIM(INDEX(N:N,$CD9))","v":"6402601"},{"$f":"TRIM(INDEX(O:O,$CD9))","v":"10419620"},{"$f":"TRIM(INDEX(P:P,$CD9))","v":""},{"$f":"TRIM(INDEX(Q:Q,$CD9))","v":"0"},{"$f":"TRIM(INDEX(R:R,$CD9))","v":"0"},{"$f":"TRIM(INDEX(S:S,$CD9))","v":"0"},{"$f":"TRIM(INDEX(T:T,$CD9))","v":"0"},{"$f":"TRIM(INDEX(U:U,$CD9))","v":"508034"},{"$f":"TRIM(INDEX(V:V,$CD9))","v":"0.0302001739247154"},{"$f":"TRIM(INDEX(W:W,$CD9))","v":"508034"},{"$f":"TRIM(INDEX(X:X,$CD9))","v":"0"},{"$f":"TRIM(INDEX(Y:Y,$CD9))","v":"0"},{"$f":"TRIM(INDEX(Z:Z,$CD9))","v":"508034"},{"$f":"TRIM(INDEX(AA:AA,$CD9))","v":"0"},{"$f":"TRIM(INDEX(AB:AB,$CD9))","v":"0"},{"$f":"TRIM(INDEX(AC:AC,$CD9))","v":""},{"$f":"TRIM(INDEX(AD:AD,$CD9))","v":"10419620"},{"$f":"TRIM(INDEX(AE:AE,$CD9))","v":"0.619396214090874"},{"$f":"TRIM(INDEX(AF:AF,$CD9))","v":"0"},{"$f":"TRIM(INDEX(AG:AG,$CD9))","v":"0"},{"$f":"TRIM(INDEX(AH:AH,$CD9))","v":"0"},{"$f":"TRIM(INDEX(AI:AI,$CD9))","v":"0"},{"$f":"TRIM(INDEX(AJ:AJ,$CD9))","v":"0"},{"$f":"TRIM(INDEX(AK:AK,$CD9))","v":"0"},{"$f":"TRIM(INDEX(AL:AL,$CD9))","v":"0"},{"$f":"TRIM(INDEX(AM:AM,$CD9))","v":"0"}]
["1 Nov 2024 to 30 Nov 20241667592556CMRXO","1 Nov 2024 to 30 Nov 2024","WELL BEING CHINESE MEDICINE CLINIC","WBCMC","SOLO",1667592556,"CMRXO",3,"Local System","EC Connect",13,0,0,0,13,null,0,0,0,0,0,0,0,0,0,0,0,0,null,13,1,0,0,0,0,0,0,0,0,"","","","1 Nov 2024 to 30 Nov 20243098159131ENCTR",{"$f":"Data!A3","v":"2024-11-01"},{"$f":"TRIM(Data!B3)","v":"HOSPITAL AUTHORITY"},null,{"$f":"TRIM(Data!C3)","v":"HA"},{"$f":"TRIM(Data!D3)","v":"3098159131"},{"$f":"TRIM(Data!E3)","v":"ENCTR"},{"$f":"TRIM(Data!F3)","v":"3"},{"$f":"TRIM(Data!G3)","v":"Enterprise Application Integration (EAI)"},{"$f":"TRIM(Data!H3)","v":"Local System"},{"$f":"TRIM(Data!I3)","v":"11968013"},{"$f":"TRIM(Data!J3)","v":"0"},{"$f":"TRIM(Data!K3)","v":"0"},{"$f":"TRIM(Data!L3)","v":"0"},{"$f":"TRIM(Data!M3)","v":"11968013"},null,null,null,{"$f":"TRIM(Data!N3)","v":"0"},{"$f":"TRIM(Data!O3)","v":"0"},{"$f":"TRIM(Data!P3)","v":"0"},null,{"$f":"TRIM(Data!Q3)","v":"0"},null,null,{"$f":"TRIM(Data!R3)","v":"0"},{"$f":"TRIM(Data!S3)","v":"0"},{"$f":"TRIM(Data!T3)","v":"0"},null,null,null,{"$f":"TRIM(Data!U3)","v":"0"},null,{"$f":"TRIM(Data!V3)","v":"0"},{"$f":"TRIM(Data!W3)","v":"0"},{"$f":"TRIM(Data!X3)","v":"0"},{"$f":"TRIM(Data!Y3)","v":"0"},{"$f":"TRIM(Data!Z3)","v":"0"},{"$f":"TRIM(Data!AA3)","v":"0"},78,"1 Nov 2024 to 30 Nov 2024","HOSPITAL AUTHORITY","HA","HA","3098159131","ENCTR","3","Enterprise Application Integration (EAI)","Local System","11968013","0","0","0","11968013","","0","0","0","0","0","0","0","0","0","0","0","0","","11968013","1","0","0","0","0","0","0","0","0"]
["1 Nov 2024 to 30 Nov 20241667592556ENCTR","1 Nov 2024 to 30 Nov 2024","WELL BEING CHINESE MEDICINE CLINIC","WBCMC","SOLO",1667592556,"ENCTR",3,"Local System","Local System",6,0,0,0,6,null,0,0,0,0,0,0,0,0,0,0,0,0,null,6,1,0,0,0,0,0,0,0,0,"","","","1 Nov 2024 to 30 Nov 20243098159131RXO",{"$f":"Data!A4","v":"2024-11-01"},{"$f":"TRIM(Data!B4)","v":"HOSPITAL AUTHORITY"},null,{"$f":"TRIM(Data!C4)","v":"HA"},{"$f":"TRIM(Data!D4)","v":"3098159131"},{"$f":"TRIM(Data!E4)","v":"RXO"},{"$f":"TRIM(Data!F4)","v":"3"},{"$f":"TRIM(Data!G4)","v":"Enterprise Application Integration (EAI)"},{"$f":"TRIM(Data!H4)","v":"Local System"},{"$f":"TRIM(Data!I4)","v":"9263654"},{"$f":"TRIM(Data!J4)","v":"1"},{"$f":"TRIM(Data!K4)","v":"0"},{"$f":"TRIM(Data!L4)","v":"4179174"},{"$f":"TRIM(Data!M4)","v":"5084479"},null,null,null,{"$f":"TRIM(Data!N4)","v":"1"},{"$f":"TRIM(Data!O4)","v":"0"},{"$f":"TRIM(Data!P4)","v":"170718"},null,{"$f":"TRIM(Data!Q4)","v":"170718"},null,null,{"$f":"TRIM(Data!R4)","v":"170718"},{"$f":"TRIM(Data!S4)","v":"0"},{"$f":"TRIM(Data!T4)","v":"0"},null,null,null,{"$f":"TRIM(Data!U4)","v":"0"},null,{"$f":"TRIM(Data!V4)","v":"0"},{"$f":"TRIM(Data!W4)","v":"0"},{"$f":"TRIM(Data!X4)","v":"0"},{"$f":"TRIM(Data!Y4)","v":"0"},{"$f":"TRIM(Data!Z4)","v":"0"},{"$f":"TRIM(Data!AA4)","v":"0"},92,"1 Nov 2024 to 30 Nov 2024","HOSPITAL AUTHORITY","HA","HA","3098159131","RXO","3","Enterprise Application Integration (EAI)","Local System","9263654","1","0","4179174","5084479","","1","1.07948764062216E-07","1","0","170718","0.0184287971031733","170718","0","0","170718","0","0","","5084479","0.54886322395029","0","0","0","0","0","0","0","0"]
["1 Nov 2024 to 30 Nov 20241728942726CMPROB","1 Nov 2024 to 30 Nov 2024","St. Teresa's Hospital - Chinese Medicine Centre","STH-CMC","PH",1728942726,"CMPROB",3,"STH HIS","EC Connect",332,0,0,165,167,null,0,0,0,0,18,5.4216867469879519E-2,18,0,0,18,0,0,null,167,0.50301204819277112,0,0,0,0,0,0,0,0,"","","","1 Nov 2024 to 30 Nov 20243098159131LABGEN",{"$f":"Data!A5","v":"2024-11-01"},{"$f":"TRIM(Data!B5)","v":"HOSPITAL AUTHORITY"},null,{"$f":"TRIM(Data!C5)","v":"HA"},{"$f":"TRIM(Data!D5)","v":"3098159131"},{"$f":"TRIM(Data!E5)","v":"LABGEN"},{"$f":"TRIM(Data!F5)","v":"3"},{"$f":"TRIM(Data!G5)","v":"Enterprise Application Integration (EAI)"},{"$f":"TRIM(Data!H5)","v":"Local System"},{"$f":"TRIM(Data!I5)","v":"4420493"},{"$f":"TRIM(Data!J5)","v":"117"},{"$f":"TRIM(Data!K5)","v":"1930"},{"$f":"TRIM(Data!L5)","v":"77011"},{"$f":"TRIM(Data!M5)","v":"4341435"},null,null,null,{"$f":"TRIM(Data!N5)","v":"30"},{"$f":"TRIM(Data!O5)","v":"87"},{"$f":"TRIM(Data!P5)","v":"81746"},null,{"$f":"TRIM(Data!Q5)","v":"81746"},null,null,{"$f":"TRIM(Data!R5)","v":"79850"},{"$f":"TRIM(Data!S5)","v":"1896"},{"$f":"TRIM(Data!T5)","v":"0"},null,null,null,{"$f":"TRIM(Data!U5)","v":"0"},null,{"$f":"TRIM(Data!V5)","v":"0"},{"$f":"TRIM(Data!W5)","v":"0"},{"$f":"TRIM(Data!X5)","v":"0"},{"$f":"TRIM(Data!Y5)","v":"0"},{"$f":"TRIM(Data!Z5)","v":"0"},{"$f":"TRIM(Data!AA5)","v":"0"},83,"1 Nov 2024 to 30 Nov 2024","HOSPITAL AUTHORITY","HA","HA","3098159131","LABGEN","3","Enterprise Application Integration (EAI)","Local System","4420493","117","1930","77011","4341435","","117","2.64676360758857E-05","30","87","81746","0.018492507509909","81746","0","0","79850","1896","0","","4341435","0.982115569462501","0","0","0","0","0","0","0","0"]
["1 Nov 2024 to 30 Nov 20241728942726CMPX","1 Nov 2024 to 30 Nov 2024","St. Teresa's Hospital - Chinese Medicine Centre","STH-CMC","PH",1728942726,"CMPX",3,"STH HIS","EC Connect",58,0,0,0,58,null,0,0,0,0,0,0,0,0,0,0,0,0,null,58,1,0,0,0,0,0,0,0,0,"","","","1 Nov 2024 to 30 Nov 20243098159131PROB",{"$f":"Data!A6","v":"2024-11-01"},{"$f":"TRIM(Data!B6)","v":"HOSPITAL AUTHORITY"},null,{"$f":"TRIM(Data!C6)","v":"HA"},{"$f":"TRIM(Data!D6)","v":"3098159131"},{"$f":"TRIM(Data!E6)","v":"PROB"},{"$f":"TRIM(Data!F6)","v":"3"},{"$f":"TRIM(Data!G6)","v":"Enterprise Application Integration (EAI)"},{"$f":"TRIM(Data!H6)","v":"Local System"},{"$f":"TRIM(Data!I6)","v":"1246452"},{"$f":"TRIM(Data!J6)","v":"0"},{"$f":"TRIM(Data!K6)","v":"0"},{"$f":"TRIM(Data!L6)","v":"0"},{"$f":"TRIM(Data!M6)","v":"1246452"},null,null,null,{"$f":"TRIM(Data!N6)","v":"0"},{"$f":"TRIM(Data!O6)","v":"0"},{"$f":"TRIM(Data!P6)","v":"0"},null,{"$f":"TRIM(Data!Q6)","v":"0"},null,null,{"$f":"TRIM(Data!R6)","v":"0"},{"$f":"TRIM(Data!S6)","v":"0"},{"$f":"TRIM(Data!T6)","v":"0"},null,null,null,{"$f":"TRIM(Data!U6)","v":"0"},null,{"$f":"TRIM(Data!V6)","v":"0"},{"$f":"TRIM(Data!W6)","v":"0"},{"$f":"TRIM(Data!X6)","v":"0"},{"$f":"TRIM(Data!Y6)","v":"0"},{"$f":"TRIM(Data!Z6)","v":"0"},{"$f":"TRIM(Data!AA6)","v":"0"},87,"1 Nov 2024 to 30 Nov 2024","HOSPITAL AUTHORITY","HA","HA","3098159131","PROB","3","Enterprise Application Integration (EAI)","Local System","1246452","0","0","0","1246452","","0","0","0","0","0","0","0","0","0","0","0","0","","1246452","1","0","0","0","0","0","0","0","0"]
["1 Nov 2024 to 30 Nov 20241728942726CMRXD","1 Nov 2024 to 30 Nov 2024","St. Teresa's Hospital - Chinese Medicine Centre","STH-CMC","PH",1728942726,"CMRXD",3,"STH HIS","EC Connect",230,0,0,6,224,null,0,0,0,0,0,0,0,0,0,0,0,0,null,224,0.97391304347826091,0,0,0,0,0,0,0,0,"","","","1 Nov 2024 to 30 Nov 20243098159131LABMB",{"$f":"Data!A7","v":"2024-11-01"},{"$f":"TRIM(Data!B7)","v":"HOSPITAL AUTHORITY"},null,{"$f":"TRIM(Data!C7)","v":"HA"},{"$f":"TRIM(Data!D7)","v":"3098159131"},{"$f":"TRIM(Data!E7)","v":"LABMB"},{"$f":"TRIM(Data!F7)","v":"3"},{"$f":"TRIM(Data!G7)","v":"Enterprise Application Integration (EAI)"},{"$f":"TRIM(Data!H7)","v":"Local System"},{"$f":"TRIM(Data!I7)","v":"859734"},{"$f":"TRIM(Data!J7)","v":"208"},{"$f":"TRIM(Data!K7)","v":"2813"},{"$f":"TRIM(Data!L7)","v":"117117"},{"$f":"TRIM(Data!M7)","v":"739596"},null,null,null,{"$f":"TRIM(Data!N7)","v":"68"},{"$f":"TRIM(Data!O7)","v":"140"},{"$f":"TRIM(Data!P7)","v":"119155"},null,{"$f":"TRIM(Data!Q7)","v":"119155"},null,null,{"$f":"TRIM(Data!R7)","v":"117278"},{"$f":"TRIM(Data!S7)","v":"1877"},{"$f":"TRIM(Data!T7)","v":"0"},null,null,null,{"$f":"TRIM(Data!U7)","v":"0"},null,{"$f":"TRIM(Data!V7)","v":"0"},{"$f":"TRIM(Data!W7)","v":"0"},{"$f":"TRIM(Data!X7)","v":"0"},{"$f":"TRIM(Data!Y7)","v":"0"},{"$f":"TRIM(Data!Z7)","v":"0"},{"$f":"TRIM(Data!AA7)","v":"0"},84,"1 Nov 2024 to 30 Nov 2024","HOSPITAL AUTHORITY","HA","HA","3098159131","LABMB","3","Enterprise Application Integration (EAI)","Local System","859734","208","2813","117117","739596","","208","0.000241935296266054","68","140","119155","0.138595193397027","119155","0","0","117278","1877","0","","739596","0.860261429698023","0","0","0","0","0","0","0","0"]
["1 Nov 2024 to 30 Nov 20241728942726CMRXO","1 Nov 2024 to 30 Nov 2024","St. Teresa's Hospital - Chinese Medicine Centre","STH-CMC","PH",1728942726,"CMRXO",3,"STH HIS","EC Connect",235,0,0,7,228,null,0,0,0,0,0,0,0,0,0,0,0,0,null,228,0.97021276595744677,0,0,0,0,0,0,0,0,"","","","1 Nov 2024 to 30 Nov 20243098159131RAD",{"$f":"Data!A8","v":"2024-11-01"},{"$f":"TRIM(Data!B8)","v":"HOSPITAL AUTHORITY"},null,{"$f":"TRIM(Data!C8)","v":"HA"},{"$f":"TRIM(Data!D8)","v":"3098159131"},{"$f":"TRIM(Data!E8)","v":"RAD"},{"$f":"TRIM(Data!F8)","v":"3"},{"$f":"TRIM(Data!G8)","v":"Enterprise Application Integration (EAI)"},{"$f":"TRIM(Data!H8)","v":"Local System"},{"$f":"TRIM(Data!I8)","v":"782842"},{"$f":"TRIM(Data!J8)","v":"0"},{"$f":"TRIM(Data!K8)","v":"0"},{"$f":"TRIM(Data!L8)","v":"0"},{"$f":"TRIM(Data!M8)","v":"782842"},null,null,null,{"$f":"TRIM(Data!N8)","v":"0"},{"$f":"TRIM(Data!O8)","v":"0"},{"$f":"TRIM(Data!P8)","v":"0"},null,{"$f":"TRIM(Data!Q8)","v":"0"},null,null,{"$f":"TRIM(Data!R8)","v":"0"},{"$f":"TRIM(Data!S8)","v":"0"},{"$f":"TRIM(Data!T8)","v":"0"},null,null,null,{"$f":"TRIM(Data!U8)","v":"0"},null,{"$f":"TRIM(Data!V8)","v":"0"},{"$f":"TRIM(Data!W8)","v":"0"},{"$f":"TRIM(Data!X8)","v":"0"},{"$f":"TRIM(Data!Y8)","v":"0"},{"$f":"TRIM(Data!Z8)","v":"0"},{"$f":"TRIM(Data!AA8)","v":"0"},89,"1 Nov 2024 to 30 Nov 2024","HOSPITAL AUTHORITY","HA","HA","3098159131","RAD","3","Enterprise Application Integration (EAI)","Local System","782842","0","0","0","782842","","0","0","0","0","0","0","0","0","0","0","0","0","","782842","1","0","0","0","0","0","0","0","0"]
["1 Nov 2024 to 30 Nov 20241728942726ENCTR","1 Nov 2024 to 30 Nov 2024","St. Teresa's Hospital - Chinese Medicine Centre","STH-CMC","PH",1728942726,"ENCTR",3,"STH HIS","Local System",318,0,0,0,318,null,0,0,0,0,0,0,0,0,0,0,0,0,null,318,1,0,0,0,0,0,0,0,0,"","","","1 Nov 2024 to 30 Nov 20243098159131EPIS",{"$f":"Data!A9","v":"2024-11-01"},{"$f":"TRIM(Data!B9)","v":"HOSPITAL AUTHORITY"},null,{"$f":"TRIM(Data!C9)","v":"HA"},{"$f":"TRIM(Data!D9)","v":"3098159131"},{"$f":"TRIM(Data!E9)","v":"EPIS"},{"$f":"TRIM(Data!F9)","v":"1"},{"$f":"TRIM(Data!G9)","v":"Enterprise Application Integration (EAI)"},{"$f":"TRIM(Data!H9)","v":"Local System"},{"$f":"TRIM(Data!I9)","v":"434094"},{"$f":"TRIM(Data!J9)","v":"1398"},{"$f":"TRIM(Data!K9)","v":"432696"},{"$f":"TRIM(Data!L9)","v":"0"},{"$f":"TRIM(Data!M9)","v":"0"},null,null,null,{"$f":"TRIM(Data!N9)","v":"1398"},{"$f":"TRIM(Data!O9)","v":"0"},{"$f":"TRIM(Data!P9)","v":"0"},null,{"$f":"TRIM(Data!Q9)","v":"0"},null,null,{"$f":"TRIM(Data!R9)","v":"0"},{"$f":"TRIM(Data!S9)","v":"0"},{"$f":"TRIM(Data!T9)","v":"0"},null,null,null,{"$f":"TRIM(Data!U9)","v":"0"},null,{"$f":"TRIM(Data!V9)","v":"0"},{"$f":"TRIM(Data!W9)","v":"0"},{"$f":"TRIM(Data!X9)","v":"0"},{"$f":"TRIM(Data!Y9)","v":"0"},{"$f":"TRIM(Data!Z9)","v":"0"},{"$f":"TRIM(Data!AA9)","v":"0"},79,"1 Nov 2024 to 30 Nov 2024","HOSPITAL AUTHORITY","HA","HA","3098159131","EPIS","1","Enterprise Application Integration (EAI)","Local System","434094","1398","432696","0","0","","1398","0.00322050062889605","1398","0","0","0","0","0","0","0","0","0","","0","0","0","0","0","0","0","0","0","0"]
["1 Nov 2024 to 30 Nov 20241960920902LABGEN","1 Nov 2024 to 30 Nov 2024","MEDIC-TECH X-RAY & LABORATORY SERVICE","MEDIC-TECH X-RAY & LAB","SOLO",1960920902,"LABGEN",1,"CMS5.0 (HKMA)","Local System",5,0,5,0,0,null,0,0,0,0,0,0,0,0,0,0,0,0,null,0,0,0,0,0,0,0,0,0,0,"","","","1 Nov 2024 to 30 Nov 20243098159131PX",{"$f":"Data!A10","v":"2024-11-01"},{"$f":"TRIM(Data!B10)","v":"HOSPITAL AUTHORITY"},null,{"$f":"TRIM(Data!C10)","v":"HA"},{"$f":"TRIM(Data!D10)","v":"3098159131"},{"$f":"TRIM(Data!E10)","v":"PX"},{"$f":"TRIM(Data!F10)","v":"3"},{"$f":"TRIM(Data!G10)","v":"Enterprise Application Integration (EAI)"},{"$f":"TRIM(Data!H10)","v":"Local System"},{"$f":"TRIM(Data!I10)","v":"391004"},{"$f":"TRIM(Data!J10)","v":"0"},{"$f":"TRIM(Data!K10)","v":"0"},{"$f":"TRIM(Data!L10)","v":"0"},{"$f":"TRIM(Data!M10)","v":"391004"},null,null,null,{"$f":"TRIM(Data!N10)","v":"0"},{"$f":"TRIM(Data!O10)","v":"0"},{"$f":"TRIM(Data!P10)","v":"0"},null,{"$f":"TRIM(Data!Q10)","v":"0"},null,null,{"$f":"TRIM(Data!R10)","v":"0"},{"$f":"TRIM(Data!S10)","v":"0"},{"$f":"TRIM(Data!T10)","v":"0"},null,null,null,{"$f":"TRIM(Data!U10)","v":"0"},null,{"$f":"TRIM(Data!V10)","v":"0"},{"$f":"TRIM(Data!W10)","v":"0"},{"$f":"TRIM(Data!X10)","v":"0"},{"$f":"TRIM(Data!Y10)","v":"0"},{"$f":"TRIM(Data!Z10)","v":"0"},{"$f":"TRIM(Data!AA10)","v":"0"},88,"1 Nov 2024 to 30 Nov 2024","HOSPITAL AUTHORITY","HA","HA","3098159131","PX","3","Enterprise Application Integration (EAI)","Local System","391004","0","0","0","391004","","0","0","0","0","0","0","0","0","0","0","0","0","","391004","1","0","0","0","0","0","0","0","0"]
["1 Nov 2024 to 30 Nov 20242091864776CMPROB","1 Nov 2024 to 30 Nov 2024","Han Qi Chinese Medicine Limited","HAN QI CHINESE MEDICINE","GROUP",2091864776,"CMPROB",3,"Local System","EC Connect",215,0,0,65,150,null,0,0,0,0,21,9.7674418604651161E-2,21,0,0,21,0,0,null,150,0.69767441860465118,0,0,0,0,0,0,0,0,"","","","1 Nov 2024 to 30 Nov 20243098159131MEDCER",{"$f":"Data!A11","v":"2024-11-01"},{"$f":"TRIM(Data!B11)","v":"HOSPITAL AUTHORITY"},null,{"$f":"TRIM(Data!C11)","v":"HA"},{"$f":"TRIM(Data!D11)","v":"3098159131"},{"$f":"TRIM(Data!E11)","v":"MEDCER"},{"$f":"TRIM(Data!F11)","v":"1"},{"$f":"TRIM(Data!G11)","v":"Enterprise Application Integration (EAI)"},{"$f":"TRIM(Data!H11)","v":"Local System"},{"$f":"TRIM(Data!I11)","v":"274613"},{"$f":"TRIM(Data!J11)","v":"239"},{"$f":"TRIM(Data!K11)","v":"274374"},{"$f":"TRIM(Data!L11)","v":"0"},{"$f":"TRIM(Data!M11)","v":"0"},null,null,null,{"$f":"TRIM(Data!N11)","v":"239"},{"$f":"TRIM(Data!O11)","v":"0"},{"$f":"TRIM(Data!P11)","v":"0"},null,{"$f":"TRIM(Data!Q11)","v":"0"},null,null,{"$f":"TRIM(Data!R11)","v":"0"},{"$f":"TRIM(Data!S11)","v":"0"},{"$f":"TRIM(Data!T11)","v":"0"},null,null,null,{"$f":"TRIM(Data!U11)","v":"0"},null,{"$f":"TRIM(Data!V11)","v":"0"},{"$f":"TRIM(Data!W11)","v":"0"},{"$f":"TRIM(Data!X11)","v":"0"},{"$f":"TRIM(Data!Y11)","v":"0"},{"$f":"TRIM(Data!Z11)","v":"0"},{"$f":"TRIM(Data!AA11)","v":"0"},85,"1 Nov 2024 to 30 Nov 2024","HOSPITAL AUTHORITY","HA","HA","3098159131","MEDCER","1","Enterprise Application Integration (EAI)","Local System","274613","239","274374","0","0","","239","0.000870315680612353","239","0","0","0","0","0","0","0","0","0","","0","0","0","0","0","0","0","0","0","0"]
["1 Nov 2024 to 30 Nov 20242091864776CMRXD","1 Nov 2024 to 30 Nov 2024","Han Qi Chinese Medicine Limited","HAN QI CHINESE MEDICINE","GROUP",2091864776,"CMRXD",3,"Local System","EC Connect",174,0,0,158,16,null,0,0,0,0,0,0,0,0,0,0,0,0,null,16,9.1954022988505746E-2,0,0,0,0,0,0,0,0,"","","","1 Nov 2024 to 30 Nov 20243098159131IMMU",{"$f":"Data!A12","v":"2024-11-01"},{"$f":"TRIM(Data!B12)","v":"HOSPITAL AUTHORITY"},null,{"$f":"TRIM(Data!C12)","v":"HA"},{"$f":"TRIM(Data!D12)","v":"3098159131"},{"$f":"TRIM(Data!E12)","v":"IMMU"},{"$f":"TRIM(Data!F12)","v":"3"},{"$f":"TRIM(Data!G12)","v":"Enterprise Application Integration (EAI)"},{"$f":"TRIM(Data!H12)","v":"Local System"},{"$f":"TRIM(Data!I12)","v":"207112"},{"$f":"TRIM(Data!J12)","v":"0"},{"$f":"TRIM(Data!K12)","v":"0"},{"$f":"TRIM(Data!L12)","v":"11553"},{"$f":"TRIM(Data!M12)","v":"195559"},null,null,null,{"$f":"TRIM(Data!N12)","v":"0"},{"$f":"TRIM(Data!O12)","v":"0"},{"$f":"TRIM(Data!P12)","v":"11181"},null,{"$f":"TRIM(Data!Q12)","v":"11181"},null,null,{"$f":"TRIM(Data!R12)","v":"11181"},{"$f":"TRIM(Data!S12)","v":"0"},{"$f":"TRIM(Data!T12)","v":"0"},null,null,null,{"$f":"TRIM(Data!U12)","v":"380"},null,{"$f":"TRIM(Data!V12)","v":"0"},{"$f":"TRIM(Data!W12)","v":"380"},{"$f":"TRIM(Data!X12)","v":"0"},{"$f":"TRIM(Data!Y12)","v":"0"},{"$f":"TRIM(Data!Z12)","v":"0"},{"$f":"TRIM(Data!AA12)","v":"0"},80,"1 Nov 2024 to 30 Nov 2024","HOSPITAL AUTHORITY","HA","HA","3098159131","IMMU","3","Enterprise Application Integration (EAI)","Local System","207112","0","0","11553","195559","","0","0","0","0","11181","0.0539852833249643","11181","0","0","11181","0","0","","195559","0.944218587044691","380","0.00183475607400827","0","380","0","0","0","0"]
["1 Nov 2024 to 30 Nov 20242091864776CMRXO","1 Nov 2024 to 30 Nov 2024","Han Qi Chinese Medicine Limited","HAN QI CHINESE MEDICINE","GROUP",2091864776,"CMRXO",3,"Local System","EC Connect",174,0,0,158,16,null,0,0,0,0,0,0,0,0,0,0,0,0,null,16,9.1954022988505746E-2,0,0,0,0,0,0,0,0,"","","","1 Nov 2024 to 30 Nov 20243098159131REF",{"$f":"Data!A13","v":"2024-11-01"},{"$f":"TRIM(Data!B13)","v":"HOSPITAL AUTHORITY"},null,{"$f":"TRIM(Data!C13)","v":"HA"},{"$f":"TRIM(Data!D13)","v":"3098159131"},{"$f":"TRIM(Data!E13)","v":"REF"},{"$f":"TRIM(Data!F13)","v":"1"},{"$f":"TRIM(Data!G13)","v":"Enterprise Application Integration (EAI)"},{"$f":"TRIM(Data!H13)","v":"Local System"},{"$f":"TRIM(Data!I13)","v":"185708"},{"$f":"TRIM(Data!J13)","v":"175"},{"$f":"TRIM(Data!K13)","v":"185533"},{"$f":"TRIM(Data!L13)","v":"0"},{"$f":"TRIM(Data!M13)","v":"0"},null,null,null,{"$f":"TRIM(Data!N13)","v":"175"},{"$f":"TRIM(Data!O13)","v":"0"},{"$f":"TRIM(Data!P13)","v":"0"},null,{"$f":"TRIM(Data!Q13)","v":"0"},null,null,{"$f":"TRIM(Data!R13)","v":"0"},{"$f":"TRIM(Data!S13)","v":"0"},{"$f":"TRIM(Data!T13)","v":"0"},null,null,null,{"$f":"TRIM(Data!U13)","v":"0"},null,{"$f":"TRIM(Data!V13)","v":"0"},{"$f":"TRIM(Data!W13)","v":"0"},{"$f":"TRIM(Data!X13)","v":"0"},{"$f":"TRIM(Data!Y13)","v":"0"},{"$f":"TRIM(Data!Z13)","v":"0"},{"$f":"TRIM(Data!AA13)","v":"0"},90,"1 Nov 2024 to 30 Nov 2024","HOSPITAL AUTHORITY","HA","HA","3098159131","REF","1","Enterprise Application Integration (EAI)","Local System","185708","175","185533","0","0","","175","0.000942339586878325","175","0","0","0","0","0","0","0","0","0","","0","0","0","0","0","0","0","0","0","0"]
["1 Nov 2024 to 30 Nov 20242091864776ENCTR","1 Nov 2024 to 30 Nov 2024","Han Qi Chinese Medicine Limited","HAN QI CHINESE MEDICINE","GROUP",2091864776,"ENCTR",3,"Local System","Local System",175,0,0,0,175,null,0,0,0,0,0,0,0,0,0,0,0,0,null,175,1,0,0,0,0,0,0,0,0,"","","","1 Nov 2024 to 30 Nov 20243098159131LABAP",{"$f":"Data!A14","v":"2024-11-01"},{"$f":"TRIM(Data!B14)","v":"HOSPITAL AUTHORITY"},null,{"$f":"TRIM(Data!C14)","v":"HA"},{"$f":"TRIM(Data!D14)","v":"3098159131"},{"$f":"TRIM(Data!E14)","v":"LABAP"},{"$f":"TRIM(Data!F14)","v":"3"},{"$f":"TRIM(Data!G14)","v":"Enterprise Application Integration (EAI)"},{"$f":"TRIM(Data!H14)","v":"Local System"},{"$f":"TRIM(Data!I14)","v":"98967"},{"$f":"TRIM(Data!J14)","v":"11"},{"$f":"TRIM(Data!K14)","v":"0"},{"$f":"TRIM(Data!L14)","v":"31134"},{"$f":"TRIM(Data!M14)","v":"67822"},null,null,null,{"$f":"TRIM(Data!N14)","v":"11"},{"$f":"TRIM(Data!O14)","v":"0"},{"$f":"TRIM(Data!P14)","v":"31404"},null,{"$f":"TRIM(Data!Q14)","v":"28420"},null,null,{"$f":"TRIM(Data!R14)","v":"31404"},{"$f":"TRIM(Data!S14)","v":"0"},{"$f":"TRIM(Data!T14)","v":"0"},null,null,null,{"$f":"TRIM(Data!U14)","v":"3"},null,{"$f":"TRIM(Data!V14)","v":"0"},{"$f":"TRIM(Data!W14)","v":"3"},{"$f":"TRIM(Data!X14)","v":"0"},{"$f":"TRIM(Data!Y14)","v":"0"},{"$f":"TRIM(Data!Z14)","v":"0"},{"$f":"TRIM(Data!AA14)","v":"0"},82,"1 Nov 2024 to 30 Nov 2024","HOSPITAL AUTHORITY","HA","HA","3098159131","LABAP","3","Enterprise Application Integration (EAI)","Local System","98967","11","0","31134","67822","","11","0.000111148160497944","11","0","31404","0.317317893843402","28420","0","2984","31404","0","0","","67822","0.685299140117413","3","3.03131346812574E-05","0","3","0","0","0","0"]
["1 Nov 2024 to 30 Nov 20242206285885AL1","1 Nov 2024 to 30 Nov 2024","EVANGEL HOSPITAL","EVANGEL HOSPITAL","PH",2206285885,"AL1",3,"HMS","Local System",163,0,0,87,76,null,0,0,0,0,87,0.53374233128834359,87,0,0,87,0,0,null,76,0.46625766871165641,0,0,0,0,0,0,0,0,"","","","1 Nov 2024 to 30 Nov 20243098159131OBS",{"$f":"Data!A15","v":"2024-11-01"},{"$f":"TRIM(Data!B15)","v":"HOSPITAL AUTHORITY"},null,{"$f":"TRIM(Data!C15)","v":"HA"},{"$f":"TRIM(Data!D15)","v":"3098159131"},{"$f":"TRIM(Data!E15)","v":"OBS"},{"$f":"TRIM(Data!F15)","v":"3"},{"$f":"TRIM(Data!G15)","v":"Enterprise Application Integration (EAI)"},{"$f":"TRIM(Data!H15)","v":"Local System"},{"$f":"TRIM(Data!I15)","v":"44399"},{"$f":"TRIM(Data!J15)","v":"27"},{"$f":"TRIM(Data!K15)","v":"0"},{"$f":"TRIM(Data!L15)","v":"0"},{"$f":"TRIM(Data!M15)","v":"44372"},null,null,null,{"$f":"TRIM(Data!N15)","v":"27"},{"$f":"TRIM(Data!O15)","v":"0"},{"$f":"TRIM(Data!P15)","v":"0"},null,{"$f":"TRIM(Data!Q15)","v":"0"},null,null,{"$f":"TRIM(Data!R15)","v":"0"},{"$f":"TRIM(Data!S15)","v":"0"},{"$f":"TRIM(Data!T15)","v":"0"},null,null,null,{"$f":"TRIM(Data!U15)","v":"0"},null,{"$f":"TRIM(Data!V15)","v":"0"},{"$f":"TRIM(Data!W15)","v":"0"},{"$f":"TRIM(Data!X15)","v":"0"},{"$f":"TRIM(Data!Y15)","v":"0"},{"$f":"TRIM(Data!Z15)","v":"0"},{"$f":"TRIM(Data!AA15)","v":"0"},86,"1 Nov 2024 to 30 Nov 2024","HOSPITAL AUTHORITY","HA","HA","3098159131","OBS","3","Enterprise Application Integration (EAI)","Local System","44399","27","0","0","44372","","27","0.000608121804545147","27","0","0","0","0","0","0","0","0","0","","44372","0.999391878195455","0","0","0","0","0","0","0","0"]
["1 Nov 2024 to 30 Nov 20242206285885ENCTR","1 Nov 2024 to 30 Nov 2024","EVANGEL HOSPITAL","EVANGEL HOSPITAL","PH",2206285885,"ENCTR",3,"HMS","Local System",3849,0,0,0,3849,null,0,0,0,0,0,0,0,0,0,0,0,0,null,3849,1,0,0,0,0,0,0,0,0,"","","","1 Nov 2024 to 30 Nov 20243098159131INVR",{"$f":"Data!A16","v":"2024-11-01"},{"$f":"TRIM(Data!B16)","v":"HOSPITAL AUTHORITY"},null,{"$f":"TRIM(Data!C16)","v":"HA"},{"$f":"TRIM(Data!D16)","v":"3098159131"},{"$f":"TRIM(Data!E16)","v":"INVR"},{"$f":"TRIM(Data!F16)","v":"1"},{"$f":"TRIM(Data!G16)","v":"Enterprise Application Integration (EAI)"},{"$f":"TRIM(Data!H16)","v":"Local System"},{"$f":"TRIM(Data!I16)","v":"33491"},{"$f":"TRIM(Data!J16)","v":"36"},{"$f":"TRIM(Data!K16)","v":"33455"},{"$f":"TRIM(Data!L16)","v":"0"},{"$f":"TRIM(Data!M16)","v":"0"},null,null,null,{"$f":"TRIM(Data!N16)","v":"36"},{"$f":"TRIM(Data!O16)","v":"0"},{"$f":"TRIM(Data!P16)","v":"0"},null,{"$f":"TRIM(Data!Q16)","v":"0"},null,null,{"$f":"TRIM(Data!R16)","v":"0"},{"$f":"TRIM(Data!S16)","v":"0"},{"$f":"TRIM(Data!T16)","v":"0"},null,null,null,{"$f":"TRIM(Data!U16)","v":"0"},null,{"$f":"TRIM(Data!V16)","v":"0"},{"$f":"TRIM(Data!W16)","v":"0"},{"$f":"TRIM(Data!X16)","v":"0"},{"$f":"TRIM(Data!Y16)","v":"0"},{"$f":"TRIM(Data!Z16)","v":"0"},{"$f":"TRIM(Data!AA16)","v":"0"},81,"1 Nov 2024 to 30 Nov 2024","HOSPITAL AUTHORITY","HA","HA","3098159131","INVR","1","Enterprise Application Integration (EAI)","Local System","33491","36","33455","0","0","","36","0.00107491564898032","36","0","0","0","0","0","0","0","0","0","","0","0","0","0","0","0","0","0","0","0"]
["1 Nov 2024 to 30 Nov 20242206285885RAD","1 Nov 2024 to 30 Nov 2024","EVANGEL HOSPITAL","EVANGEL HOSPITAL","PH",2206285885,"RAD",3,"HMS","Local System",616,3,0,0,613,null,3,4.87012987012987E-3,3,0,0,0,0,0,0,0,0,0,null,613,0.99512987012987009,0,0,0,0,0,0,0,0,"","","","1 Nov 2024 to 30 Nov 20243098159131BIRTH",{"$f":"Data!A17","v":"2024-11-01"},{"$f":"TRIM(Data!B17)","v":"HOSPITAL AUTHORITY"},null,{"$f":"TRIM(Data!C17)","v":"HA"},{"$f":"TRIM(Data!D17)","v":"3098159131"},{"$f":"TRIM(Data!E17)","v":"BIRTH"},{"$f":"TRIM(Data!F17)","v":"3"},{"$f":"TRIM(Data!G17)","v":"Enterprise Application Integration (EAI)"},{"$f":"TRIM(Data!H17)","v":"Local System"},{"$f":"TRIM(Data!I17)","v":"11843"},{"$f":"TRIM(Data!J17)","v":"0"},{"$f":"TRIM(Data!K17)","v":"0"},{"$f":"TRIM(Data!L17)","v":"0"},{"$f":"TRIM(Data!M17)","v":"11843"},null,null,null,{"$f":"TRIM(Data!N17)","v":"0"},{"$f":"TRIM(Data!O17)","v":"0"},{"$f":"TRIM(Data!P17)","v":"0"},null,{"$f":"TRIM(Data!Q17)","v":"0"},null,null,{"$f":"TRIM(Data!R17)","v":"0"},{"$f":"TRIM(Data!S17)","v":"0"},{"$f":"TRIM(Data!T17)","v":"0"},null,null,null,{"$f":"TRIM(Data!U17)","v":"0"},null,{"$f":"TRIM(Data!V17)","v":"0"},{"$f":"TRIM(Data!W17)","v":"0"},{"$f":"TRIM(Data!X17)","v":"0"},{"$f":"TRIM(Data!Y17)","v":"0"},{"$f":"TRIM(Data!Z17)","v":"0"},{"$f":"TRIM(Data!AA17)","v":"0"},77,"1 Nov 2024 to 30 Nov 2024","HOSPITAL AUTHORITY","HA","HA","3098159131","BIRTH","3","Enterprise Application Integration (EAI)","Local System","11843","0","0","0","11843","","0","0","0","0","0","0","0","0","0","0","0","0","","11843","1","0","0","0","0","0","0","0","0"]
["1 Nov 2024 to 30 Nov 20242231879813CMPROB","1 Nov 2024 to 30 Nov 2024","18 Chinese Medicine Clinic cum Traing and Research Centre (The Hong Kong Tuberculosis Association)","18CMCTRs(HKTBA)","NGO",2231879813,"CMPROB",3,"Local System","EC Connect",371,0,0,124,247,null,0,0,0,0,69,0.18598382749326145,69,0,0,69,0,0,null,247,0.66576819407008081,0,0,0,0,0,0,0,0,"","","","1 Nov 2024 to 30 Nov 20243098159131AL1",{"$f":"Data!A18","v":"2024-11-01"},{"$f":"TRIM(Data!B18)","v":"HOSPITAL AUTHORITY"},null,{"$f":"TRIM(Data!C18)","v":"HA"},{"$f":"TRIM(Data!D18)","v":"3098159131"},{"$f":"TRIM(Data!E18)","v":"AL1"},{"$f":"TRIM(Data!F18)","v":"3"},{"$f":"TRIM(Data!G18)","v":"Enterprise Application Integration (EAI)"},{"$f":"TRIM(Data!H18)","v":"Local System"},{"$f":"TRIM(Data!I18)","v":"6091"},{"$f":"TRIM(Data!J18)","v":"0"},{"$f":"TRIM(Data!K18)","v":"0"},{"$f":"TRIM(Data!L18)","v":"1717"},{"$f":"TRIM(Data!M18)","v":"4374"},null,null,null,{"$f":"TRIM(Data!N18)","v":"0"},{"$f":"TRIM(Data!O18)","v":"0"},{"$f":"TRIM(Data!P18)","v":"1602"},null,{"$f":"TRIM(Data!Q18)","v":"1602"},null,null,{"$f":"TRIM(Data!R18)","v":"1602"},{"$f":"TRIM(Data!S18)","v":"0"},{"$f":"TRIM(Data!T18)","v":"0"},null,null,null,{"$f":"TRIM(Data!U18)","v":"0"},null,{"$f":"TRIM(Data!V18)","v":"0"},{"$f":"TRIM(Data!W18)","v":"0"},{"$f":"TRIM(Data!X18)","v":"0"},{"$f":"TRIM(Data!Y18)","v":"0"},{"$f":"TRIM(Data!Z18)","v":"0"},{"$f":"TRIM(Data!AA18)","v":"0"},76,"1 Nov 2024 to 30 Nov 2024","HOSPITAL AUTHORITY","HA","HA","3098159131","AL1","3","Enterprise Application Integration (EAI)","Local System","6091","0","0","1717","4374","","0","0","0","0","1602","0.263010999835823","1602","0","0","1602","0","0","","4374","0.718108684945001","0","0","0","0","0","0","0","0"]
["1 Nov 2024 to 30 Nov 20242231879813CMPX","1 Nov 2024 to 30 Nov 2024","18 Chinese Medicine Clinic cum Traing and Research Centre (The Hong Kong Tuberculosis Association)","18CMCTRs(HKTBA)","NGO",2231879813,"CMPX",3,"Local System","EC Connect",75,0,0,0,75,null,0,0,0,0,0,0,0,0,0,0,0,0,null,75,1,0,0,0,0,0,0,0,0,"","","","1 Nov 2024 to 30 Nov 20243098159131ADR",{"$f":"Data!A19","v":"2024-11-01"},{"$f":"TRIM(Data!B19)","v":"HOSPITAL AUTHORITY"},null,{"$f":"TRIM(Data!C19)","v":"HA"},{"$f":"TRIM(Data!D19)","v":"3098159131"},{"$f":"TRIM(Data!E19)","v":"ADR"},{"$f":"TRIM(Data!F19)","v":"3"},{"$f":"TRIM(Data!G19)","v":"Enterprise Application Integration (EAI)"},{"$f":"TRIM(Data!H19)","v":"Local System"},{"$f":"TRIM(Data!I19)","v":"5116"},{"$f":"TRIM(Data!J19)","v":"0"},{"$f":"TRIM(Data!K19)","v":"0"},{"$f":"TRIM(Data!L19)","v":"320"},{"$f":"TRIM(Data!M19)","v":"4796"},null,null,null,{"$f":"TRIM(Data!N19)","v":"0"},{"$f":"TRIM(Data!O19)","v":"0"},{"$f":"TRIM(Data!P19)","v":"318"},null,{"$f":"TRIM(Data!Q19)","v":"318"},null,null,{"$f":"TRIM(Data!R19)","v":"318"},{"$f":"TRIM(Data!S19)","v":"0"},{"$f":"TRIM(Data!T19)","v":"0"},null,null,null,{"$f":"TRIM(Data!U19)","v":"0"},null,{"$f":"TRIM(Data!V19)","v":"0"},{"$f":"TRIM(Data!W19)","v":"0"},{"$f":"TRIM(Data!X19)","v":"0"},{"$f":"TRIM(Data!Y19)","v":"0"},{"$f":"TRIM(Data!Z19)","v":"0"},{"$f":"TRIM(Data!AA19)","v":"0"},75,"1 Nov 2024 to 30 Nov 2024","HOSPITAL AUTHORITY","HA","HA","3098159131","ADR","3","Enterprise Application Integration (EAI)","Local System","5116","0","0","320","4796","","0","0","0","0","318","0.062157935887412","318","0","0","318","0","0","","4796","0.937451133698202","0","0","0","0","0","0","0","0"]
["1 Nov 2024 to 30 Nov 20242231879813CMRXO","1 Nov 2024 to 30 Nov 2024","18 Chinese Medicine Clinic cum Traing and Research Centre (The Hong Kong Tuberculosis Association)","18CMCTRs(HKTBA)","NGO",2231879813,"CMRXO",3,"Local System","EC Connect",199,0,0,4,195,null,0,0,0,0,4,2.0100502512562814E-2,4,0,0,4,0,0,null,195,0.97989949748743721,0,0,0,0,0,0,0,0,"","","","1 Nov 2024 to 30 Nov 20242438744730ENCTR",{"$f":"Data!A20","v":"2024-11-01"},{"$f":"TRIM(Data!B20)","v":"DEPARTMENT OF HEALTH"},null,{"$f":"TRIM(Data!C20)","v":"DH"},{"$f":"TRIM(Data!D20)","v":"2438744730"},{"$f":"TRIM(Data!E20)","v":"ENCTR"},{"$f":"TRIM(Data!F20)","v":"3"},{"$f":"TRIM(Data!G20)","v":"CIMS2"},{"$f":"TRIM(Data!H20)","v":"Local System"},{"$f":"TRIM(Data!I20)","v":"528906"},{"$f":"TRIM(Data!J20)","v":"0"},{"$f":"TRIM(Data!K20)","v":"0"},{"$f":"TRIM(Data!L20)","v":"0"},{"$f":"TRIM(Data!M20)","v":"528906"},null,null,null,{"$f":"TRIM(Data!N20)","v":"0"},{"$f":"TRIM(Data!O20)","v":"0"},{"$f":"TRIM(Data!P20)","v":"0"},null,{"$f":"TRIM(Data!Q20)","v":"0"},null,null,{"$f":"TRIM(Data!R20)","v":"0"},{"$f":"TRIM(Data!S20)","v":"0"},{"$f":"TRIM(Data!T20)","v":"0"},null,null,null,{"$f":"TRIM(Data!U20)","v":"0"},null,{"$f":"TRIM(Data!V20)","v":"0"},{"$f":"TRIM(Data!W20)","v":"0"},{"$f":"TRIM(Data!X20)","v":"0"},{"$f":"TRIM(Data!Y20)","v":"0"},{"$f":"TRIM(Data!Z20)","v":"0"},{"$f":"TRIM(Data!AA20)","v":"0"},47,"1 Nov 2024 to 30 Nov 2024","DEPARTMENT OF HEALTH","DH","DH","2438744730","ENCTR","3","CIMS2","Local System","528906","0","0","0","528906","","0","0","0","0","0","0","0","0","0","0","0","0","","528906","1","0","0","0","0","0","0","0","0"]
["1 Nov 2024 to 30 Nov 20242231879813ENCTR","1 Nov 2024 to 30 Nov 2024","18 Chinese Medicine Clinic cum Traing and Research Centre (The Hong Kong Tuberculosis Association)","18CMCTRs(HKTBA)","NGO",2231879813,"ENCTR",3,"Local System","Local System",390,0,0,0,390,null,0,0,0,0,0,0,0,0,0,0,0,0,null,390,1,0,0,0,0,0,0,0,0,"","","","1 Nov 2024 to 30 Nov 20242438744730IMMU",{"$f":"Data!A21","v":"2024-11-01"},{"$f":"TRIM(Data!B21)","v":"DEPARTMENT OF HEALTH"},null,{"$f":"TRIM(Data!C21)","v":"DH"},{"$f":"TRIM(Data!D21)","v":"2438744730"},{"$f":"TRIM(Data!E21)","v":"IMMU"},{"$f":"TRIM(Data!F21)","v":"3"},{"$f":"TRIM(Data!G21)","v":"CIMS2"},{"$f":"TRIM(Data!H21)","v":"Local System"},{"$f":"TRIM(Data!I21)","v":"222694"},{"$f":"TRIM(Data!J21)","v":"0"},{"$f":"TRIM(Data!K21)","v":"0"},{"$f":"TRIM(Data!L21)","v":"29003"},{"$f":"TRIM(Data!M21)","v":"193691"},null,null,null,{"$f":"TRIM(Data!N21)","v":"0"},{"$f":"TRIM(Data!O21)","v":"0"},{"$f":"TRIM(Data!P21)","v":"29005"},null,{"$f":"TRIM(Data!Q21)","v":"29005"},null,null,{"$f":"TRIM(Data!R21)","v":"29005"},{"$f":"TRIM(Data!S21)","v":"0"},{"$f":"TRIM(Data!T21)","v":"0"},null,null,null,{"$f":"TRIM(Data!U21)","v":"0"},null,{"$f":"TRIM(Data!V21)","v":"0"},{"$f":"TRIM(Data!W21)","v":"0"},{"$f":"TRIM(Data!X21)","v":"0"},{"$f":"TRIM(Data!Y21)","v":"0"},{"$f":"TRIM(Data!Z21)","v":"0"},{"$f":"TRIM(Data!AA21)","v":"0"},48,"1 Nov 2024 to 30 Nov 2024","DEPARTMENT OF HEALTH","DH","DH","2438744730","IMMU","3","CIMS2","Local System","222694","0","0","29003","193691","","0","0","0","0","29005","0.130245987767969","29005","0","0","29005","0","0","","193691","0.86976299316551","0","0","0","0","0","0","0","0"]
["1 Nov 2024 to 30 Nov 20242295233392RAD","1 Nov 2024 to 30 Nov 2024","Hong Kong Breast Cancer Foundation Limited","HKBCF","NGO",2295233392,"RAD",3,"MTG_CMS_RIS","Local System",1119,0,0,0,1119,null,0,0,0,0,0,0,0,0,0,0,0,0,null,1119,1,0,0,0,0,0,0,0,0,"","","Y","1 Nov 2024 to 30 Nov 20242438744730RXO",{"$f":"Data!A22","v":"2024-11-01"},{"$f":"TRIM(Data!B22)","v":"DEPARTMENT OF HEALTH"},null,{"$f":"TRIM(Data!C22)","v":"DH"},{"$f":"TRIM(Data!D22)","v":"2438744730"},{"$f":"TRIM(Data!E22)","v":"RXO"},{"$f":"TRIM(Data!F22)","v":"3"},{"$f":"TRIM(Data!G22)","v":"CIMS2"},{"$f":"TRIM(Data!H22)","v":"Adaptation"},{"$f":"TRIM(Data!I22)","v":"154299"},{"$f":"TRIM(Data!J22)","v":"0"},{"$f":"TRIM(Data!K22)","v":"0"},{"$f":"TRIM(Data!L22)","v":"53632"},{"$f":"TRIM(Data!M22)","v":"100667"},null,null,null,{"$f":"TRIM(Data!N22)","v":"0"},{"$f":"TRIM(Data!O22)","v":"0"},{"$f":"TRIM(Data!P22)","v":"53860"},null,{"$f":"TRIM(Data!Q22)","v":"53860"},null,null,{"$f":"TRIM(Data!R22)","v":"53860"},{"$f":"TRIM(Data!S22)","v":"0"},{"$f":"TRIM(Data!T22)","v":"0"},null,null,null,{"$f":"TRIM(Data!U22)","v":"5"},null,{"$f":"TRIM(Data!V22)","v":"0"},{"$f":"TRIM(Data!W22)","v":"0"},{"$f":"TRIM(Data!X22)","v":"0"},{"$f":"TRIM(Data!Y22)","v":"5"},{"$f":"TRIM(Data!Z22)","v":"0"},{"$f":"TRIM(Data!AA22)","v":"0"},58,"1 Nov 2024 to 30 Nov 2024","DEPARTMENT OF HEALTH","DH","DH","2438744730","RXO","3","CIMS2","Local System","154299","0","0","53632","100667","","0","0","0","0","53860","0.349062534429906","53860","0","0","53860","0","0","","100667","0.652415116105743","5","3.24046170098316E-05","0","0","0","5","0","0"]
["1 Nov 2024 to 30 Nov 20242308765964ENCTR","1 Nov 2024 to 30 Nov 2024","DR SUM NAM CHU'S CLINIC","DR SUM NAM CHU'S CLINIC","SOLO",2308765964,"ENCTR",3,"Local System","Local System",70,0,0,0,70,null,0,0,0,0,0,0,0,0,0,0,0,0,null,70,1,0,0,0,0,0,0,0,0,"","","","1 Nov 2024 to 30 Nov 20242438744730PX",{"$f":"Data!A23","v":"2024-11-01"},{"$f":"TRIM(Data!B23)","v":"DEPARTMENT OF HEALTH"},null,{"$f":"TRIM(Data!C23)","v":"DH"},{"$f":"TRIM(Data!D23)","v":"2438744730"},{"$f":"TRIM(Data!E23)","v":"PX"},{"$f":"TRIM(Data!F23)","v":"3"},{"$f":"TRIM(Data!G23)","v":"CIMS2"},{"$f":"TRIM(Data!H23)","v":"Local System"},{"$f":"TRIM(Data!I23)","v":"118544"},{"$f":"TRIM(Data!J23)","v":"0"},{"$f":"TRIM(Data!K23)","v":"0"},{"$f":"TRIM(Data!L23)","v":"8922"},{"$f":"TRIM(Data!M23)","v":"109622"},null,null,null,{"$f":"TRIM(Data!N23)","v":"0"},{"$f":"TRIM(Data!O23)","v":"0"},{"$f":"TRIM(Data!P23)","v":"6037"},null,{"$f":"TRIM(Data!Q23)","v":"6037"},null,null,{"$f":"TRIM(Data!R23)","v":"6037"},{"$f":"TRIM(Data!S23)","v":"0"},{"$f":"TRIM(Data!T23)","v":"0"},null,null,null,{"$f":"TRIM(Data!U23)","v":"2907"},null,{"$f":"TRIM(Data!V23)","v":"0"},{"$f":"TRIM(Data!W23)","v":"2907"},{"$f":"TRIM(Data!X23)","v":"0"},{"$f":"TRIM(Data!Y23)","v":"0"},{"$f":"TRIM(Data!Z23)","v":"0"},{"$f":"TRIM(Data!AA23)","v":"0"},54,"1 Nov 2024 to 30 Nov 2024","DEPARTMENT OF HEALTH","DH","DH","2438744730","PX","3","CIMS2","Local System","118544","0","0","8922","109622","","0","0","0","0","6037","0.0509262383587529","6037","0","0","6037","0","0","","109622","0.924736806586584","2907","0.0245225401538669","0","2907","0","0","0","0"]
["1 Nov 2024 to 30 Nov 20242308765964IMMU","1 Nov 2024 to 30 Nov 2024","DR SUM NAM CHU'S CLINIC","DR SUM NAM CHU'S CLINIC","SOLO",2308765964,"IMMU",3,"Local System","Local System",19,0,0,2,17,null,0,0,0,0,0,0,0,0,0,0,0,0,null,17,0.89473684210526316,0,0,0,0,0,0,0,0,"","","","1 Nov 2024 to 30 Nov 20242438744730PROB",{"$f":"Data!A24","v":"2024-11-01"},{"$f":"TRIM(Data!B24)","v":"DEPARTMENT OF HEALTH"},null,{"$f":"TRIM(Data!C24)","v":"DH"},{"$f":"TRIM(Data!D24)","v":"2438744730"},{"$f":"TRIM(Data!E24)","v":"PROB"},{"$f":"TRIM(Data!F24)","v":"3"},{"$f":"TRIM(Data!G24)","v":"CIMS2"},{"$f":"TRIM(Data!H24)","v":"Local System"},{"$f":"TRIM(Data!I24)","v":"117906"},{"$f":"TRIM(Data!J24)","v":"2"},{"$f":"TRIM(Data!K24)","v":"0"},{"$f":"TRIM(Data!L24)","v":"15734"},{"$f":"TRIM(Data!M24)","v":"102170"},null,null,null,{"$f":"TRIM(Data!N24)","v":"2"},{"$f":"TRIM(Data!O24)","v":"0"},{"$f":"TRIM(Data!P24)","v":"15727"},null,{"$f":"TRIM(Data!Q24)","v":"15727"},null,null,{"$f":"TRIM(Data!R24)","v":"15727"},{"$f":"TRIM(Data!S24)","v":"0"},{"$f":"TRIM(Data!T24)","v":"0"},null,null,null,{"$f":"TRIM(Data!U24)","v":"26"},null,{"$f":"TRIM(Data!V24)","v":"0"},{"$f":"TRIM(Data!W24)","v":"26"},{"$f":"TRIM(Data!X24)","v":"0"},{"$f":"TRIM(Data!Y24)","v":"0"},{"$f":"TRIM(Data!Z24)","v":"0"},{"$f":"TRIM(Data!AA24)","v":"0"},53,"1 Nov 2024 to 30 Nov 2024","DEPARTMENT OF HEALTH","DH","DH","2438744730","PROB","3","CIMS2","Local System","117906","2","0","15734","102170","","2","1.69626651739521E-05","2","0","15727","0.133385917595373","15727","0","0","15727","0","0","","102170","0.866537750411345","26","0.000220514647261378","0","26","0","0","0","0"]
["1 Nov 2024 to 30 Nov 20242308765964PROB","1 Nov 2024 to 30 Nov 2024","DR SUM NAM CHU'S CLINIC","DR SUM NAM CHU'S CLINIC","SOLO",2308765964,"PROB",3,"Local System","Local System",88,0,0,2,86,null,0,0,0,0,0,0,0,0,0,0,0,0,null,86,0.97727272727272729,0,0,0,0,0,0,0,0,"","","","1 Nov 2024 to 30 Nov 20242438744730RXD",{"$f":"Data!A25","v":"2024-11-01"},{"$f":"TRIM(Data!B25)","v":"DEPARTMENT OF HEALTH"},null,{"$f":"TRIM(Data!C25)","v":"DH"},{"$f":"TRIM(Data!D25)","v":"2438744730"},{"$f":"TRIM(Data!E25)","v":"RXD"},{"$f":"TRIM(Data!F25)","v":"2"},{"$f":"TRIM(Data!G25)","v":"CIMS2"},{"$f":"TRIM(Data!H25)","v":"Local System"},{"$f":"TRIM(Data!I25)","v":"99696"},{"$f":"TRIM(Data!J25)","v":"0"},{"$f":"TRIM(Data!K25)","v":"0"},{"$f":"TRIM(Data!L25)","v":"99696"},{"$f":"TRIM(Data!M25)","v":"0"},null,null,null,{"$f":"TRIM(Data!N25)","v":"0"},{"$f":"TRIM(Data!O25)","v":"0"},{"$f":"TRIM(Data!P25)","v":"0"},null,{"$f":"TRIM(Data!Q25)","v":"0"},null,null,{"$f":"TRIM(Data!R25)","v":"0"},{"$f":"TRIM(Data!S25)","v":"0"},{"$f":"TRIM(Data!T25)","v":"0"},null,null,null,{"$f":"TRIM(Data!U25)","v":"0"},null,{"$f":"TRIM(Data!V25)","v":"0"},{"$f":"TRIM(Data!W25)","v":"0"},{"$f":"TRIM(Data!X25)","v":"0"},{"$f":"TRIM(Data!Y25)","v":"0"},{"$f":"TRIM(Data!Z25)","v":"0"},{"$f":"TRIM(Data!AA25)","v":"0"},57,"1 Nov 2024 to 30 Nov 2024","DEPARTMENT OF HEALTH","DH","DH","2438744730","RXD","2","CIMS2","Local System","99696","0","0","99696","0","","0","0","0","0","0","0","0","0","0","0","0","0","","0","0","0","0","0","0","0","0","0","0"]
["1 Nov 2024 to 30 Nov 20242308765964RXD","1 Nov 2024 to 30 Nov 2024","DR SUM NAM CHU'S CLINIC","DR SUM NAM CHU'S CLINIC","SOLO",2308765964,"RXD",3,"Local System","Local System",134,0,0,20,114,null,0,0,0,0,0,0,0,0,0,0,0,0,null,114,0.85074626865671643,0,0,0,0,0,0,0,0,"","","Y","1 Nov 2024 to 30 Nov 20242438744730LABGEN",{"$f":"Data!A26","v":"2024-11-01"},{"$f":"TRIM(Data!B26)","v":"DEPARTMENT OF HEALTH"},null,{"$f":"TRIM(Data!C26)","v":"DH"},{"$f":"TRIM(Data!D26)","v":"2438744730"},{"$f":"TRIM(Data!E26)","v":"LABGEN"},{"$f":"TRIM(Data!F26)","v":"3"},{"$f":"TRIM(Data!G26)","v":"CIMS2"},{"$f":"TRIM(Data!H26)","v":"Local System"},{"$f":"TRIM(Data!I26)","v":"17153"},{"$f":"TRIM(Data!J26)","v":"0"},{"$f":"TRIM(Data!K26)","v":"1326"},{"$f":"TRIM(Data!L26)","v":"652"},{"$f":"TRIM(Data!M26)","v":"15175"},null,null,null,{"$f":"TRIM(Data!N26)","v":"0"},{"$f":"TRIM(Data!O26)","v":"0"},{"$f":"TRIM(Data!P26)","v":"2019"},null,{"$f":"TRIM(Data!Q26)","v":"2019"},null,null,{"$f":"TRIM(Data!R26)","v":"652"},{"$f":"TRIM(Data!S26)","v":"1367"},{"$f":"TRIM(Data!T26)","v":"0"},null,null,null,{"$f":"TRIM(Data!U26)","v":"0"},null,{"$f":"TRIM(Data!V26)","v":"0"},{"$f":"TRIM(Data!W26)","v":"0"},{"$f":"TRIM(Data!X26)","v":"0"},{"$f":"TRIM(Data!Y26)","v":"0"},{"$f":"TRIM(Data!Z26)","v":"0"},{"$f":"TRIM(Data!AA26)","v":"0"},50,"1 Nov 2024 to 30 Nov 2024","DEPARTMENT OF HEALTH","DH","DH","2438744730","LABGEN","1","CIMS2","Local System","17153","0","1326","652","15175","","0","0","0","0","2019","0.117705357663382","2019","0","0","652","1367","0","","15175","0.884684894770594","0","0","0","0","0","0","0","0"]
["1 Nov 2024 to 30 Nov 20242308765964RXO","1 Nov 2024 to 30 Nov 2024","DR SUM NAM CHU'S CLINIC","DR SUM NAM CHU'S CLINIC","SOLO",2308765964,"RXO",3,"Local System","Local System",158,0,0,26,132,null,0,0,0,0,0,0,0,0,0,0,0,0,null,132,0.83544303797468356,0,0,0,0,0,0,0,0,"","","","1 Nov 2024 to 30 Nov 20242438744730LABMB",{"$f":"Data!A27","v":"2024-11-01"},{"$f":"TRIM(Data!B27)","v":"DEPARTMENT OF HEALTH"},null,{"$f":"TRIM(Data!C27)","v":"DH"},{"$f":"TRIM(Data!D27)","v":"2438744730"},{"$f":"TRIM(Data!E27)","v":"LABMB"},{"$f":"TRIM(Data!F27)","v":"1"},{"$f":"TRIM(Data!G27)","v":"CIMS2"},{"$f":"TRIM(Data!H27)","v":"Local System"},{"$f":"TRIM(Data!I27)","v":"16594"},{"$f":"TRIM(Data!J27)","v":"0"},{"$f":"TRIM(Data!K27)","v":"16594"},{"$f":"TRIM(Data!L27)","v":"0"},{"$f":"TRIM(Data!M27)","v":"0"},null,null,null,{"$f":"TRIM(Data!N27)","v":"0"},{"$f":"TRIM(Data!O27)","v":"0"},{"$f":"TRIM(Data!P27)","v":"0"},null,{"$f":"TRIM(Data!Q27)","v":"0"},null,null,{"$f":"TRIM(Data!R27)","v":"0"},{"$f":"TRIM(Data!S27)","v":"0"},{"$f":"TRIM(Data!T27)","v":"0"},null,null,null,{"$f":"TRIM(Data!U27)","v":"0"},null,{"$f":"TRIM(Data!V27)","v":"0"},{"$f":"TRIM(Data!W27)","v":"0"},{"$f":"TRIM(Data!X27)","v":"0"},{"$f":"TRIM(Data!Y27)","v":"0"},{"$f":"TRIM(Data!Z27)","v":"0"},{"$f":"TRIM(Data!AA27)","v":"0"},51,"1 Nov 2024 to 30 Nov 2024","DEPARTMENT OF HEALTH","DH","DH","2438744730","LABMB","1","CIMS2","Local System","16594","0","16594","0","0","","0","0","0","0","0","0","0","0","0","0","0","0","","0","0","0","0","0","0","0","0","0","0"]
["1 Nov 2024 to 30 Nov 20242310917092AL1","1 Nov 2024 to 30 Nov 2024","DR. YEE YUK KEI","DR. YK YEE","SOLO",2310917092,"AL1",3,"Local System","Local System",4,0,0,0,4,null,0,0,0,0,0,0,0,0,0,0,0,0,null,4,1,0,0,0,0,0,0,0,0,"","","","1 Nov 2024 to 30 Nov 20242438744730RAD",{"$f":"Data!A28","v":"2024-11-01"},{"$f":"TRIM(Data!B28)","v":"DEPARTMENT OF HEALTH"},null,{"$f":"TRIM(Data!C28)","v":"DH"},{"$f":"TRIM(Data!D28)","v":"2438744730"},{"$f":"TRIM(Data!E28)","v":"RAD"},{"$f":"TRIM(Data!F28)","v":"3"},{"$f":"TRIM(Data!G28)","v":"CIMS2"},{"$f":"TRIM(Data!H28)","v":"Local System"},{"$f":"TRIM(Data!I28)","v":"16220"},{"$f":"TRIM(Data!J28)","v":"0"},{"$f":"TRIM(Data!K28)","v":"0"},{"$f":"TRIM(Data!L28)","v":"0"},{"$f":"TRIM(Data!M28)","v":"16220"},null,null,null,{"$f":"TRIM(Data!N28)","v":"0"},{"$f":"TRIM(Data!O28)","v":"0"},{"$f":"TRIM(Data!P28)","v":"0"},null,{"$f":"TRIM(Data!Q28)","v":"0"},null,null,{"$f":"TRIM(Data!R28)","v":"0"},{"$f":"TRIM(Data!S28)","v":"0"},{"$f":"TRIM(Data!T28)","v":"0"},null,null,null,{"$f":"TRIM(Data!U28)","v":"0"},null,{"$f":"TRIM(Data!V28)","v":"0"},{"$f":"TRIM(Data!W28)","v":"0"},{"$f":"TRIM(Data!X28)","v":"0"},{"$f":"TRIM(Data!Y28)","v":"0"},{"$f":"TRIM(Data!Z28)","v":"0"},{"$f":"TRIM(Data!AA28)","v":"0"},55,"1 Nov 2024 to 30 Nov 2024","DEPARTMENT OF HEALTH","DH","DH","2438744730","RAD","3","CIMS2","Local System","16220","0","0","0","16220","","0","0","0","0","0","0","0","0","0","0","0","0","","16220","1","0","0","0","0","0","0","0","0"]
["1 Nov 2024 to 30 Nov 20242310917092ENCTR","1 Nov 2024 to 30 Nov 2024","DR. YEE YUK KEI","DR. YK YEE","SOLO",2310917092,"ENCTR",3,"Local System","Local System",350,0,0,0,350,null,0,0,0,0,0,0,0,0,0,0,0,0,null,350,1,0,0,0,0,0,0,0,0,"","","","1 Nov 2024 to 30 Nov 20242438744730OBS",{"$f":"Data!A29","v":"2024-11-01"},{"$f":"TRIM(Data!B29)","v":"DEPARTMENT OF HEALTH"},null,{"$f":"TRIM(Data!C29)","v":"DH"},{"$f":"TRIM(Data!D29)","v":"2438744730"},{"$f":"TRIM(Data!E29)","v":"OBS"},{"$f":"TRIM(Data!F29)","v":"3"},{"$f":"TRIM(Data!G29)","v":"CIMS2"},{"$f":"TRIM(Data!H29)","v":"Local System"},{"$f":"TRIM(Data!I29)","v":"7249"},{"$f":"TRIM(Data!J29)","v":"0"},{"$f":"TRIM(Data!K29)","v":"0"},{"$f":"TRIM(Data!L29)","v":"0"},{"$f":"TRIM(Data!M29)","v":"7249"},null,null,null,{"$f":"TRIM(Data!N29)","v":"0"},{"$f":"TRIM(Data!O29)","v":"0"},{"$f":"TRIM(Data!P29)","v":"0"},null,{"$f":"TRIM(Data!Q29)","v":"0"},null,null,{"$f":"TRIM(Data!R29)","v":"0"},{"$f":"TRIM(Data!S29)","v":"0"},{"$f":"TRIM(Data!T29)","v":"0"},null,null,null,{"$f":"TRIM(Data!U29)","v":"0"},null,{"$f":"TRIM(Data!V29)","v":"0"},{"$f":"TRIM(Data!W29)","v":"0"},{"$f":"TRIM(Data!X29)","v":"0"},{"$f":"TRIM(Data!Y29)","v":"0"},{"$f":"TRIM(Data!Z29)","v":"0"},{"$f":"TRIM(Data!AA29)","v":"0"},52,"1 Nov 2024 to 30 Nov 2024","DEPARTMENT OF HEALTH","DH","DH","2438744730","OBS","3","CIMS2","Local System","7249","0","0","0","7249","","0","0","0","0","0","0","0","0","0","0","0","0","","7249","1","0","0","0","0","0","0","0","0"]
["1 Nov 2024 to 30 Nov 20242310917092EPIS","1 Nov 2024 to 30 Nov 2024","DR. YEE YUK KEI","DR. YK YEE","SOLO",2310917092,"EPIS",1,"Local System","Local System",332,0,332,0,0,null,0,0,0,0,0,0,0,0,0,0,0,0,null,0,0,0,0,0,0,0,0,0,0,"","","","1 Nov 2024 to 30 Nov 20242438744730LABAP",{"$f":"Data!A30","v":"2024-11-01"},{"$f":"TRIM(Data!B30)","v":"DEPARTMENT OF HEALTH"},null,{"$f":"TRIM(Data!C30)","v":"DH"},{"$f":"TRIM(Data!D30)","v":"2438744730"},{"$f":"TRIM(Data!E30)","v":"LABAP"},{"$f":"TRIM(Data!F30)","v":"1"},{"$f":"TRIM(Data!G30)","v":"CIMS2"},{"$f":"TRIM(Data!H30)","v":"Local System"},{"$f":"TRIM(Data!I30)","v":"6695"},{"$f":"TRIM(Data!J30)","v":"0"},{"$f":"TRIM(Data!K30)","v":"6695"},{"$f":"TRIM(Data!L30)","v":"0"},{"$f":"TRIM(Data!M30)","v":"0"},null,null,null,{"$f":"TRIM(Data!N30)","v":"0"},{"$f":"TRIM(Data!O30)","v":"0"},{"$f":"TRIM(Data!P30)","v":"0"},null,{"$f":"TRIM(Data!Q30)","v":"0"},null,null,{"$f":"TRIM(Data!R30)","v":"0"},{"$f":"TRIM(Data!S30)","v":"0"},{"$f":"TRIM(Data!T30)","v":"0"},null,null,null,{"$f":"TRIM(Data!U30)","v":"0"},null,{"$f":"TRIM(Data!V30)","v":"0"},{"$f":"TRIM(Data!W30)","v":"0"},{"$f":"TRIM(Data!X30)","v":"0"},{"$f":"TRIM(Data!Y30)","v":"0"},{"$f":"TRIM(Data!Z30)","v":"0"},{"$f":"TRIM(Data!AA30)","v":"0"},49,"1 Nov 2024 to 30 Nov 2024","DEPARTMENT OF HEALTH","DH","DH","2438744730","LABAP","1","CIMS2","Local System","6695","0","6695","0","0","","0","0","0","0","0","0","0","0","0","0","0","0","","0","0","0","0","0","0","0","0","0","0"]
["1 Nov 2024 to 30 Nov 20242310917092IMMU","1 Nov 2024 to 30 Nov 2024","DR. YEE YUK KEI","DR. YK YEE","SOLO",2310917092,"IMMU",3,"Local System","Local System",10,0,0,10,0,null,0,0,0,0,0,0,0,0,0,0,0,0,null,0,0,0,0,0,0,0,0,0,0,"","","","1 Nov 2024 to 30 Nov 20242438744730REF",{"$f":"Data!A31","v":"2024-11-01"},{"$f":"TRIM(Data!B31)","v":"DEPARTMENT OF HEALTH"},null,{"$f":"TRIM(Data!C31)","v":"DH"},{"$f":"TRIM(Data!D31)","v":"2438744730"},{"$f":"TRIM(Data!E31)","v":"REF"},{"$f":"TRIM(Data!F31)","v":"1"},{"$f":"TRIM(Data!G31)","v":"CIMS2"},{"$f":"TRIM(Data!H31)","v":"Local System"},{"$f":"TRIM(Data!I31)","v":"4620"},{"$f":"TRIM(Data!J31)","v":"0"},{"$f":"TRIM(Data!K31)","v":"4620"},{"$f":"TRIM(Data!L31)","v":"0"},{"$f":"TRIM(Data!M31)","v":"0"},null,null,null,{"$f":"TRIM(Data!N31)","v":"0"},{"$f":"TRIM(Data!O31)","v":"0"},{"$f":"TRIM(Data!P31)","v":"0"},null,{"$f":"TRIM(Data!Q31)","v":"0"},null,null,{"$f":"TRIM(Data!R31)","v":"0"},{"$f":"TRIM(Data!S31)","v":"0"},{"$f":"TRIM(Data!T31)","v":"0"},null,null,null,{"$f":"TRIM(Data!U31)","v":"0"},null,{"$f":"TRIM(Data!V31)","v":"0"},{"$f":"TRIM(Data!W31)","v":"0"},{"$f":"TRIM(Data!X31)","v":"0"},{"$f":"TRIM(Data!Y31)","v":"0"},{"$f":"TRIM(Data!Z31)","v":"0"},{"$f":"TRIM(Data!AA31)","v":"0"},56,"1 Nov 2024 to 30 Nov 2024","DEPARTMENT OF HEALTH","DH","DH","2438744730","REF","1","CIMS2","Local System","4620","0","4620","0","0","","0","0","0","0","0","0","0","0","0","0","0","0","","0","0","0","0","0","0","0","0","0","0"]
["1 Nov 2024 to 30 Nov 20242310917092PROB","1 Nov 2024 to 30 Nov 2024","DR. YEE YUK KEI","DR. YK YEE","SOLO",2310917092,"PROB",3,"Local System","Local System",559,0,0,19,540,null,0,0,0,0,0,0,0,0,0,0,0,0,null,540,0.96601073345259392,0,0,0,0,0,0,0,0,"","","Y","1 Nov 2024 to 30 Nov 20242438744730AL1",{"$f":"Data!A32","v":"2024-11-01"},{"$f":"TRIM(Data!B32)","v":"DEPARTMENT OF HEALTH"},null,{"$f":"TRIM(Data!C32)","v":"DH"},{"$f":"TRIM(Data!D32)","v":"2438744730"},{"$f":"TRIM(Data!E32)","v":"AL1"},{"$f":"TRIM(Data!F32)","v":"3"},{"$f":"TRIM(Data!G32)","v":"CIMS2"},{"$f":"TRIM(Data!H32)","v":"Adaptation"},{"$f":"TRIM(Data!I32)","v":"1435"},{"$f":"TRIM(Data!J32)","v":"0"},{"$f":"TRIM(Data!K32)","v":"0"},{"$f":"TRIM(Data!L32)","v":"337"},{"$f":"TRIM(Data!M32)","v":"1098"},null,null,null,{"$f":"TRIM(Data!N32)","v":"0"},{"$f":"TRIM(Data!O32)","v":"0"},{"$f":"TRIM(Data!P32)","v":"310"},null,{"$f":"TRIM(Data!Q32)","v":"310"},null,null,{"$f":"TRIM(Data!R32)","v":"310"},{"$f":"TRIM(Data!S32)","v":"0"},{"$f":"TRIM(Data!T32)","v":"0"},null,null,null,{"$f":"TRIM(Data!U32)","v":"0"},null,{"$f":"TRIM(Data!V32)","v":"0"},{"$f":"TRIM(Data!W32)","v":"0"},{"$f":"TRIM(Data!X32)","v":"0"},{"$f":"TRIM(Data!Y32)","v":"0"},{"$f":"TRIM(Data!Z32)","v":"0"},{"$f":"TRIM(Data!AA32)","v":"0"},46,"1 Nov 2024 to 30 Nov 2024","DEPARTMENT OF HEALTH","DH","DH","2438744730","AL1","3","CIMS2","Local System","1435","0","0","337","1098","","0","0","0","0","310","0.21602787456446","310","0","0","310","0","0","","1098","0.765156794425087","0","0","0","0","0","0","0","0"]
["1 Nov 2024 to 30 Nov 20242310917092PX","1 Nov 2024 to 30 Nov 2024","DR. YEE YUK KEI","DR. YK YEE","SOLO",2310917092,"PX",3,"Local System","Local System",57,0,0,0,57,null,0,0,0,0,0,0,0,0,0,0,0,0,null,57,1,0,0,0,0,0,0,0,0,"","","Y","1 Nov 2024 to 30 Nov 20242438744730ADR",{"$f":"Data!A33","v":"2024-11-01"},{"$f":"TRIM(Data!B33)","v":"DEPARTMENT OF HEALTH"},null,{"$f":"TRIM(Data!C33)","v":"DH"},{"$f":"TRIM(Data!D33)","v":"2438744730"},{"$f":"TRIM(Data!E33)","v":"ADR"},{"$f":"TRIM(Data!F33)","v":"3"},{"$f":"TRIM(Data!G33)","v":"CIMS2"},{"$f":"TRIM(Data!H33)","v":"Adaptation"},{"$f":"TRIM(Data!I33)","v":"356"},{"$f":"TRIM(Data!J33)","v":"0"},{"$f":"TRIM(Data!K33)","v":"0"},{"$f":"TRIM(Data!L33)","v":"57"},{"$f":"TRIM(Data!M33)","v":"299"},null,null,null,{"$f":"TRIM(Data!N33)","v":"0"},{"$f":"TRIM(Data!O33)","v":"0"},{"$f":"TRIM(Data!P33)","v":"57"},null,{"$f":"TRIM(Data!Q33)","v":"57"},null,null,{"$f":"TRIM(Data!R33)","v":"57"},{"$f":"TRIM(Data!S33)","v":"0"},{"$f":"TRIM(Data!T33)","v":"0"},null,null,null,{"$f":"TRIM(Data!U33)","v":"0"},null,{"$f":"TRIM(Data!V33)","v":"0"},{"$f":"TRIM(Data!W33)","v":"0"},{"$f":"TRIM(Data!X33)","v":"0"},{"$f":"TRIM(Data!Y33)","v":"0"},{"$f":"TRIM(Data!Z33)","v":"0"},{"$f":"TRIM(Data!AA33)","v":"0"},45,"1 Nov 2024 to 30 Nov 2024","DEPARTMENT OF HEALTH","DH","DH","2438744730","ADR","3","CIMS2","Local System","356","0","0","57","299","","0","0","0","0","57","0.160112359550562","57","0","0","57","0","0","","299","0.839887640449438","0","0","0","0","0","0","0","0"]
["1 Nov 2024 to 30 Nov 20242310917092RXD","1 Nov 2024 to 30 Nov 2024","DR. YEE YUK KEI","DR. YK YEE","SOLO",2310917092,"RXD",3,"Local System","Local System",532,0,0,382,150,null,0,0,0,0,0,0,0,0,0,0,0,0,null,150,0.28195488721804512,0,0,0,0,0,0,0,0,"","","Y","1 Nov 2024 to 30 Nov 20249265486345RXD",{"$f":"Data!A34","v":"2024-11-01"},{"$f":"TRIM(Data!B34)","v":"QUALITY HEALTHCARE MEDICAL CENTRE LIMITED"},null,{"$f":"TRIM(Data!C34)","v":"GRP"},{"$f":"TRIM(Data!D34)","v":"9265486345"},{"$f":"TRIM(Data!E34)","v":"RXD"},{"$f":"TRIM(Data!F34)","v":"2"},{"$f":"TRIM(Data!G34)","v":"QHMS EMR"},{"$f":"TRIM(Data!H34)","v":"Local System"},{"$f":"TRIM(Data!I34)","v":"37824"},{"$f":"TRIM(Data!J34)","v":"0"},{"$f":"TRIM(Data!K34)","v":"0"},{"$f":"TRIM(Data!L34)","v":"37824"},{"$f":"TRIM(Data!M34)","v":"0"},null,null,null,{"$f":"TRIM(Data!N34)","v":"0"},{"$f":"TRIM(Data!O34)","v":"0"},{"$f":"TRIM(Data!P34)","v":"0"},null,{"$f":"TRIM(Data!Q34)","v":"0"},null,null,{"$f":"TRIM(Data!R34)","v":"0"},{"$f":"TRIM(Data!S34)","v":"0"},{"$f":"TRIM(Data!T34)","v":"0"},null,null,null,{"$f":"TRIM(Data!U34)","v":"0"},null,{"$f":"TRIM(Data!V34)","v":"0"},{"$f":"TRIM(Data!W34)","v":"0"},{"$f":"TRIM(Data!X34)","v":"0"},{"$f":"TRIM(Data!Y34)","v":"0"},{"$f":"TRIM(Data!Z34)","v":"0"},{"$f":"TRIM(Data!AA34)","v":"0"},420,"1 Nov 2024 to 30 Nov 2024","QUALITY HEALTHCARE MEDICAL CENTRE LIMITED","QHMS","GROUP","9265486345","RXD","2","QHMS EMR","Local System","37824","0","0","37824","0","","0","0","0","0","0","0","0","0","0","0","0","0","","0","0","0","0","0","0","0","0","0","0"]
["1 Nov 2024 to 30 Nov 20242310917092RXO","1 Nov 2024 to 30 Nov 2024","DR. YEE YUK KEI","DR. YK YEE","SOLO",2310917092,"RXO",3,"Local System","Local System",532,0,0,382,150,null,0,0,0,0,0,0,0,0,0,0,0,0,null,150,0.28195488721804512,0,0,0,0,0,0,0,0,"","","Y","1 Nov 2024 to 30 Nov 20249265486345ENCTR",{"$f":"Data!A35","v":"2024-11-01"},{"$f":"TRIM(Data!B35)","v":"QUALITY HEALTHCARE MEDICAL CENTRE LIMITED"},null,{"$f":"TRIM(Data!C35)","v":"GRP"},{"$f":"TRIM(Data!D35)","v":"9265486345"},{"$f":"TRIM(Data!E35)","v":"ENCTR"},{"$f":"TRIM(Data!F35)","v":"3"},{"$f":"TRIM(Data!G35)","v":"QHMS EMR"},{"$f":"TRIM(Data!H35)","v":"Local System"},{"$f":"TRIM(Data!I35)","v":"25897"},{"$f":"TRIM(Data!J35)","v":"0"},{"$f":"TRIM(Data!K35)","v":"0"},{"$f":"TRIM(Data!L35)","v":"0"},{"$f":"TRIM(Data!M35)","v":"25897"},null,null,null,{"$f":"TRIM(Data!N35)","v":"0"},{"$f":"TRIM(Data!O35)","v":"0"},{"$f":"TRIM(Data!P35)","v":"0"},null,{"$f":"TRIM(Data!Q35)","v":"0"},null,null,{"$f":"TRIM(Data!R35)","v":"0"},{"$f":"TRIM(Data!S35)","v":"0"},{"$f":"TRIM(Data!T35)","v":"0"},null,null,null,{"$f":"TRIM(Data!U35)","v":"0"},null,{"$f":"TRIM(Data!V35)","v":"0"},{"$f":"TRIM(Data!W35)","v":"0"},{"$f":"TRIM(Data!X35)","v":"0"},{"$f":"TRIM(Data!Y35)","v":"0"},{"$f":"TRIM(Data!Z35)","v":"0"},{"$f":"TRIM(Data!AA35)","v":"0"},418,"1 Nov 2024 to 30 Nov 2024","QUALITY HEALTHCARE MEDICAL CENTRE LIMITED","QHMS","GROUP","9265486345","ENCTR","3","QHMS EMR","Local System","25897","0","0","0","25897","","0","0","0","0","0","0","0","0","0","0","0","0","","25897","1","0","0","0","0","0","0","0","0"]
["1 Nov 2024 to 30 Nov 20242342444283RAD","1 Nov 2024 to 30 Nov 2024","MORDERN ASCENT LIMITED","MORDERN ASCENT LIMITED","SOLO",2342444283,"RAD",3,"RHI2","Local System",766,0,0,75,691,null,0,0,0,0,0,0,0,0,0,0,0,0,null,691,0.90208877284595301,75,9.7911227154047001E-2,0,0,0,0,75,0,"","","Y","1 Nov 2024 to 30 Nov 20249265486345IMMU",{"$f":"Data!A36","v":"2024-11-01"},{"$f":"TRIM(Data!B36)","v":"QUALITY HEALTHCARE MEDICAL CENTRE LIMITED"},null,{"$f":"TRIM(Data!C36)","v":"GRP"},{"$f":"TRIM(Data!D36)","v":"9265486345"},{"$f":"TRIM(Data!E36)","v":"IMMU"},{"$f":"TRIM(Data!F36)","v":"2"},{"$f":"TRIM(Data!G36)","v":"QHMS EMR"},{"$f":"TRIM(Data!H36)","v":"Local System"},{"$f":"TRIM(Data!I36)","v":"3325"},{"$f":"TRIM(Data!J36)","v":"0"},{"$f":"TRIM(Data!K36)","v":"0"},{"$f":"TRIM(Data!L36)","v":"3325"},{"$f":"TRIM(Data!M36)","v":"0"},null,null,null,{"$f":"TRIM(Data!N36)","v":"0"},{"$f":"TRIM(Data!O36)","v":"0"},{"$f":"TRIM(Data!P36)","v":"0"},null,{"$f":"TRIM(Data!Q36)","v":"0"},null,null,{"$f":"TRIM(Data!R36)","v":"0"},{"$f":"TRIM(Data!S36)","v":"0"},{"$f":"TRIM(Data!T36)","v":"0"},null,null,null,{"$f":"TRIM(Data!U36)","v":"0"},null,{"$f":"TRIM(Data!V36)","v":"0"},{"$f":"TRIM(Data!W36)","v":"0"},{"$f":"TRIM(Data!X36)","v":"0"},{"$f":"TRIM(Data!Y36)","v":"0"},{"$f":"TRIM(Data!Z36)","v":"0"},{"$f":"TRIM(Data!AA36)","v":"0"},419,"1 Nov 2024 to 30 Nov 2024","QUALITY HEALTHCARE MEDICAL CENTRE LIMITED","QHMS","GROUP","9265486345","IMMU","2","QHMS EMR","Local System","3325","0","0","3325","0","","0","0","0","0","0","0","0","0","0","0","0","0","","0","0","0","0","0","0","0","0","0","0"]
["1 Nov 2024 to 30 Nov 20242381250555LABGEN","1 Nov 2024 to 30 Nov 2024","Pathlab Medical Laboratories Limited","PATHLAB MED LAB LTD","GROUP",2381250555,"LABGEN",1,"Local System","Local System",708,0,708,0,0,null,0,0,0,0,0,0,0,0,0,0,0,0,null,0,0,0,0,0,0,0,0,0,0,"","","Y","1 Nov 2024 to 30 Nov 20249265486345AL1",{"$f":"Data!A37","v":"2024-11-01"},{"$f":"TRIM(Data!B37)","v":"QUALITY HEALTHCARE MEDICAL CENTRE LIMITED"},null,{"$f":"TRIM(Data!C37)","v":"GRP"},{"$f":"TRIM(Data!D37)","v":"9265486345"},{"$f":"TRIM(Data!E37)","v":"AL1"},{"$f":"TRIM(Data!F37)","v":"3,2"},{"$f":"TRIM(Data!G37)","v":"QHMS EMR"},{"$f":"TRIM(Data!H37)","v":"Local System"},{"$f":"TRIM(Data!I37)","v":"519"},{"$f":"TRIM(Data!J37)","v":"0"},{"$f":"TRIM(Data!K37)","v":"0"},{"$f":"TRIM(Data!L37)","v":"519"},{"$f":"TRIM(Data!M37)","v":"0"},null,null,null,{"$f":"TRIM(Data!N37)","v":"0"},{"$f":"TRIM(Data!O37)","v":"0"},{"$f":"TRIM(Data!P37)","v":"494"},null,{"$f":"TRIM(Data!Q37)","v":"494"},null,null,{"$f":"TRIM(Data!R37)","v":"494"},{"$f":"TRIM(Data!S37)","v":"0"},{"$f":"TRIM(Data!T37)","v":"0"},null,null,null,{"$f":"TRIM(Data!U37)","v":"0"},null,{"$f":"TRIM(Data!V37)","v":"0"},{"$f":"TRIM(Data!W37)","v":"0"},{"$f":"TRIM(Data!X37)","v":"0"},{"$f":"TRIM(Data!Y37)","v":"0"},{"$f":"TRIM(Data!Z37)","v":"0"},{"$f":"TRIM(Data!AA37)","v":"0"},417,"1 Nov 2024 to 30 Nov 2024","QUALITY HEALTHCARE MEDICAL CENTRE LIMITED","QHMS","GROUP","9265486345","AL1","3","QHMS EMR","Local System","519","0","0","519","0","","0","0","0","0","494","0.951830443159923","494","0","0","494","0","0","","0","0","0","0","0","0","0","0","0","0"]
["1 Nov 2024 to 30 Nov 20242438744730ADR","1 Nov 2024 to 30 Nov 2024","DEPARTMENT OF HEALTH","DH","DH",2438744730,"ADR",3,"CIMS2","Local System",356,0,0,57,299,null,0,0,0,0,57,0.1601123595505618,57,0,0,57,0,0,null,299,0.8398876404494382,0,0,0,0,0,0,0,0,"","","Y","1 Nov 2024 to 30 Nov 20249761710951RAD",{"$f":"Data!A38","v":"2024-11-01"},{"$f":"TRIM(Data!B38)","v":"QUALITY HEALTHCARE MEDICAL CENTRE LIMITED"},null,{"$f":"TRIM(Data!C38)","v":"GRP"},{"$f":"TRIM(Data!D38)","v":"9761710951"},{"$f":"TRIM(Data!E38)","v":"RAD"},{"$f":"TRIM(Data!F38)","v":"3"},{"$f":"TRIM(Data!G38)","v":"RHI2_QHMS"},{"$f":"TRIM(Data!H38)","v":"Local System"},{"$f":"TRIM(Data!I38)","v":"879"},{"$f":"TRIM(Data!J38)","v":"0"},{"$f":"TRIM(Data!K38)","v":"0"},{"$f":"TRIM(Data!L38)","v":"0"},{"$f":"TRIM(Data!M38)","v":"879"},null,null,null,{"$f":"TRIM(Data!N38)","v":"0"},{"$f":"TRIM(Data!O38)","v":"0"},{"$f":"TRIM(Data!P38)","v":"0"},null,{"$f":"TRIM(Data!Q38)","v":"0"},null,null,{"$f":"TRIM(Data!R38)","v":"0"},{"$f":"TRIM(Data!S38)","v":"0"},{"$f":"TRIM(Data!T38)","v":"0"},null,null,null,{"$f":"TRIM(Data!U38)","v":"0"},null,{"$f":"TRIM(Data!V38)","v":"0"},{"$f":"TRIM(Data!W38)","v":"0"},{"$f":"TRIM(Data!X38)","v":"0"},{"$f":"TRIM(Data!Y38)","v":"0"},{"$f":"TRIM(Data!Z38)","v":"0"},{"$f":"TRIM(Data!AA38)","v":"0"},443,"1 Nov 2024 to 30 Nov 2024","QUALITY HEALTHCARE MEDICAL CENTRE LIMITED","QHMS","GROUP","9761710951","RAD","3","RHI2_QHMS","Local System","879","0","0","0","879","","0","0","0","0","0","0","0","0","0","0","0","0","","879","1","0","0","0","0","0","0","0","0"]
["1 Nov 2024 to 30 Nov 20242438744730AL1","1 Nov 2024 to 30 Nov 2024","DEPARTMENT OF HEALTH","DH","DH",2438744730,"AL1",3,"CIMS2","Local System",1435,0,0,337,1098,null,0,0,0,0,310,0.21602787456445993,310,0,0,310,0,0,null,1098,0.76515679442508711,0,0,0,0,0,0,0,0,"","","Y","1 Nov 2024 to 30 Nov 20243681219587IMMU",{"$f":"Data!A39","v":"2024-11-01"},{"$f":"TRIM(Data!B39)","v":"DEPARTMENT OF HEALTH COVID-19 VACCINATION PROGRAMME"},null,{"$f":"TRIM(Data!C39)","v":"DH"},{"$f":"TRIM(Data!D39)","v":"3681219587"},{"$f":"TRIM(Data!E39)","v":"IMMU"},{"$f":"TRIM(Data!F39)","v":"3"},{"$f":"TRIM(Data!G39)","v":"CIMS1"},{"$f":"TRIM(Data!H39)","v":"Local System"},{"$f":"TRIM(Data!I39)","v":"54553"},{"$f":"TRIM(Data!J39)","v":"0"},{"$f":"TRIM(Data!K39)","v":"0"},{"$f":"TRIM(Data!L39)","v":"0"},{"$f":"TRIM(Data!M39)","v":"54553"},null,null,null,{"$f":"TRIM(Data!N39)","v":"0"},{"$f":"TRIM(Data!O39)","v":"0"},{"$f":"TRIM(Data!P39)","v":"0"},null,{"$f":"TRIM(Data!Q39)","v":"0"},null,null,{"$f":"TRIM(Data!R39)","v":"0"},{"$f":"TRIM(Data!S39)","v":"0"},{"$f":"TRIM(Data!T39)","v":"0"},null,null,null,{"$f":"TRIM(Data!U39)","v":"0"},null,{"$f":"TRIM(Data!V39)","v":"0"},{"$f":"TRIM(Data!W39)","v":"0"},{"$f":"TRIM(Data!X39)","v":"0"},{"$f":"TRIM(Data!Y39)","v":"0"},{"$f":"TRIM(Data!Z39)","v":"0"},{"$f":"TRIM(Data!AA39)","v":"0"},130,"1 Nov 2024 to 30 Nov 2024","Department of Health COVID-19 Vaccination Programme","DH COVID-19 VACCINE PROG.","DH","3681219587","IMMU","3","Local System","Local System","54553","0","0","0","54553","","0","0","0","0","0","0","0","0","0","0","0","0","","54553","1","0","0","0","0","0","0","0","0"]
["1 Nov 2024 to 30 Nov 20242438744730ENCTR","1 Nov 2024 to 30 Nov 2024","DEPARTMENT OF HEALTH","DH","DH",2438744730,"ENCTR",3,"CIMS2","Local System",528906,0,0,0,528906,null,0,0,0,0,0,0,0,0,0,0,0,0,null,528906,1,0,0,0,0,0,0,0,0,"","","","1 Nov 2024 to 30 Nov 20248909436562LABGEN",{"$f":"Data!A40","v":"2024-11-01"},{"$f":"TRIM(Data!B40)","v":"HONG KONG ADVENTIST HOSPITAL - TSUEN WAN"},null,{"$f":"TRIM(Data!C40)","v":"PH"},{"$f":"TRIM(Data!D40)","v":"8909436562"},{"$f":"TRIM(Data!E40)","v":"LABGEN"},{"$f":"TRIM(Data!F40)","v":"3"},{"$f":"TRIM(Data!G40)","v":"TWAHLAAM"},{"$f":"TRIM(Data!H40)","v":"Local System"},{"$f":"TRIM(Data!I40)","v":"29522"},{"$f":"TRIM(Data!J40)","v":"0"},{"$f":"TRIM(Data!K40)","v":"0"},{"$f":"TRIM(Data!L40)","v":"1766"},{"$f":"TRIM(Data!M40)","v":"27756"},null,null,null,{"$f":"TRIM(Data!N40)","v":"0"},{"$f":"TRIM(Data!O40)","v":"0"},{"$f":"TRIM(Data!P40)","v":"1767"},null,{"$f":"TRIM(Data!Q40)","v":"1767"},null,null,{"$f":"TRIM(Data!R40)","v":"1767"},{"$f":"TRIM(Data!S40)","v":"0"},{"$f":"TRIM(Data!T40)","v":"0"},null,null,null,{"$f":"TRIM(Data!U40)","v":"0"},null,{"$f":"TRIM(Data!V40)","v":"0"},{"$f":"TRIM(Data!W40)","v":"0"},{"$f":"TRIM(Data!X40)","v":"0"},{"$f":"TRIM(Data!Y40)","v":"0"},{"$f":"TRIM(Data!Z40)","v":"0"},{"$f":"TRIM(Data!AA40)","v":"0"},388,"1 Nov 2024 to 30 Nov 2024","HONG KONG ADVENTIST HOSPITAL - TSUEN WAN","HK ADVENTIST - TW","PH","8909436562","LABGEN","3","TWAHLAAM","Local System","29522","0","0","1766","27756","","0","0","0","0","1767","0.059853668450647","1767","0","0","1767","0","0","","27756","0.940180204593185","0","0","0","0","0","0","0","0"]
["1 Nov 2024 to 30 Nov 20242438744730IMMU","1 Nov 2024 to 30 Nov 2024","DEPARTMENT OF HEALTH","DH","DH",2438744730,"IMMU",3,"CIMS2","Local System",222694,0,0,29003,193691,null,0,0,0,0,29005,0.13024598776796861,29005,0,0,29005,0,0,null,193691,0.86976299316550965,0,0,0,0,0,0,0,0,"","","","1 Nov 2024 to 30 Nov 20248909436562RXD",{"$f":"Data!A41","v":"2024-11-01"},{"$f":"TRIM(Data!B41)","v":"HONG KONG ADVENTIST HOSPITAL - TSUEN WAN"},null,{"$f":"TRIM(Data!C41)","v":"PH"},{"$f":"TRIM(Data!D41)","v":"8909436562"},{"$f":"TRIM(Data!E41)","v":"RXD"},{"$f":"TRIM(Data!F41)","v":"2"},{"$f":"TRIM(Data!G41)","v":"TWAHLAAM"},{"$f":"TRIM(Data!H41)","v":"Local System"},{"$f":"TRIM(Data!I41)","v":"8697"},{"$f":"TRIM(Data!J41)","v":"0"},{"$f":"TRIM(Data!K41)","v":"0"},{"$f":"TRIM(Data!L41)","v":"8697"},{"$f":"TRIM(Data!M41)","v":"0"},null,null,null,{"$f":"TRIM(Data!N41)","v":"0"},{"$f":"TRIM(Data!O41)","v":"0"},{"$f":"TRIM(Data!P41)","v":"0"},null,{"$f":"TRIM(Data!Q41)","v":"0"},null,null,{"$f":"TRIM(Data!R41)","v":"0"},{"$f":"TRIM(Data!S41)","v":"0"},{"$f":"TRIM(Data!T41)","v":"0"},null,null,null,{"$f":"TRIM(Data!U41)","v":"0"},null,{"$f":"TRIM(Data!V41)","v":"0"},{"$f":"TRIM(Data!W41)","v":"0"},{"$f":"TRIM(Data!X41)","v":"0"},{"$f":"TRIM(Data!Y41)","v":"0"},{"$f":"TRIM(Data!Z41)","v":"0"},{"$f":"TRIM(Data!AA41)","v":"0"},390,"1 Nov 2024 to 30 Nov 2024","HONG KONG ADVENTIST HOSPITAL - TSUEN WAN","HK ADVENTIST - TW","PH","8909436562","RXD","2","TWAHLAAM","Local System","8697","0","0","8697","0","","0","0","0","0","0","0","0","0","0","0","0","0","","0","0","0","0","0","0","0","0","0","0"]
["1 Nov 2024 to 30 Nov 20242438744730LABAP","1 Nov 2024 to 30 Nov 2024","DEPARTMENT OF HEALTH","DH","DH",2438744730,"LABAP",1,"CIMS2","Local System",6695,0,6695,0,0,null,0,0,0,0,0,0,0,0,0,0,0,0,null,0,0,0,0,0,0,0,0,0,0,"","","","1 Nov 2024 to 30 Nov 20248909436562ENCTR",{"$f":"Data!A42","v":"2024-11-01"},{"$f":"TRIM(Data!B42)","v":"HONG KONG ADVENTIST HOSPITAL - TSUEN WAN"},null,{"$f":"TRIM(Data!C42)","v":"PH"},{"$f":"TRIM(Data!D42)","v":"8909436562"},{"$f":"TRIM(Data!E42)","v":"ENCTR"},{"$f":"TRIM(Data!F42)","v":"3"},{"$f":"TRIM(Data!G42)","v":"TWAHLAAM"},{"$f":"TRIM(Data!H42)","v":"Local System"},{"$f":"TRIM(Data!I42)","v":"7550"},{"$f":"TRIM(Data!J42)","v":"0"},{"$f":"TRIM(Data!K42)","v":"0"},{"$f":"TRIM(Data!L42)","v":"0"},{"$f":"TRIM(Data!M42)","v":"7550"},null,null,null,{"$f":"TRIM(Data!N42)","v":"0"},{"$f":"TRIM(Data!O42)","v":"0"},{"$f":"TRIM(Data!P42)","v":"0"},null,{"$f":"TRIM(Data!Q42)","v":"0"},null,null,{"$f":"TRIM(Data!R42)","v":"0"},{"$f":"TRIM(Data!S42)","v":"0"},{"$f":"TRIM(Data!T42)","v":"0"},null,null,null,{"$f":"TRIM(Data!U42)","v":"0"},null,{"$f":"TRIM(Data!V42)","v":"0"},{"$f":"TRIM(Data!W42)","v":"0"},{"$f":"TRIM(Data!X42)","v":"0"},{"$f":"TRIM(Data!Y42)","v":"0"},{"$f":"TRIM(Data!Z42)","v":"0"},{"$f":"TRIM(Data!AA42)","v":"0"},386,"1 Nov 2024 to 30 Nov 2024","HONG KONG ADVENTIST HOSPITAL - TSUEN WAN","HK ADVENTIST - TW","PH","8909436562","ENCTR","3","TWAHLAAM","Local System","7550","0","0","0","7550","","0","0","0","0","0","0","0","0","0","0","0","0","","7550","1","0","0","0","0","0","0","0","0"]
["1 Nov 2024 to 30 Nov 20242438744730LABGEN","1 Nov 2024 to 30 Nov 2024","DEPARTMENT OF HEALTH","DH","DH",2438744730,"LABGEN",1,"CIMS2","Local System",17153,0,1326,652,15175,null,0,0,0,0,2019,0.1177053576633825,2019,0,0,652,1367,0,null,15175,0.88468489477059409,0,0,0,0,0,0,0,0,"","","Y","1 Nov 2024 to 30 Nov 20248909436562RAD",{"$f":"Data!A43","v":"2024-11-01"},{"$f":"TRIM(Data!B43)","v":"HONG KONG ADVENTIST HOSPITAL - TSUEN WAN"},null,{"$f":"TRIM(Data!C43)","v":"PH"},{"$f":"TRIM(Data!D43)","v":"8909436562"},{"$f":"TRIM(Data!E43)","v":"RAD"},{"$f":"TRIM(Data!F43)","v":"3,2"},{"$f":"TRIM(Data!G43)","v":"TWAHLAAM"},{"$f":"TRIM(Data!H43)","v":"Local System"},{"$f":"TRIM(Data!I43)","v":"3726"},{"$f":"TRIM(Data!J43)","v":"0"},{"$f":"TRIM(Data!K43)","v":"0"},{"$f":"TRIM(Data!L43)","v":"0"},{"$f":"TRIM(Data!M43)","v":"3726"},null,null,null,{"$f":"TRIM(Data!N43)","v":"0"},{"$f":"TRIM(Data!O43)","v":"0"},{"$f":"TRIM(Data!P43)","v":"0"},null,{"$f":"TRIM(Data!Q43)","v":"0"},null,null,{"$f":"TRIM(Data!R43)","v":"0"},{"$f":"TRIM(Data!S43)","v":"0"},{"$f":"TRIM(Data!T43)","v":"0"},null,null,null,{"$f":"TRIM(Data!U43)","v":"0"},null,{"$f":"TRIM(Data!V43)","v":"0"},{"$f":"TRIM(Data!W43)","v":"0"},{"$f":"TRIM(Data!X43)","v":"0"},{"$f":"TRIM(Data!Y43)","v":"0"},{"$f":"TRIM(Data!Z43)","v":"0"},{"$f":"TRIM(Data!AA43)","v":"0"},389,"1 Nov 2024 to 30 Nov 2024","HONG KONG ADVENTIST HOSPITAL - TSUEN WAN","HK ADVENTIST - TW","PH","8909436562","RAD","2","TWAHLAAM","Local System","3726","0","0","0","3726","","0","0","0","0","0","0","0","0","0","0","0","0","","3726","1","0","0","0","0","0","0","0","0"]
["1 Nov 2024 to 30 Nov 20242438744730LABMB","1 Nov 2024 to 30 Nov 2024","DEPARTMENT OF HEALTH","DH","DH",2438744730,"LABMB",1,"CIMS2","Local System",16594,0,16594,0,0,null,0,0,0,0,0,0,0,0,0,0,0,0,null,0,0,0,0,0,0,0,0,0,0,"","","Y","1 Nov 2024 to 30 Nov 20248909436562AL1",{"$f":"Data!A44","v":"2024-11-01"},{"$f":"TRIM(Data!B44)","v":"HONG KONG ADVENTIST HOSPITAL - TSUEN WAN"},null,{"$f":"TRIM(Data!C44)","v":"PH"},{"$f":"TRIM(Data!D44)","v":"8909436562"},{"$f":"TRIM(Data!E44)","v":"AL1"},{"$f":"TRIM(Data!F44)","v":"3"},{"$f":"TRIM(Data!G44)","v":"TWAHLAAM"},{"$f":"TRIM(Data!H44)","v":"Adaptation"},{"$f":"TRIM(Data!I44)","v":"783"},{"$f":"TRIM(Data!J44)","v":"0"},{"$f":"TRIM(Data!K44)","v":"0"},{"$f":"TRIM(Data!L44)","v":"185"},{"$f":"TRIM(Data!M44)","v":"598"},null,null,null,{"$f":"TRIM(Data!N44)","v":"0"},{"$f":"TRIM(Data!O44)","v":"0"},{"$f":"TRIM(Data!P44)","v":"156"},null,{"$f":"TRIM(Data!Q44)","v":"156"},null,null,{"$f":"TRIM(Data!R44)","v":"156"},{"$f":"TRIM(Data!S44)","v":"0"},{"$f":"TRIM(Data!T44)","v":"0"},null,null,null,{"$f":"TRIM(Data!U44)","v":"0"},null,{"$f":"TRIM(Data!V44)","v":"0"},{"$f":"TRIM(Data!W44)","v":"0"},{"$f":"TRIM(Data!X44)","v":"0"},{"$f":"TRIM(Data!Y44)","v":"0"},{"$f":"TRIM(Data!Z44)","v":"0"},{"$f":"TRIM(Data!AA44)","v":"0"},384,"1 Nov 2024 to 30 Nov 2024","HONG KONG ADVENTIST HOSPITAL - TSUEN WAN","HK ADVENTIST - TW","PH","8909436562","AL1","3","TWAHLAAM","Local System","783","0","0","185","598","","0","0","0","0","156","0.199233716475096","156","0","0","156","0","0","","598","0.763729246487867","0","0","0","0","0","0","0","0"]
["1 Nov 2024 to 30 Nov 20242438744730OBS","1 Nov 2024 to 30 Nov 2024","DEPARTMENT OF HEALTH","DH","DH",2438744730,"OBS",3,"CIMS2","Local System",7249,0,0,0,7249,null,0,0,0,0,0,0,0,0,0,0,0,0,null,7249,1,0,0,0,0,0,0,0,0,"","","","1 Nov 2024 to 30 Nov 20248909436562LABAP",{"$f":"Data!A45","v":"2024-11-01"},{"$f":"TRIM(Data!B45)","v":"HONG KONG ADVENTIST HOSPITAL - TSUEN WAN"},null,{"$f":"TRIM(Data!C45)","v":"PH"},{"$f":"TRIM(Data!D45)","v":"8909436562"},{"$f":"TRIM(Data!E45)","v":"LABAP"},{"$f":"TRIM(Data!F45)","v":"1"},{"$f":"TRIM(Data!G45)","v":"TWAHLAAM"},{"$f":"TRIM(Data!H45)","v":"Local System"},{"$f":"TRIM(Data!I45)","v":"511"},{"$f":"TRIM(Data!J45)","v":"1"},{"$f":"TRIM(Data!K45)","v":"510"},{"$f":"TRIM(Data!L45)","v":"0"},{"$f":"TRIM(Data!M45)","v":"0"},null,null,null,{"$f":"TRIM(Data!N45)","v":"0"},{"$f":"TRIM(Data!O45)","v":"1"},{"$f":"TRIM(Data!P45)","v":"0"},null,{"$f":"TRIM(Data!Q45)","v":"0"},null,null,{"$f":"TRIM(Data!R45)","v":"0"},{"$f":"TRIM(Data!S45)","v":"0"},{"$f":"TRIM(Data!T45)","v":"0"},null,null,null,{"$f":"TRIM(Data!U45)","v":"0"},null,{"$f":"TRIM(Data!V45)","v":"0"},{"$f":"TRIM(Data!W45)","v":"0"},{"$f":"TRIM(Data!X45)","v":"0"},{"$f":"TRIM(Data!Y45)","v":"0"},{"$f":"TRIM(Data!Z45)","v":"0"},{"$f":"TRIM(Data!AA45)","v":"0"},387,"1 Nov 2024 to 30 Nov 2024","HONG KONG ADVENTIST HOSPITAL - TSUEN WAN","HK ADVENTIST - TW","PH","8909436562","LABAP","1","TWAHLAAM","Local System","511","1","510","0","0","","1","0.00195694716242661","0","1","0","0","0","0","0","0","0","0","","0","0","0","0","0","0","0","0","0","0"]
["1 Nov 2024 to 30 Nov 20242438744730PROB","1 Nov 2024 to 30 Nov 2024","DEPARTMENT OF HEALTH","DH","DH",2438744730,"PROB",3,"CIMS2","Local System",117906,2,0,15734,102170,null,2,1.6962665173952131E-5,2,0,15727,0.13338591759537258,15727,0,0,15727,0,0,null,102170,0.86653775041134462,26,2.2051464726137771E-4,0,26,0,0,0,0,"","","Y","1 Nov 2024 to 30 Nov 20248909436562ADR",{"$f":"Data!A46","v":"2024-11-01"},{"$f":"TRIM(Data!B46)","v":"HONG KONG ADVENTIST HOSPITAL - TSUEN WAN"},null,{"$f":"TRIM(Data!C46)","v":"PH"},{"$f":"TRIM(Data!D46)","v":"8909436562"},{"$f":"TRIM(Data!E46)","v":"ADR"},{"$f":"TRIM(Data!F46)","v":"3"},{"$f":"TRIM(Data!G46)","v":"TWAHLAAM"},{"$f":"TRIM(Data!H46)","v":"Adaptation"},{"$f":"TRIM(Data!I46)","v":"32"},{"$f":"TRIM(Data!J46)","v":"0"},{"$f":"TRIM(Data!K46)","v":"0"},{"$f":"TRIM(Data!L46)","v":"3"},{"$f":"TRIM(Data!M46)","v":"29"},null,null,null,{"$f":"TRIM(Data!N46)","v":"0"},{"$f":"TRIM(Data!O46)","v":"0"},{"$f":"TRIM(Data!P46)","v":"3"},null,{"$f":"TRIM(Data!Q46)","v":"3"},null,null,{"$f":"TRIM(Data!R46)","v":"3"},{"$f":"TRIM(Data!S46)","v":"0"},{"$f":"TRIM(Data!T46)","v":"0"},null,null,null,{"$f":"TRIM(Data!U46)","v":"0"},null,{"$f":"TRIM(Data!V46)","v":"0"},{"$f":"TRIM(Data!W46)","v":"0"},{"$f":"TRIM(Data!X46)","v":"0"},{"$f":"TRIM(Data!Y46)","v":"0"},{"$f":"TRIM(Data!Z46)","v":"0"},{"$f":"TRIM(Data!AA46)","v":"0"},383,"1 Nov 2024 to 30 Nov 2024","HONG KONG ADVENTIST HOSPITAL - TSUEN WAN","HK ADVENTIST - TW","PH","8909436562","ADR","3","TWAHLAAM","Local System","32","0","0","3","29","","0","0","0","0","3","0.09375","3","0","0","3","0","0","","29","0.90625","0","0","0","0","0","0","0","0"]
["1 Nov 2024 to 30 Nov 20242438744730PX","1 Nov 2024 to 30 Nov 2024","DEPARTMENT OF HEALTH","DH","DH",2438744730,"PX",3,"CIMS2","Local System",118544,0,0,8922,109622,null,0,0,0,0,6037,5.0926238358752866E-2,6037,0,0,6037,0,0,null,109622,0.92473680658658386,2907,2.4522540153866918E-2,0,2907,0,0,0,0,"","","","1 Nov 2024 to 30 Nov 20248909436562BIRTH",{"$f":"Data!A47","v":"2024-11-01"},{"$f":"TRIM(Data!B47)","v":"HONG KONG ADVENTIST HOSPITAL - TSUEN WAN"},null,{"$f":"TRIM(Data!C47)","v":"PH"},{"$f":"TRIM(Data!D47)","v":"8909436562"},{"$f":"TRIM(Data!E47)","v":"BIRTH"},{"$f":"TRIM(Data!F47)","v":"3"},{"$f":"TRIM(Data!G47)","v":"TWAHLAAM"},{"$f":"TRIM(Data!H47)","v":"Local System"},{"$f":"TRIM(Data!I47)","v":"3"},{"$f":"TRIM(Data!J47)","v":"0"},{"$f":"TRIM(Data!K47)","v":"0"},{"$f":"TRIM(Data!L47)","v":"0"},{"$f":"TRIM(Data!M47)","v":"3"},null,null,null,{"$f":"TRIM(Data!N47)","v":"0"},{"$f":"TRIM(Data!O47)","v":"0"},{"$f":"TRIM(Data!P47)","v":"0"},null,{"$f":"TRIM(Data!Q47)","v":"0"},null,null,{"$f":"TRIM(Data!R47)","v":"0"},{"$f":"TRIM(Data!S47)","v":"0"},{"$f":"TRIM(Data!T47)","v":"0"},null,null,null,{"$f":"TRIM(Data!U47)","v":"0"},null,{"$f":"TRIM(Data!V47)","v":"0"},{"$f":"TRIM(Data!W47)","v":"0"},{"$f":"TRIM(Data!X47)","v":"0"},{"$f":"TRIM(Data!Y47)","v":"0"},{"$f":"TRIM(Data!Z47)","v":"0"},{"$f":"TRIM(Data!AA47)","v":"0"},385,"1 Nov 2024 to 30 Nov 2024","HONG KONG ADVENTIST HOSPITAL - TSUEN WAN","HK ADVENTIST - TW","PH","8909436562","BIRTH","3","TWAHLAAM","Local System","3","0","0","0","3","","0","0","0","0","0","0","0","0","0","0","0","0","","3","1","0","0","0","0","0","0","0","0"]
["1 Nov 2024 to 30 Nov 20242438744730RAD","1 Nov 2024 to 30 Nov 2024","DEPARTMENT OF HEALTH","DH","DH",2438744730,"RAD",3,"CIMS2","Local System",16220,0,0,0,16220,null,0,0,0,0,0,0,0,0,0,0,0,0,null,16220,1,0,0,0,0,0,0,0,0,"","","Y","1 Nov 2024 to 30 Nov 20249681600318ENCTR",{"$f":"Data!A48","v":"2024-11-01"},{"$f":"TRIM(Data!B48)","v":"DISTRICT HEALTH CENTRE-SHAM SHUI PO (SJS)"},null,{"$f":"TRIM(Data!C48)","v":"DHC"},{"$f":"TRIM(Data!D48)","v":"9681600318"},{"$f":"TRIM(Data!E48)","v":"ENCTR"},{"$f":"TRIM(Data!F48)","v":"3"},{"$f":"TRIM(Data!G48)","v":"DHCCMS"},{"$f":"TRIM(Data!H48)","v":"Local System"},{"$f":"TRIM(Data!I48)","v":"37123"},{"$f":"TRIM(Data!J48)","v":"0"},{"$f":"TRIM(Data!K48)","v":"0"},{"$f":"TRIM(Data!L48)","v":"0"},{"$f":"TRIM(Data!M48)","v":"37123"},null,null,null,{"$f":"TRIM(Data!N48)","v":"0"},{"$f":"TRIM(Data!O48)","v":"0"},{"$f":"TRIM(Data!P48)","v":"0"},null,{"$f":"TRIM(Data!Q48)","v":"0"},null,null,{"$f":"TRIM(Data!R48)","v":"0"},{"$f":"TRIM(Data!S48)","v":"0"},{"$f":"TRIM(Data!T48)","v":"0"},null,null,null,{"$f":"TRIM(Data!U48)","v":"0"},null,{"$f":"TRIM(Data!V48)","v":"0"},{"$f":"TRIM(Data!W48)","v":"0"},{"$f":"TRIM(Data!X48)","v":"0"},{"$f":"TRIM(Data!Y48)","v":"0"},{"$f":"TRIM(Data!Z48)","v":"0"},{"$f":"TRIM(Data!AA48)","v":"0"},438,"1 Nov 2024 to 30 Nov 2024","DISTRICT HEALTH CENTRE-SHAM SHUI PO (SJS)","DHC-SHAM SHUI PO","DHC","9681600318","ENCTR","3","Local System","Local System","37123","0","0","0","37123","","0","0","0","0","0","0","0","0","0","0","0","0","","37123","1","0","0","0","0","0","0","0","0"]
["1 Nov 2024 to 30 Nov 20242438744730REF","1 Nov 2024 to 30 Nov 2024","DEPARTMENT OF HEALTH","DH","DH",2438744730,"REF",1,"CIMS2","Local System",4620,0,4620,0,0,null,0,0,0,0,0,0,0,0,0,0,0,0,null,0,0,0,0,0,0,0,0,0,0,"","","Y","1 Nov 2024 to 30 Nov 20249681600318EPIS",{"$f":"Data!A49","v":"2024-11-01"},{"$f":"TRIM(Data!B49)","v":"DISTRICT HEALTH CENTRE-SHAM SHUI PO (SJS)"},null,{"$f":"TRIM(Data!C49)","v":"DHC"},{"$f":"TRIM(Data!D49)","v":"9681600318"},{"$f":"TRIM(Data!E49)","v":"EPIS"},{"$f":"TRIM(Data!F49)","v":"1"},{"$f":"TRIM(Data!G49)","v":"DHCCMS"},{"$f":"TRIM(Data!H49)","v":"Local System"},{"$f":"TRIM(Data!I49)","v":"8009"},{"$f":"TRIM(Data!J49)","v":"0"},{"$f":"TRIM(Data!K49)","v":"8009"},{"$f":"TRIM(Data!L49)","v":"0"},{"$f":"TRIM(Data!M49)","v":"0"},null,null,null,{"$f":"TRIM(Data!N49)","v":"0"},{"$f":"TRIM(Data!O49)","v":"0"},{"$f":"TRIM(Data!P49)","v":"0"},null,{"$f":"TRIM(Data!Q49)","v":"0"},null,null,{"$f":"TRIM(Data!R49)","v":"0"},{"$f":"TRIM(Data!S49)","v":"0"},{"$f":"TRIM(Data!T49)","v":"0"},null,null,null,{"$f":"TRIM(Data!U49)","v":"0"},null,{"$f":"TRIM(Data!V49)","v":"0"},{"$f":"TRIM(Data!W49)","v":"0"},{"$f":"TRIM(Data!X49)","v":"0"},{"$f":"TRIM(Data!Y49)","v":"0"},{"$f":"TRIM(Data!Z49)","v":"0"},{"$f":"TRIM(Data!AA49)","v":"0"},439,"1 Nov 2024 to 30 Nov 2024","DISTRICT HEALTH CENTRE-SHAM SHUI PO (SJS)","DHC-SHAM SHUI PO","DHC","9681600318","EPIS","1","Local System","Local System","8009","0","8009","0","0","","0","0","0","0","0","0","0","0","0","0","0","0","","0","0","0","0","0","0","0","0","0","0"]
["1 Nov 2024 to 30 Nov 20242438744730RXD","1 Nov 2024 to 30 Nov 2024","DEPARTMENT OF HEALTH","DH","DH",2438744730,"RXD",2,"CIMS2","Local System",99696,0,0,99696,0,null,0,0,0,0,0,0,0,0,0,0,0,0,null,0,0,0,0,0,0,0,0,0,0,"","","Y","1 Nov 2024 to 30 Nov 20249681600318AL1",{"$f":"Data!A50","v":"2024-11-01"},{"$f":"TRIM(Data!B50)","v":"DISTRICT HEALTH CENTRE-SHAM SHUI PO (SJS)"},null,{"$f":"TRIM(Data!C50)","v":"DHC"},{"$f":"TRIM(Data!D50)","v":"9681600318"},{"$f":"TRIM(Data!E50)","v":"AL1"},{"$f":"TRIM(Data!F50)","v":"3"},{"$f":"TRIM(Data!G50)","v":"DHCCMS"},{"$f":"TRIM(Data!H50)","v":"Local System"},{"$f":"TRIM(Data!I50)","v":"13"},{"$f":"TRIM(Data!J50)","v":"0"},{"$f":"TRIM(Data!K50)","v":"0"},{"$f":"TRIM(Data!L50)","v":"2"},{"$f":"TRIM(Data!M50)","v":"11"},null,null,null,{"$f":"TRIM(Data!N50)","v":"0"},{"$f":"TRIM(Data!O50)","v":"0"},{"$f":"TRIM(Data!P50)","v":"1"},null,{"$f":"TRIM(Data!Q50)","v":"1"},null,null,{"$f":"TRIM(Data!R50)","v":"1"},{"$f":"TRIM(Data!S50)","v":"0"},{"$f":"TRIM(Data!T50)","v":"0"},null,null,null,{"$f":"TRIM(Data!U50)","v":"0"},null,{"$f":"TRIM(Data!V50)","v":"0"},{"$f":"TRIM(Data!W50)","v":"0"},{"$f":"TRIM(Data!X50)","v":"0"},{"$f":"TRIM(Data!Y50)","v":"0"},{"$f":"TRIM(Data!Z50)","v":"0"},{"$f":"TRIM(Data!AA50)","v":"0"},437,"1 Nov 2024 to 30 Nov 2024","DISTRICT HEALTH CENTRE-SHAM SHUI PO (SJS)","DHC-SHAM SHUI PO","DHC","9681600318","AL1","3","Local System","Local System","13","0","0","2","11","","0","0","0","0","1","0.0769230769230769","1","0","0","1","0","0","","11","0.846153846153846","0","0","0","0","0","0","0","0"]
["1 Nov 2024 to 30 Nov 20242438744730RXO","1 Nov 2024 to 30 Nov 2024","DEPARTMENT OF HEALTH","DH","DH",2438744730,"RXO",3,"CIMS2","Local System",154299,0,0,53632,100667,null,0,0,0,0,53860,0.34906253442990559,53860,0,0,53860,0,0,null,100667,0.65241511610574277,5,3.2404617009831563E-5,0,0,0,5,0,0,"","","Y","1 Nov 2024 to 30 Nov 20246303033042ENCTR",{"$f":"Data!A51","v":"2024-11-01"},{"$f":"TRIM(Data!B51)","v":"DISTRICT HEALTH CENTRE-TUEN MUN (ELCHK)"},null,{"$f":"TRIM(Data!C51)","v":"DHC"},{"$f":"TRIM(Data!D51)","v":"6303033042"},{"$f":"TRIM(Data!E51)","v":"ENCTR"},{"$f":"TRIM(Data!F51)","v":"3"},{"$f":"TRIM(Data!G51)","v":"DHCCMS"},{"$f":"TRIM(Data!H51)","v":"Local System"},{"$f":"TRIM(Data!I51)","v":"26635"},{"$f":"TRIM(Data!J51)","v":"0"},{"$f":"TRIM(Data!K51)","v":"0"},{"$f":"TRIM(Data!L51)","v":"0"},{"$f":"TRIM(Data!M51)","v":"26635"},null,null,null,{"$f":"TRIM(Data!N51)","v":"0"},{"$f":"TRIM(Data!O51)","v":"0"},{"$f":"TRIM(Data!P51)","v":"0"},null,{"$f":"TRIM(Data!Q51)","v":"0"},null,null,{"$f":"TRIM(Data!R51)","v":"0"},{"$f":"TRIM(Data!S51)","v":"0"},{"$f":"TRIM(Data!T51)","v":"0"},null,null,null,{"$f":"TRIM(Data!U51)","v":"0"},null,{"$f":"TRIM(Data!V51)","v":"0"},{"$f":"TRIM(Data!W51)","v":"0"},{"$f":"TRIM(Data!X51)","v":"0"},{"$f":"TRIM(Data!Y51)","v":"0"},{"$f":"TRIM(Data!Z51)","v":"0"},{"$f":"TRIM(Data!AA51)","v":"0"},258,"1 Nov 2024 to 30 Nov 2024","DISTRICT HEALTH CENTRE-TUEN MUN (ELCHK)","DHC-TUEN MUN-CC","DHC","6303033042","ENCTR","3","Local System","Local System","26635","0","0","0","26635","","0","0","0","0","0","0","0","0","0","0","0","0","","26635","1","0","0","0","0","0","0","0","0"]
["1 Nov 2024 to 30 Nov 20242548616569ENCTR","1 Nov 2024 to 30 Nov 2024","DHC EXPRESS-KOWLOON CITY (LOKSINTONG)","DHC EXPRESS-KC-CC","DHC",2548616569,"ENCTR",3,"DHCCMS","Local System",3890,0,0,0,3890,null,0,0,0,0,0,0,0,0,0,0,0,0,null,3890,1,0,0,0,0,0,0,0,0,"","","Y","1 Nov 2024 to 30 Nov 20246303033042EPIS",{"$f":"Data!A52","v":"2024-11-01"},{"$f":"TRIM(Data!B52)","v":"DISTRICT HEALTH CENTRE-TUEN MUN (ELCHK)"},null,{"$f":"TRIM(Data!C52)","v":"DHC"},{"$f":"TRIM(Data!D52)","v":"6303033042"},{"$f":"TRIM(Data!E52)","v":"EPIS"},{"$f":"TRIM(Data!F52)","v":"1"},{"$f":"TRIM(Data!G52)","v":"DHCCMS"},{"$f":"TRIM(Data!H52)","v":"Local System"},{"$f":"TRIM(Data!I52)","v":"9739"},{"$f":"TRIM(Data!J52)","v":"0"},{"$f":"TRIM(Data!K52)","v":"9739"},{"$f":"TRIM(Data!L52)","v":"0"},{"$f":"TRIM(Data!M52)","v":"0"},null,null,null,{"$f":"TRIM(Data!N52)","v":"0"},{"$f":"TRIM(Data!O52)","v":"0"},{"$f":"TRIM(Data!P52)","v":"0"},null,{"$f":"TRIM(Data!Q52)","v":"0"},null,null,{"$f":"TRIM(Data!R52)","v":"0"},{"$f":"TRIM(Data!S52)","v":"0"},{"$f":"TRIM(Data!T52)","v":"0"},null,null,null,{"$f":"TRIM(Data!U52)","v":"0"},null,{"$f":"TRIM(Data!V52)","v":"0"},{"$f":"TRIM(Data!W52)","v":"0"},{"$f":"TRIM(Data!X52)","v":"0"},{"$f":"TRIM(Data!Y52)","v":"0"},{"$f":"TRIM(Data!Z52)","v":"0"},{"$f":"TRIM(Data!AA52)","v":"0"},259,"1 Nov 2024 to 30 Nov 2024","DISTRICT HEALTH CENTRE-TUEN MUN (ELCHK)","DHC-TUEN MUN-CC","DHC","6303033042","EPIS","1","Local System","Local System","9739","0","9739","0","0","","0","0","0","0","0","0","0","0","0","0","0","0","","0","0","0","0","0","0","0","0","0","0"]
["1 Nov 2024 to 30 Nov 20242548616569EPIS","1 Nov 2024 to 30 Nov 2024","DHC EXPRESS-KOWLOON CITY (LOKSINTONG)","DHC EXPRESS-KC-CC","DHC",2548616569,"EPIS",1,"DHCCMS","Local System",2337,0,2337,0,0,null,0,0,0,0,0,0,0,0,0,0,0,0,null,0,0,0,0,0,0,0,0,0,0,"","","Y","1 Nov 2024 to 30 Nov 20246303033042AL1",{"$f":"Data!A53","v":"2024-11-01"},{"$f":"TRIM(Data!B53)","v":"DISTRICT HEALTH CENTRE-TUEN MUN (ELCHK)"},null,{"$f":"TRIM(Data!C53)","v":"DHC"},{"$f":"TRIM(Data!D53)","v":"6303033042"},{"$f":"TRIM(Data!E53)","v":"AL1"},{"$f":"TRIM(Data!F53)","v":"3"},{"$f":"TRIM(Data!G53)","v":"DHCCMS"},{"$f":"TRIM(Data!H53)","v":"Local System"},{"$f":"TRIM(Data!I53)","v":"15"},{"$f":"TRIM(Data!J53)","v":"0"},{"$f":"TRIM(Data!K53)","v":"0"},{"$f":"TRIM(Data!L53)","v":"4"},{"$f":"TRIM(Data!M53)","v":"11"},null,null,null,{"$f":"TRIM(Data!N53)","v":"0"},{"$f":"TRIM(Data!O53)","v":"0"},{"$f":"TRIM(Data!P53)","v":"4"},null,{"$f":"TRIM(Data!Q53)","v":"4"},null,null,{"$f":"TRIM(Data!R53)","v":"4"},{"$f":"TRIM(Data!S53)","v":"0"},{"$f":"TRIM(Data!T53)","v":"0"},null,null,null,{"$f":"TRIM(Data!U53)","v":"0"},null,{"$f":"TRIM(Data!V53)","v":"0"},{"$f":"TRIM(Data!W53)","v":"0"},{"$f":"TRIM(Data!X53)","v":"0"},{"$f":"TRIM(Data!Y53)","v":"0"},{"$f":"TRIM(Data!Z53)","v":"0"},{"$f":"TRIM(Data!AA53)","v":"0"},257,"1 Nov 2024 to 30 Nov 2024","DISTRICT HEALTH CENTRE-TUEN MUN (ELCHK)","DHC-TUEN MUN-CC","DHC","6303033042","AL1","3","Local System","Local System","15","0","0","4","11","","0","0","0","0","4","0.266666666666667","4","0","0","4","0","0","","11","0.733333333333333","0","0","0","0","0","0","0","0"]
["1 Nov 2024 to 30 Nov 20242732778448RAD","1 Nov 2024 to 30 Nov 2024","CONCORDE DIAGNOSTICS LIMITED","CONCORDE DIAGNOSTICS LTD","SOLO",2732778448,"RAD",3,"RHI2","Local System",3,0,0,0,3,null,0,0,0,0,0,0,0,0,0,0,0,0,null,3,1,0,0,0,0,0,0,0,0,"","","Y","1 Nov 2024 to 30 Nov 20246303033042ADR",{"$f":"Data!A54","v":"2024-11-01"},{"$f":"TRIM(Data!B54)","v":"DISTRICT HEALTH CENTRE-TUEN MUN (ELCHK)"},null,{"$f":"TRIM(Data!C54)","v":"DHC"},{"$f":"TRIM(Data!D54)","v":"6303033042"},{"$f":"TRIM(Data!E54)","v":"ADR"},{"$f":"TRIM(Data!F54)","v":"3"},{"$f":"TRIM(Data!G54)","v":"DHCCMS"},{"$f":"TRIM(Data!H54)","v":"Local System"},{"$f":"TRIM(Data!I54)","v":"11"},{"$f":"TRIM(Data!J54)","v":"0"},{"$f":"TRIM(Data!K54)","v":"0"},{"$f":"TRIM(Data!L54)","v":"1"},{"$f":"TRIM(Data!M54)","v":"10"},null,null,null,{"$f":"TRIM(Data!N54)","v":"0"},{"$f":"TRIM(Data!O54)","v":"0"},{"$f":"TRIM(Data!P54)","v":"1"},null,{"$f":"TRIM(Data!Q54)","v":"1"},null,null,{"$f":"TRIM(Data!R54)","v":"1"},{"$f":"TRIM(Data!S54)","v":"0"},{"$f":"TRIM(Data!T54)","v":"0"},null,null,null,{"$f":"TRIM(Data!U54)","v":"0"},null,{"$f":"TRIM(Data!V54)","v":"0"},{"$f":"TRIM(Data!W54)","v":"0"},{"$f":"TRIM(Data!X54)","v":"0"},{"$f":"TRIM(Data!Y54)","v":"0"},{"$f":"TRIM(Data!Z54)","v":"0"},{"$f":"TRIM(Data!AA54)","v":"0"},256,"1 Nov 2024 to 30 Nov 2024","DISTRICT HEALTH CENTRE-TUEN MUN (ELCHK)","DHC-TUEN MUN-CC","DHC","6303033042","ADR","3","Local System","Local System","11","0","0","1","10","","0","0","0","0","1","0.0909090909090909","1","0","0","1","0","0","","10","0.909090909090909","0","0","0","0","0","0","0","0"]
["1 Nov 2024 to 30 Nov 20242822145488CMPROB","1 Nov 2024 to 30 Nov 2024","Man Yee (TCM) Medical Clinic Limited","MAN YEE (TCM)","GROUP",2822145488,"CMPROB",3,"Local System","EC Connect",1,0,0,0,1,null,0,0,0,0,0,0,0,0,0,0,0,0,null,1,1,0,0,0,0,0,0,0,0,"","","Y","1 Nov 2024 to 30 Nov 20244437392776ENCTR",{"$f":"Data!A55","v":"2024-11-01"},{"$f":"TRIM(Data!B55)","v":"DISTRICT HEALTH CENTRE-WONG TAI SIN (HKSKHWCL)"},null,{"$f":"TRIM(Data!C55)","v":"DHC"},{"$f":"TRIM(Data!D55)","v":"4437392776"},{"$f":"TRIM(Data!E55)","v":"ENCTR"},{"$f":"TRIM(Data!F55)","v":"3"},{"$f":"TRIM(Data!G55)","v":"DHCCMS"},{"$f":"TRIM(Data!H55)","v":"Local System"},{"$f":"TRIM(Data!I55)","v":"23272"},{"$f":"TRIM(Data!J55)","v":"0"},{"$f":"TRIM(Data!K55)","v":"0"},{"$f":"TRIM(Data!L55)","v":"0"},{"$f":"TRIM(Data!M55)","v":"23272"},null,null,null,{"$f":"TRIM(Data!N55)","v":"0"},{"$f":"TRIM(Data!O55)","v":"0"},{"$f":"TRIM(Data!P55)","v":"0"},null,{"$f":"TRIM(Data!Q55)","v":"0"},null,null,{"$f":"TRIM(Data!R55)","v":"0"},{"$f":"TRIM(Data!S55)","v":"0"},{"$f":"TRIM(Data!T55)","v":"0"},null,null,null,{"$f":"TRIM(Data!U55)","v":"0"},null,{"$f":"TRIM(Data!V55)","v":"0"},{"$f":"TRIM(Data!W55)","v":"0"},{"$f":"TRIM(Data!X55)","v":"0"},{"$f":"TRIM(Data!Y55)","v":"0"},{"$f":"TRIM(Data!Z55)","v":"0"},{"$f":"TRIM(Data!AA55)","v":"0"},153,"1 Nov 2024 to 30 Nov 2024","DISTRICT HEALTH CENTRE-WONG TAI SIN (HKSKHWCL)","DHC-WONG TAI SIN","DHC","4437392776","ENCTR","3","Local System","Local System","23272","0","0","0","23272","","0","0","0","0","0","0","0","0","0","0","0","0","","23272","1","0","0","0","0","0","0","0","0"]
["1 Nov 2024 to 30 Nov 20242822145488CMPX","1 Nov 2024 to 30 Nov 2024","Man Yee (TCM) Medical Clinic Limited","MAN YEE (TCM)","GROUP",2822145488,"CMPX",3,"Local System","EC Connect",1,0,0,0,1,null,0,0,0,0,0,0,0,0,0,0,0,0,null,1,1,0,0,0,0,0,0,0,0,"","","Y","1 Nov 2024 to 30 Nov 20244437392776EPIS",{"$f":"Data!A56","v":"2024-11-01"},{"$f":"TRIM(Data!B56)","v":"DISTRICT HEALTH CENTRE-WONG TAI SIN (HKSKHWCL)"},null,{"$f":"TRIM(Data!C56)","v":"DHC"},{"$f":"TRIM(Data!D56)","v":"4437392776"},{"$f":"TRIM(Data!E56)","v":"EPIS"},{"$f":"TRIM(Data!F56)","v":"1"},{"$f":"TRIM(Data!G56)","v":"DHCCMS"},{"$f":"TRIM(Data!H56)","v":"Local System"},{"$f":"TRIM(Data!I56)","v":"10589"},{"$f":"TRIM(Data!J56)","v":"0"},{"$f":"TRIM(Data!K56)","v":"10589"},{"$f":"TRIM(Data!L56)","v":"0"},{"$f":"TRIM(Data!M56)","v":"0"},null,null,null,{"$f":"TRIM(Data!N56)","v":"0"},{"$f":"TRIM(Data!O56)","v":"0"},{"$f":"TRIM(Data!P56)","v":"0"},null,{"$f":"TRIM(Data!Q56)","v":"0"},null,null,{"$f":"TRIM(Data!R56)","v":"0"},{"$f":"TRIM(Data!S56)","v":"0"},{"$f":"TRIM(Data!T56)","v":"0"},null,null,null,{"$f":"TRIM(Data!U56)","v":"0"},null,{"$f":"TRIM(Data!V56)","v":"0"},{"$f":"TRIM(Data!W56)","v":"0"},{"$f":"TRIM(Data!X56)","v":"0"},{"$f":"TRIM(Data!Y56)","v":"0"},{"$f":"TRIM(Data!Z56)","v":"0"},{"$f":"TRIM(Data!AA56)","v":"0"},154,"1 Nov 2024 to 30 Nov 2024","DISTRICT HEALTH CENTRE-WONG TAI SIN (HKSKHWCL)","DHC-WONG TAI SIN","DHC","4437392776","EPIS","1","Local System","Local System","10589","0","10589","0","0","","0","0","0","0","0","0","0","0","0","0","0","0","","0","0","0","0","0","0","0","0","0","0"]
["1 Nov 2024 to 30 Nov 20242822145488ENCTR","1 Nov 2024 to 30 Nov 2024","Man Yee (TCM) Medical Clinic Limited","MAN YEE (TCM)","GROUP",2822145488,"ENCTR",3,"Local System","Local System",2,0,0,0,2,null,0,0,0,0,0,0,0,0,0,0,0,0,null,2,1,0,0,0,0,0,0,0,0,"","","Y","1 Nov 2024 to 30 Nov 20244437392776AL1",{"$f":"Data!A57","v":"2024-11-01"},{"$f":"TRIM(Data!B57)","v":"DISTRICT HEALTH CENTRE-WONG TAI SIN (HKSKHWCL)"},null,{"$f":"TRIM(Data!C57)","v":"DHC"},{"$f":"TRIM(Data!D57)","v":"4437392776"},{"$f":"TRIM(Data!E57)","v":"AL1"},{"$f":"TRIM(Data!F57)","v":"3"},{"$f":"TRIM(Data!G57)","v":"DHCCMS"},{"$f":"TRIM(Data!H57)","v":"Local System"},{"$f":"TRIM(Data!I57)","v":"13"},{"$f":"TRIM(Data!J57)","v":"0"},{"$f":"TRIM(Data!K57)","v":"0"},{"$f":"TRIM(Data!L57)","v":"2"},{"$f":"TRIM(Data!M57)","v":"11"},null,null,null,{"$f":"TRIM(Data!N57)","v":"0"},{"$f":"TRIM(Data!O57)","v":"0"},{"$f":"TRIM(Data!P57)","v":"2"},null,{"$f":"TRIM(Data!Q57)","v":"2"},null,null,{"$f":"TRIM(Data!R57)","v":"2"},{"$f":"TRIM(Data!S57)","v":"0"},{"$f":"TRIM(Data!T57)","v":"0"},null,null,null,{"$f":"TRIM(Data!U57)","v":"0"},null,{"$f":"TRIM(Data!V57)","v":"0"},{"$f":"TRIM(Data!W57)","v":"0"},{"$f":"TRIM(Data!X57)","v":"0"},{"$f":"TRIM(Data!Y57)","v":"0"},{"$f":"TRIM(Data!Z57)","v":"0"},{"$f":"TRIM(Data!AA57)","v":"0"},152,"1 Nov 2024 to 30 Nov 2024","DISTRICT HEALTH CENTRE-WONG TAI SIN (HKSKHWCL)","DHC-WONG TAI SIN","DHC","4437392776","AL1","3","Local System","Local System","13","0","0","2","11","","0","0","0","0","2","0.153846153846154","2","0","0","2","0","0","","11","0.846153846153846","0","0","0","0","0","0","0","0"]
["1 Nov 2024 to 30 Nov 20242825508730ENCTR","1 Nov 2024 to 30 Nov 2024","DR LEUNG KAM FUNG","DR LEUNG KAM FUNG","SOLO",2825508730,"ENCTR",3,"ClinicSolution","Local System",71,0,0,0,71,null,0,0,0,0,0,0,0,0,0,0,0,0,null,71,1,0,0,0,0,0,0,0,0,"","","Y","1 Nov 2024 to 30 Nov 20247218241485ENCTR",{"$f":"Data!A58","v":"2024-11-01"},{"$f":"TRIM(Data!B58)","v":"DISTRICT HEALTH CENTRE-YUEN LONG (POH)"},null,{"$f":"TRIM(Data!C58)","v":"DHC"},{"$f":"TRIM(Data!D58)","v":"7218241485"},{"$f":"TRIM(Data!E58)","v":"ENCTR"},{"$f":"TRIM(Data!F58)","v":"3"},{"$f":"TRIM(Data!G58)","v":"DHCCMS"},{"$f":"TRIM(Data!H58)","v":"Local System"},{"$f":"TRIM(Data!I58)","v":"19812"},{"$f":"TRIM(Data!J58)","v":"0"},{"$f":"TRIM(Data!K58)","v":"0"},{"$f":"TRIM(Data!L58)","v":"0"},{"$f":"TRIM(Data!M58)","v":"19812"},null,null,null,{"$f":"TRIM(Data!N58)","v":"0"},{"$f":"TRIM(Data!O58)","v":"0"},{"$f":"TRIM(Data!P58)","v":"0"},null,{"$f":"TRIM(Data!Q58)","v":"0"},null,null,{"$f":"TRIM(Data!R58)","v":"0"},{"$f":"TRIM(Data!S58)","v":"0"},{"$f":"TRIM(Data!T58)","v":"0"},null,null,null,{"$f":"TRIM(Data!U58)","v":"0"},null,{"$f":"TRIM(Data!V58)","v":"0"},{"$f":"TRIM(Data!W58)","v":"0"},{"$f":"TRIM(Data!X58)","v":"0"},{"$f":"TRIM(Data!Y58)","v":"0"},{"$f":"TRIM(Data!Z58)","v":"0"},{"$f":"TRIM(Data!AA58)","v":"0"},308,"1 Nov 2024 to 30 Nov 2024","DISTRICT HEALTH CENTRE-YUEN LONG (POH)","DHC-YUEN LONG","DHC","7218241485","ENCTR","3","Local System","Local System","19812","0","0","0","19812","","0","0","0","0","0","0","0","0","0","0","0","0","","19812","1","0","0","0","0","0","0","0","0"]
["1 Nov 2024 to 30 Nov 20242825508730RXD","1 Nov 2024 to 30 Nov 2024","DR LEUNG KAM FUNG","DR LEUNG KAM FUNG","SOLO",2825508730,"RXD",2,"ClinicSolution","Local System",41,0,0,41,0,null,0,0,0,0,0,0,0,0,0,0,0,0,null,0,0,0,0,0,0,0,0,0,0,"","","Y","1 Nov 2024 to 30 Nov 20247218241485EPIS",{"$f":"Data!A59","v":"2024-11-01"},{"$f":"TRIM(Data!B59)","v":"DISTRICT HEALTH CENTRE-YUEN LONG (POH)"},null,{"$f":"TRIM(Data!C59)","v":"DHC"},{"$f":"TRIM(Data!D59)","v":"7218241485"},{"$f":"TRIM(Data!E59)","v":"EPIS"},{"$f":"TRIM(Data!F59)","v":"1"},{"$f":"TRIM(Data!G59)","v":"DHCCMS"},{"$f":"TRIM(Data!H59)","v":"Local System"},{"$f":"TRIM(Data!I59)","v":"10733"},{"$f":"TRIM(Data!J59)","v":"0"},{"$f":"TRIM(Data!K59)","v":"10733"},{"$f":"TRIM(Data!L59)","v":"0"},{"$f":"TRIM(Data!M59)","v":"0"},null,null,null,{"$f":"TRIM(Data!N59)","v":"0"},{"$f":"TRIM(Data!O59)","v":"0"},{"$f":"TRIM(Data!P59)","v":"0"},null,{"$f":"TRIM(Data!Q59)","v":"0"},null,null,{"$f":"TRIM(Data!R59)","v":"0"},{"$f":"TRIM(Data!S59)","v":"0"},{"$f":"TRIM(Data!T59)","v":"0"},null,null,null,{"$f":"TRIM(Data!U59)","v":"0"},null,{"$f":"TRIM(Data!V59)","v":"0"},{"$f":"TRIM(Data!W59)","v":"0"},{"$f":"TRIM(Data!X59)","v":"0"},{"$f":"TRIM(Data!Y59)","v":"0"},{"$f":"TRIM(Data!Z59)","v":"0"},{"$f":"TRIM(Data!AA59)","v":"0"},309,"1 Nov 2024 to 30 Nov 2024","DISTRICT HEALTH CENTRE-YUEN LONG (POH)","DHC-YUEN LONG","DHC","7218241485","EPIS","1","Local System","Local System","10733","0","10733","0","0","","0","0","0","0","0","0","0","0","0","0","0","0","","0","0","0","0","0","0","0","0","0","0"]
["1 Nov 2024 to 30 Nov 20242825508730RXO","1 Nov 2024 to 30 Nov 2024","DR LEUNG KAM FUNG","DR LEUNG KAM FUNG","SOLO",2825508730,"RXO",2,"ClinicSolution","Local System",41,0,0,41,0,null,0,0,0,0,0,0,0,0,0,0,0,0,null,0,0,0,0,0,0,0,0,0,0,"","","Y","1 Nov 2024 to 30 Nov 20247218241485AL1",{"$f":"Data!A60","v":"2024-11-01"},{"$f":"TRIM(Data!B60)","v":"DISTRICT HEALTH CENTRE-YUEN LONG (POH)"},null,{"$f":"TRIM(Data!C60)","v":"DHC"},{"$f":"TRIM(Data!D60)","v":"7218241485"},{"$f":"TRIM(Data!E60)","v":"AL1"},{"$f":"TRIM(Data!F60)","v":"3"},{"$f":"TRIM(Data!G60)","v":"DHCCMS"},{"$f":"TRIM(Data!H60)","v":"Local System"},{"$f":"TRIM(Data!I60)","v":"6"},{"$f":"TRIM(Data!J60)","v":"0"},{"$f":"TRIM(Data!K60)","v":"0"},{"$f":"TRIM(Data!L60)","v":"2"},{"$f":"TRIM(Data!M60)","v":"4"},null,null,null,{"$f":"TRIM(Data!N60)","v":"0"},{"$f":"TRIM(Data!O60)","v":"0"},{"$f":"TRIM(Data!P60)","v":"2"},null,{"$f":"TRIM(Data!Q60)","v":"2"},null,null,{"$f":"TRIM(Data!R60)","v":"2"},{"$f":"TRIM(Data!S60)","v":"0"},{"$f":"TRIM(Data!T60)","v":"0"},null,null,null,{"$f":"TRIM(Data!U60)","v":"0"},null,{"$f":"TRIM(Data!V60)","v":"0"},{"$f":"TRIM(Data!W60)","v":"0"},{"$f":"TRIM(Data!X60)","v":"0"},{"$f":"TRIM(Data!Y60)","v":"0"},{"$f":"TRIM(Data!Z60)","v":"0"},{"$f":"TRIM(Data!AA60)","v":"0"},307,"1 Nov 2024 to 30 Nov 2024","DISTRICT HEALTH CENTRE-YUEN LONG (POH)","DHC-YUEN LONG","DHC","7218241485","AL1","3","Local System","Local System","6","0","0","2","4","","0","0","0","0","2","0.333333333333333","2","0","0","2","0","0","","4","0.666666666666667","0","0","0","0","0","0","0","0"]
["1 Nov 2024 to 30 Nov 20242971417573CMPROB","1 Nov 2024 to 30 Nov 2024","18 Chinese Medicine Clinic cum Traing and Research Centre (Yan Oi Tong)","18CMCTRs (YOT)","NGO",2971417573,"CMPROB",3,"Local System","EC Connect",540,0,0,93,447,null,0,0,0,0,70,0.12962962962962962,70,0,0,70,0,0,null,447,0.82777777777777772,0,0,0,0,0,0,0,0,"","","Y","1 Nov 2024 to 30 Nov 20247218241485ADR",{"$f":"Data!A61","v":"2024-11-01"},{"$f":"TRIM(Data!B61)","v":"DISTRICT HEALTH CENTRE-YUEN LONG (POH)"},null,{"$f":"TRIM(Data!C61)","v":"DHC"},{"$f":"TRIM(Data!D61)","v":"7218241485"},{"$f":"TRIM(Data!E61)","v":"ADR"},{"$f":"TRIM(Data!F61)","v":"3"},{"$f":"TRIM(Data!G61)","v":"DHCCMS"},{"$f":"TRIM(Data!H61)","v":"Local System"},{"$f":"TRIM(Data!I61)","v":"2"},{"$f":"TRIM(Data!J61)","v":"0"},{"$f":"TRIM(Data!K61)","v":"0"},{"$f":"TRIM(Data!L61)","v":"0"},{"$f":"TRIM(Data!M61)","v":"2"},null,null,null,{"$f":"TRIM(Data!N61)","v":"0"},{"$f":"TRIM(Data!O61)","v":"0"},{"$f":"TRIM(Data!P61)","v":"0"},null,{"$f":"TRIM(Data!Q61)","v":"0"},null,null,{"$f":"TRIM(Data!R61)","v":"0"},{"$f":"TRIM(Data!S61)","v":"0"},{"$f":"TRIM(Data!T61)","v":"0"},null,null,null,{"$f":"TRIM(Data!U61)","v":"0"},null,{"$f":"TRIM(Data!V61)","v":"0"},{"$f":"TRIM(Data!W61)","v":"0"},{"$f":"TRIM(Data!X61)","v":"0"},{"$f":"TRIM(Data!Y61)","v":"0"},{"$f":"TRIM(Data!Z61)","v":"0"},{"$f":"TRIM(Data!AA61)","v":"0"},306,"1 Nov 2024 to 30 Nov 2024","DISTRICT HEALTH CENTRE-YUEN LONG (POH)","DHC-YUEN LONG","DHC","7218241485","ADR","3","Local System","Local System","2","0","0","0","2","","0","0","0","0","0","0","0","0","0","0","0","0","","2","1","0","0","0","0","0","0","0","0"]
["1 Nov 2024 to 30 Nov 20242971417573CMPX","1 Nov 2024 to 30 Nov 2024","18 Chinese Medicine Clinic cum Traing and Research Centre (Yan Oi Tong)","18CMCTRs (YOT)","NGO",2971417573,"CMPX",3,"Local System","EC Connect",123,0,0,0,123,null,0,0,0,0,0,0,0,0,0,0,0,0,null,123,1,0,0,0,0,0,0,0,0,"","","Y","1 Nov 2024 to 30 Nov 20248900325933ENCTR",{"$f":"Data!A62","v":"2024-11-01"},{"$f":"TRIM(Data!B62)","v":"DISTRICT HEALTH CENTRE-SOUTHERN (AKA)"},null,{"$f":"TRIM(Data!C62)","v":"DHC"},{"$f":"TRIM(Data!D62)","v":"8900325933"},{"$f":"TRIM(Data!E62)","v":"ENCTR"},{"$f":"TRIM(Data!F62)","v":"3"},{"$f":"TRIM(Data!G62)","v":"DHCCMS"},{"$f":"TRIM(Data!H62)","v":"Local System"},{"$f":"TRIM(Data!I62)","v":"23068"},{"$f":"TRIM(Data!J62)","v":"0"},{"$f":"TRIM(Data!K62)","v":"0"},{"$f":"TRIM(Data!L62)","v":"0"},{"$f":"TRIM(Data!M62)","v":"23068"},null,null,null,{"$f":"TRIM(Data!N62)","v":"0"},{"$f":"TRIM(Data!O62)","v":"0"},{"$f":"TRIM(Data!P62)","v":"0"},null,{"$f":"TRIM(Data!Q62)","v":"0"},null,null,{"$f":"TRIM(Data!R62)","v":"0"},{"$f":"TRIM(Data!S62)","v":"0"},{"$f":"TRIM(Data!T62)","v":"0"},null,null,null,{"$f":"TRIM(Data!U62)","v":"0"},null,{"$f":"TRIM(Data!V62)","v":"0"},{"$f":"TRIM(Data!W62)","v":"0"},{"$f":"TRIM(Data!X62)","v":"0"},{"$f":"TRIM(Data!Y62)","v":"0"},{"$f":"TRIM(Data!Z62)","v":"0"},{"$f":"TRIM(Data!AA62)","v":"0"},381,"1 Nov 2024 to 30 Nov 2024","DISTRICT HEALTH CENTRE-SOUTHERN (AKA)","DHC-SOUTHERN","DHC","8900325933","ENCTR","3","Local System","Local System","23068","0","0","0","23068","","0","0","0","0","0","0","0","0","0","0","0","0","","23068","1","0","0","0","0","0","0","0","0"]
["1 Nov 2024 to 30 Nov 20242971417573CMRXO","1 Nov 2024 to 30 Nov 2024","18 Chinese Medicine Clinic cum Traing and Research Centre (Yan Oi Tong)","18CMCTRs (YOT)","NGO",2971417573,"CMRXO",3,"Local System","EC Connect",284,0,0,42,242,null,0,0,0,0,42,0.14788732394366197,42,0,0,42,0,0,null,242,0.852112676056338,0,0,0,0,0,0,0,0,"","","Y","1 Nov 2024 to 30 Nov 20248900325933EPIS",{"$f":"Data!A63","v":"2024-11-01"},{"$f":"TRIM(Data!B63)","v":"DISTRICT HEALTH CENTRE-SOUTHERN (AKA)"},null,{"$f":"TRIM(Data!C63)","v":"DHC"},{"$f":"TRIM(Data!D63)","v":"8900325933"},{"$f":"TRIM(Data!E63)","v":"EPIS"},{"$f":"TRIM(Data!F63)","v":"1"},{"$f":"TRIM(Data!G63)","v":"DHCCMS"},{"$f":"TRIM(Data!H63)","v":"Local System"},{"$f":"TRIM(Data!I63)","v":"3369"},{"$f":"TRIM(Data!J63)","v":"0"},{"$f":"TRIM(Data!K63)","v":"3369"},{"$f":"TRIM(Data!L63)","v":"0"},{"$f":"TRIM(Data!M63)","v":"0"},null,null,null,{"$f":"TRIM(Data!N63)","v":"0"},{"$f":"TRIM(Data!O63)","v":"0"},{"$f":"TRIM(Data!P63)","v":"0"},null,{"$f":"TRIM(Data!Q63)","v":"0"},null,null,{"$f":"TRIM(Data!R63)","v":"0"},{"$f":"TRIM(Data!S63)","v":"0"},{"$f":"TRIM(Data!T63)","v":"0"},null,null,null,{"$f":"TRIM(Data!U63)","v":"0"},null,{"$f":"TRIM(Data!V63)","v":"0"},{"$f":"TRIM(Data!W63)","v":"0"},{"$f":"TRIM(Data!X63)","v":"0"},{"$f":"TRIM(Data!Y63)","v":"0"},{"$f":"TRIM(Data!Z63)","v":"0"},{"$f":"TRIM(Data!AA63)","v":"0"},382,"1 Nov 2024 to 30 Nov 2024","DISTRICT HEALTH CENTRE-SOUTHERN (AKA)","DHC-SOUTHERN","DHC","8900325933","EPIS","1","Local System","Local System","3369","0","3369","0","0","","0","0","0","0","0","0","0","0","0","0","0","0","","0","0","0","0","0","0","0","0","0","0"]
["1 Nov 2024 to 30 Nov 20242971417573ENCTR","1 Nov 2024 to 30 Nov 2024","18 Chinese Medicine Clinic cum Traing and Research Centre (Yan Oi Tong)","18CMCTRs (YOT)","NGO",2971417573,"ENCTR",3,"Local System","Local System",580,0,0,0,580,null,0,0,0,0,0,0,0,0,0,0,0,0,null,580,1,0,0,0,0,0,0,0,0,"","","Y","1 Nov 2024 to 30 Nov 20248900325933AL1",{"$f":"Data!A64","v":"2024-11-01"},{"$f":"TRIM(Data!B64)","v":"DISTRICT HEALTH CENTRE-SOUTHERN (AKA)"},null,{"$f":"TRIM(Data!C64)","v":"DHC"},{"$f":"TRIM(Data!D64)","v":"8900325933"},{"$f":"TRIM(Data!E64)","v":"AL1"},{"$f":"TRIM(Data!F64)","v":"3"},{"$f":"TRIM(Data!G64)","v":"DHCCMS"},{"$f":"TRIM(Data!H64)","v":"Local System"},{"$f":"TRIM(Data!I64)","v":"8"},{"$f":"TRIM(Data!J64)","v":"0"},{"$f":"TRIM(Data!K64)","v":"0"},{"$f":"TRIM(Data!L64)","v":"0"},{"$f":"TRIM(Data!M64)","v":"8"},null,null,null,{"$f":"TRIM(Data!N64)","v":"0"},{"$f":"TRIM(Data!O64)","v":"0"},{"$f":"TRIM(Data!P64)","v":"0"},null,{"$f":"TRIM(Data!Q64)","v":"0"},null,null,{"$f":"TRIM(Data!R64)","v":"0"},{"$f":"TRIM(Data!S64)","v":"0"},{"$f":"TRIM(Data!T64)","v":"0"},null,null,null,{"$f":"TRIM(Data!U64)","v":"0"},null,{"$f":"TRIM(Data!V64)","v":"0"},{"$f":"TRIM(Data!W64)","v":"0"},{"$f":"TRIM(Data!X64)","v":"0"},{"$f":"TRIM(Data!Y64)","v":"0"},{"$f":"TRIM(Data!Z64)","v":"0"},{"$f":"TRIM(Data!AA64)","v":"0"},380,"1 Nov 2024 to 30 Nov 2024","DISTRICT HEALTH CENTRE-SOUTHERN (AKA)","DHC-SOUTHERN","DHC","8900325933","AL1","3","Local System","Local System","8","0","0","0","8","","0","0","0","0","0","0","0","0","0","0","0","0","","8","1","0","0","0","0","0","0","0","0"]
["1 Nov 2024 to 30 Nov 20243040418583ENCTR","1 Nov 2024 to 30 Nov 2024","DISTRICT HEALTH CENTRE-KWAI TSING (KTSCHCA)","DHC-KWAI TSING","DHC",3040418583,"ENCTR",3,"Local System","Local System",17563,0,0,0,17563,null,0,0,0,0,0,0,0,0,0,0,0,0,null,17563,1,0,0,0,0,0,0,0,0,"","","Y","1 Nov 2024 to 30 Nov 20243040418583ENCTR",{"$f":"Data!A65","v":"2024-11-01"},{"$f":"TRIM(Data!B65)","v":"DISTRICT HEALTH CENTRE-KWAI TSING (KTSCHCA)"},null,{"$f":"TRIM(Data!C65)","v":"DHC"},{"$f":"TRIM(Data!D65)","v":"3040418583"},{"$f":"TRIM(Data!E65)","v":"ENCTR"},{"$f":"TRIM(Data!F65)","v":"3"},{"$f":"TRIM(Data!G65)","v":"DHCCMS"},{"$f":"TRIM(Data!H65)","v":"Local System"},{"$f":"TRIM(Data!I65)","v":"17563"},{"$f":"TRIM(Data!J65)","v":"0"},{"$f":"TRIM(Data!K65)","v":"0"},{"$f":"TRIM(Data!L65)","v":"0"},{"$f":"TRIM(Data!M65)","v":"17563"},null,null,null,{"$f":"TRIM(Data!N65)","v":"0"},{"$f":"TRIM(Data!O65)","v":"0"},{"$f":"TRIM(Data!P65)","v":"0"},null,{"$f":"TRIM(Data!Q65)","v":"0"},null,null,{"$f":"TRIM(Data!R65)","v":"0"},{"$f":"TRIM(Data!S65)","v":"0"},{"$f":"TRIM(Data!T65)","v":"0"},null,null,null,{"$f":"TRIM(Data!U65)","v":"0"},null,{"$f":"TRIM(Data!V65)","v":"0"},{"$f":"TRIM(Data!W65)","v":"0"},{"$f":"TRIM(Data!X65)","v":"0"},{"$f":"TRIM(Data!Y65)","v":"0"},{"$f":"TRIM(Data!Z65)","v":"0"},{"$f":"TRIM(Data!AA65)","v":"0"},72,"1 Nov 2024 to 30 Nov 2024","DISTRICT HEALTH CENTRE-KWAI TSING (KTSCHCA)","DHC-KWAI TSING","DHC","3040418583","ENCTR","3","Local System","Local System","17563","0","0","0","17563","","0","0","0","0","0","0","0","0","0","0","0","0","","17563","1","0","0","0","0","0","0","0","0"]
[{"$f":"IF(B73<>\"\",B73&F73&G73,\"\")","v":"1 Nov 2024 to 30 Nov 20243040418583EPIS"},"1 Nov 2024 to 30 Nov 2024","DISTRICT HEALTH CENTRE-KWAI TSING (KTSCHCA)","DHC-KWAI TSING","DHC",3040418583,"EPIS",1,"Local System","Local System",5016,0,5016,0,0,null,0,0,0,0,0,0,0,0,0,0,0,0,null,0,0,0,0,0,0,0,0,0,0,{"$f":"IFERROR(IF(SEARCH(\"total\",A73)>0,\"\",\"\"),_xlfn.IFNA(IF(A73<>\"\",IF(MATCH(A73,AQ:AQ,0)>0,\"\",\"\"),\"\"),\"Y\"))","v":""},{"$f":"IFERROR(_xlfn.IFNA(IF(AQ73<>\"\",IF(MATCH(AQ73,A:A,0)>0,\"\",\"\"),\"\"),\"Y\"),\"\")","v":""},{"$f":"IF(OR(TRIM(UPPER(AS73))<>TRIM(UPPER(CF73)),AU73<>CH73,AV73<>CI73,AW73<>CJ73,AX73<>CK73,AY73<>CL73,AZ73<>CM73,BA73<>CN73,BB73<>CO73,BC73<>CP73,BD73<>CQ73,BE73<>CR73,BI73<>CV73,BJ73<>CW73,BK73<>CX73,BM73<>CZ73,BP73<>DC73,BQ73<>DD73,BR73<>DE73,BV73<>DI73,BX73<>DK73,BY73<>DL73,BZ73<>DM73,CA73<>DN73,CB73<>DO73,CC73<>DP73),\"Y\",\"\")","v":"Y"},{"$f":"IF(AR73<>\"\",TEXT(AR73,\"d mmm yyyy\") &\" to \" & TEXT(EOMONTH(AR73,0),\"d mmm yyyy\") & AV73 & AW73,\"\")","v":"1 Nov 2024 to 30 Nov 20243040418583EPIS"},{"$f":"Data!A66","v":"2024-11-01"},{"$f":"TRIM(Data!B66)","v":"DISTRICT HEALTH CENTRE-KWAI TSING (KTSCHCA)"},null,{"$f":"TRIM(Data!C66)","v":"DHC"},{"$f":"TRIM(Data!D66)","v":"3040418583"},{"$f":"TRIM(Data!E66)","v":"EPIS"},{"$f":"TRIM(Data!F66)","v":"1"},{"$f":"TRIM(Data!G66)","v":"DHCCMS"},{"$f":"TRIM(Data!H66)","v":"Local System"},{"$f":"TRIM(Data!I66)","v":"5016"},{"$f":"TRIM(Data!J66)","v":"0"},{"$f":"TRIM(Data!K66)","v":"5016"},{"$f":"TRIM(Data!L66)","v":"0"},{"$f":"TRIM(Data!M66)","v":"0"},null,null,null,{"$f":"TRIM(Data!N66)","v":"0"},{"$f":"TRIM(Data!O66)","v":"0"},{"$f":"TRIM(Data!P66)","v":"0"},null,{"$f":"TRIM(Data!Q66)","v":"0"},null,null,{"$f":"TRIM(Data!R66)","v":"0"},{"$f":"TRIM(Data!S66)","v":"0"},{"$f":"TRIM(Data!T66)","v":"0"},null,null,null,{"$f":"TRIM(Data!U66)","v":"0"},null,{"$f":"TRIM(Data!V66)","v":"0"},{"$f":"TRIM(Data!W66)","v":"0"},{"$f":"TRIM(Data!X66)","v":"0"},{"$f":"TRIM(Data!Y66)","v":"0"},{"$f":"TRIM(Data!Z66)","v":"0"},{"$f":"TRIM(Data!AA66)","v":"0"},{"$f":"MATCH(AQ73,A:A,0)","v":73},{"$f":"TRIM(INDEX(B:B,$CD73))","v":"1 Nov 2024 to 30 Nov 2024"},{"$f":"TRIM(INDEX(C:C,$CD73))","v":"DISTRICT HEALTH CENTRE-KWAI TSING (KTSCHCA)"},{"$f":"TRIM(INDEX(D:D,$CD73))","v":"DHC-KWAI TSING"},{"$f":"TRIM(INDEX(E:E,$CD73))","v":"DHC"},{"$f":"TRIM(INDEX(F:F,$CD73))","v":"3040418583"},{"$f":"TRIM(INDEX(G:G,$CD73))","v":"EPIS"},{"$f":"TRIM(INDEX(H:H,$CD73))","v":"1"},{"$f":"TRIM(INDEX(I:I,$CD73))","v":"Local System"},{"$f":"TRIM(INDEX(J:J,$CD73))","v":"Local System"},{"$f":"TRIM(INDEX(K:K,$CD73))","v":"5016"},{"$f":"TRIM(INDEX(L:L,$CD73))","v":"0"},{"$f":"TRIM(INDEX(M:M,$CD73))","v":"5016"},{"$f":"TRIM(INDEX(N:N,$CD73))","v":"0"},{"$f":"TRIM(INDEX(O:O,$CD73))","v":"0"},{"$f":"TRIM(INDEX(P:P,$CD73))","v":""},{"$f":"TRIM(INDEX(Q:Q,$CD73))","v":"0"},{"$f":"TRIM(INDEX(R:R,$CD73))","v":"0"},{"$f":"TRIM(INDEX(S:S,$CD73))","v":"0"},{"$f":"TRIM(INDEX(T:T,$CD73))","v":"0"},{"$f":"TRIM(INDEX(U:U,$CD73))","v":"0"},{"$f":"TRIM(INDEX(V:V,$CD73))","v":"0"},{"$f":"TRIM(INDEX(W:W,$CD73))","v":"0"},{"$f":"TRIM(INDEX(X:X,$CD73))","v":"0"},{"$f":"TRIM(INDEX(Y:Y,$CD73))","v":"0"},{"$f":"TRIM(INDEX(Z:Z,$CD73))","v":"0"},{"$f":"TRIM(INDEX(AA:AA,$CD73))","v":"0"},{"$f":"TRIM(INDEX(AB:AB,$CD73))","v":"0"},{"$f":"TRIM(INDEX(AC:AC,$CD73))","v":""},{"$f":"TRIM(INDEX(AD:AD,$CD73))","v":"0"},{"$f":"TRIM(INDEX(AE:AE,$CD73))","v":"0"},{"$f":"TRIM(INDEX(AF:AF,$CD73))","v":"0"},{"$f":"TRIM(INDEX(AG:AG,$CD73))","v":"0"},{"$f":"TRIM(INDEX(AH:AH,$CD73))","v":"0"},{"$f":"TRIM(INDEX(AI:AI,$CD73))","v":"0"},{"$f":"TRIM(INDEX(AJ:AJ,$CD73))","v":"0"},{"$f":"TRIM(INDEX(AK:AK,$CD73))","v":"0"},{"$f":"TRIM(INDEX(AL:AL,$CD73))","v":"0"},{"$f":"TRIM(INDEX(AM:AM,$CD73))","v":"0"}]
["1 Nov 2024 to 30 Nov 20243093463431ENCTR","1 Nov 2024 to 30 Nov 2024","PRIMECARE MEDICAL CENTRE","PRIMECARE MEDICAL CENTRE","SOLO",3093463431,"ENCTR",3,"ClinicSolution","Local System",8,0,0,0,8,null,0,0,0,0,0,0,0,0,0,0,0,0,null,8,1,0,0,0,0,0,0,0,0,"","","","1 Nov 2024 to 30 Nov 20244773496701LABGEN",{"$f":"Data!A67","v":"2024-11-01"},{"$f":"TRIM(Data!B67)","v":"HKSH MEDICAL GROUP LIMITED"},null,{"$f":"TRIM(Data!C67)","v":"PH"},{"$f":"TRIM(Data!D67)","v":"4773496701"},{"$f":"TRIM(Data!E67)","v":"LABGEN"},{"$f":"TRIM(Data!F67)","v":"1"},{"$f":"TRIM(Data!G67)","v":"HKSH e-HR gateway"},{"$f":"TRIM(Data!H67)","v":"Local System"},{"$f":"TRIM(Data!I67)","v":"9954"},{"$f":"TRIM(Data!J67)","v":"0"},{"$f":"TRIM(Data!K67)","v":"9954"},{"$f":"TRIM(Data!L67)","v":"0"},{"$f":"TRIM(Data!M67)","v":"0"},null,null,null,{"$f":"TRIM(Data!N67)","v":"0"},{"$f":"TRIM(Data!O67)","v":"0"},{"$f":"TRIM(Data!P67)","v":"0"},null,{"$f":"TRIM(Data!Q67)","v":"0"},null,null,{"$f":"TRIM(Data!R67)","v":"0"},{"$f":"TRIM(Data!S67)","v":"0"},{"$f":"TRIM(Data!T67)","v":"0"},null,null,null,{"$f":"TRIM(Data!U67)","v":"0"},null,{"$f":"TRIM(Data!V67)","v":"0"},{"$f":"TRIM(Data!W67)","v":"0"},{"$f":"TRIM(Data!X67)","v":"0"},{"$f":"TRIM(Data!Y67)","v":"0"},{"$f":"TRIM(Data!Z67)","v":"0"},{"$f":"TRIM(Data!AA67)","v":"0"},174,"1 Nov 2024 to 30 Nov 2024","HKSH Medical Group Limited","HKSH MEDICAL FROUP","PH","4773496701","LABGEN","1","HKSH e-HR gateway","Local System","9954","0","9954","0","0","","0","0","0","0","0","0","0","0","0","0","0","0","","0","0","0","0","0","0","0","0","0","0"]
["1 Nov 2024 to 30 Nov 20243098159131ADR","1 Nov 2024 to 30 Nov 2024","HOSPITAL AUTHORITY","HA","HA",3098159131,"ADR",3,"Enterprise Application Integration (EAI)","Local System",5116,0,0,320,4796,null,0,0,0,0,318,6.2157935887412044E-2,318,0,0,318,0,0,null,4796,0.93745113369820177,0,0,0,0,0,0,0,0,"","","","1 Nov 2024 to 30 Nov 20244773496701PROB",{"$f":"Data!A68","v":"2024-11-01"},{"$f":"TRIM(Data!B68)","v":"HKSH MEDICAL GROUP LIMITED"},null,{"$f":"TRIM(Data!C68)","v":"PH"},{"$f":"TRIM(Data!D68)","v":"4773496701"},{"$f":"TRIM(Data!E68)","v":"PROB"},{"$f":"TRIM(Data!F68)","v":"3"},{"$f":"TRIM(Data!G68)","v":"HKSH e-HR gateway"},{"$f":"TRIM(Data!H68)","v":"Local System"},{"$f":"TRIM(Data!I68)","v":"4283"},{"$f":"TRIM(Data!J68)","v":"0"},{"$f":"TRIM(Data!K68)","v":"0"},{"$f":"TRIM(Data!L68)","v":"0"},{"$f":"TRIM(Data!M68)","v":"4283"},null,null,null,{"$f":"TRIM(Data!N68)","v":"0"},{"$f":"TRIM(Data!O68)","v":"0"},{"$f":"TRIM(Data!P68)","v":"0"},null,{"$f":"TRIM(Data!Q68)","v":"0"},null,null,{"$f":"TRIM(Data!R68)","v":"0"},{"$f":"TRIM(Data!S68)","v":"0"},{"$f":"TRIM(Data!T68)","v":"0"},null,null,null,{"$f":"TRIM(Data!U68)","v":"0"},null,{"$f":"TRIM(Data!V68)","v":"0"},{"$f":"TRIM(Data!W68)","v":"0"},{"$f":"TRIM(Data!X68)","v":"0"},{"$f":"TRIM(Data!Y68)","v":"0"},{"$f":"TRIM(Data!Z68)","v":"0"},{"$f":"TRIM(Data!AA68)","v":"0"},176,"1 Nov 2024 to 30 Nov 2024","HKSH Medical Group Limited","HKSH MEDICAL FROUP","PH","4773496701","PROB","3","HKSH e-HR gateway","Local System","4283","0","0","0","4283","","0","0","0","0","0","0","0","0","0","0","0","0","","4283","1","0","0","0","0","0","0","0","0"]
["1 Nov 2024 to 30 Nov 20243098159131AL1","1 Nov 2024 to 30 Nov 2024","HOSPITAL AUTHORITY","HA","HA",3098159131,"AL1",3,"Enterprise Application Integration (EAI)","Local System",6091,0,0,1717,4374,null,0,0,0,0,1602,0.26301099983582332,1602,0,0,1602,0,0,null,4374,0.7181086849450008,0,0,0,0,0,0,0,0,"","","Y","1 Nov 2024 to 30 Nov 20244773496701RAD",{"$f":"Data!A69","v":"2024-11-01"},{"$f":"TRIM(Data!B69)","v":"HKSH MEDICAL GROUP LIMITED"},null,{"$f":"TRIM(Data!C69)","v":"PH"},{"$f":"TRIM(Data!D69)","v":"4773496701"},{"$f":"TRIM(Data!E69)","v":"RAD"},{"$f":"TRIM(Data!F69)","v":"3,2"},{"$f":"TRIM(Data!G69)","v":"HKSH e-HR gateway"},{"$f":"TRIM(Data!H69)","v":"Local System"},{"$f":"TRIM(Data!I69)","v":"3799"},{"$f":"TRIM(Data!J69)","v":"0"},{"$f":"TRIM(Data!K69)","v":"0"},{"$f":"TRIM(Data!L69)","v":"0"},{"$f":"TRIM(Data!M69)","v":"3799"},null,null,null,{"$f":"TRIM(Data!N69)","v":"0"},{"$f":"TRIM(Data!O69)","v":"0"},{"$f":"TRIM(Data!P69)","v":"0"},null,{"$f":"TRIM(Data!Q69)","v":"0"},null,null,{"$f":"TRIM(Data!R69)","v":"0"},{"$f":"TRIM(Data!S69)","v":"0"},{"$f":"TRIM(Data!T69)","v":"0"},null,null,null,{"$f":"TRIM(Data!U69)","v":"0"},null,{"$f":"TRIM(Data!V69)","v":"0"},{"$f":"TRIM(Data!W69)","v":"0"},{"$f":"TRIM(Data!X69)","v":"0"},{"$f":"TRIM(Data!Y69)","v":"0"},{"$f":"TRIM(Data!Z69)","v":"0"},{"$f":"TRIM(Data!AA69)","v":"0"},178,"1 Nov 2024 to 30 Nov 2024","HKSH Medical Group Limited","HKSH MEDICAL FROUP","PH","4773496701","RAD","3","HKSH e-HR gateway","Local System","3799","0","0","0","3799","","0","0","0","0","0","0","0","0","0","0","0","0","","3799","1","0","0","0","0","0","0","0","0"]
["1 Nov 2024 to 30 Nov 20243098159131BIRTH","1 Nov 2024 to 30 Nov 2024","HOSPITAL AUTHORITY","HA","HA",3098159131,"BIRTH",3,"Enterprise Application Integration (EAI)","Local System",11843,0,0,0,11843,null,0,0,0,0,0,0,0,0,0,0,0,0,null,11843,1,0,0,0,0,0,0,0,0,"","","","1 Nov 2024 to 30 Nov 20244773496701LABMB",{"$f":"Data!A70","v":"2024-11-01"},{"$f":"TRIM(Data!B70)","v":"HKSH MEDICAL GROUP LIMITED"},null,{"$f":"TRIM(Data!C70)","v":"PH"},{"$f":"TRIM(Data!D70)","v":"4773496701"},{"$f":"TRIM(Data!E70)","v":"LABMB"},{"$f":"TRIM(Data!F70)","v":"1"},{"$f":"TRIM(Data!G70)","v":"HKSH e-HR gateway"},{"$f":"TRIM(Data!H70)","v":"Local System"},{"$f":"TRIM(Data!I70)","v":"1544"},{"$f":"TRIM(Data!J70)","v":"0"},{"$f":"TRIM(Data!K70)","v":"1544"},{"$f":"TRIM(Data!L70)","v":"0"},{"$f":"TRIM(Data!M70)","v":"0"},null,null,null,{"$f":"TRIM(Data!N70)","v":"0"},{"$f":"TRIM(Data!O70)","v":"0"},{"$f":"TRIM(Data!P70)","v":"0"},null,{"$f":"TRIM(Data!Q70)","v":"0"},null,null,{"$f":"TRIM(Data!R70)","v":"0"},{"$f":"TRIM(Data!S70)","v":"0"},{"$f":"TRIM(Data!T70)","v":"0"},null,null,null,{"$f":"TRIM(Data!U70)","v":"0"},null,{"$f":"TRIM(Data!V70)","v":"0"},{"$f":"TRIM(Data!W70)","v":"0"},{"$f":"TRIM(Data!X70)","v":"0"},{"$f":"TRIM(Data!Y70)","v":"0"},{"$f":"TRIM(Data!Z70)","v":"0"},{"$f":"TRIM(Data!AA70)","v":"0"},175,"1 Nov 2024 to 30 Nov 2024","HKSH Medical Group Limited","HKSH MEDICAL FROUP","PH","4773496701","LABMB","1","HKSH e-HR gateway","Local System","1544","0","1544","0","0","","0","0","0","0","0","0","0","0","0","0","0","0","","0","0","0","0","0","0","0","0","0","0"]
["1 Nov 2024 to 30 Nov 20243098159131ENCTR","1 Nov 2024 to 30 Nov 2024","HOSPITAL AUTHORITY","HA","HA",3098159131,"ENCTR",3,"Enterprise Application Integration (EAI)","Local System",11968013,0,0,0,11968013,null,0,0,0,0,0,0,0,0,0,0,0,0,null,11968013,1,0,0,0,0,0,0,0,0,"","","","1 Nov 2024 to 30 Nov 20244773496701EPIS",{"$f":"Data!A71","v":"2024-11-01"},{"$f":"TRIM(Data!B71)","v":"HKSH MEDICAL GROUP LIMITED"},null,{"$f":"TRIM(Data!C71)","v":"PH"},{"$f":"TRIM(Data!D71)","v":"4773496701"},{"$f":"TRIM(Data!E71)","v":"EPIS"},{"$f":"TRIM(Data!F71)","v":"1"},{"$f":"TRIM(Data!G71)","v":"HKSH e-HR gateway"},{"$f":"TRIM(Data!H71)","v":"Local System"},{"$f":"TRIM(Data!I71)","v":"826"},{"$f":"TRIM(Data!J71)","v":"0"},{"$f":"TRIM(Data!K71)","v":"826"},{"$f":"TRIM(Data!L71)","v":"0"},{"$f":"TRIM(Data!M71)","v":"0"},null,null,null,{"$f":"TRIM(Data!N71)","v":"0"},{"$f":"TRIM(Data!O71)","v":"0"},{"$f":"TRIM(Data!P71)","v":"0"},null,{"$f":"TRIM(Data!Q71)","v":"0"},null,null,{"$f":"TRIM(Data!R71)","v":"0"},{"$f":"TRIM(Data!S71)","v":"0"},{"$f":"TRIM(Data!T71)","v":"0"},null,null,null,{"$f":"TRIM(Data!U71)","v":"0"},null,{"$f":"TRIM(Data!V71)","v":"0"},{"$f":"TRIM(Data!W71)","v":"0"},{"$f":"TRIM(Data!X71)","v":"0"},{"$f":"TRIM(Data!Y71)","v":"0"},{"$f":"TRIM(Data!Z71)","v":"0"},{"$f":"TRIM(Data!AA71)","v":"0"},172,"1 Nov 2024 to 30 Nov 2024","HKSH Medical Group Limited","HKSH MEDICAL FROUP","PH","4773496701","EPIS","1","HKSH e-HR gateway","Local System","826","0","826","0","0","","0","0","0","0","0","0","0","0","0","0","0","0","","0","0","0","0","0","0","0","0","0","0"]
["1 Nov 2024 to 30 Nov 20243098159131EPIS","1 Nov 2024 to 30 Nov 2024","HOSPITAL AUTHORITY","HA","HA",3098159131,"EPIS",1,"Enterprise Application Integration (EAI)","Local System",434094,1398,432696,0,0,null,1398,3.2205006288960458E-3,1398,0,0,0,0,0,0,0,0,0,null,0,0,0,0,0,0,0,0,0,0,"","","","1 Nov 2024 to 30 Nov 20244773496701LABAP",{"$f":"Data!A72","v":"2024-11-01"},{"$f":"TRIM(Data!B72)","v":"HKSH MEDICAL GROUP LIMITED"},null,{"$f":"TRIM(Data!C72)","v":"PH"},{"$f":"TRIM(Data!D72)","v":"4773496701"},{"$f":"TRIM(Data!E72)","v":"LABAP"},{"$f":"TRIM(Data!F72)","v":"1"},{"$f":"TRIM(Data!G72)","v":"HKSH e-HR gateway"},{"$f":"TRIM(Data!H72)","v":"Local System"},{"$f":"TRIM(Data!I72)","v":"815"},{"$f":"TRIM(Data!J72)","v":"0"},{"$f":"TRIM(Data!K72)","v":"815"},{"$f":"TRIM(Data!L72)","v":"0"},{"$f":"TRIM(Data!M72)","v":"0"},null,null,null,{"$f":"TRIM(Data!N72)","v":"0"},{"$f":"TRIM(Data!O72)","v":"0"},{"$f":"TRIM(Data!P72)","v":"0"},null,{"$f":"TRIM(Data!Q72)","v":"0"},null,null,{"$f":"TRIM(Data!R72)","v":"0"},{"$f":"TRIM(Data!S72)","v":"0"},{"$f":"TRIM(Data!T72)","v":"0"},null,null,null,{"$f":"TRIM(Data!U72)","v":"0"},null,{"$f":"TRIM(Data!V72)","v":"0"},{"$f":"TRIM(Data!W72)","v":"0"},{"$f":"TRIM(Data!X72)","v":"0"},{"$f":"TRIM(Data!Y72)","v":"0"},{"$f":"TRIM(Data!Z72)","v":"0"},{"$f":"TRIM(Data!AA72)","v":"0"},173,"1 Nov 2024 to 30 Nov 2024","HKSH Medical Group Limited","HKSH MEDICAL FROUP","PH","4773496701","LABAP","1","HKSH e-HR gateway","Local System","815","0","815","0","0","","0","0","0","0","0","0","0","0","0","0","0","0","","0","0","0","0","0","0","0","0","0","0"]
["1 Nov 2024 to 30 Nov 20243098159131IMMU","1 Nov 2024 to 30 Nov 2024","HOSPITAL AUTHORITY","HA","HA",3098159131,"IMMU",3,"Enterprise Application Integration (EAI)","Local System",207112,0,0,11553,195559,null,0,0,0,0,11181,5.3985283324964273E-2,11181,0,0,11181,0,0,null,195559,0.94421858704469075,380,1.834756074008266E-3,0,380,0,0,0,0,"","","","1 Nov 2024 to 30 Nov 20244773496701AL1",{"$f":"Data!A73","v":"2024-11-01"},{"$f":"TRIM(Data!B73)","v":"HKSH MEDICAL GROUP LIMITED"},null,{"$f":"TRIM(Data!C73)","v":"PH"},{"$f":"TRIM(Data!D73)","v":"4773496701"},{"$f":"TRIM(Data!E73)","v":"AL1"},{"$f":"TRIM(Data!F73)","v":"3"},{"$f":"TRIM(Data!G73)","v":"HKSH e-HR gateway"},{"$f":"TRIM(Data!H73)","v":"Local System"},{"$f":"TRIM(Data!I73)","v":"759"},{"$f":"TRIM(Data!J73)","v":"0"},{"$f":"TRIM(Data!K73)","v":"0"},{"$f":"TRIM(Data!L73)","v":"333"},{"$f":"TRIM(Data!M73)","v":"426"},null,null,null,{"$f":"TRIM(Data!N73)","v":"0"},{"$f":"TRIM(Data!O73)","v":"0"},{"$f":"TRIM(Data!P73)","v":"268"},null,{"$f":"TRIM(Data!Q73)","v":"268"},null,null,{"$f":"TRIM(Data!R73)","v":"268"},{"$f":"TRIM(Data!S73)","v":"0"},{"$f":"TRIM(Data!T73)","v":"0"},null,null,null,{"$f":"TRIM(Data!U73)","v":"0"},null,{"$f":"TRIM(Data!V73)","v":"0"},{"$f":"TRIM(Data!W73)","v":"0"},{"$f":"TRIM(Data!X73)","v":"0"},{"$f":"TRIM(Data!Y73)","v":"0"},{"$f":"TRIM(Data!Z73)","v":"0"},{"$f":"TRIM(Data!AA73)","v":"0"},170,"1 Nov 2024 to 30 Nov 2024","HKSH Medical Group Limited","HKSH MEDICAL FROUP","PH","4773496701","AL1","3","HKSH e-HR gateway","Local System","759","0","0","333","426","","0","0","0","0","268","0.353096179183136","268","0","0","268","0","0","","426","0.561264822134387","0","0","0","0","0","0","0","0"]
["1 Nov 2024 to 30 Nov 20243098159131INVR","1 Nov 2024 to 30 Nov 2024","HOSPITAL AUTHORITY","HA","HA",3098159131,"INVR",1,"Enterprise Application Integration (EAI)","Local System",33491,36,33455,0,0,null,36,1.0749156489803231E-3,36,0,0,0,0,0,0,0,0,0,null,0,0,0,0,0,0,0,0,0,0,"","","","1 Nov 2024 to 30 Nov 20244773496701PX",{"$f":"Data!A74","v":"2024-11-01"},{"$f":"TRIM(Data!B74)","v":"HKSH MEDICAL GROUP LIMITED"},null,{"$f":"TRIM(Data!C74)","v":"PH"},{"$f":"TRIM(Data!D74)","v":"4773496701"},{"$f":"TRIM(Data!E74)","v":"PX"},{"$f":"TRIM(Data!F74)","v":"3"},{"$f":"TRIM(Data!G74)","v":"HKSH e-HR gateway"},{"$f":"TRIM(Data!H74)","v":"Local System"},{"$f":"TRIM(Data!I74)","v":"131"},{"$f":"TRIM(Data!J74)","v":"0"},{"$f":"TRIM(Data!K74)","v":"0"},{"$f":"TRIM(Data!L74)","v":"0"},{"$f":"TRIM(Data!M74)","v":"131"},null,null,null,{"$f":"TRIM(Data!N74)","v":"0"},{"$f":"TRIM(Data!O74)","v":"0"},{"$f":"TRIM(Data!P74)","v":"0"},null,{"$f":"TRIM(Data!Q74)","v":"0"},null,null,{"$f":"TRIM(Data!R74)","v":"0"},{"$f":"TRIM(Data!S74)","v":"0"},{"$f":"TRIM(Data!T74)","v":"0"},null,null,null,{"$f":"TRIM(Data!U74)","v":"0"},null,{"$f":"TRIM(Data!V74)","v":"0"},{"$f":"TRIM(Data!W74)","v":"0"},{"$f":"TRIM(Data!X74)","v":"0"},{"$f":"TRIM(Data!Y74)","v":"0"},{"$f":"TRIM(Data!Z74)","v":"0"},{"$f":"TRIM(Data!AA74)","v":"0"},177,"1 Nov 2024 to 30 Nov 2024","HKSH Medical Group Limited","HKSH MEDICAL FROUP","PH","4773496701","PX","3","HKSH e-HR gateway","Local System","131","0","0","0","131","","0","0","0","0","0","0","0","0","0","0","0","0","","131","1","0","0","0","0","0","0","0","0"]
["1 Nov 2024 to 30 Nov 20243098159131LABAP","1 Nov 2024 to 30 Nov 2024","HOSPITAL AUTHORITY","HA","HA",3098159131,"LABAP",3,"Enterprise Application Integration (EAI)","Local System",98967,11,0,31134,67822,null,11,1.1114816049794375E-4,11,0,31404,0.31731789384340237,28420,0,2984,31404,0,0,null,67822,0.68529914011741289,3,3.0313134681257387E-5,0,3,0,0,0,0,"","","","1 Nov 2024 to 30 Nov 20244773496701ADR",{"$f":"Data!A75","v":"2024-11-01"},{"$f":"TRIM(Data!B75)","v":"HKSH MEDICAL GROUP LIMITED"},null,{"$f":"TRIM(Data!C75)","v":"PH"},{"$f":"TRIM(Data!D75)","v":"4773496701"},{"$f":"TRIM(Data!E75)","v":"ADR"},{"$f":"TRIM(Data!F75)","v":"3"},{"$f":"TRIM(Data!G75)","v":"HKSH e-HR gateway"},{"$f":"TRIM(Data!H75)","v":"Local System"},{"$f":"TRIM(Data!I75)","v":"106"},{"$f":"TRIM(Data!J75)","v":"0"},{"$f":"TRIM(Data!K75)","v":"0"},{"$f":"TRIM(Data!L75)","v":"9"},{"$f":"TRIM(Data!M75)","v":"97"},null,null,null,{"$f":"TRIM(Data!N75)","v":"0"},{"$f":"TRIM(Data!O75)","v":"0"},{"$f":"TRIM(Data!P75)","v":"9"},null,{"$f":"TRIM(Data!Q75)","v":"9"},null,null,{"$f":"TRIM(Data!R75)","v":"9"},{"$f":"TRIM(Data!S75)","v":"0"},{"$f":"TRIM(Data!T75)","v":"0"},null,null,null,{"$f":"TRIM(Data!U75)","v":"0"},null,{"$f":"TRIM(Data!V75)","v":"0"},{"$f":"TRIM(Data!W75)","v":"0"},{"$f":"TRIM(Data!X75)","v":"0"},{"$f":"TRIM(Data!Y75)","v":"0"},{"$f":"TRIM(Data!Z75)","v":"0"},{"$f":"TRIM(Data!AA75)","v":"0"},169,"1 Nov 2024 to 30 Nov 2024","HKSH Medical Group Limited","HKSH MEDICAL FROUP","PH","4773496701","ADR","3","HKSH e-HR gateway","Local System","106","0","0","9","97","","0","0","0","0","9","0.0849056603773585","9","0","0","9","0","0","","97","0.915094339622642","0","0","0","0","0","0","0","0"]
["1 Nov 2024 to 30 Nov 20243098159131LABGEN","1 Nov 2024 to 30 Nov 2024","HOSPITAL AUTHORITY","HA","HA",3098159131,"LABGEN",3,"Enterprise Application Integration (EAI)","Local System",4420493,117,1930,77011,4341435,null,117,2.6467636075885654E-5,30,87,81746,1.8492507509908964E-2,81746,0,0,79850,1896,0,null,4341435,0.98211556946250111,0,0,0,0,0,0,0,0,"","","","1 Nov 2024 to 30 Nov 20244773496701BIRTH",{"$f":"Data!A76","v":"2024-11-01"},{"$f":"TRIM(Data!B76)","v":"HKSH MEDICAL GROUP LIMITED"},null,{"$f":"TRIM(Data!C76)","v":"PH"},{"$f":"TRIM(Data!D76)","v":"4773496701"},{"$f":"TRIM(Data!E76)","v":"BIRTH"},{"$f":"TRIM(Data!F76)","v":"3"},{"$f":"TRIM(Data!G76)","v":"HKSH e-HR gateway"},{"$f":"TRIM(Data!H76)","v":"Local System"},{"$f":"TRIM(Data!I76)","v":"2"},{"$f":"TRIM(Data!J76)","v":"0"},{"$f":"TRIM(Data!K76)","v":"0"},{"$f":"TRIM(Data!L76)","v":"0"},{"$f":"TRIM(Data!M76)","v":"2"},null,null,null,{"$f":"TRIM(Data!N76)","v":"0"},{"$f":"TRIM(Data!O76)","v":"0"},{"$f":"TRIM(Data!P76)","v":"0"},null,{"$f":"TRIM(Data!Q76)","v":"0"},null,null,{"$f":"TRIM(Data!R76)","v":"0"},{"$f":"TRIM(Data!S76)","v":"0"},{"$f":"TRIM(Data!T76)","v":"0"},null,null,null,{"$f":"TRIM(Data!U76)","v":"0"},null,{"$f":"TRIM(Data!V76)","v":"0"},{"$f":"TRIM(Data!W76)","v":"0"},{"$f":"TRIM(Data!X76)","v":"0"},{"$f":"TRIM(Data!Y76)","v":"0"},{"$f":"TRIM(Data!Z76)","v":"0"},{"$f":"TRIM(Data!AA76)","v":"0"},171,"1 Nov 2024 to 30 Nov 2024","HKSH Medical Group Limited","HKSH MEDICAL FROUP","PH","4773496701","BIRTH","3","HKSH e-HR gateway","Local System","2","0","0","0","2","","0","0","0","0","0","0","0","0","0","0","0","0","","2","1","0","0","0","0","0","0","0","0"]
["1 Nov 2024 to 30 Nov 20243098159131LABMB","1 Nov 2024 to 30 Nov 2024","HOSPITAL AUTHORITY","HA","HA",3098159131,"LABMB",3,"Enterprise Application Integration (EAI)","Local System",859734,208,2813,117117,739596,null,208,2.4193529626605439E-4,68,140,119155,0.13859519339702744,119155,0,0,117278,1877,0,null,739596,0.86026142969802288,0,0,0,0,0,0,0,0,"","","","1 Nov 2024 to 30 Nov 20243650324540LABGEN",{"$f":"Data!A77","v":"2024-11-01"},{"$f":"TRIM(Data!B77)","v":"HONG KONG BAPTIST HOSPITAL"},null,{"$f":"TRIM(Data!C77)","v":"PH"},{"$f":"TRIM(Data!D77)","v":"3650324540"},{"$f":"TRIM(Data!E77)","v":"LABGEN"},{"$f":"TRIM(Data!F77)","v":"1"},{"$f":"TRIM(Data!G77)","v":"Trakcare"},{"$f":"TRIM(Data!H77)","v":"Local System"},{"$f":"TRIM(Data!I77)","v":"8945"},{"$f":"TRIM(Data!J77)","v":"2"},{"$f":"TRIM(Data!K77)","v":"8943"},{"$f":"TRIM(Data!L77)","v":"0"},{"$f":"TRIM(Data!M77)","v":"0"},null,null,null,{"$f":"TRIM(Data!N77)","v":"0"},{"$f":"TRIM(Data!O77)","v":"2"},{"$f":"TRIM(Data!P77)","v":"0"},null,{"$f":"TRIM(Data!Q77)","v":"0"},null,null,{"$f":"TRIM(Data!R77)","v":"0"},{"$f":"TRIM(Data!S77)","v":"0"},{"$f":"TRIM(Data!T77)","v":"0"},null,null,null,{"$f":"TRIM(Data!U77)","v":"0"},null,{"$f":"TRIM(Data!V77)","v":"0"},{"$f":"TRIM(Data!W77)","v":"0"},{"$f":"TRIM(Data!X77)","v":"0"},{"$f":"TRIM(Data!Y77)","v":"0"},{"$f":"TRIM(Data!Z77)","v":"0"},{"$f":"TRIM(Data!AA77)","v":"0"},127,"1 Nov 2024 to 30 Nov 2024","HONG KONG BAPTIST HOSPITAL","HK BAPTIST HOSPITAL","PH","3650324540","LABGEN","1","Trakcare","Local System","8945","2","8943","0","0","","2","0.000223588596981554","0","2","0","0","0","0","0","0","0","0","","0","0","0","0","0","0","0","0","0","0"]
["1 Nov 2024 to 30 Nov 20243098159131MEDCER","1 Nov 2024 to 30 Nov 2024","HOSPITAL AUTHORITY","HA","HA",3098159131,"MEDCER",1,"Enterprise Application Integration (EAI)","Local System",274613,239,274374,0,0,null,239,8.703156806123527E-4,239,0,0,0,0,0,0,0,0,0,null,0,0,0,0,0,0,0,0,0,0,"","","Y","1 Nov 2024 to 30 Nov 20243650324540RAD",{"$f":"Data!A78","v":"2024-11-01"},{"$f":"TRIM(Data!B78)","v":"HONG KONG BAPTIST HOSPITAL"},null,{"$f":"TRIM(Data!C78)","v":"PH"},{"$f":"TRIM(Data!D78)","v":"3650324540"},{"$f":"TRIM(Data!E78)","v":"RAD"},{"$f":"TRIM(Data!F78)","v":"3,2"},{"$f":"TRIM(Data!G78)","v":"Trakcare"},{"$f":"TRIM(Data!H78)","v":"Local System"},{"$f":"TRIM(Data!I78)","v":"4711"},{"$f":"TRIM(Data!J78)","v":"0"},{"$f":"TRIM(Data!K78)","v":"0"},{"$f":"TRIM(Data!L78)","v":"0"},{"$f":"TRIM(Data!M78)","v":"4711"},null,null,null,{"$f":"TRIM(Data!N78)","v":"0"},{"$f":"TRIM(Data!O78)","v":"0"},{"$f":"TRIM(Data!P78)","v":"0"},null,{"$f":"TRIM(Data!Q78)","v":"0"},null,null,{"$f":"TRIM(Data!R78)","v":"0"},{"$f":"TRIM(Data!S78)","v":"0"},{"$f":"TRIM(Data!T78)","v":"0"},null,null,null,{"$f":"TRIM(Data!U78)","v":"0"},null,{"$f":"TRIM(Data!V78)","v":"0"},{"$f":"TRIM(Data!W78)","v":"0"},{"$f":"TRIM(Data!X78)","v":"0"},{"$f":"TRIM(Data!Y78)","v":"0"},{"$f":"TRIM(Data!Z78)","v":"0"},{"$f":"TRIM(Data!AA78)","v":"0"},129,"1 Nov 2024 to 30 Nov 2024","HONG KONG BAPTIST HOSPITAL","HK BAPTIST HOSPITAL","PH","3650324540","RAD","3","Trakcare","Local System","4711","0","0","0","4711","","0","0","0","0","0","0","0","0","0","0","0","0","","4711","1","0","0","0","0","0","0","0","0"]
["1 Nov 2024 to 30 Nov 20243098159131OBS","1 Nov 2024 to 30 Nov 2024","HOSPITAL AUTHORITY","HA","HA",3098159131,"OBS",3,"Enterprise Application Integration (EAI)","Local System",44399,27,0,0,44372,null,27,6.081218045451474E-4,27,0,0,0,0,0,0,0,0,0,null,44372,0.99939187819545483,0,0,0,0,0,0,0,0,"","","","1 Nov 2024 to 30 Nov 20243650324540LABMB",{"$f":"Data!A79","v":"2024-11-01"},{"$f":"TRIM(Data!B79)","v":"HONG KONG BAPTIST HOSPITAL"},null,{"$f":"TRIM(Data!C79)","v":"PH"},{"$f":"TRIM(Data!D79)","v":"3650324540"},{"$f":"TRIM(Data!E79)","v":"LABMB"},{"$f":"TRIM(Data!F79)","v":"1"},{"$f":"TRIM(Data!G79)","v":"Trakcare"},{"$f":"TRIM(Data!H79)","v":"Local System"},{"$f":"TRIM(Data!I79)","v":"2935"},{"$f":"TRIM(Data!J79)","v":"0"},{"$f":"TRIM(Data!K79)","v":"2935"},{"$f":"TRIM(Data!L79)","v":"0"},{"$f":"TRIM(Data!M79)","v":"0"},null,null,null,{"$f":"TRIM(Data!N79)","v":"0"},{"$f":"TRIM(Data!O79)","v":"0"},{"$f":"TRIM(Data!P79)","v":"0"},null,{"$f":"TRIM(Data!Q79)","v":"0"},null,null,{"$f":"TRIM(Data!R79)","v":"0"},{"$f":"TRIM(Data!S79)","v":"0"},{"$f":"TRIM(Data!T79)","v":"0"},null,null,null,{"$f":"TRIM(Data!U79)","v":"0"},null,{"$f":"TRIM(Data!V79)","v":"0"},{"$f":"TRIM(Data!W79)","v":"0"},{"$f":"TRIM(Data!X79)","v":"0"},{"$f":"TRIM(Data!Y79)","v":"0"},{"$f":"TRIM(Data!Z79)","v":"0"},{"$f":"TRIM(Data!AA79)","v":"0"},128,"1 Nov 2024 to 30 Nov 2024","HONG KONG BAPTIST HOSPITAL","HK BAPTIST HOSPITAL","PH","3650324540","LABMB","1","Trakcare","Local System","2935","0","2935","0","0","","0","0","0","0","0","0","0","0","0","0","0","0","","0","0","0","0","0","0","0","0","0","0"]
["1 Nov 2024 to 30 Nov 20243098159131PROB","1 Nov 2024 to 30 Nov 2024","HOSPITAL AUTHORITY","HA","HA",3098159131,"PROB",3,"Enterprise Application Integration (EAI)","Local System",1246452,0,0,0,1246452,null,0,0,0,0,0,0,0,0,0,0,0,0,null,1246452,1,0,0,0,0,0,0,0,0,"","","","1 Nov 2024 to 30 Nov 20243650324540AL1",{"$f":"Data!A80","v":"2024-11-01"},{"$f":"TRIM(Data!B80)","v":"HONG KONG BAPTIST HOSPITAL"},null,{"$f":"TRIM(Data!C80)","v":"PH"},{"$f":"TRIM(Data!D80)","v":"3650324540"},{"$f":"TRIM(Data!E80)","v":"AL1"},{"$f":"TRIM(Data!F80)","v":"3"},{"$f":"TRIM(Data!G80)","v":"Trakcare"},{"$f":"TRIM(Data!H80)","v":"Local System"},{"$f":"TRIM(Data!I80)","v":"1961"},{"$f":"TRIM(Data!J80)","v":"2"},{"$f":"TRIM(Data!K80)","v":"0"},{"$f":"TRIM(Data!L80)","v":"1170"},{"$f":"TRIM(Data!M80)","v":"789"},null,null,null,{"$f":"TRIM(Data!N80)","v":"2"},{"$f":"TRIM(Data!O80)","v":"0"},{"$f":"TRIM(Data!P80)","v":"1169"},null,{"$f":"TRIM(Data!Q80)","v":"1169"},null,null,{"$f":"TRIM(Data!R80)","v":"1169"},{"$f":"TRIM(Data!S80)","v":"0"},{"$f":"TRIM(Data!T80)","v":"0"},null,null,null,{"$f":"TRIM(Data!U80)","v":"0"},null,{"$f":"TRIM(Data!V80)","v":"0"},{"$f":"TRIM(Data!W80)","v":"0"},{"$f":"TRIM(Data!X80)","v":"0"},{"$f":"TRIM(Data!Y80)","v":"0"},{"$f":"TRIM(Data!Z80)","v":"0"},{"$f":"TRIM(Data!AA80)","v":"0"},124,"1 Nov 2024 to 30 Nov 2024","HONG KONG BAPTIST HOSPITAL","HK BAPTIST HOSPITAL","PH","3650324540","AL1","3","Trakcare","Local System","1961","2","0","1170","789","","2","0.00101988781234064","2","0","1169","0.596124426313106","1169","0","0","1169","0","0","","789","0.402345741968383","0","0","0","0","0","0","0","0"]
["1 Nov 2024 to 30 Nov 20243098159131PX","1 Nov 2024 to 30 Nov 2024","HOSPITAL AUTHORITY","HA","HA",3098159131,"PX",3,"Enterprise Application Integration (EAI)","Local System",391004,0,0,0,391004,null,0,0,0,0,0,0,0,0,0,0,0,0,null,391004,1,0,0,0,0,0,0,0,0,"","","","1 Nov 2024 to 30 Nov 20243650324540LABAP",{"$f":"Data!A81","v":"2024-11-01"},{"$f":"TRIM(Data!B81)","v":"HONG KONG BAPTIST HOSPITAL"},null,{"$f":"TRIM(Data!C81)","v":"PH"},{"$f":"TRIM(Data!D81)","v":"3650324540"},{"$f":"TRIM(Data!E81)","v":"LABAP"},{"$f":"TRIM(Data!F81)","v":"1"},{"$f":"TRIM(Data!G81)","v":"Trakcare"},{"$f":"TRIM(Data!H81)","v":"Local System"},{"$f":"TRIM(Data!I81)","v":"1297"},{"$f":"TRIM(Data!J81)","v":"0"},{"$f":"TRIM(Data!K81)","v":"1297"},{"$f":"TRIM(Data!L81)","v":"0"},{"$f":"TRIM(Data!M81)","v":"0"},null,null,null,{"$f":"TRIM(Data!N81)","v":"0"},{"$f":"TRIM(Data!O81)","v":"0"},{"$f":"TRIM(Data!P81)","v":"0"},null,{"$f":"TRIM(Data!Q81)","v":"0"},null,null,{"$f":"TRIM(Data!R81)","v":"0"},{"$f":"TRIM(Data!S81)","v":"0"},{"$f":"TRIM(Data!T81)","v":"0"},null,null,null,{"$f":"TRIM(Data!U81)","v":"0"},null,{"$f":"TRIM(Data!V81)","v":"0"},{"$f":"TRIM(Data!W81)","v":"0"},{"$f":"TRIM(Data!X81)","v":"0"},{"$f":"TRIM(Data!Y81)","v":"0"},{"$f":"TRIM(Data!Z81)","v":"0"},{"$f":"TRIM(Data!AA81)","v":"0"},126,"1 Nov 2024 to 30 Nov 2024","HONG KONG BAPTIST HOSPITAL","HK BAPTIST HOSPITAL","PH","3650324540","LABAP","1","Trakcare","Local System","1297","0","1297","0","0","","0","0","0","0","0","0","0","0","0","0","0","0","","0","0","0","0","0","0","0","0","0","0"]
["1 Nov 2024 to 30 Nov 20243098159131RAD","1 Nov 2024 to 30 Nov 2024","HOSPITAL AUTHORITY","HA","HA",3098159131,"RAD",3,"Enterprise Application Integration (EAI)","Local System",782842,0,0,0,782842,null,0,0,0,0,0,0,0,0,0,0,0,0,null,782842,1,0,0,0,0,0,0,0,0,"","","","1 Nov 2024 to 30 Nov 20243650324540BIRTH",{"$f":"Data!A82","v":"2024-11-01"},{"$f":"TRIM(Data!B82)","v":"HONG KONG BAPTIST HOSPITAL"},null,{"$f":"TRIM(Data!C82)","v":"PH"},{"$f":"TRIM(Data!D82)","v":"3650324540"},{"$f":"TRIM(Data!E82)","v":"BIRTH"},{"$f":"TRIM(Data!F82)","v":"3"},{"$f":"TRIM(Data!G82)","v":"Trakcare"},{"$f":"TRIM(Data!H82)","v":"Local System"},{"$f":"TRIM(Data!I82)","v":"1"},{"$f":"TRIM(Data!J82)","v":"0"},{"$f":"TRIM(Data!K82)","v":"0"},{"$f":"TRIM(Data!L82)","v":"0"},{"$f":"TRIM(Data!M82)","v":"1"},null,null,null,{"$f":"TRIM(Data!N82)","v":"0"},{"$f":"TRIM(Data!O82)","v":"0"},{"$f":"TRIM(Data!P82)","v":"0"},null,{"$f":"TRIM(Data!Q82)","v":"0"},null,null,{"$f":"TRIM(Data!R82)","v":"0"},{"$f":"TRIM(Data!S82)","v":"0"},{"$f":"TRIM(Data!T82)","v":"0"},null,null,null,{"$f":"TRIM(Data!U82)","v":"0"},null,{"$f":"TRIM(Data!V82)","v":"0"},{"$f":"TRIM(Data!W82)","v":"0"},{"$f":"TRIM(Data!X82)","v":"0"},{"$f":"TRIM(Data!Y82)","v":"0"},{"$f":"TRIM(Data!Z82)","v":"0"},{"$f":"TRIM(Data!AA82)","v":"0"},125,"1 Nov 2024 to 30 Nov 2024","HONG KONG BAPTIST HOSPITAL","HK BAPTIST HOSPITAL","PH","3650324540","BIRTH","3","Trakcare","Local System","1","0","0","0","1","","0","0","0","0","0","0","0","0","0","0","0","0","","1","1","0","0","0","0","0","0","0","0"]
["1 Nov 2024 to 30 Nov 20243098159131REF","1 Nov 2024 to 30 Nov 2024","HOSPITAL AUTHORITY","HA","HA",3098159131,"REF",1,"Enterprise Application Integration (EAI)","Local System",185708,175,185533,0,0,null,175,9.4233958687832506E-4,175,0,0,0,0,0,0,0,0,0,null,0,0,0,0,0,0,0,0,0,0,"","","Y","1 Nov 2024 to 30 Nov 20244480228848RXD",{"$f":"Data!A83","v":"2024-11-01"},{"$f":"TRIM(Data!B83)","v":"HONG KONG BAPTIST HOSPITAL"},null,{"$f":"TRIM(Data!C83)","v":"PH"},{"$f":"TRIM(Data!D83)","v":"4480228848"},{"$f":"TRIM(Data!E83)","v":"RXD"},{"$f":"TRIM(Data!F83)","v":"3,2"},{"$f":"TRIM(Data!G83)","v":"CMS On-ramp"},{"$f":"TRIM(Data!H83)","v":"CMS On-ramp"},{"$f":"TRIM(Data!I83)","v":"724"},{"$f":"TRIM(Data!J83)","v":"0"},{"$f":"TRIM(Data!K83)","v":"0"},{"$f":"TRIM(Data!L83)","v":"56"},{"$f":"TRIM(Data!M83)","v":"668"},null,null,null,{"$f":"TRIM(Data!N83)","v":"0"},{"$f":"TRIM(Data!O83)","v":"0"},{"$f":"TRIM(Data!P83)","v":"0"},null,{"$f":"TRIM(Data!Q83)","v":"0"},null,null,{"$f":"TRIM(Data!R83)","v":"0"},{"$f":"TRIM(Data!S83)","v":"0"},{"$f":"TRIM(Data!T83)","v":"0"},null,null,null,{"$f":"TRIM(Data!U83)","v":"0"},null,{"$f":"TRIM(Data!V83)","v":"0"},{"$f":"TRIM(Data!W83)","v":"0"},{"$f":"TRIM(Data!X83)","v":"0"},{"$f":"TRIM(Data!Y83)","v":"0"},{"$f":"TRIM(Data!Z83)","v":"0"},{"$f":"TRIM(Data!AA83)","v":"0"},160,"1 Nov 2024 to 30 Nov 2024","HONG KONG BAPTIST HOSPITAL (COMMUNITY CLINIC)","HK BAPTIST HOSPITAL","PH","4480228848","RXD","3","Onramp","Local System","724","0","0","56","668","","0","0","0","0","0","0","0","0","0","0","0","0","","668","0.922651933701657","0","0","0","0","0","0","0","0"]
["1 Nov 2024 to 30 Nov 20243098159131RXD","1 Nov 2024 to 30 Nov 2024","HOSPITAL AUTHORITY","HA","HA",3098159131,"RXD",3,"Enterprise Application Integration (EAI)","Local System",16822221,0,0,6402601,10419620,null,0,0,0,0,508034,3.0200173924715412E-2,508034,0,0,508034,0,0,null,10419620,0.6193962140908742,0,0,0,0,0,0,0,0,"","","Y","1 Nov 2024 to 30 Nov 20244480228848RXO",{"$f":"Data!A84","v":"2024-11-01"},{"$f":"TRIM(Data!B84)","v":"HONG KONG BAPTIST HOSPITAL"},null,{"$f":"TRIM(Data!C84)","v":"PH"},{"$f":"TRIM(Data!D84)","v":"4480228848"},{"$f":"TRIM(Data!E84)","v":"RXO"},{"$f":"TRIM(Data!F84)","v":"3,2"},{"$f":"TRIM(Data!G84)","v":"CMS On-ramp"},{"$f":"TRIM(Data!H84)","v":"CMS On-ramp"},{"$f":"TRIM(Data!I84)","v":"724"},{"$f":"TRIM(Data!J84)","v":"0"},{"$f":"TRIM(Data!K84)","v":"0"},{"$f":"TRIM(Data!L84)","v":"56"},{"$f":"TRIM(Data!M84)","v":"668"},null,null,null,{"$f":"TRIM(Data!N84)","v":"0"},{"$f":"TRIM(Data!O84)","v":"0"},{"$f":"TRIM(Data!P84)","v":"0"},null,{"$f":"TRIM(Data!Q84)","v":"0"},null,null,{"$f":"TRIM(Data!R84)","v":"0"},{"$f":"TRIM(Data!S84)","v":"0"},{"$f":"TRIM(Data!T84)","v":"0"},null,null,null,{"$f":"TRIM(Data!U84)","v":"0"},null,{"$f":"TRIM(Data!V84)","v":"0"},{"$f":"TRIM(Data!W84)","v":"0"},{"$f":"TRIM(Data!X84)","v":"0"},{"$f":"TRIM(Data!Y84)","v":"0"},{"$f":"TRIM(Data!Z84)","v":"0"},{"$f":"TRIM(Data!AA84)","v":"0"},161,"1 Nov 2024 to 30 Nov 2024","HONG KONG BAPTIST HOSPITAL (COMMUNITY CLINIC)","HK BAPTIST HOSPITAL","PH","4480228848","RXO","3","Onramp","Local System","724","0","0","56","668","","0","0","0","0","0","0","0","0","0","0","0","0","","668","0.922651933701657","0","0","0","0","0","0","0","0"]
["1 Nov 2024 to 30 Nov 20243098159131RXO","1 Nov 2024 to 30 Nov 2024","HOSPITAL AUTHORITY","HA","HA",3098159131,"RXO",3,"Enterprise Application Integration (EAI)","Local System",9263654,1,0,4179174,5084479,null,1,1.0794876406221563E-7,1,0,170718,1.8428797103173328E-2,170718,0,0,170718,0,0,null,5084479,0.54886322395029008,0,0,0,0,0,0,0,0,"","","Y","1 Nov 2024 to 30 Nov 20244480228848PROB",{"$f":"Data!A85","v":"2024-11-01"},{"$f":"TRIM(Data!B85)","v":"HONG KONG BAPTIST HOSPITAL"},null,{"$f":"TRIM(Data!C85)","v":"PH"},{"$f":"TRIM(Data!D85)","v":"4480228848"},{"$f":"TRIM(Data!E85)","v":"PROB"},{"$f":"TRIM(Data!F85)","v":"3,2"},{"$f":"TRIM(Data!G85)","v":"CMS On-ramp"},{"$f":"TRIM(Data!H85)","v":"CMS On-ramp"},{"$f":"TRIM(Data!I85)","v":"241"},{"$f":"TRIM(Data!J85)","v":"0"},{"$f":"TRIM(Data!K85)","v":"0"},{"$f":"TRIM(Data!L85)","v":"28"},{"$f":"TRIM(Data!M85)","v":"213"},null,null,null,{"$f":"TRIM(Data!N85)","v":"0"},{"$f":"TRIM(Data!O85)","v":"0"},{"$f":"TRIM(Data!P85)","v":"0"},null,{"$f":"TRIM(Data!Q85)","v":"0"},null,null,{"$f":"TRIM(Data!R85)","v":"0"},{"$f":"TRIM(Data!S85)","v":"0"},{"$f":"TRIM(Data!T85)","v":"0"},null,null,null,{"$f":"TRIM(Data!U85)","v":"0"},null,{"$f":"TRIM(Data!V85)","v":"0"},{"$f":"TRIM(Data!W85)","v":"0"},{"$f":"TRIM(Data!X85)","v":"0"},{"$f":"TRIM(Data!Y85)","v":"0"},{"$f":"TRIM(Data!Z85)","v":"0"},{"$f":"TRIM(Data!AA85)","v":"0"},159,"1 Nov 2024 to 30 Nov 2024","HONG KONG BAPTIST HOSPITAL (COMMUNITY CLINIC)","HK BAPTIST HOSPITAL","PH","4480228848","PROB","3","Onramp","Local System","241","0","0","28","213","","0","0","0","0","0","0","0","0","0","0","0","0","","213","0.883817427385892","0","0","0","0","0","0","0","0"]
["1 Nov 2024 to 30 Nov 20243150524068LABGEN","1 Nov 2024 to 30 Nov 2024","KingMed Diagnostics (Hong Kong) Limited","KINGMED DIAGNOSTICS (HK)","GROUP",3150524068,"LABGEN",1,"Pathways Laboratory Information System","Local System",8537,2,8535,0,0,null,2,2.3427433524657375E-4,0,2,0,0,0,0,0,0,0,0,null,0,0,0,0,0,0,0,0,0,0,"","","Y","1 Nov 2024 to 30 Nov 20244480228848ENCTR",{"$f":"Data!A86","v":"2024-11-01"},{"$f":"TRIM(Data!B86)","v":"HONG KONG BAPTIST HOSPITAL"},null,{"$f":"TRIM(Data!C86)","v":"PH"},{"$f":"TRIM(Data!D86)","v":"4480228848"},{"$f":"TRIM(Data!E86)","v":"ENCTR"},{"$f":"TRIM(Data!F86)","v":"3"},{"$f":"TRIM(Data!G86)","v":"CMS On-ramp"},{"$f":"TRIM(Data!H86)","v":"CMS On-ramp"},{"$f":"TRIM(Data!I86)","v":"221"},{"$f":"TRIM(Data!J86)","v":"0"},{"$f":"TRIM(Data!K86)","v":"0"},{"$f":"TRIM(Data!L86)","v":"0"},{"$f":"TRIM(Data!M86)","v":"221"},null,null,null,{"$f":"TRIM(Data!N86)","v":"0"},{"$f":"TRIM(Data!O86)","v":"0"},{"$f":"TRIM(Data!P86)","v":"0"},null,{"$f":"TRIM(Data!Q86)","v":"0"},null,null,{"$f":"TRIM(Data!R86)","v":"0"},{"$f":"TRIM(Data!S86)","v":"0"},{"$f":"TRIM(Data!T86)","v":"0"},null,null,null,{"$f":"TRIM(Data!U86)","v":"0"},null,{"$f":"TRIM(Data!V86)","v":"0"},{"$f":"TRIM(Data!W86)","v":"0"},{"$f":"TRIM(Data!X86)","v":"0"},{"$f":"TRIM(Data!Y86)","v":"0"},{"$f":"TRIM(Data!Z86)","v":"0"},{"$f":"TRIM(Data!AA86)","v":"0"},157,"1 Nov 2024 to 30 Nov 2024","HONG KONG BAPTIST HOSPITAL (COMMUNITY CLINIC)","HK BAPTIST HOSPITAL","PH","4480228848","ENCTR","3","Onramp","Local System","221","0","0","0","221","","0","0","0","0","0","0","0","0","0","0","0","0","","221","1","0","0","0","0","0","0","0","0"]
["1 Nov 2024 to 30 Nov 20243168691844RAD","1 Nov 2024 to 30 Nov 2024","HEALTH IMAGING & CHECK-UP CENTRE LIMITED","HICUC","SOLO",3168691844,"RAD",3,"RHI2","Local System",109,0,0,0,109,null,0,0,0,0,0,0,0,0,0,0,0,0,null,109,1,0,0,0,0,0,0,0,0,"","","Y","1 Nov 2024 to 30 Nov 20244480228848IMMU",{"$f":"Data!A87","v":"2024-11-01"},{"$f":"TRIM(Data!B87)","v":"HONG KONG BAPTIST HOSPITAL"},null,{"$f":"TRIM(Data!C87)","v":"PH"},{"$f":"TRIM(Data!D87)","v":"4480228848"},{"$f":"TRIM(Data!E87)","v":"IMMU"},{"$f":"TRIM(Data!F87)","v":"3,2"},{"$f":"TRIM(Data!G87)","v":"CMS On-ramp"},{"$f":"TRIM(Data!H87)","v":"CMS On-ramp"},{"$f":"TRIM(Data!I87)","v":"25"},{"$f":"TRIM(Data!J87)","v":"0"},{"$f":"TRIM(Data!K87)","v":"0"},{"$f":"TRIM(Data!L87)","v":"0"},{"$f":"TRIM(Data!M87)","v":"25"},null,null,null,{"$f":"TRIM(Data!N87)","v":"0"},{"$f":"TRIM(Data!O87)","v":"0"},{"$f":"TRIM(Data!P87)","v":"0"},null,{"$f":"TRIM(Data!Q87)","v":"0"},null,null,{"$f":"TRIM(Data!R87)","v":"0"},{"$f":"TRIM(Data!S87)","v":"0"},{"$f":"TRIM(Data!T87)","v":"0"},null,null,null,{"$f":"TRIM(Data!U87)","v":"0"},null,{"$f":"TRIM(Data!V87)","v":"0"},{"$f":"TRIM(Data!W87)","v":"0"},{"$f":"TRIM(Data!X87)","v":"0"},{"$f":"TRIM(Data!Y87)","v":"0"},{"$f":"TRIM(Data!Z87)","v":"0"},{"$f":"TRIM(Data!AA87)","v":"0"},158,"1 Nov 2024 to 30 Nov 2024","HONG KONG BAPTIST HOSPITAL (COMMUNITY CLINIC)","HK BAPTIST HOSPITAL","PH","4480228848","IMMU","3","Onramp","Local System","25","0","0","0","25","","0","0","0","0","0","0","0","0","0","0","0","0","","25","1","0","0","0","0","0","0","0","0"]
["1 Nov 2024 to 30 Nov 20243195683775ENCTR","1 Nov 2024 to 30 Nov 2024","Care For You Company Limited","CARE FOR YOU CO LTD","GROUP",3195683775,"ENCTR",3,"CMS5.0 (HKMA)","Local System",1,0,0,0,1,null,0,0,0,0,0,0,0,0,0,0,0,0,null,1,1,0,0,0,0,0,0,0,0,"Y","","Y","1 Nov 2024 to 30 Nov 20244480228848AL1",{"$f":"Data!A88","v":"2024-11-01"},{"$f":"TRIM(Data!B88)","v":"HONG KONG BAPTIST HOSPITAL"},null,{"$f":"TRIM(Data!C88)","v":"PH"},{"$f":"TRIM(Data!D88)","v":"4480228848"},{"$f":"TRIM(Data!E88)","v":"AL1"},{"$f":"TRIM(Data!F88)","v":"3,2"},{"$f":"TRIM(Data!G88)","v":"CMS On-ramp"},{"$f":"TRIM(Data!H88)","v":"CMS On-ramp"},{"$f":"TRIM(Data!I88)","v":"2"},{"$f":"TRIM(Data!J88)","v":"0"},{"$f":"TRIM(Data!K88)","v":"0"},{"$f":"TRIM(Data!L88)","v":"0"},{"$f":"TRIM(Data!M88)","v":"2"},null,null,null,{"$f":"TRIM(Data!N88)","v":"0"},{"$f":"TRIM(Data!O88)","v":"0"},{"$f":"TRIM(Data!P88)","v":"0"},null,{"$f":"TRIM(Data!Q88)","v":"0"},null,null,{"$f":"TRIM(Data!R88)","v":"0"},{"$f":"TRIM(Data!S88)","v":"0"},{"$f":"TRIM(Data!T88)","v":"0"},null,null,null,{"$f":"TRIM(Data!U88)","v":"0"},null,{"$f":"TRIM(Data!V88)","v":"0"},{"$f":"TRIM(Data!W88)","v":"0"},{"$f":"TRIM(Data!X88)","v":"0"},{"$f":"TRIM(Data!Y88)","v":"0"},{"$f":"TRIM(Data!Z88)","v":"0"},{"$f":"TRIM(Data!AA88)","v":"0"},156,"1 Nov 2024 to 30 Nov 2024","HONG KONG BAPTIST HOSPITAL (COMMUNITY CLINIC)","HK BAPTIST HOSPITAL","PH","4480228848","AL1","3","Onramp","Local System","2","0","0","0","2","","0","0","0","0","0","0","0","0","0","0","0","0","","2","1","0","0","0","0","0","0","0","0"]
["1 Nov 2024 to 30 Nov 20243226804803ENCTR","1 Nov 2024 to 30 Nov 2024","DR. LEUNG KIN KAY","DR. LEUNG KIN KAY","SOLO",3226804803,"ENCTR",3,"Local System","Local System",49,0,0,0,49,null,0,0,0,0,0,0,0,0,0,0,0,0,null,49,1,0,0,0,0,0,0,0,0,"","","Y","1 Nov 2024 to 30 Nov 20244578805814RXO",{"$f":"Data!A89","v":"2024-11-01"},{"$f":"TRIM(Data!B89)","v":"THE HONG KONG POLYTECHNIC UNIVERSITY"},null,{"$f":"TRIM(Data!C89)","v":"ACAD"},{"$f":"TRIM(Data!D89)","v":"4578805814"},{"$f":"TRIM(Data!E89)","v":"RXO"},{"$f":"TRIM(Data!F89)","v":"3"},{"$f":"TRIM(Data!G89)","v":"ClinicMaster Information System"},{"$f":"TRIM(Data!H89)","v":"Local System"},{"$f":"TRIM(Data!I89)","v":"21202"},{"$f":"TRIM(Data!J89)","v":"4"},{"$f":"TRIM(Data!K89)","v":"0"},{"$f":"TRIM(Data!L89)","v":"2023"},{"$f":"TRIM(Data!M89)","v":"19175"},null,null,null,{"$f":"TRIM(Data!N89)","v":"4"},{"$f":"TRIM(Data!O89)","v":"0"},{"$f":"TRIM(Data!P89)","v":"2024"},null,{"$f":"TRIM(Data!Q89)","v":"2024"},null,null,{"$f":"TRIM(Data!R89)","v":"2024"},{"$f":"TRIM(Data!S89)","v":"0"},{"$f":"TRIM(Data!T89)","v":"0"},null,null,null,{"$f":"TRIM(Data!U89)","v":"0"},null,{"$f":"TRIM(Data!V89)","v":"0"},{"$f":"TRIM(Data!W89)","v":"0"},{"$f":"TRIM(Data!X89)","v":"0"},{"$f":"TRIM(Data!Y89)","v":"0"},{"$f":"TRIM(Data!Z89)","v":"0"},{"$f":"TRIM(Data!AA89)","v":"0"},164,"1 Nov 2024 to 30 Nov 2024","THE HONG KONG POLYTECHNIC UNIVERSITY","POLYU","HCAI","4578805814","RXO","3","ClinicMaster Information System","Local System","21202","4","0","2023","19175","","4","0.000188661447033299","4","0","2024","0.0954626921988492","2024","0","0","2024","0","0","","19175","0.904395811715876","0","0","0","0","0","0","0","0"]
["1 Nov 2024 to 30 Nov 20243226804803IMMU","1 Nov 2024 to 30 Nov 2024","DR. LEUNG KIN KAY","DR. LEUNG KIN KAY","SOLO",3226804803,"IMMU",3,"Local System","Local System",1,0,0,0,1,null,0,0,0,0,0,0,0,0,0,0,0,0,null,1,1,0,0,0,0,0,0,0,0,"","","Y","1 Nov 2024 to 30 Nov 20244578805814ENCTR",{"$f":"Data!A90","v":"2024-11-01"},{"$f":"TRIM(Data!B90)","v":"THE HONG KONG POLYTECHNIC UNIVERSITY"},null,{"$f":"TRIM(Data!C90)","v":"ACAD"},{"$f":"TRIM(Data!D90)","v":"4578805814"},{"$f":"TRIM(Data!E90)","v":"ENCTR"},{"$f":"TRIM(Data!F90)","v":"3"},{"$f":"TRIM(Data!G90)","v":"ClinicMaster Information System"},{"$f":"TRIM(Data!H90)","v":"Local System"},{"$f":"TRIM(Data!I90)","v":"268"},{"$f":"TRIM(Data!J90)","v":"0"},{"$f":"TRIM(Data!K90)","v":"0"},{"$f":"TRIM(Data!L90)","v":"0"},{"$f":"TRIM(Data!M90)","v":"268"},null,null,null,{"$f":"TRIM(Data!N90)","v":"0"},{"$f":"TRIM(Data!O90)","v":"0"},{"$f":"TRIM(Data!P90)","v":"0"},null,{"$f":"TRIM(Data!Q90)","v":"0"},null,null,{"$f":"TRIM(Data!R90)","v":"0"},{"$f":"TRIM(Data!S90)","v":"0"},{"$f":"TRIM(Data!T90)","v":"0"},null,null,null,{"$f":"TRIM(Data!U90)","v":"0"},null,{"$f":"TRIM(Data!V90)","v":"0"},{"$f":"TRIM(Data!W90)","v":"0"},{"$f":"TRIM(Data!X90)","v":"0"},{"$f":"TRIM(Data!Y90)","v":"0"},{"$f":"TRIM(Data!Z90)","v":"0"},{"$f":"TRIM(Data!AA90)","v":"0"},162,"1 Nov 2024 to 30 Nov 2024","THE HONG KONG POLYTECHNIC UNIVERSITY","POLYU","HCAI","4578805814","ENCTR","3","ClinicMaster Information System","Local System","268","0","0","0","268","","0","0","0","0","0","0","0","0","0","0","0","0","","268","1","0","0","0","0","0","0","0","0"]
["1 Nov 2024 to 30 Nov 20243226804803PROB","1 Nov 2024 to 30 Nov 2024","DR. LEUNG KIN KAY","DR. LEUNG KIN KAY","SOLO",3226804803,"PROB",3,"Local System","Local System",22,0,0,0,22,null,0,0,0,0,0,0,0,0,0,0,0,0,null,22,1,0,0,0,0,0,0,0,0,"","","Y","1 Nov 2024 to 30 Nov 20244578805814IMMU",{"$f":"Data!A91","v":"2024-11-01"},{"$f":"TRIM(Data!B91)","v":"THE HONG KONG POLYTECHNIC UNIVERSITY"},null,{"$f":"TRIM(Data!C91)","v":"ACAD"},{"$f":"TRIM(Data!D91)","v":"4578805814"},{"$f":"TRIM(Data!E91)","v":"IMMU"},{"$f":"TRIM(Data!F91)","v":"3"},{"$f":"TRIM(Data!G91)","v":"ClinicMaster Information System"},{"$f":"TRIM(Data!H91)","v":"Local System"},{"$f":"TRIM(Data!I91)","v":"38"},{"$f":"TRIM(Data!J91)","v":"0"},{"$f":"TRIM(Data!K91)","v":"0"},{"$f":"TRIM(Data!L91)","v":"0"},{"$f":"TRIM(Data!M91)","v":"38"},null,null,null,{"$f":"TRIM(Data!N91)","v":"0"},{"$f":"TRIM(Data!O91)","v":"0"},{"$f":"TRIM(Data!P91)","v":"0"},null,{"$f":"TRIM(Data!Q91)","v":"0"},null,null,{"$f":"TRIM(Data!R91)","v":"0"},{"$f":"TRIM(Data!S91)","v":"0"},{"$f":"TRIM(Data!T91)","v":"0"},null,null,null,{"$f":"TRIM(Data!U91)","v":"0"},null,{"$f":"TRIM(Data!V91)","v":"0"},{"$f":"TRIM(Data!W91)","v":"0"},{"$f":"TRIM(Data!X91)","v":"0"},{"$f":"TRIM(Data!Y91)","v":"0"},{"$f":"TRIM(Data!Z91)","v":"0"},{"$f":"TRIM(Data!AA91)","v":"0"},163,"1 Nov 2024 to 30 Nov 2024","THE HONG KONG POLYTECHNIC UNIVERSITY","POLYU","HCAI","4578805814","IMMU","3","ClinicMaster Information System","Local System","38","0","0","0","38","","0","0","0","0","0","0","0","0","0","0","0","0","","38","1","0","0","0","0","0","0","0","0"]
["1 Nov 2024 to 30 Nov 20243226804803RXD","1 Nov 2024 to 30 Nov 2024","DR. LEUNG KIN KAY","DR. LEUNG KIN KAY","SOLO",3226804803,"RXD",3,"Local System","Local System",31,0,0,1,30,null,0,0,0,0,0,0,0,0,0,0,0,0,null,30,0.967741935483871,1,3.2258064516129031E-2,0,0,0,1,0,0,"","","Y","1 Nov 2024 to 30 Nov 20247969980015RXD",{"$f":"Data!A92","v":"2024-11-01"},{"$f":"TRIM(Data!B92)","v":"ST. TERESA'S HOSPITAL"},null,{"$f":"TRIM(Data!C92)","v":"PH"},{"$f":"TRIM(Data!D92)","v":"7969980015"},{"$f":"TRIM(Data!E92)","v":"RXD"},{"$f":"TRIM(Data!F92)","v":"3"},{"$f":"TRIM(Data!G92)","v":"STH HIS"},{"$f":"TRIM(Data!H92)","v":"Local System"},{"$f":"TRIM(Data!I92)","v":"11275"},{"$f":"TRIM(Data!J92)","v":"13"},{"$f":"TRIM(Data!K92)","v":"0"},{"$f":"TRIM(Data!L92)","v":"412"},{"$f":"TRIM(Data!M92)","v":"10850"},null,null,null,{"$f":"TRIM(Data!N92)","v":"13"},{"$f":"TRIM(Data!O92)","v":"0"},{"$f":"TRIM(Data!P92)","v":"412"},null,{"$f":"TRIM(Data!Q92)","v":"412"},null,null,{"$f":"TRIM(Data!R92)","v":"412"},{"$f":"TRIM(Data!S92)","v":"0"},{"$f":"TRIM(Data!T92)","v":"0"},null,null,null,{"$f":"TRIM(Data!U92)","v":"0"},null,{"$f":"TRIM(Data!V92)","v":"0"},{"$f":"TRIM(Data!W92)","v":"0"},{"$f":"TRIM(Data!X92)","v":"0"},{"$f":"TRIM(Data!Y92)","v":"0"},{"$f":"TRIM(Data!Z92)","v":"0"},{"$f":"TRIM(Data!AA92)","v":"0"},335,"1 Nov 2024 to 30 Nov 2024","ST.TERESA's HOSPITAL","STH","PH","7969980015","RXD","3","STH HIS","Local System","11275","13","0","412","10850","","13","0.0011529933481153","13","0","412","0.0365410199556541","412","0","0","412","0","0","","10850","0.962305986696231","0","0","0","0","0","0","0","0"]
["1 Nov 2024 to 30 Nov 20243226804803RXO","1 Nov 2024 to 30 Nov 2024","DR. LEUNG KIN KAY","DR. LEUNG KIN KAY","SOLO",3226804803,"RXO",3,"Local System","Local System",31,0,0,1,30,null,0,0,0,0,0,0,0,0,0,0,0,0,null,30,0.967741935483871,1,3.2258064516129031E-2,0,0,0,1,0,0,"","","Y","1 Nov 2024 to 30 Nov 20247969980015RAD",{"$f":"Data!A93","v":"2024-11-01"},{"$f":"TRIM(Data!B93)","v":"ST. TERESA'S HOSPITAL"},null,{"$f":"TRIM(Data!C93)","v":"PH"},{"$f":"TRIM(Data!D93)","v":"7969980015"},{"$f":"TRIM(Data!E93)","v":"RAD"},{"$f":"TRIM(Data!F93)","v":"3"},{"$f":"TRIM(Data!G93)","v":"STH HIS"},{"$f":"TRIM(Data!H93)","v":"Local System"},{"$f":"TRIM(Data!I93)","v":"4611"},{"$f":"TRIM(Data!J93)","v":"0"},{"$f":"TRIM(Data!K93)","v":"0"},{"$f":"TRIM(Data!L93)","v":"0"},{"$f":"TRIM(Data!M93)","v":"4611"},null,null,null,{"$f":"TRIM(Data!N93)","v":"0"},{"$f":"TRIM(Data!O93)","v":"0"},{"$f":"TRIM(Data!P93)","v":"0"},null,{"$f":"TRIM(Data!Q93)","v":"0"},null,null,{"$f":"TRIM(Data!R93)","v":"0"},{"$f":"TRIM(Data!S93)","v":"0"},{"$f":"TRIM(Data!T93)","v":"0"},null,null,null,{"$f":"TRIM(Data!U93)","v":"0"},null,{"$f":"TRIM(Data!V93)","v":"0"},{"$f":"TRIM(Data!W93)","v":"0"},{"$f":"TRIM(Data!X93)","v":"0"},{"$f":"TRIM(Data!Y93)","v":"0"},{"$f":"TRIM(Data!Z93)","v":"0"},{"$f":"TRIM(Data!AA93)","v":"0"},334,"1 Nov 2024 to 30 Nov 2024","ST.TERESA's HOSPITAL","STH","PH","7969980015","RAD","3","STH HIS","Local System","4611","0","0","0","4611","","0","0","0","0","0","0","0","0","0","0","0","0","","4611","1","0","0","0","0","0","0","0","0"]
["1 Nov 2024 to 30 Nov 20243237753992CMPROB","1 Nov 2024 to 30 Nov 2024","18 Chinese Medicine Clinic cum Traing and Research Centre (Haven of Hope)","18CMCTRs(HOHCS)","NGO",3237753992,"CMPROB",3,"Local System","EC Connect",2662,0,0,505,2157,null,0,0,0,0,396,0.1487603305785124,396,0,0,396,0,0,null,2157,0.81029301277235166,0,0,0,0,0,0,0,0,"","","Y","1 Nov 2024 to 30 Nov 20247969980015EPIS",{"$f":"Data!A94","v":"2024-11-01"},{"$f":"TRIM(Data!B94)","v":"ST. TERESA'S HOSPITAL"},null,{"$f":"TRIM(Data!C94)","v":"PH"},{"$f":"TRIM(Data!D94)","v":"7969980015"},{"$f":"TRIM(Data!E94)","v":"EPIS"},{"$f":"TRIM(Data!F94)","v":"1"},{"$f":"TRIM(Data!G94)","v":"STH HIS"},{"$f":"TRIM(Data!H94)","v":"Local System"},{"$f":"TRIM(Data!I94)","v":"1417"},{"$f":"TRIM(Data!J94)","v":"0"},{"$f":"TRIM(Data!K94)","v":"1417"},{"$f":"TRIM(Data!L94)","v":"0"},{"$f":"TRIM(Data!M94)","v":"0"},null,null,null,{"$f":"TRIM(Data!N94)","v":"0"},{"$f":"TRIM(Data!O94)","v":"0"},{"$f":"TRIM(Data!P94)","v":"0"},null,{"$f":"TRIM(Data!Q94)","v":"0"},null,null,{"$f":"TRIM(Data!R94)","v":"0"},{"$f":"TRIM(Data!S94)","v":"0"},{"$f":"TRIM(Data!T94)","v":"0"},null,null,null,{"$f":"TRIM(Data!U94)","v":"0"},null,{"$f":"TRIM(Data!V94)","v":"0"},{"$f":"TRIM(Data!W94)","v":"0"},{"$f":"TRIM(Data!X94)","v":"0"},{"$f":"TRIM(Data!Y94)","v":"0"},{"$f":"TRIM(Data!Z94)","v":"0"},{"$f":"TRIM(Data!AA94)","v":"0"},332,"1 Nov 2024 to 30 Nov 2024","ST.TERESA's HOSPITAL","STH","PH","7969980015","EPIS","1","STH HIS","Local System","1417","0","1417","0","0","","0","0","0","0","0","0","0","0","0","0","0","0","","0","0","0","0","0","0","0","0","0","0"]
["1 Nov 2024 to 30 Nov 20243237753992CMPX","1 Nov 2024 to 30 Nov 2024","18 Chinese Medicine Clinic cum Traing and Research Centre (Haven of Hope)","18CMCTRs(HOHCS)","NGO",3237753992,"CMPX",3,"Local System","EC Connect",621,0,0,0,621,null,0,0,0,0,0,0,0,0,0,0,0,0,null,621,1,0,0,0,0,0,0,0,0,"","","Y","1 Nov 2024 to 30 Nov 20247969980015LABAP",{"$f":"Data!A95","v":"2024-11-01"},{"$f":"TRIM(Data!B95)","v":"ST. TERESA'S HOSPITAL"},null,{"$f":"TRIM(Data!C95)","v":"PH"},{"$f":"TRIM(Data!D95)","v":"7969980015"},{"$f":"TRIM(Data!E95)","v":"LABAP"},{"$f":"TRIM(Data!F95)","v":"1"},{"$f":"TRIM(Data!G95)","v":"STH HIS"},{"$f":"TRIM(Data!H95)","v":"Local System"},{"$f":"TRIM(Data!I95)","v":"886"},{"$f":"TRIM(Data!J95)","v":"0"},{"$f":"TRIM(Data!K95)","v":"886"},{"$f":"TRIM(Data!L95)","v":"0"},{"$f":"TRIM(Data!M95)","v":"0"},null,null,null,{"$f":"TRIM(Data!N95)","v":"0"},{"$f":"TRIM(Data!O95)","v":"0"},{"$f":"TRIM(Data!P95)","v":"0"},null,{"$f":"TRIM(Data!Q95)","v":"0"},null,null,{"$f":"TRIM(Data!R95)","v":"0"},{"$f":"TRIM(Data!S95)","v":"0"},{"$f":"TRIM(Data!T95)","v":"0"},null,null,null,{"$f":"TRIM(Data!U95)","v":"0"},null,{"$f":"TRIM(Data!V95)","v":"0"},{"$f":"TRIM(Data!W95)","v":"0"},{"$f":"TRIM(Data!X95)","v":"0"},{"$f":"TRIM(Data!Y95)","v":"0"},{"$f":"TRIM(Data!Z95)","v":"0"},{"$f":"TRIM(Data!AA95)","v":"0"},333,"1 Nov 2024 to 30 Nov 2024","ST.TERESA's HOSPITAL","STH","PH","7969980015","LABAP","1","STH HIS","Local System","886","0","886","0","0","","0","0","0","0","0","0","0","0","0","0","0","0","","0","0","0","0","0","0","0","0","0","0"]
["1 Nov 2024 to 30 Nov 20243237753992CMRXO","1 Nov 2024 to 30 Nov 2024","18 Chinese Medicine Clinic cum Traing and Research Centre (Haven of Hope)","18CMCTRs(HOHCS)","NGO",3237753992,"CMRXO",3,"Local System","EC Connect",981,0,0,306,675,null,0,0,0,0,306,0.31192660550458717,306,0,0,306,0,0,null,675,0.68807339449541283,0,0,0,0,0,0,0,0,"","","Y","1 Nov 2024 to 30 Nov 20247969980015AL1",{"$f":"Data!A96","v":"2024-11-01"},{"$f":"TRIM(Data!B96)","v":"ST. TERESA'S HOSPITAL"},null,{"$f":"TRIM(Data!C96)","v":"PH"},{"$f":"TRIM(Data!D96)","v":"7969980015"},{"$f":"TRIM(Data!E96)","v":"AL1"},{"$f":"TRIM(Data!F96)","v":"3"},{"$f":"TRIM(Data!G96)","v":"STH HIS"},{"$f":"TRIM(Data!H96)","v":"Local System"},{"$f":"TRIM(Data!I96)","v":"264"},{"$f":"TRIM(Data!J96)","v":"0"},{"$f":"TRIM(Data!K96)","v":"0"},{"$f":"TRIM(Data!L96)","v":"90"},{"$f":"TRIM(Data!M96)","v":"174"},null,null,null,{"$f":"TRIM(Data!N96)","v":"0"},{"$f":"TRIM(Data!O96)","v":"0"},{"$f":"TRIM(Data!P96)","v":"79"},null,{"$f":"TRIM(Data!Q96)","v":"79"},null,null,{"$f":"TRIM(Data!R96)","v":"79"},{"$f":"TRIM(Data!S96)","v":"0"},{"$f":"TRIM(Data!T96)","v":"0"},null,null,null,{"$f":"TRIM(Data!U96)","v":"0"},null,{"$f":"TRIM(Data!V96)","v":"0"},{"$f":"TRIM(Data!W96)","v":"0"},{"$f":"TRIM(Data!X96)","v":"0"},{"$f":"TRIM(Data!Y96)","v":"0"},{"$f":"TRIM(Data!Z96)","v":"0"},{"$f":"TRIM(Data!AA96)","v":"0"},330,"1 Nov 2024 to 30 Nov 2024","ST.TERESA's HOSPITAL","STH","PH","7969980015","AL1","3","STH HIS","Local System","264","0","0","90","174","","0","0","0","0","79","0.299242424242424","79","0","0","79","0","0","","174","0.659090909090909","0","0","0","0","0","0","0","0"]
["1 Nov 2024 to 30 Nov 20243237753992ENCTR","1 Nov 2024 to 30 Nov 2024","18 Chinese Medicine Clinic cum Traing and Research Centre (Haven of Hope)","18CMCTRs(HOHCS)","NGO",3237753992,"ENCTR",3,"Local System","Local System",2452,0,0,0,2452,null,0,0,0,0,0,0,0,0,0,0,0,0,null,2452,1,0,0,0,0,0,0,0,0,"","","Y","1 Nov 2024 to 30 Nov 20247969980015ADR",{"$f":"Data!A97","v":"2024-11-01"},{"$f":"TRIM(Data!B97)","v":"ST. TERESA'S HOSPITAL"},null,{"$f":"TRIM(Data!C97)","v":"PH"},{"$f":"TRIM(Data!D97)","v":"7969980015"},{"$f":"TRIM(Data!E97)","v":"ADR"},{"$f":"TRIM(Data!F97)","v":"3"},{"$f":"TRIM(Data!G97)","v":"STH HIS"},{"$f":"TRIM(Data!H97)","v":"Local System"},{"$f":"TRIM(Data!I97)","v":"24"},{"$f":"TRIM(Data!J97)","v":"0"},{"$f":"TRIM(Data!K97)","v":"0"},{"$f":"TRIM(Data!L97)","v":"0"},{"$f":"TRIM(Data!M97)","v":"24"},null,null,null,{"$f":"TRIM(Data!N97)","v":"0"},{"$f":"TRIM(Data!O97)","v":"0"},{"$f":"TRIM(Data!P97)","v":"0"},null,{"$f":"TRIM(Data!Q97)","v":"0"},null,null,{"$f":"TRIM(Data!R97)","v":"0"},{"$f":"TRIM(Data!S97)","v":"0"},{"$f":"TRIM(Data!T97)","v":"0"},null,null,null,{"$f":"TRIM(Data!U97)","v":"0"},null,{"$f":"TRIM(Data!V97)","v":"0"},{"$f":"TRIM(Data!W97)","v":"0"},{"$f":"TRIM(Data!X97)","v":"0"},{"$f":"TRIM(Data!Y97)","v":"0"},{"$f":"TRIM(Data!Z97)","v":"0"},{"$f":"TRIM(Data!AA97)","v":"0"},329,"1 Nov 2024 to 30 Nov 2024","ST.TERESA's HOSPITAL","STH","PH","7969980015","ADR","3","STH HIS","Local System","24","0","0","0","24","","0","0","0","0","0","0","0","0","0","0","0","0","","24","1","0","0","0","0","0","0","0","0"]
["1 Nov 2024 to 30 Nov 20243425265108ENCTR","1 Nov 2024 to 30 Nov 2024","Choi Ying Medical Centre LTD","CHOI YING MEDICAL CTR LTD","SOLO",3425265108,"ENCTR",3,"ClinicSolution","Local System",109,0,0,0,109,null,0,0,0,0,0,0,0,0,0,0,0,0,null,109,1,0,0,0,0,0,0,0,0,"","","Y","1 Nov 2024 to 30 Nov 20247969980015BIRTH",{"$f":"Data!A98","v":"2024-11-01"},{"$f":"TRIM(Data!B98)","v":"ST. TERESA'S HOSPITAL"},null,{"$f":"TRIM(Data!C98)","v":"PH"},{"$f":"TRIM(Data!D98)","v":"7969980015"},{"$f":"TRIM(Data!E98)","v":"BIRTH"},{"$f":"TRIM(Data!F98)","v":"3"},{"$f":"TRIM(Data!G98)","v":"STH HIS"},{"$f":"TRIM(Data!H98)","v":"Local System"},{"$f":"TRIM(Data!I98)","v":"6"},{"$f":"TRIM(Data!J98)","v":"0"},{"$f":"TRIM(Data!K98)","v":"0"},{"$f":"TRIM(Data!L98)","v":"0"},{"$f":"TRIM(Data!M98)","v":"6"},null,null,null,{"$f":"TRIM(Data!N98)","v":"0"},{"$f":"TRIM(Data!O98)","v":"0"},{"$f":"TRIM(Data!P98)","v":"0"},null,{"$f":"TRIM(Data!Q98)","v":"0"},null,null,{"$f":"TRIM(Data!R98)","v":"0"},{"$f":"TRIM(Data!S98)","v":"0"},{"$f":"TRIM(Data!T98)","v":"0"},null,null,null,{"$f":"TRIM(Data!U98)","v":"0"},null,{"$f":"TRIM(Data!V98)","v":"0"},{"$f":"TRIM(Data!W98)","v":"0"},{"$f":"TRIM(Data!X98)","v":"0"},{"$f":"TRIM(Data!Y98)","v":"0"},{"$f":"TRIM(Data!Z98)","v":"0"},{"$f":"TRIM(Data!AA98)","v":"0"},331,"1 Nov 2024 to 30 Nov 2024","ST.TERESA's HOSPITAL","STH","PH","7969980015","BIRTH","3","STH HIS","Local System","6","0","0","0","6","","0","0","0","0","0","0","0","0","0","0","0","0","","6","1","0","0","0","0","0","0","0","0"]
["1 Nov 2024 to 30 Nov 20243425265108PROB","1 Nov 2024 to 30 Nov 2024","Choi Ying Medical Centre LTD","CHOI YING MEDICAL CTR LTD","SOLO",3425265108,"PROB",3,"ClinicSolution","Local System",86,0,0,86,0,null,0,0,0,0,86,1,86,0,0,86,0,0,null,0,0,0,0,0,0,0,0,0,0,"","","Y","1 Nov 2024 to 30 Nov 20249043776781ENCTR",{"$f":"Data!A99","v":"2024-11-01"},{"$f":"TRIM(Data!B99)","v":"DISTRICT HEALTH CENTRE-TSUEN WAN (YCHB)"},null,{"$f":"TRIM(Data!C99)","v":"DHC"},{"$f":"TRIM(Data!D99)","v":"9043776781"},{"$f":"TRIM(Data!E99)","v":"ENCTR"},{"$f":"TRIM(Data!F99)","v":"3"},{"$f":"TRIM(Data!G99)","v":"DHCCMS"},{"$f":"TRIM(Data!H99)","v":"Local System"},{"$f":"TRIM(Data!I99)","v":"13084"},{"$f":"TRIM(Data!J99)","v":"0"},{"$f":"TRIM(Data!K99)","v":"0"},{"$f":"TRIM(Data!L99)","v":"0"},{"$f":"TRIM(Data!M99)","v":"13084"},null,null,null,{"$f":"TRIM(Data!N99)","v":"0"},{"$f":"TRIM(Data!O99)","v":"0"},{"$f":"TRIM(Data!P99)","v":"0"},null,{"$f":"TRIM(Data!Q99)","v":"0"},null,null,{"$f":"TRIM(Data!R99)","v":"0"},{"$f":"TRIM(Data!S99)","v":"0"},{"$f":"TRIM(Data!T99)","v":"0"},null,null,null,{"$f":"TRIM(Data!U99)","v":"0"},null,{"$f":"TRIM(Data!V99)","v":"0"},{"$f":"TRIM(Data!W99)","v":"0"},{"$f":"TRIM(Data!X99)","v":"0"},{"$f":"TRIM(Data!Y99)","v":"0"},{"$f":"TRIM(Data!Z99)","v":"0"},{"$f":"TRIM(Data!AA99)","v":"0"},400,"1 Nov 2024 to 30 Nov 2024","DISTRICT HEALTH CENTRE-TSUEN WAN (YCHB)","DHC-TSUEN WAN","DHC","9043776781","ENCTR","3","Local System","Local System","13084","0","0","0","13084","","0","0","0","0","0","0","0","0","0","0","0","0","","13084","1","0","0","0","0","0","0","0","0"]
["1 Nov 2024 to 30 Nov 20243425265108RXD","1 Nov 2024 to 30 Nov 2024","Choi Ying Medical Centre LTD","CHOI YING MEDICAL CTR LTD","SOLO",3425265108,"RXD",2,"ClinicSolution","Local System",420,0,0,420,0,null,0,0,0,0,0,0,0,0,0,0,0,0,null,0,0,0,0,0,0,0,0,0,0,"","","Y","1 Nov 2024 to 30 Nov 20249043776781EPIS",{"$f":"Data!A100","v":"2024-11-01"},{"$f":"TRIM(Data!B100)","v":"DISTRICT HEALTH CENTRE-TSUEN WAN (YCHB)"},null,{"$f":"TRIM(Data!C100)","v":"DHC"},{"$f":"TRIM(Data!D100)","v":"9043776781"},{"$f":"TRIM(Data!E100)","v":"EPIS"},{"$f":"TRIM(Data!F100)","v":"1"},{"$f":"TRIM(Data!G100)","v":"DHCCMS"},{"$f":"TRIM(Data!H100)","v":"Local System"},{"$f":"TRIM(Data!I100)","v":"5386"},{"$f":"TRIM(Data!J100)","v":"0"},{"$f":"TRIM(Data!K100)","v":"5386"},{"$f":"TRIM(Data!L100)","v":"0"},{"$f":"TRIM(Data!M100)","v":"0"},null,null,null,{"$f":"TRIM(Data!N100)","v":"0"},{"$f":"TRIM(Data!O100)","v":"0"},{"$f":"TRIM(Data!P100)","v":"0"},null,{"$f":"TRIM(Data!Q100)","v":"0"},null,null,{"$f":"TRIM(Data!R100)","v":"0"},{"$f":"TRIM(Data!S100)","v":"0"},{"$f":"TRIM(Data!T100)","v":"0"},null,null,null,{"$f":"TRIM(Data!U100)","v":"0"},null,{"$f":"TRIM(Data!V100)","v":"0"},{"$f":"TRIM(Data!W100)","v":"0"},{"$f":"TRIM(Data!X100)","v":"0"},{"$f":"TRIM(Data!Y100)","v":"0"},{"$f":"TRIM(Data!Z100)","v":"0"},{"$f":"TRIM(Data!AA100)","v":"0"},401,"1 Nov 2024 to 30 Nov 2024","DISTRICT HEALTH CENTRE-TSUEN WAN (YCHB)","DHC-TSUEN WAN","DHC","9043776781","EPIS","1","Local System","Local System","5386","0","5386","0","0","","0","0","0","0","0","0","0","0","0","0","0","0","","0","0","0","0","0","0","0","0","0","0"]
["1 Nov 2024 to 30 Nov 20243425265108RXO","1 Nov 2024 to 30 Nov 2024","Choi Ying Medical Centre LTD","CHOI YING MEDICAL CTR LTD","SOLO",3425265108,"RXO",2,"ClinicSolution","Local System",420,0,0,420,0,null,0,0,0,0,0,0,0,0,0,0,0,0,null,0,0,0,0,0,0,0,0,0,0,"","","Y","1 Nov 2024 to 30 Nov 20249043776781AL1",{"$f":"Data!A101","v":"2024-11-01"},{"$f":"TRIM(Data!B101)","v":"DISTRICT HEALTH CENTRE-TSUEN WAN (YCHB)"},null,{"$f":"TRIM(Data!C101)","v":"DHC"},{"$f":"TRIM(Data!D101)","v":"9043776781"},{"$f":"TRIM(Data!E101)","v":"AL1"},{"$f":"TRIM(Data!F101)","v":"3"},{"$f":"TRIM(Data!G101)","v":"DHCCMS"},{"$f":"TRIM(Data!H101)","v":"Local System"},{"$f":"TRIM(Data!I101)","v":"5"},{"$f":"TRIM(Data!J101)","v":"0"},{"$f":"TRIM(Data!K101)","v":"0"},{"$f":"TRIM(Data!L101)","v":"0"},{"$f":"TRIM(Data!M101)","v":"5"},null,null,null,{"$f":"TRIM(Data!N101)","v":"0"},{"$f":"TRIM(Data!O101)","v":"0"},{"$f":"TRIM(Data!P101)","v":"0"},null,{"$f":"TRIM(Data!Q101)","v":"0"},null,null,{"$f":"TRIM(Data!R101)","v":"0"},{"$f":"TRIM(Data!S101)","v":"0"},{"$f":"TRIM(Data!T101)","v":"0"},null,null,null,{"$f":"TRIM(Data!U101)","v":"0"},null,{"$f":"TRIM(Data!V101)","v":"0"},{"$f":"TRIM(Data!W101)","v":"0"},{"$f":"TRIM(Data!X101)","v":"0"},{"$f":"TRIM(Data!Y101)","v":"0"},{"$f":"TRIM(Data!Z101)","v":"0"},{"$f":"TRIM(Data!AA101)","v":"0"},399,"1 Nov 2024 to 30 Nov 2024","DISTRICT HEALTH CENTRE-TSUEN WAN (YCHB)","DHC-TSUEN WAN","DHC","9043776781","AL1","3","Local System","Local System","5","0","0","0","5","","0","0","0","0","0","0","0","0","0","0","0","0","","5","1","0","0","0","0","0","0","0","0"]
["1 Nov 2024 to 30 Nov 20243426117536RAD","1 Nov 2024 to 30 Nov 2024","INSTA MELAB MRI CENTRE LIMITED","INSTA MELAB MRI CTR LTD","GROUP",3426117536,"RAD",3,"RIS(LAAM for Insta MedLab PRD)","Local System",83,0,0,0,83,null,0,0,0,0,0,0,0,0,0,0,0,0,null,83,1,0,0,0,0,0,0,0,0,"","","Y","1 Nov 2024 to 30 Nov 20249043776781ADR",{"$f":"Data!A102","v":"2024-11-01"},{"$f":"TRIM(Data!B102)","v":"DISTRICT HEALTH CENTRE-TSUEN WAN (YCHB)"},null,{"$f":"TRIM(Data!C102)","v":"DHC"},{"$f":"TRIM(Data!D102)","v":"9043776781"},{"$f":"TRIM(Data!E102)","v":"ADR"},{"$f":"TRIM(Data!F102)","v":"3"},{"$f":"TRIM(Data!G102)","v":"DHCCMS"},{"$f":"TRIM(Data!H102)","v":"Local System"},{"$f":"TRIM(Data!I102)","v":"2"},{"$f":"TRIM(Data!J102)","v":"0"},{"$f":"TRIM(Data!K102)","v":"0"},{"$f":"TRIM(Data!L102)","v":"0"},{"$f":"TRIM(Data!M102)","v":"2"},null,null,null,{"$f":"TRIM(Data!N102)","v":"0"},{"$f":"TRIM(Data!O102)","v":"0"},{"$f":"TRIM(Data!P102)","v":"0"},null,{"$f":"TRIM(Data!Q102)","v":"0"},null,null,{"$f":"TRIM(Data!R102)","v":"0"},{"$f":"TRIM(Data!S102)","v":"0"},{"$f":"TRIM(Data!T102)","v":"0"},null,null,null,{"$f":"TRIM(Data!U102)","v":"0"},null,{"$f":"TRIM(Data!V102)","v":"0"},{"$f":"TRIM(Data!W102)","v":"0"},{"$f":"TRIM(Data!X102)","v":"0"},{"$f":"TRIM(Data!Y102)","v":"0"},{"$f":"TRIM(Data!Z102)","v":"0"},{"$f":"TRIM(Data!AA102)","v":"0"},398,"1 Nov 2024 to 30 Nov 2024","DISTRICT HEALTH CENTRE-TSUEN WAN (YCHB)","DHC-TSUEN WAN","DHC","9043776781","ADR","3","Local System","Local System","2","0","0","0","2","","0","0","0","0","0","0","0","0","0","0","0","0","","2","1","0","0","0","0","0","0","0","0"]
["1 Nov 2024 to 30 Nov 20243499048393AL1","1 Nov 2024 to 30 Nov 2024","208 Medical Centre","208 MEDICAL CENTRE","SOLO",3499048393,"AL1",2,"ClinicSolution","Local System",4,0,0,4,0,null,0,0,0,0,0,0,0,0,0,0,0,0,null,0,0,0,0,0,0,0,0,0,0,"","","","1 Nov 2024 to 30 Nov 20245963779130LABGEN",{"$f":"Data!A103","v":"2024-11-01"},{"$f":"TRIM(Data!B103)","v":"CUHK MEDICAL CENTRE LIMITED"},null,{"$f":"TRIM(Data!C103)","v":"PH"},{"$f":"TRIM(Data!D103)","v":"5963779130"},{"$f":"TRIM(Data!E103)","v":"LABGEN"},{"$f":"TRIM(Data!F103)","v":"1"},{"$f":"TRIM(Data!G103)","v":"HIS"},{"$f":"TRIM(Data!H103)","v":"Local System"},{"$f":"TRIM(Data!I103)","v":"7315"},{"$f":"TRIM(Data!J103)","v":"0"},{"$f":"TRIM(Data!K103)","v":"7315"},{"$f":"TRIM(Data!L103)","v":"0"},{"$f":"TRIM(Data!M103)","v":"0"},null,null,null,{"$f":"TRIM(Data!N103)","v":"0"},{"$f":"TRIM(Data!O103)","v":"0"},{"$f":"TRIM(Data!P103)","v":"0"},null,{"$f":"TRIM(Data!Q103)","v":"0"},null,null,{"$f":"TRIM(Data!R103)","v":"0"},{"$f":"TRIM(Data!S103)","v":"0"},{"$f":"TRIM(Data!T103)","v":"0"},null,null,null,{"$f":"TRIM(Data!U103)","v":"0"},null,{"$f":"TRIM(Data!V103)","v":"0"},{"$f":"TRIM(Data!W103)","v":"0"},{"$f":"TRIM(Data!X103)","v":"0"},{"$f":"TRIM(Data!Y103)","v":"0"},{"$f":"TRIM(Data!Z103)","v":"0"},{"$f":"TRIM(Data!AA103)","v":"0"},238,"1 Nov 2024 to 30 Nov 2024","CUHK MEDICAL CENTRE LIMITED","CUHK MEDICAL CENTRE","PH","5963779130","LABGEN","1","HIS","Local System","7315","0","7315","0","0","","0","0","0","0","0","0","0","0","0","0","0","0","","0","0","0","0","0","0","0","0","0","0"]
["1 Nov 2024 to 30 Nov 20243499048393ENCTR","1 Nov 2024 to 30 Nov 2024","208 Medical Centre","208 MEDICAL CENTRE","SOLO",3499048393,"ENCTR",3,"ClinicSolution","Local System",363,0,0,0,363,null,0,0,0,0,0,0,0,0,0,0,0,0,null,363,1,0,0,0,0,0,0,0,0,"","","","1 Nov 2024 to 30 Nov 20245963779130RAD",{"$f":"Data!A104","v":"2024-11-01"},{"$f":"TRIM(Data!B104)","v":"CUHK MEDICAL CENTRE LIMITED"},null,{"$f":"TRIM(Data!C104)","v":"PH"},{"$f":"TRIM(Data!D104)","v":"5963779130"},{"$f":"TRIM(Data!E104)","v":"RAD"},{"$f":"TRIM(Data!F104)","v":"3"},{"$f":"TRIM(Data!G104)","v":"HIS"},{"$f":"TRIM(Data!H104)","v":"Local System"},{"$f":"TRIM(Data!I104)","v":"4212"},{"$f":"TRIM(Data!J104)","v":"0"},{"$f":"TRIM(Data!K104)","v":"0"},{"$f":"TRIM(Data!L104)","v":"0"},{"$f":"TRIM(Data!M104)","v":"4212"},null,null,null,{"$f":"TRIM(Data!N104)","v":"0"},{"$f":"TRIM(Data!O104)","v":"0"},{"$f":"TRIM(Data!P104)","v":"0"},null,{"$f":"TRIM(Data!Q104)","v":"0"},null,null,{"$f":"TRIM(Data!R104)","v":"0"},{"$f":"TRIM(Data!S104)","v":"0"},{"$f":"TRIM(Data!T104)","v":"0"},null,null,null,{"$f":"TRIM(Data!U104)","v":"0"},null,{"$f":"TRIM(Data!V104)","v":"0"},{"$f":"TRIM(Data!W104)","v":"0"},{"$f":"TRIM(Data!X104)","v":"0"},{"$f":"TRIM(Data!Y104)","v":"0"},{"$f":"TRIM(Data!Z104)","v":"0"},{"$f":"TRIM(Data!AA104)","v":"0"},240,"1 Nov 2024 to 30 Nov 2024","CUHK MEDICAL CENTRE LIMITED","CUHK MEDICAL CENTRE","PH","5963779130","RAD","3","HIS","Local System","4212","0","0","0","4212","","0","0","0","0","0","0","0","0","0","0","0","0","","4212","1","0","0","0","0","0","0","0","0"]
["1 Nov 2024 to 30 Nov 20243499048393PROB","1 Nov 2024 to 30 Nov 2024","208 Medical Centre","208 MEDICAL CENTRE","SOLO",3499048393,"PROB",3,"ClinicSolution","Local System",302,21,0,281,0,null,21,6.9536423841059597E-2,21,0,281,0.93046357615894038,281,0,0,281,0,0,null,0,0,0,0,0,0,0,0,0,0,"","","","1 Nov 2024 to 30 Nov 20245963779130LABMB",{"$f":"Data!A105","v":"2024-11-01"},{"$f":"TRIM(Data!B105)","v":"CUHK MEDICAL CENTRE LIMITED"},null,{"$f":"TRIM(Data!C105)","v":"PH"},{"$f":"TRIM(Data!D105)","v":"5963779130"},{"$f":"TRIM(Data!E105)","v":"LABMB"},{"$f":"TRIM(Data!F105)","v":"1"},{"$f":"TRIM(Data!G105)","v":"HIS"},{"$f":"TRIM(Data!H105)","v":"Local System"},{"$f":"TRIM(Data!I105)","v":"1477"},{"$f":"TRIM(Data!J105)","v":"0"},{"$f":"TRIM(Data!K105)","v":"1477"},{"$f":"TRIM(Data!L105)","v":"0"},{"$f":"TRIM(Data!M105)","v":"0"},null,null,null,{"$f":"TRIM(Data!N105)","v":"0"},{"$f":"TRIM(Data!O105)","v":"0"},{"$f":"TRIM(Data!P105)","v":"0"},null,{"$f":"TRIM(Data!Q105)","v":"0"},null,null,{"$f":"TRIM(Data!R105)","v":"0"},{"$f":"TRIM(Data!S105)","v":"0"},{"$f":"TRIM(Data!T105)","v":"0"},null,null,null,{"$f":"TRIM(Data!U105)","v":"0"},null,{"$f":"TRIM(Data!V105)","v":"0"},{"$f":"TRIM(Data!W105)","v":"0"},{"$f":"TRIM(Data!X105)","v":"0"},{"$f":"TRIM(Data!Y105)","v":"0"},{"$f":"TRIM(Data!Z105)","v":"0"},{"$f":"TRIM(Data!AA105)","v":"0"},239,"1 Nov 2024 to 30 Nov 2024","CUHK MEDICAL CENTRE LIMITED","CUHK MEDICAL CENTRE","PH","5963779130","LABMB","1","HIS","Local System","1477","0","1477","0","0","","0","0","0","0","0","0","0","0","0","0","0","0","","0","0","0","0","0","0","0","0","0","0"]
["1 Nov 2024 to 30 Nov 20243499048393RXD","1 Nov 2024 to 30 Nov 2024","208 Medical Centre","208 MEDICAL CENTRE","SOLO",3499048393,"RXD",2,"ClinicSolution","Local System",602,0,0,602,0,null,0,0,0,0,0,0,0,0,0,0,0,0,null,0,0,0,0,0,0,0,0,0,0,"","","","1 Nov 2024 to 30 Nov 20245963779130LABAP",{"$f":"Data!A106","v":"2024-11-01"},{"$f":"TRIM(Data!B106)","v":"CUHK MEDICAL CENTRE LIMITED"},null,{"$f":"TRIM(Data!C106)","v":"PH"},{"$f":"TRIM(Data!D106)","v":"5963779130"},{"$f":"TRIM(Data!E106)","v":"LABAP"},{"$f":"TRIM(Data!F106)","v":"1"},{"$f":"TRIM(Data!G106)","v":"HIS"},{"$f":"TRIM(Data!H106)","v":"Local System"},{"$f":"TRIM(Data!I106)","v":"965"},{"$f":"TRIM(Data!J106)","v":"0"},{"$f":"TRIM(Data!K106)","v":"965"},{"$f":"TRIM(Data!L106)","v":"0"},{"$f":"TRIM(Data!M106)","v":"0"},null,null,null,{"$f":"TRIM(Data!N106)","v":"0"},{"$f":"TRIM(Data!O106)","v":"0"},{"$f":"TRIM(Data!P106)","v":"0"},null,{"$f":"TRIM(Data!Q106)","v":"0"},null,null,{"$f":"TRIM(Data!R106)","v":"0"},{"$f":"TRIM(Data!S106)","v":"0"},{"$f":"TRIM(Data!T106)","v":"0"},null,null,null,{"$f":"TRIM(Data!U106)","v":"0"},null,{"$f":"TRIM(Data!V106)","v":"0"},{"$f":"TRIM(Data!W106)","v":"0"},{"$f":"TRIM(Data!X106)","v":"0"},{"$f":"TRIM(Data!Y106)","v":"0"},{"$f":"TRIM(Data!Z106)","v":"0"},{"$f":"TRIM(Data!AA106)","v":"0"},237,"1 Nov 2024 to 30 Nov 2024","CUHK MEDICAL CENTRE LIMITED","CUHK MEDICAL CENTRE","PH","5963779130","LABAP","1","HIS","Local System","965","0","965","0","0","","0","0","0","0","0","0","0","0","0","0","0","0","","0","0","0","0","0","0","0","0","0","0"]
["1 Nov 2024 to 30 Nov 20243499048393RXO","1 Nov 2024 to 30 Nov 2024","208 Medical Centre","208 MEDICAL CENTRE","SOLO",3499048393,"RXO",2,"ClinicSolution","Local System",602,0,0,602,0,null,0,0,0,0,0,0,0,0,0,0,0,0,null,0,0,0,0,0,0,0,0,0,0,"","","","1 Nov 2024 to 30 Nov 20245963779130INVR",{"$f":"Data!A107","v":"2024-11-01"},{"$f":"TRIM(Data!B107)","v":"CUHK MEDICAL CENTRE LIMITED"},null,{"$f":"TRIM(Data!C107)","v":"PH"},{"$f":"TRIM(Data!D107)","v":"5963779130"},{"$f":"TRIM(Data!E107)","v":"INVR"},{"$f":"TRIM(Data!F107)","v":"1"},{"$f":"TRIM(Data!G107)","v":"HIS"},{"$f":"TRIM(Data!H107)","v":"Local System"},{"$f":"TRIM(Data!I107)","v":"532"},{"$f":"TRIM(Data!J107)","v":"0"},{"$f":"TRIM(Data!K107)","v":"532"},{"$f":"TRIM(Data!L107)","v":"0"},{"$f":"TRIM(Data!M107)","v":"0"},null,null,null,{"$f":"TRIM(Data!N107)","v":"0"},{"$f":"TRIM(Data!O107)","v":"0"},{"$f":"TRIM(Data!P107)","v":"0"},null,{"$f":"TRIM(Data!Q107)","v":"0"},null,null,{"$f":"TRIM(Data!R107)","v":"0"},{"$f":"TRIM(Data!S107)","v":"0"},{"$f":"TRIM(Data!T107)","v":"0"},null,null,null,{"$f":"TRIM(Data!U107)","v":"0"},null,{"$f":"TRIM(Data!V107)","v":"0"},{"$f":"TRIM(Data!W107)","v":"0"},{"$f":"TRIM(Data!X107)","v":"0"},{"$f":"TRIM(Data!Y107)","v":"0"},{"$f":"TRIM(Data!Z107)","v":"0"},{"$f":"TRIM(Data!AA107)","v":"0"},236,"1 Nov 2024 to 30 Nov 2024","CUHK MEDICAL CENTRE LIMITED","CUHK MEDICAL CENTRE","PH","5963779130","INVR","1","HIS","Local System","532","0","532","0","0","","0","0","0","0","0","0","0","0","0","0","0","0","","0","0","0","0","0","0","0","0","0","0"]
["1 Nov 2024 to 30 Nov 20243545073904AL1","1 Nov 2024 to 30 Nov 2024","CLEARBRIDGE MEDICAL CENTER","CLEARBRIDGE MEDICAL","SOLO",3545073904,"AL1",2,"ClinicSolution","Local System",1,0,0,1,0,null,0,0,0,0,0,0,0,0,0,0,0,0,null,0,0,0,0,0,0,0,0,0,0,"","","","1 Nov 2024 to 30 Nov 20245156724947RXD",{"$f":"Data!A108","v":"2024-11-01"},{"$f":"TRIM(Data!B108)","v":"ST. PAUL'S HOSPITAL"},null,{"$f":"TRIM(Data!C108)","v":"PH"},{"$f":"TRIM(Data!D108)","v":"5156724947"},{"$f":"TRIM(Data!E108)","v":"RXD"},{"$f":"TRIM(Data!F108)","v":"3"},{"$f":"TRIM(Data!G108)","v":"SPH HIS"},{"$f":"TRIM(Data!H108)","v":"Local System"},{"$f":"TRIM(Data!I108)","v":"4837"},{"$f":"TRIM(Data!J108)","v":"0"},{"$f":"TRIM(Data!K108)","v":"0"},{"$f":"TRIM(Data!L108)","v":"597"},{"$f":"TRIM(Data!M108)","v":"4240"},null,null,null,{"$f":"TRIM(Data!N108)","v":"0"},{"$f":"TRIM(Data!O108)","v":"0"},{"$f":"TRIM(Data!P108)","v":"599"},null,{"$f":"TRIM(Data!Q108)","v":"599"},null,null,{"$f":"TRIM(Data!R108)","v":"599"},{"$f":"TRIM(Data!S108)","v":"0"},{"$f":"TRIM(Data!T108)","v":"0"},null,null,null,{"$f":"TRIM(Data!U108)","v":"0"},null,{"$f":"TRIM(Data!V108)","v":"0"},{"$f":"TRIM(Data!W108)","v":"0"},{"$f":"TRIM(Data!X108)","v":"0"},{"$f":"TRIM(Data!Y108)","v":"0"},{"$f":"TRIM(Data!Z108)","v":"0"},{"$f":"TRIM(Data!AA108)","v":"0"},187,"1 Nov 2024 to 30 Nov 2024","ST. PAUL'S HOSPITAL","SPH","PH","5156724947","RXD","3","SPH HIS","Local System","4837","0","0","597","4240","","0","0","0","0","599","0.123837089104817","599","0","0","599","0","0","","4240","0.876576390324581","0","0","0","0","0","0","0","0"]
["1 Nov 2024 to 30 Nov 20243545073904ENCTR","1 Nov 2024 to 30 Nov 2024","CLEARBRIDGE MEDICAL CENTER","CLEARBRIDGE MEDICAL","SOLO",3545073904,"ENCTR",3,"ClinicSolution","Local System",11,0,0,0,11,null,0,0,0,0,0,0,0,0,0,0,0,0,null,11,1,0,0,0,0,0,0,0,0,"","","","1 Nov 2024 to 30 Nov 20245156724947RAD",{"$f":"Data!A109","v":"2024-11-01"},{"$f":"TRIM(Data!B109)","v":"ST. PAUL'S HOSPITAL"},null,{"$f":"TRIM(Data!C109)","v":"PH"},{"$f":"TRIM(Data!D109)","v":"5156724947"},{"$f":"TRIM(Data!E109)","v":"RAD"},{"$f":"TRIM(Data!F109)","v":"3"},{"$f":"TRIM(Data!G109)","v":"SPH HIS"},{"$f":"TRIM(Data!H109)","v":"Local System"},{"$f":"TRIM(Data!I109)","v":"3694"},{"$f":"TRIM(Data!J109)","v":"0"},{"$f":"TRIM(Data!K109)","v":"0"},{"$f":"TRIM(Data!L109)","v":"0"},{"$f":"TRIM(Data!M109)","v":"3694"},null,null,null,{"$f":"TRIM(Data!N109)","v":"0"},{"$f":"TRIM(Data!O109)","v":"0"},{"$f":"TRIM(Data!P109)","v":"0"},null,{"$f":"TRIM(Data!Q109)","v":"0"},null,null,{"$f":"TRIM(Data!R109)","v":"0"},{"$f":"TRIM(Data!S109)","v":"0"},{"$f":"TRIM(Data!T109)","v":"0"},null,null,null,{"$f":"TRIM(Data!U109)","v":"0"},null,{"$f":"TRIM(Data!V109)","v":"0"},{"$f":"TRIM(Data!W109)","v":"0"},{"$f":"TRIM(Data!X109)","v":"0"},{"$f":"TRIM(Data!Y109)","v":"0"},{"$f":"TRIM(Data!Z109)","v":"0"},{"$f":"TRIM(Data!AA109)","v":"0"},186,"1 Nov 2024 to 30 Nov 2024","ST. PAUL'S HOSPITAL","SPH","PH","5156724947","RAD","3","SPH HIS","Local System","3694","0","0","0","3694","","0","0","0","0","0","0","0","0","0","0","0","0","","3694","1","0","0","0","0","0","0","0","0"]
["1 Nov 2024 to 30 Nov 20243545073904PROB","1 Nov 2024 to 30 Nov 2024","CLEARBRIDGE MEDICAL CENTER","CLEARBRIDGE MEDICAL","SOLO",3545073904,"PROB",3,"ClinicSolution","Local System",19,0,0,19,0,null,0,0,0,0,19,1,19,0,0,19,0,0,null,0,0,0,0,0,0,0,0,0,0,"","","","1 Nov 2024 to 30 Nov 20245156724947EPIS",{"$f":"Data!A110","v":"2024-11-01"},{"$f":"TRIM(Data!B110)","v":"ST. PAUL'S HOSPITAL"},null,{"$f":"TRIM(Data!C110)","v":"PH"},{"$f":"TRIM(Data!D110)","v":"5156724947"},{"$f":"TRIM(Data!E110)","v":"EPIS"},{"$f":"TRIM(Data!F110)","v":"1"},{"$f":"TRIM(Data!G110)","v":"SPH HIS"},{"$f":"TRIM(Data!H110)","v":"Local System"},{"$f":"TRIM(Data!I110)","v":"804"},{"$f":"TRIM(Data!J110)","v":"0"},{"$f":"TRIM(Data!K110)","v":"804"},{"$f":"TRIM(Data!L110)","v":"0"},{"$f":"TRIM(Data!M110)","v":"0"},null,null,null,{"$f":"TRIM(Data!N110)","v":"0"},{"$f":"TRIM(Data!O110)","v":"0"},{"$f":"TRIM(Data!P110)","v":"0"},null,{"$f":"TRIM(Data!Q110)","v":"0"},null,null,{"$f":"TRIM(Data!R110)","v":"0"},{"$f":"TRIM(Data!S110)","v":"0"},{"$f":"TRIM(Data!T110)","v":"0"},null,null,null,{"$f":"TRIM(Data!U110)","v":"0"},null,{"$f":"TRIM(Data!V110)","v":"0"},{"$f":"TRIM(Data!W110)","v":"0"},{"$f":"TRIM(Data!X110)","v":"0"},{"$f":"TRIM(Data!Y110)","v":"0"},{"$f":"TRIM(Data!Z110)","v":"0"},{"$f":"TRIM(Data!AA110)","v":"0"},185,"1 Nov 2024 to 30 Nov 2024","ST. PAUL'S HOSPITAL","SPH","PH","5156724947","EPIS","1","SPH HIS","Local System","804","0","804","0","0","","0","0","0","0","0","0","0","0","0","0","0","0","","0","0","0","0","0","0","0","0","0","0"]
["1 Nov 2024 to 30 Nov 20243545073904RXD","1 Nov 2024 to 30 Nov 2024","CLEARBRIDGE MEDICAL CENTER","CLEARBRIDGE MEDICAL","SOLO",3545073904,"RXD",2,"ClinicSolution","Local System",10,0,0,10,0,null,0,0,0,0,0,0,0,0,0,0,0,0,null,0,0,0,0,0,0,0,0,0,0,"","","Y","1 Nov 2024 to 30 Nov 20245156724947AL1",{"$f":"Data!A111","v":"2024-11-01"},{"$f":"TRIM(Data!B111)","v":"ST. PAUL'S HOSPITAL"},null,{"$f":"TRIM(Data!C111)","v":"PH"},{"$f":"TRIM(Data!D111)","v":"5156724947"},{"$f":"TRIM(Data!E111)","v":"AL1"},{"$f":"TRIM(Data!F111)","v":"3"},{"$f":"TRIM(Data!G111)","v":"SPH HIS"},{"$f":"TRIM(Data!H111)","v":"Adaptation"},{"$f":"TRIM(Data!I111)","v":"254"},{"$f":"TRIM(Data!J111)","v":"0"},{"$f":"TRIM(Data!K111)","v":"0"},{"$f":"TRIM(Data!L111)","v":"102"},{"$f":"TRIM(Data!M111)","v":"152"},null,null,null,{"$f":"TRIM(Data!N111)","v":"0"},{"$f":"TRIM(Data!O111)","v":"0"},{"$f":"TRIM(Data!P111)","v":"86"},null,{"$f":"TRIM(Data!Q111)","v":"86"},null,null,{"$f":"TRIM(Data!R111)","v":"86"},{"$f":"TRIM(Data!S111)","v":"0"},{"$f":"TRIM(Data!T111)","v":"0"},null,null,null,{"$f":"TRIM(Data!U111)","v":"0"},null,{"$f":"TRIM(Data!V111)","v":"0"},{"$f":"TRIM(Data!W111)","v":"0"},{"$f":"TRIM(Data!X111)","v":"0"},{"$f":"TRIM(Data!Y111)","v":"0"},{"$f":"TRIM(Data!Z111)","v":"0"},{"$f":"TRIM(Data!AA111)","v":"0"},184,"1 Nov 2024 to 30 Nov 2024","ST. PAUL'S HOSPITAL","SPH","PH","5156724947","AL1","3","SPH HIS","Local System","254","0","0","102","152","","0","0","0","0","86","0.338582677165354","86","0","0","86","0","0","","152","0.598425196850394","0","0","0","0","0","0","0","0"]
["1 Nov 2024 to 30 Nov 20243545073904RXO","1 Nov 2024 to 30 Nov 2024","CLEARBRIDGE MEDICAL CENTER","CLEARBRIDGE MEDICAL","SOLO",3545073904,"RXO",2,"ClinicSolution","Local System",10,0,0,10,0,null,0,0,0,0,0,0,0,0,0,0,0,0,null,0,0,0,0,0,0,0,0,0,0,"","","Y","1 Nov 2024 to 30 Nov 20245156724947ADR",{"$f":"Data!A112","v":"2024-11-01"},{"$f":"TRIM(Data!B112)","v":"ST. PAUL'S HOSPITAL"},null,{"$f":"TRIM(Data!C112)","v":"PH"},{"$f":"TRIM(Data!D112)","v":"5156724947"},{"$f":"TRIM(Data!E112)","v":"ADR"},{"$f":"TRIM(Data!F112)","v":"3"},{"$f":"TRIM(Data!G112)","v":"SPH HIS"},{"$f":"TRIM(Data!H112)","v":"Adaptation"},{"$f":"TRIM(Data!I112)","v":"33"},{"$f":"TRIM(Data!J112)","v":"0"},{"$f":"TRIM(Data!K112)","v":"0"},{"$f":"TRIM(Data!L112)","v":"3"},{"$f":"TRIM(Data!M112)","v":"30"},null,null,null,{"$f":"TRIM(Data!N112)","v":"0"},{"$f":"TRIM(Data!O112)","v":"0"},{"$f":"TRIM(Data!P112)","v":"3"},null,{"$f":"TRIM(Data!Q112)","v":"3"},null,null,{"$f":"TRIM(Data!R112)","v":"3"},{"$f":"TRIM(Data!S112)","v":"0"},{"$f":"TRIM(Data!T112)","v":"0"},null,null,null,{"$f":"TRIM(Data!U112)","v":"0"},null,{"$f":"TRIM(Data!V112)","v":"0"},{"$f":"TRIM(Data!W112)","v":"0"},{"$f":"TRIM(Data!X112)","v":"0"},{"$f":"TRIM(Data!Y112)","v":"0"},{"$f":"TRIM(Data!Z112)","v":"0"},{"$f":"TRIM(Data!AA112)","v":"0"},183,"1 Nov 2024 to 30 Nov 2024","ST. PAUL'S HOSPITAL","SPH","PH","5156724947","ADR","3","SPH HIS","Local System","33","0","0","3","30","","0","0","0","0","3","0.0909090909090909","3","0","0","3","0","0","","30","0.909090909090909","0","0","0","0","0","0","0","0"]
["1 Nov 2024 to 30 Nov 20243603160126RAD","1 Nov 2024 to 30 Nov 2024","CENTRUM / CENTRAMRI CENTRE LIMITED","CENTRUM / CENTRA MRI","SOLO",3603160126,"RAD",3,"RHI2","Local System",532,0,0,0,532,null,0,0,0,0,0,0,0,0,0,0,0,0,null,532,1,0,0,0,0,0,0,0,0,"","","Y","1 Nov 2024 to 30 Nov 20243150524068LABGEN",{"$f":"Data!A113","v":"2024-11-01"},{"$f":"TRIM(Data!B113)","v":"KINGMED DIAGNOSTICS (HONG KONG) LIMITED"},null,{"$f":"TRIM(Data!C113)","v":"GRP"},{"$f":"TRIM(Data!D113)","v":"3150524068"},{"$f":"TRIM(Data!E113)","v":"LABGEN"},{"$f":"TRIM(Data!F113)","v":"3"},{"$f":"TRIM(Data!G113)","v":"PLDMS"},{"$f":"TRIM(Data!H113)","v":"Local System"},{"$f":"TRIM(Data!I113)","v":"8537"},{"$f":"TRIM(Data!J113)","v":"2"},{"$f":"TRIM(Data!K113)","v":"8535"},{"$f":"TRIM(Data!L113)","v":"0"},{"$f":"TRIM(Data!M113)","v":"0"},null,null,null,{"$f":"TRIM(Data!N113)","v":"0"},{"$f":"TRIM(Data!O113)","v":"2"},{"$f":"TRIM(Data!P113)","v":"0"},null,{"$f":"TRIM(Data!Q113)","v":"0"},null,null,{"$f":"TRIM(Data!R113)","v":"0"},{"$f":"TRIM(Data!S113)","v":"0"},{"$f":"TRIM(Data!T113)","v":"0"},null,null,null,{"$f":"TRIM(Data!U113)","v":"0"},null,{"$f":"TRIM(Data!V113)","v":"0"},{"$f":"TRIM(Data!W113)","v":"0"},{"$f":"TRIM(Data!X113)","v":"0"},{"$f":"TRIM(Data!Y113)","v":"0"},{"$f":"TRIM(Data!Z113)","v":"0"},{"$f":"TRIM(Data!AA113)","v":"0"},93,"1 Nov 2024 to 30 Nov 2024","KingMed Diagnostics (Hong Kong) Limited","KINGMED DIAGNOSTICS (HK)","GROUP","3150524068","LABGEN","1","Pathways Laboratory Information System","Local System","8537","2","8535","0","0","","2","0.000234274335246574","0","2","0","0","0","0","0","0","0","0","","0","0","0","0","0","0","0","0","0","0"]
["1 Nov 2024 to 30 Nov 20243628187450AL1","1 Nov 2024 to 30 Nov 2024","DHC EXPRESS-SHA TIN (HKSR)","DHC EXPRESS-SHA TIN-CC","DHC",3628187450,"AL1",3,"Local System","Local System",2,0,0,2,0,null,0,0,0,0,2,1,2,0,0,2,0,0,null,0,0,0,0,0,0,0,0,0,0,"","","","1 Nov 2024 to 30 Nov 20247002059678ENCTR",{"$f":"Data!A114","v":"2024-11-01"},{"$f":"TRIM(Data!B114)","v":"PRECIOUS BLOOD HOSPITAL (CARITAS)"},null,{"$f":"TRIM(Data!C114)","v":"PH"},{"$f":"TRIM(Data!D114)","v":"7002059678"},{"$f":"TRIM(Data!E114)","v":"ENCTR"},{"$f":"TRIM(Data!F114)","v":"3"},{"$f":"TRIM(Data!G114)","v":"PBHIS"},{"$f":"TRIM(Data!H114)","v":"Local System"},{"$f":"TRIM(Data!I114)","v":"7637"},{"$f":"TRIM(Data!J114)","v":"0"},{"$f":"TRIM(Data!K114)","v":"0"},{"$f":"TRIM(Data!L114)","v":"0"},{"$f":"TRIM(Data!M114)","v":"7637"},null,null,null,{"$f":"TRIM(Data!N114)","v":"0"},{"$f":"TRIM(Data!O114)","v":"0"},{"$f":"TRIM(Data!P114)","v":"0"},null,{"$f":"TRIM(Data!Q114)","v":"0"},null,null,{"$f":"TRIM(Data!R114)","v":"0"},{"$f":"TRIM(Data!S114)","v":"0"},{"$f":"TRIM(Data!T114)","v":"0"},null,null,null,{"$f":"TRIM(Data!U114)","v":"0"},null,{"$f":"TRIM(Data!V114)","v":"0"},{"$f":"TRIM(Data!W114)","v":"0"},{"$f":"TRIM(Data!X114)","v":"0"},{"$f":"TRIM(Data!Y114)","v":"0"},{"$f":"TRIM(Data!Z114)","v":"0"},{"$f":"TRIM(Data!AA114)","v":"0"},292,"1 Nov 2024 to 30 Nov 2024","PRECIOUS BLOOD HOSPITAL (CARITAS)","PRECIOUS BLOOD HOSPITAL","PH","7002059678","ENCTR","3","PBHIS","Local System","7637","0","0","0","7637","","0","0","0","0","0","0","0","0","0","0","0","0","","7637","1","0","0","0","0","0","0","0","0"]
["1 Nov 2024 to 30 Nov 20243628187450ENCTR","1 Nov 2024 to 30 Nov 2024","DHC EXPRESS-SHA TIN (HKSR)","DHC EXPRESS-SHA TIN-CC","DHC",3628187450,"ENCTR",3,"Local System","Local System",5227,0,0,0,5227,null,0,0,0,0,0,0,0,0,0,0,0,0,null,5227,1,0,0,0,0,0,0,0,0,"","","","1 Nov 2024 to 30 Nov 20247002059678RAD",{"$f":"Data!A115","v":"2024-11-01"},{"$f":"TRIM(Data!B115)","v":"PRECIOUS BLOOD HOSPITAL (CARITAS)"},null,{"$f":"TRIM(Data!C115)","v":"PH"},{"$f":"TRIM(Data!D115)","v":"7002059678"},{"$f":"TRIM(Data!E115)","v":"RAD"},{"$f":"TRIM(Data!F115)","v":"3"},{"$f":"TRIM(Data!G115)","v":"PBHIS"},{"$f":"TRIM(Data!H115)","v":"Local System"},{"$f":"TRIM(Data!I115)","v":"565"},{"$f":"TRIM(Data!J115)","v":"0"},{"$f":"TRIM(Data!K115)","v":"0"},{"$f":"TRIM(Data!L115)","v":"0"},{"$f":"TRIM(Data!M115)","v":"565"},null,null,null,{"$f":"TRIM(Data!N115)","v":"0"},{"$f":"TRIM(Data!O115)","v":"0"},{"$f":"TRIM(Data!P115)","v":"0"},null,{"$f":"TRIM(Data!Q115)","v":"0"},null,null,{"$f":"TRIM(Data!R115)","v":"0"},{"$f":"TRIM(Data!S115)","v":"0"},{"$f":"TRIM(Data!T115)","v":"0"},null,null,null,{"$f":"TRIM(Data!U115)","v":"0"},null,{"$f":"TRIM(Data!V115)","v":"0"},{"$f":"TRIM(Data!W115)","v":"0"},{"$f":"TRIM(Data!X115)","v":"0"},{"$f":"TRIM(Data!Y115)","v":"0"},{"$f":"TRIM(Data!Z115)","v":"0"},{"$f":"TRIM(Data!AA115)","v":"0"},293,"1 Nov 2024 to 30 Nov 2024","PRECIOUS BLOOD HOSPITAL (CARITAS)","PRECIOUS BLOOD HOSPITAL","PH","7002059678","RAD","3","PBHIS","Local System","565","0","0","0","565","","0","0","0","0","0","0","0","0","0","0","0","0","","565","1","0","0","0","0","0","0","0","0"]
["1 Nov 2024 to 30 Nov 20243628187450EPIS","1 Nov 2024 to 30 Nov 2024","DHC EXPRESS-SHA TIN (HKSR)","DHC EXPRESS-SHA TIN-CC","DHC",3628187450,"EPIS",1,"Local System","Local System",2363,0,2363,0,0,null,0,0,0,0,0,0,0,0,0,0,0,0,null,0,0,0,0,0,0,0,0,0,0,"","","","1 Nov 2024 to 30 Nov 20247002059678AL1",{"$f":"Data!A116","v":"2024-11-01"},{"$f":"TRIM(Data!B116)","v":"PRECIOUS BLOOD HOSPITAL (CARITAS)"},null,{"$f":"TRIM(Data!C116)","v":"PH"},{"$f":"TRIM(Data!D116)","v":"7002059678"},{"$f":"TRIM(Data!E116)","v":"AL1"},{"$f":"TRIM(Data!F116)","v":"3"},{"$f":"TRIM(Data!G116)","v":"PBHIS"},{"$f":"TRIM(Data!H116)","v":"Local System"},{"$f":"TRIM(Data!I116)","v":"163"},{"$f":"TRIM(Data!J116)","v":"0"},{"$f":"TRIM(Data!K116)","v":"0"},{"$f":"TRIM(Data!L116)","v":"70"},{"$f":"TRIM(Data!M116)","v":"93"},null,null,null,{"$f":"TRIM(Data!N116)","v":"0"},{"$f":"TRIM(Data!O116)","v":"0"},{"$f":"TRIM(Data!P116)","v":"55"},null,{"$f":"TRIM(Data!Q116)","v":"55"},null,null,{"$f":"TRIM(Data!R116)","v":"55"},{"$f":"TRIM(Data!S116)","v":"0"},{"$f":"TRIM(Data!T116)","v":"0"},null,null,null,{"$f":"TRIM(Data!U116)","v":"0"},null,{"$f":"TRIM(Data!V116)","v":"0"},{"$f":"TRIM(Data!W116)","v":"0"},{"$f":"TRIM(Data!X116)","v":"0"},{"$f":"TRIM(Data!Y116)","v":"0"},{"$f":"TRIM(Data!Z116)","v":"0"},{"$f":"TRIM(Data!AA116)","v":"0"},291,"1 Nov 2024 to 30 Nov 2024","PRECIOUS BLOOD HOSPITAL (CARITAS)","PRECIOUS BLOOD HOSPITAL","PH","7002059678","AL1","3","PBHIS","Local System","163","0","0","70","93","","0","0","0","0","55","0.337423312883436","55","0","0","55","0","0","","93","0.570552147239264","0","0","0","0","0","0","0","0"]
["1 Nov 2024 to 30 Nov 20243650324540AL1","1 Nov 2024 to 30 Nov 2024","HONG KONG BAPTIST HOSPITAL","HK BAPTIST HOSPITAL","PH",3650324540,"AL1",3,"Trakcare","Local System",1961,2,0,1170,789,null,2,1.0198878123406426E-3,2,0,1169,0.59612442631310558,1169,0,0,1169,0,0,null,789,0.40234574196838346,0,0,0,0,0,0,0,0,"","","","1 Nov 2024 to 30 Nov 20247002059678ADR",{"$f":"Data!A117","v":"2024-11-01"},{"$f":"TRIM(Data!B117)","v":"PRECIOUS BLOOD HOSPITAL (CARITAS)"},null,{"$f":"TRIM(Data!C117)","v":"PH"},{"$f":"TRIM(Data!D117)","v":"7002059678"},{"$f":"TRIM(Data!E117)","v":"ADR"},{"$f":"TRIM(Data!F117)","v":"3"},{"$f":"TRIM(Data!G117)","v":"PBHIS"},{"$f":"TRIM(Data!H117)","v":"Local System"},{"$f":"TRIM(Data!I117)","v":"17"},{"$f":"TRIM(Data!J117)","v":"0"},{"$f":"TRIM(Data!K117)","v":"0"},{"$f":"TRIM(Data!L117)","v":"0"},{"$f":"TRIM(Data!M117)","v":"17"},null,null,null,{"$f":"TRIM(Data!N117)","v":"0"},{"$f":"TRIM(Data!O117)","v":"0"},{"$f":"TRIM(Data!P117)","v":"0"},null,{"$f":"TRIM(Data!Q117)","v":"0"},null,null,{"$f":"TRIM(Data!R117)","v":"0"},{"$f":"TRIM(Data!S117)","v":"0"},{"$f":"TRIM(Data!T117)","v":"0"},null,null,null,{"$f":"TRIM(Data!U117)","v":"0"},null,{"$f":"TRIM(Data!V117)","v":"0"},{"$f":"TRIM(Data!W117)","v":"0"},{"$f":"TRIM(Data!X117)","v":"0"},{"$f":"TRIM(Data!Y117)","v":"0"},{"$f":"TRIM(Data!Z117)","v":"0"},{"$f":"TRIM(Data!AA117)","v":"0"},290,"1 Nov 2024 to 30 Nov 2024","PRECIOUS BLOOD HOSPITAL (CARITAS)","PRECIOUS BLOOD HOSPITAL","PH","7002059678","ADR","3","PBHIS","Local System","17","0","0","0","17","","0","0","0","0","0","0","0","0","0","0","0","0","","17","1","0","0","0","0","0","0","0","0"]
["1 Nov 2024 to 30 Nov 20243650324540BIRTH","1 Nov 2024 to 30 Nov 2024","HONG KONG BAPTIST HOSPITAL","HK BAPTIST HOSPITAL","PH",3650324540,"BIRTH",3,"Trakcare","Local System",1,0,0,0,1,null,0,0,0,0,0,0,0,0,0,0,0,0,null,1,1,0,0,0,0,0,0,0,0,"","","Y","1 Nov 2024 to 30 Nov 20246758313621CMPROB",{"$f":"Data!A118","v":"2024-11-01"},{"$f":"TRIM(Data!B118)","v":"18 CHINESE MEDICINE CLINIC CUM TRAINING AND RESEARCH CENTRE (POK OI HOSPITAL)"},null,{"$f":"TRIM(Data!C118)","v":"NGO"},{"$f":"TRIM(Data!D118)","v":"6758313621"},{"$f":"TRIM(Data!E118)","v":"CMPROB"},{"$f":"TRIM(Data!F118)","v":"3"},{"$f":"TRIM(Data!G118)","v":"HA CMIS"},{"$f":"TRIM(Data!H118)","v":"Local System"},{"$f":"TRIM(Data!I118)","v":"2955"},{"$f":"TRIM(Data!J118)","v":"0"},{"$f":"TRIM(Data!K118)","v":"0"},{"$f":"TRIM(Data!L118)","v":"966"},{"$f":"TRIM(Data!M118)","v":"1989"},null,null,null,{"$f":"TRIM(Data!N118)","v":"0"},{"$f":"TRIM(Data!O118)","v":"0"},{"$f":"TRIM(Data!P118)","v":"538"},null,{"$f":"TRIM(Data!Q118)","v":"538"},null,null,{"$f":"TRIM(Data!R118)","v":"538"},{"$f":"TRIM(Data!S118)","v":"0"},{"$f":"TRIM(Data!T118)","v":"0"},null,null,null,{"$f":"TRIM(Data!U118)","v":"0"},null,{"$f":"TRIM(Data!V118)","v":"0"},{"$f":"TRIM(Data!W118)","v":"0"},{"$f":"TRIM(Data!X118)","v":"0"},{"$f":"TRIM(Data!Y118)","v":"0"},{"$f":"TRIM(Data!Z118)","v":"0"},{"$f":"TRIM(Data!AA118)","v":"0"},279,"1 Nov 2024 to 30 Nov 2024","18 Chinese Medicine Clinic cum Traing and Research Centre (Pok Oi Hospital)","18CMCTRs (POH)","NGO","6758313621","CMPROB","3","Local System","EC Connect","2955","0","0","966","1989","","0","0","0","0","538","0.182064297800338","538","0","0","538","0","0","","1989","0.673096446700508","0","0","0","0","0","0","0","0"]
["1 Nov 2024 to 30 Nov 20243650324540LABAP","1 Nov 2024 to 30 Nov 2024","HONG KONG BAPTIST HOSPITAL","HK BAPTIST HOSPITAL","PH",3650324540,"LABAP",1,"Trakcare","Local System",1297,0,1297,0,0,null,0,0,0,0,0,0,0,0,0,0,0,0,null,0,0,0,0,0,0,0,0,0,0,"","","Y","1 Nov 2024 to 30 Nov 20246758313621ENCTR",{"$f":"Data!A119","v":"2024-11-01"},{"$f":"TRIM(Data!B119)","v":"18 CHINESE MEDICINE CLINIC CUM TRAINING AND RESEARCH CENTRE (POK OI HOSPITAL)"},null,{"$f":"TRIM(Data!C119)","v":"NGO"},{"$f":"TRIM(Data!D119)","v":"6758313621"},{"$f":"TRIM(Data!E119)","v":"ENCTR"},{"$f":"TRIM(Data!F119)","v":"3"},{"$f":"TRIM(Data!G119)","v":"HA CMIS"},{"$f":"TRIM(Data!H119)","v":"Local System"},{"$f":"TRIM(Data!I119)","v":"2721"},{"$f":"TRIM(Data!J119)","v":"0"},{"$f":"TRIM(Data!K119)","v":"0"},{"$f":"TRIM(Data!L119)","v":"0"},{"$f":"TRIM(Data!M119)","v":"2721"},null,null,null,{"$f":"TRIM(Data!N119)","v":"0"},{"$f":"TRIM(Data!O119)","v":"0"},{"$f":"TRIM(Data!P119)","v":"0"},null,{"$f":"TRIM(Data!Q119)","v":"0"},null,null,{"$f":"TRIM(Data!R119)","v":"0"},{"$f":"TRIM(Data!S119)","v":"0"},{"$f":"TRIM(Data!T119)","v":"0"},null,null,null,{"$f":"TRIM(Data!U119)","v":"0"},null,{"$f":"TRIM(Data!V119)","v":"0"},{"$f":"TRIM(Data!W119)","v":"0"},{"$f":"TRIM(Data!X119)","v":"0"},{"$f":"TRIM(Data!Y119)","v":"0"},{"$f":"TRIM(Data!Z119)","v":"0"},{"$f":"TRIM(Data!AA119)","v":"0"},282,"1 Nov 2024 to 30 Nov 2024","18 Chinese Medicine Clinic cum Traing and Research Centre (Pok Oi Hospital)","18CMCTRs (POH)","NGO","6758313621","ENCTR","3","Local System","Local System","2721","0","0","0","2721","","0","0","0","0","0","0","0","0","0","0","0","0","","2721","1","0","0","0","0","0","0","0","0"]
["1 Nov 2024 to 30 Nov 20243650324540LABGEN","1 Nov 2024 to 30 Nov 2024","HONG KONG BAPTIST HOSPITAL","HK BAPTIST HOSPITAL","PH",3650324540,"LABGEN",1,"Trakcare","Local System",8945,2,8943,0,0,null,2,2.2358859698155394E-4,0,2,0,0,0,0,0,0,0,0,null,0,0,0,0,0,0,0,0,0,0,"","","Y","1 Nov 2024 to 30 Nov 20246758313621CMRXO",{"$f":"Data!A120","v":"2024-11-01"},{"$f":"TRIM(Data!B120)","v":"18 CHINESE MEDICINE CLINIC CUM TRAINING AND RESEARCH CENTRE (POK OI HOSPITAL)"},null,{"$f":"TRIM(Data!C120)","v":"NGO"},{"$f":"TRIM(Data!D120)","v":"6758313621"},{"$f":"TRIM(Data!E120)","v":"CMRXO"},{"$f":"TRIM(Data!F120)","v":"3"},{"$f":"TRIM(Data!G120)","v":"HA CMIS"},{"$f":"TRIM(Data!H120)","v":"Local System"},{"$f":"TRIM(Data!I120)","v":"1502"},{"$f":"TRIM(Data!J120)","v":"0"},{"$f":"TRIM(Data!K120)","v":"0"},{"$f":"TRIM(Data!L120)","v":"337"},{"$f":"TRIM(Data!M120)","v":"1165"},null,null,null,{"$f":"TRIM(Data!N120)","v":"0"},{"$f":"TRIM(Data!O120)","v":"0"},{"$f":"TRIM(Data!P120)","v":"337"},null,{"$f":"TRIM(Data!Q120)","v":"337"},null,null,{"$f":"TRIM(Data!R120)","v":"337"},{"$f":"TRIM(Data!S120)","v":"0"},{"$f":"TRIM(Data!T120)","v":"0"},null,null,null,{"$f":"TRIM(Data!U120)","v":"0"},null,{"$f":"TRIM(Data!V120)","v":"0"},{"$f":"TRIM(Data!W120)","v":"0"},{"$f":"TRIM(Data!X120)","v":"0"},{"$f":"TRIM(Data!Y120)","v":"0"},{"$f":"TRIM(Data!Z120)","v":"0"},{"$f":"TRIM(Data!AA120)","v":"0"},281,"1 Nov 2024 to 30 Nov 2024","18 Chinese Medicine Clinic cum Traing and Research Centre (Pok Oi Hospital)","18CMCTRs (POH)","NGO","6758313621","CMRXO","3","Local System","EC Connect","1502","0","0","337","1165","","0","0","0","0","337","0.224367509986684","337","0","0","337","0","0","","1165","0.775632490013316","0","0","0","0","0","0","0","0"]
["1 Nov 2024 to 30 Nov 20243650324540LABMB","1 Nov 2024 to 30 Nov 2024","HONG KONG BAPTIST HOSPITAL","HK BAPTIST HOSPITAL","PH",3650324540,"LABMB",1,"Trakcare","Local System",2935,0,2935,0,0,null,0,0,0,0,0,0,0,0,0,0,0,0,null,0,0,0,0,0,0,0,0,0,0,"","","Y","1 Nov 2024 to 30 Nov 20246758313621CMPX",{"$f":"Data!A121","v":"2024-11-01"},{"$f":"TRIM(Data!B121)","v":"18 CHINESE MEDICINE CLINIC CUM TRAINING AND RESEARCH CENTRE (POK OI HOSPITAL)"},null,{"$f":"TRIM(Data!C121)","v":"NGO"},{"$f":"TRIM(Data!D121)","v":"6758313621"},{"$f":"TRIM(Data!E121)","v":"CMPX"},{"$f":"TRIM(Data!F121)","v":"3"},{"$f":"TRIM(Data!G121)","v":"HA CMIS"},{"$f":"TRIM(Data!H121)","v":"Local System"},{"$f":"TRIM(Data!I121)","v":"1020"},{"$f":"TRIM(Data!J121)","v":"0"},{"$f":"TRIM(Data!K121)","v":"0"},{"$f":"TRIM(Data!L121)","v":"157"},{"$f":"TRIM(Data!M121)","v":"863"},null,null,null,{"$f":"TRIM(Data!N121)","v":"0"},{"$f":"TRIM(Data!O121)","v":"0"},{"$f":"TRIM(Data!P121)","v":"157"},null,{"$f":"TRIM(Data!Q121)","v":"157"},null,null,{"$f":"TRIM(Data!R121)","v":"157"},{"$f":"TRIM(Data!S121)","v":"0"},{"$f":"TRIM(Data!T121)","v":"0"},null,null,null,{"$f":"TRIM(Data!U121)","v":"0"},null,{"$f":"TRIM(Data!V121)","v":"0"},{"$f":"TRIM(Data!W121)","v":"0"},{"$f":"TRIM(Data!X121)","v":"0"},{"$f":"TRIM(Data!Y121)","v":"0"},{"$f":"TRIM(Data!Z121)","v":"0"},{"$f":"TRIM(Data!AA121)","v":"0"},280,"1 Nov 2024 to 30 Nov 2024","18 Chinese Medicine Clinic cum Traing and Research Centre (Pok Oi Hospital)","18CMCTRs (POH)","NGO","6758313621","CMPX","3","Local System","EC Connect","1020","0","0","157","863","","0","0","0","0","157","0.153921568627451","157","0","0","157","0","0","","863","0.846078431372549","0","0","0","0","0","0","0","0"]
["1 Nov 2024 to 30 Nov 20243650324540RAD","1 Nov 2024 to 30 Nov 2024","HONG KONG BAPTIST HOSPITAL","HK BAPTIST HOSPITAL","PH",3650324540,"RAD",3,"Trakcare","Local System",4711,0,0,0,4711,null,0,0,0,0,0,0,0,0,0,0,0,0,null,4711,1,0,0,0,0,0,0,0,0,"","","Y","1 Nov 2024 to 30 Nov 20243740691088CMPROB",{"$f":"Data!A122","v":"2024-11-01"},{"$f":"TRIM(Data!B122)","v":"18 CHINESE MEDICINE CLINIC CUM TRAINING AND RESEARCH CENTRE (UNITED CHRISTIAN NETHERSOLE COMMUNITY HEALTH SERVICE)"},null,{"$f":"TRIM(Data!C122)","v":"NGO"},{"$f":"TRIM(Data!D122)","v":"3740691088"},{"$f":"TRIM(Data!E122)","v":"CMPROB"},{"$f":"TRIM(Data!F122)","v":"3"},{"$f":"TRIM(Data!G122)","v":"HA CMIS"},{"$f":"TRIM(Data!H122)","v":"Local System"},{"$f":"TRIM(Data!I122)","v":"3302"},{"$f":"TRIM(Data!J122)","v":"0"},{"$f":"TRIM(Data!K122)","v":"0"},{"$f":"TRIM(Data!L122)","v":"238"},{"$f":"TRIM(Data!M122)","v":"3064"},null,null,null,{"$f":"TRIM(Data!N122)","v":"0"},{"$f":"TRIM(Data!O122)","v":"0"},{"$f":"TRIM(Data!P122)","v":"153"},null,{"$f":"TRIM(Data!Q122)","v":"153"},null,null,{"$f":"TRIM(Data!R122)","v":"153"},{"$f":"TRIM(Data!S122)","v":"0"},{"$f":"TRIM(Data!T122)","v":"0"},null,null,null,{"$f":"TRIM(Data!U122)","v":"0"},null,{"$f":"TRIM(Data!V122)","v":"0"},{"$f":"TRIM(Data!W122)","v":"0"},{"$f":"TRIM(Data!X122)","v":"0"},{"$f":"TRIM(Data!Y122)","v":"0"},{"$f":"TRIM(Data!Z122)","v":"0"},{"$f":"TRIM(Data!AA122)","v":"0"},132,"1 Nov 2024 to 30 Nov 2024","18 Chinese Medicine Clinic cum Traing and Research Centre (United Christian Nethersole Community Health Service)","18CMCTRs (UCN)","NGO","3740691088","CMPROB","3","Local System","EC Connect","3302","0","0","238","3064","","0","0","0","0","153","0.04633555420957","153","0","0","153","0","0","","3064","0.927922471229558","0","0","0","0","0","0","0","0"]
["1 Nov 2024 to 30 Nov 20243681219587IMMU","1 Nov 2024 to 30 Nov 2024","Department of Health COVID-19 Vaccination Programme","DH COVID-19 VACCINE PROG.","DH",3681219587,"IMMU",3,"Local System","Local System",54553,0,0,0,54553,null,0,0,0,0,0,0,0,0,0,0,0,0,null,54553,1,0,0,0,0,0,0,0,0,"","","Y","1 Nov 2024 to 30 Nov 20243740691088ENCTR",{"$f":"Data!A123","v":"2024-11-01"},{"$f":"TRIM(Data!B123)","v":"18 CHINESE MEDICINE CLINIC CUM TRAINING AND RESEARCH CENTRE (UNITED CHRISTIAN NETHERSOLE COMMUNITY HEALTH SERVICE)"},null,{"$f":"TRIM(Data!C123)","v":"NGO"},{"$f":"TRIM(Data!D123)","v":"3740691088"},{"$f":"TRIM(Data!E123)","v":"ENCTR"},{"$f":"TRIM(Data!F123)","v":"3"},{"$f":"TRIM(Data!G123)","v":"HA CMIS"},{"$f":"TRIM(Data!H123)","v":"Local System"},{"$f":"TRIM(Data!I123)","v":"2603"},{"$f":"TRIM(Data!J123)","v":"0"},{"$f":"TRIM(Data!K123)","v":"0"},{"$f":"TRIM(Data!L123)","v":"0"},{"$f":"TRIM(Data!M123)","v":"2603"},null,null,null,{"$f":"TRIM(Data!N123)","v":"0"},{"$f":"TRIM(Data!O123)","v":"0"},{"$f":"TRIM(Data!P123)","v":"0"},null,{"$f":"TRIM(Data!Q123)","v":"0"},null,null,{"$f":"TRIM(Data!R123)","v":"0"},{"$f":"TRIM(Data!S123)","v":"0"},{"$f":"TRIM(Data!T123)","v":"0"},null,null,null,{"$f":"TRIM(Data!U123)","v":"0"},null,{"$f":"TRIM(Data!V123)","v":"0"},{"$f":"TRIM(Data!W123)","v":"0"},{"$f":"TRIM(Data!X123)","v":"0"},{"$f":"TRIM(Data!Y123)","v":"0"},{"$f":"TRIM(Data!Z123)","v":"0"},{"$f":"TRIM(Data!AA123)","v":"0"},135,"1 Nov 2024 to 30 Nov 2024","18 Chinese Medicine Clinic cum Traing and Research Centre (United Christian Nethersole Community Health Service)","18CMCTRs (UCN)","NGO","3740691088","ENCTR","3","Local System","Local System","2603","0","0","0","2603","","0","0","0","0","0","0","0","0","0","0","0","0","","2603","1","0","0","0","0","0","0","0","0"]
["1 Nov 2024 to 30 Nov 20243726405388RAD","1 Nov 2024 to 30 Nov 2024","The University of Hong Kong","HKU","HCAI",3726405388,"RAD",3,"Local System","Local System",430,0,0,0,430,null,0,0,0,0,0,0,0,0,0,0,0,0,null,430,1,0,0,0,0,0,0,0,0,"","","Y","1 Nov 2024 to 30 Nov 20243740691088CMRXO",{"$f":"Data!A124","v":"2024-11-01"},{"$f":"TRIM(Data!B124)","v":"18 CHINESE MEDICINE CLINIC CUM TRAINING AND RESEARCH CENTRE (UNITED CHRISTIAN NETHERSOLE COMMUNITY HEALTH SERVICE)"},null,{"$f":"TRIM(Data!C124)","v":"NGO"},{"$f":"TRIM(Data!D124)","v":"3740691088"},{"$f":"TRIM(Data!E124)","v":"CMRXO"},{"$f":"TRIM(Data!F124)","v":"3"},{"$f":"TRIM(Data!G124)","v":"HA CMIS"},{"$f":"TRIM(Data!H124)","v":"Local System"},{"$f":"TRIM(Data!I124)","v":"1328"},{"$f":"TRIM(Data!J124)","v":"0"},{"$f":"TRIM(Data!K124)","v":"0"},{"$f":"TRIM(Data!L124)","v":"670"},{"$f":"TRIM(Data!M124)","v":"658"},null,null,null,{"$f":"TRIM(Data!N124)","v":"0"},{"$f":"TRIM(Data!O124)","v":"0"},{"$f":"TRIM(Data!P124)","v":"670"},null,{"$f":"TRIM(Data!Q124)","v":"670"},null,null,{"$f":"TRIM(Data!R124)","v":"670"},{"$f":"TRIM(Data!S124)","v":"0"},{"$f":"TRIM(Data!T124)","v":"0"},null,null,null,{"$f":"TRIM(Data!U124)","v":"0"},null,{"$f":"TRIM(Data!V124)","v":"0"},{"$f":"TRIM(Data!W124)","v":"0"},{"$f":"TRIM(Data!X124)","v":"0"},{"$f":"TRIM(Data!Y124)","v":"0"},{"$f":"TRIM(Data!Z124)","v":"0"},{"$f":"TRIM(Data!AA124)","v":"0"},134,"1 Nov 2024 to 30 Nov 2024","18 Chinese Medicine Clinic cum Traing and Research Centre (United Christian Nethersole Community Health Service)","18CMCTRs (UCN)","NGO","3740691088","CMRXO","3","Local System","EC Connect","1328","0","0","670","658","","0","0","0","0","670","0.504518072289157","670","0","0","670","0","0","","658","0.495481927710843","0","0","0","0","0","0","0","0"]
["1 Nov 2024 to 30 Nov 20243740691088CMPROB","1 Nov 2024 to 30 Nov 2024","18 Chinese Medicine Clinic cum Traing and Research Centre (United Christian Nethersole Community Health Service)","18CMCTRs (UCN)","NGO",3740691088,"CMPROB",3,"Local System","EC Connect",3302,0,0,238,3064,null,0,0,0,0,153,4.633555420956996E-2,153,0,0,153,0,0,null,3064,0.92792247122955784,0,0,0,0,0,0,0,0,"","","Y","1 Nov 2024 to 30 Nov 20243740691088CMPX",{"$f":"Data!A125","v":"2024-11-01"},{"$f":"TRIM(Data!B125)","v":"18 CHINESE MEDICINE CLINIC CUM TRAINING AND RESEARCH CENTRE (UNITED CHRISTIAN NETHERSOLE COMMUNITY HEALTH SERVICE)"},null,{"$f":"TRIM(Data!C125)","v":"NGO"},{"$f":"TRIM(Data!D125)","v":"3740691088"},{"$f":"TRIM(Data!E125)","v":"CMPX"},{"$f":"TRIM(Data!F125)","v":"3"},{"$f":"TRIM(Data!G125)","v":"HA CMIS"},{"$f":"TRIM(Data!H125)","v":"Local System"},{"$f":"TRIM(Data!I125)","v":"946"},{"$f":"TRIM(Data!J125)","v":"0"},{"$f":"TRIM(Data!K125)","v":"0"},{"$f":"TRIM(Data!L125)","v":"1"},{"$f":"TRIM(Data!M125)","v":"945"},null,null,null,{"$f":"TRIM(Data!N125)","v":"0"},{"$f":"TRIM(Data!O125)","v":"0"},{"$f":"TRIM(Data!P125)","v":"1"},null,{"$f":"TRIM(Data!Q125)","v":"1"},null,null,{"$f":"TRIM(Data!R125)","v":"1"},{"$f":"TRIM(Data!S125)","v":"0"},{"$f":"TRIM(Data!T125)","v":"0"},null,null,null,{"$f":"TRIM(Data!U125)","v":"0"},null,{"$f":"TRIM(Data!V125)","v":"0"},{"$f":"TRIM(Data!W125)","v":"0"},{"$f":"TRIM(Data!X125)","v":"0"},{"$f":"TRIM(Data!Y125)","v":"0"},{"$f":"TRIM(Data!Z125)","v":"0"},{"$f":"TRIM(Data!AA125)","v":"0"},133,"1 Nov 2024 to 30 Nov 2024","18 Chinese Medicine Clinic cum Traing and Research Centre (United Christian Nethersole Community Health Service)","18CMCTRs (UCN)","NGO","3740691088","CMPX","3","Local System","EC Connect","946","0","0","1","945","","0","0","0","0","1","0.00105708245243129","1","0","0","1","0","0","","945","0.998942917547569","0","0","0","0","0","0","0","0"]
["1 Nov 2024 to 30 Nov 20243740691088CMPX","1 Nov 2024 to 30 Nov 2024","18 Chinese Medicine Clinic cum Traing and Research Centre (United Christian Nethersole Community Health Service)","18CMCTRs (UCN)","NGO",3740691088,"CMPX",3,"Local System","EC Connect",946,0,0,1,945,null,0,0,0,0,1,1.0570824524312897E-3,1,0,0,1,0,0,null,945,0.9989429175475687,0,0,0,0,0,0,0,0,"","","Y","1 Nov 2024 to 30 Nov 20243628187450ENCTR",{"$f":"Data!A126","v":"2024-11-01"},{"$f":"TRIM(Data!B126)","v":"DHC EXPRESS-SHA TIN (HKSR)"},null,{"$f":"TRIM(Data!C126)","v":"DHC"},{"$f":"TRIM(Data!D126)","v":"3628187450"},{"$f":"TRIM(Data!E126)","v":"ENCTR"},{"$f":"TRIM(Data!F126)","v":"3"},{"$f":"TRIM(Data!G126)","v":"DHCCMS"},{"$f":"TRIM(Data!H126)","v":"Local System"},{"$f":"TRIM(Data!I126)","v":"5227"},{"$f":"TRIM(Data!J126)","v":"0"},{"$f":"TRIM(Data!K126)","v":"0"},{"$f":"TRIM(Data!L126)","v":"0"},{"$f":"TRIM(Data!M126)","v":"5227"},null,null,null,{"$f":"TRIM(Data!N126)","v":"0"},{"$f":"TRIM(Data!O126)","v":"0"},{"$f":"TRIM(Data!P126)","v":"0"},null,{"$f":"TRIM(Data!Q126)","v":"0"},null,null,{"$f":"TRIM(Data!R126)","v":"0"},{"$f":"TRIM(Data!S126)","v":"0"},{"$f":"TRIM(Data!T126)","v":"0"},null,null,null,{"$f":"TRIM(Data!U126)","v":"0"},null,{"$f":"TRIM(Data!V126)","v":"0"},{"$f":"TRIM(Data!W126)","v":"0"},{"$f":"TRIM(Data!X126)","v":"0"},{"$f":"TRIM(Data!Y126)","v":"0"},{"$f":"TRIM(Data!Z126)","v":"0"},{"$f":"TRIM(Data!AA126)","v":"0"},122,"1 Nov 2024 to 30 Nov 2024","DHC EXPRESS-SHA TIN (HKSR)","DHC EXPRESS-SHA TIN-CC","DHC","3628187450","ENCTR","3","Local System","Local System","5227","0","0","0","5227","","0","0","0","0","0","0","0","0","0","0","0","0","","5227","1","0","0","0","0","0","0","0","0"]
["1 Nov 2024 to 30 Nov 20243740691088CMRXO","1 Nov 2024 to 30 Nov 2024","18 Chinese Medicine Clinic cum Traing and Research Centre (United Christian Nethersole Community Health Service)","18CMCTRs (UCN)","NGO",3740691088,"CMRXO",3,"Local System","EC Connect",1328,0,0,670,658,null,0,0,0,0,670,0.50451807228915657,670,0,0,670,0,0,null,658,0.49548192771084337,0,0,0,0,0,0,0,0,"","","Y","1 Nov 2024 to 30 Nov 20243628187450EPIS",{"$f":"Data!A127","v":"2024-11-01"},{"$f":"TRIM(Data!B127)","v":"DHC EXPRESS-SHA TIN (HKSR)"},null,{"$f":"TRIM(Data!C127)","v":"DHC"},{"$f":"TRIM(Data!D127)","v":"3628187450"},{"$f":"TRIM(Data!E127)","v":"EPIS"},{"$f":"TRIM(Data!F127)","v":"1"},{"$f":"TRIM(Data!G127)","v":"DHCCMS"},{"$f":"TRIM(Data!H127)","v":"Local System"},{"$f":"TRIM(Data!I127)","v":"2363"},{"$f":"TRIM(Data!J127)","v":"0"},{"$f":"TRIM(Data!K127)","v":"2363"},{"$f":"TRIM(Data!L127)","v":"0"},{"$f":"TRIM(Data!M127)","v":"0"},null,null,null,{"$f":"TRIM(Data!N127)","v":"0"},{"$f":"TRIM(Data!O127)","v":"0"},{"$f":"TRIM(Data!P127)","v":"0"},null,{"$f":"TRIM(Data!Q127)","v":"0"},null,null,{"$f":"TRIM(Data!R127)","v":"0"},{"$f":"TRIM(Data!S127)","v":"0"},{"$f":"TRIM(Data!T127)","v":"0"},null,null,null,{"$f":"TRIM(Data!U127)","v":"0"},null,{"$f":"TRIM(Data!V127)","v":"0"},{"$f":"TRIM(Data!W127)","v":"0"},{"$f":"TRIM(Data!X127)","v":"0"},{"$f":"TRIM(Data!Y127)","v":"0"},{"$f":"TRIM(Data!Z127)","v":"0"},{"$f":"TRIM(Data!AA127)","v":"0"},123,"1 Nov 2024 to 30 Nov 2024","DHC EXPRESS-SHA TIN (HKSR)","DHC EXPRESS-SHA TIN-CC","DHC","3628187450","EPIS","1","Local System","Local System","2363","0","2363","0","0","","0","0","0","0","0","0","0","0","0","0","0","0","","0","0","0","0","0","0","0","0","0","0"]
["1 Nov 2024 to 30 Nov 20243740691088ENCTR","1 Nov 2024 to 30 Nov 2024","18 Chinese Medicine Clinic cum Traing and Research Centre (United Christian Nethersole Community Health Service)","18CMCTRs (UCN)","NGO",3740691088,"ENCTR",3,"Local System","Local System",2603,0,0,0,2603,null,0,0,0,0,0,0,0,0,0,0,0,0,null,2603,1,0,0,0,0,0,0,0,0,"","","Y","1 Nov 2024 to 30 Nov 20243628187450AL1",{"$f":"Data!A128","v":"2024-11-01"},{"$f":"TRIM(Data!B128)","v":"DHC EXPRESS-SHA TIN (HKSR)"},null,{"$f":"TRIM(Data!C128)","v":"DHC"},{"$f":"TRIM(Data!D128)","v":"3628187450"},{"$f":"TRIM(Data!E128)","v":"AL1"},{"$f":"TRIM(Data!F128)","v":"3"},{"$f":"TRIM(Data!G128)","v":"DHCCMS"},{"$f":"TRIM(Data!H128)","v":"Local System"},{"$f":"TRIM(Data!I128)","v":"2"},{"$f":"TRIM(Data!J128)","v":"0"},{"$f":"TRIM(Data!K128)","v":"0"},{"$f":"TRIM(Data!L128)","v":"2"},{"$f":"TRIM(Data!M128)","v":"0"},null,null,null,{"$f":"TRIM(Data!N128)","v":"0"},{"$f":"TRIM(Data!O128)","v":"0"},{"$f":"TRIM(Data!P128)","v":"2"},null,{"$f":"TRIM(Data!Q128)","v":"2"},null,null,{"$f":"TRIM(Data!R128)","v":"2"},{"$f":"TRIM(Data!S128)","v":"0"},{"$f":"TRIM(Data!T128)","v":"0"},null,null,null,{"$f":"TRIM(Data!U128)","v":"0"},null,{"$f":"TRIM(Data!V128)","v":"0"},{"$f":"TRIM(Data!W128)","v":"0"},{"$f":"TRIM(Data!X128)","v":"0"},{"$f":"TRIM(Data!Y128)","v":"0"},{"$f":"TRIM(Data!Z128)","v":"0"},{"$f":"TRIM(Data!AA128)","v":"0"},121,"1 Nov 2024 to 30 Nov 2024","DHC EXPRESS-SHA TIN (HKSR)","DHC EXPRESS-SHA TIN-CC","DHC","3628187450","AL1","3","Local System","Local System","2","0","0","2","0","","0","0","0","0","2","1","2","0","0","2","0","0","","0","0","0","0","0","0","0","0","0","0"]
["1 Nov 2024 to 30 Nov 20243747982882AL1","1 Nov 2024 to 30 Nov 2024","VMC Healthcare Group Limited","VMC HEALTHCARE GROUP","SOLO",3747982882,"AL1",2,"ClinicSolution","Local System",3,0,0,3,0,null,0,0,0,0,0,0,0,0,0,0,0,0,null,0,0,0,0,0,0,0,0,0,0,"","","Y","1 Nov 2024 to 30 Nov 20249421690548ENCTR",{"$f":"Data!A129","v":"2024-11-01"},{"$f":"TRIM(Data!B129)","v":"DHC EXPRESS-WAN CHAI (MC)"},null,{"$f":"TRIM(Data!C129)","v":"DHC"},{"$f":"TRIM(Data!D129)","v":"9421690548"},{"$f":"TRIM(Data!E129)","v":"ENCTR"},{"$f":"TRIM(Data!F129)","v":"3"},{"$f":"TRIM(Data!G129)","v":"DHCCMS"},{"$f":"TRIM(Data!H129)","v":"Local System"},{"$f":"TRIM(Data!I129)","v":"5465"},{"$f":"TRIM(Data!J129)","v":"0"},{"$f":"TRIM(Data!K129)","v":"0"},{"$f":"TRIM(Data!L129)","v":"0"},{"$f":"TRIM(Data!M129)","v":"5465"},null,null,null,{"$f":"TRIM(Data!N129)","v":"0"},{"$f":"TRIM(Data!O129)","v":"0"},{"$f":"TRIM(Data!P129)","v":"0"},null,{"$f":"TRIM(Data!Q129)","v":"0"},null,null,{"$f":"TRIM(Data!R129)","v":"0"},{"$f":"TRIM(Data!S129)","v":"0"},{"$f":"TRIM(Data!T129)","v":"0"},null,null,null,{"$f":"TRIM(Data!U129)","v":"0"},null,{"$f":"TRIM(Data!V129)","v":"0"},{"$f":"TRIM(Data!W129)","v":"0"},{"$f":"TRIM(Data!X129)","v":"0"},{"$f":"TRIM(Data!Y129)","v":"0"},{"$f":"TRIM(Data!Z129)","v":"0"},{"$f":"TRIM(Data!AA129)","v":"0"},431,"1 Nov 2024 to 30 Nov 2024","DHC EXPRESS-WAN CHAI (MC)","DHC EXPRESS-WAN CHAI-CC","DHC","9421690548","ENCTR","3","Local System","Local System","5465","0","0","0","5465","","0","0","0","0","0","0","0","0","0","0","0","0","","5465","1","0","0","0","0","0","0","0","0"]
[{"$f":"IF(B137<>\"\",B137&F137&G137,\"\")","v":"1 Nov 2024 to 30 Nov 20243747982882ENCTR"},"1 Nov 2024 to 30 Nov 2024","VMC Healthcare Group Limited","VMC HEALTHCARE GROUP","SOLO",3747982882,"ENCTR",3,"ClinicSolution","Local System",55,0,0,0,55,null,0,0,0,0,0,0,0,0,0,0,0,0,null,55,1,0,0,0,0,0,0,0,0,{"$f":"IFERROR(IF(SEARCH(\"total\",A137)>0,\"\",\"\"),_xlfn.IFNA(IF(A137<>\"\",IF(MATCH(A137,AQ:AQ,0)>0,\"\",\"\"),\"\"),\"Y\"))","v":""},{"$f":"IFERROR(_xlfn.IFNA(IF(AQ137<>\"\",IF(MATCH(AQ137,A:A,0)>0,\"\",\"\"),\"\"),\"Y\"),\"\")","v":""},{"$f":"IF(OR(TRIM(UPPER(AS137))<>TRIM(UPPER(CF137)),AU137<>CH137,AV137<>CI137,AW137<>CJ137,AX137<>CK137,AY137<>CL137,AZ137<>CM137,BA137<>CN137,BB137<>CO137,BC137<>CP137,BD137<>CQ137,BE137<>CR137,BI137<>CV137,BJ137<>CW137,BK137<>CX137,BM137<>CZ137,BP137<>DC137,BQ137<>DD137,BR137<>DE137,BV137<>DI137,BX137<>DK137,BY137<>DL137,BZ137<>DM137,CA137<>DN137,CB137<>DO137,CC137<>DP137),\"Y\",\"\")","v":"Y"},{"$f":"IF(AR137<>\"\",TEXT(AR137,\"d mmm yyyy\") &\" to \" & TEXT(EOMONTH(AR137,0),\"d mmm yyyy\") & AV137 & AW137,\"\")","v":"1 Nov 2024 to 30 Nov 20249421690548EPIS"},{"$f":"Data!A130","v":"2024-11-01"},{"$f":"TRIM(Data!B130)","v":"DHC EXPRESS-WAN CHAI (MC)"},null,{"$f":"TRIM(Data!C130)","v":"DHC"},{"$f":"TRIM(Data!D130)","v":"9421690548"},{"$f":"TRIM(Data!E130)","v":"EPIS"},{"$f":"TRIM(Data!F130)","v":"1"},{"$f":"TRIM(Data!G130)","v":"DHCCMS"},{"$f":"TRIM(Data!H130)","v":"Local System"},{"$f":"TRIM(Data!I130)","v":"1727"},{"$f":"TRIM(Data!J130)","v":"0"},{"$f":"TRIM(Data!K130)","v":"1727"},{"$f":"TRIM(Data!L130)","v":"0"},{"$f":"TRIM(Data!M130)","v":"0"},null,null,null,{"$f":"TRIM(Data!N130)","v":"0"},{"$f":"TRIM(Data!O130)","v":"0"},{"$f":"TRIM(Data!P130)","v":"0"},null,{"$f":"TRIM(Data!Q130)","v":"0"},null,null,{"$f":"TRIM(Data!R130)","v":"0"},{"$f":"TRIM(Data!S130)","v":"0"},{"$f":"TRIM(Data!T130)","v":"0"},null,null,null,{"$f":"TRIM(Data!U130)","v":"0"},null,{"$f":"TRIM(Data!V130)","v":"0"},{"$f":"TRIM(Data!W130)","v":"0"},{"$f":"TRIM(Data!X130)","v":"0"},{"$f":"TRIM(Data!Y130)","v":"0"},{"$f":"TRIM(Data!Z130)","v":"0"},{"$f":"TRIM(Data!AA130)","v":"0"},{"$f":"MATCH(AQ137,A:A,0)","v":432},{"$f":"TRIM(INDEX(B:B,$CD137))","v":"1 Nov 2024 to 30 Nov 2024"},{"$f":"TRIM(INDEX(C:C,$CD137))","v":"DHC EXPRESS-WAN CHAI (MC)"},{"$f":"TRIM(INDEX(D:D,$CD137))","v":"DHC EXPRESS-WAN CHAI-CC"},{"$f":"TRIM(INDEX(E:E,$CD137))","v":"DHC"},{"$f":"TRIM(INDEX(F:F,$CD137))","v":"9421690548"},{"$f":"TRIM(INDEX(G:G,$CD137))","v":"EPIS"},{"$f":"TRIM(INDEX(H:H,$CD137))","v":"1"},{"$f":"TRIM(INDEX(I:I,$CD137))","v":"Local System"},{"$f":"TRIM(INDEX(J:J,$CD137))","v":"Local System"},{"$f":"TRIM(INDEX(K:K,$CD137))","v":"1727"},{"$f":"TRIM(INDEX(L:L,$CD137))","v":"0"},{"$f":"TRIM(INDEX(M:M,$CD137))","v":"1727"},{"$f":"TRIM(INDEX(N:N,$CD137))","v":"0"},{"$f":"TRIM(INDEX(O:O,$CD137))","v":"0"},{"$f":"TRIM(INDEX(P:P,$CD137))","v":""},{"$f":"TRIM(INDEX(Q:Q,$CD137))","v":"0"},{"$f":"TRIM(INDEX(R:R,$CD137))","v":"0"},{"$f":"TRIM(INDEX(S:S,$CD137))","v":"0"},{"$f":"TRIM(INDEX(T:T,$CD137))","v":"0"},{"$f":"TRIM(INDEX(U:U,$CD137))","v":"0"},{"$f":"TRIM(INDEX(V:V,$CD137))","v":"0"},{"$f":"TRIM(INDEX(W:W,$CD137))","v":"0"},{"$f":"TRIM(INDEX(X:X,$CD137))","v":"0"},{"$f":"TRIM(INDEX(Y:Y,$CD137))","v":"0"},{"$f":"TRIM(INDEX(Z:Z,$CD137))","v":"0"},{"$f":"TRIM(INDEX(AA:AA,$CD137))","v":"0"},{"$f":"TRIM(INDEX(AB:AB,$CD137))","v":"0"},{"$f":"TRIM(INDEX(AC:AC,$CD137))","v":""},{"$f":"TRIM(INDEX(AD:AD,$CD137))","v":"0"},{"$f":"TRIM(INDEX(AE:AE,$CD137))","v":"0"},{"$f":"TRIM(INDEX(AF:AF,$CD137))","v":"0"},{"$f":"TRIM(INDEX(AG:AG,$CD137))","v":"0"},{"$f":"TRIM(INDEX(AH:AH,$CD137))","v":"0"},{"$f":"TRIM(INDEX(AI:AI,$CD137))","v":"0"},{"$f":"TRIM(INDEX(AJ:AJ,$CD137))","v":"0"},{"$f":"TRIM(INDEX(AK:AK,$CD137))","v":"0"},{"$f":"TRIM(INDEX(AL:AL,$CD137))","v":"0"},{"$f":"TRIM(INDEX(AM:AM,$CD137))","v":"0"}]
["1 Nov 2024 to 30 Nov 20243747982882PROB","1 Nov 2024 to 30 Nov 2024","VMC Healthcare Group Limited","VMC HEALTHCARE GROUP","SOLO",3747982882,"PROB",3,"ClinicSolution","Local System",1,0,0,1,0,null,0,0,0,0,1,1,1,0,0,1,0,0,null,0,0,0,0,0,0,0,0,0,0,"","","Y","1 Nov 2024 to 30 Nov 20249421690548AL1",{"$f":"Data!A131","v":"2024-11-01"},{"$f":"TRIM(Data!B131)","v":"DHC EXPRESS-WAN CHAI (MC)"},null,{"$f":"TRIM(Data!C131)","v":"DHC"},{"$f":"TRIM(Data!D131)","v":"9421690548"},{"$f":"TRIM(Data!E131)","v":"AL1"},{"$f":"TRIM(Data!F131)","v":"3"},{"$f":"TRIM(Data!G131)","v":"DHCCMS"},{"$f":"TRIM(Data!H131)","v":"Local System"},{"$f":"TRIM(Data!I131)","v":"5"},{"$f":"TRIM(Data!J131)","v":"0"},{"$f":"TRIM(Data!K131)","v":"0"},{"$f":"TRIM(Data!L131)","v":"0"},{"$f":"TRIM(Data!M131)","v":"5"},null,null,null,{"$f":"TRIM(Data!N131)","v":"0"},{"$f":"TRIM(Data!O131)","v":"0"},{"$f":"TRIM(Data!P131)","v":"0"},null,{"$f":"TRIM(Data!Q131)","v":"0"},null,null,{"$f":"TRIM(Data!R131)","v":"0"},{"$f":"TRIM(Data!S131)","v":"0"},{"$f":"TRIM(Data!T131)","v":"0"},null,null,null,{"$f":"TRIM(Data!U131)","v":"0"},null,{"$f":"TRIM(Data!V131)","v":"0"},{"$f":"TRIM(Data!W131)","v":"0"},{"$f":"TRIM(Data!X131)","v":"0"},{"$f":"TRIM(Data!Y131)","v":"0"},{"$f":"TRIM(Data!Z131)","v":"0"},{"$f":"TRIM(Data!AA131)","v":"0"},430,"1 Nov 2024 to 30 Nov 2024","DHC EXPRESS-WAN CHAI (MC)","DHC EXPRESS-WAN CHAI-CC","DHC","9421690548","AL1","3","Local System","Local System","5","0","0","0","5","","0","0","0","0","0","0","0","0","0","0","0","0","","5","1","0","0","0","0","0","0","0","0"]
["1 Nov 2024 to 30 Nov 20243747982882PX","1 Nov 2024 to 30 Nov 2024","VMC Healthcare Group Limited","VMC HEALTHCARE GROUP","SOLO",3747982882,"PX",3,"ClinicSolution","Local System",58,8,0,50,0,null,8,0.13793103448275862,8,0,50,0.86206896551724133,50,0,0,50,0,0,null,0,0,0,0,0,0,0,0,0,0,"","","Y","1 Nov 2024 to 30 Nov 20245249502353CMPROB",{"$f":"Data!A132","v":"2024-11-01"},{"$f":"TRIM(Data!B132)","v":"18 CHINESE MEDICINE CLINIC CUM TRAINING AND RESEARCH CENTRE (TUNG WAH GROUP OF HOSPITALS)"},null,{"$f":"TRIM(Data!C132)","v":"NGO"},{"$f":"TRIM(Data!D132)","v":"5249502353"},{"$f":"TRIM(Data!E132)","v":"CMPROB"},{"$f":"TRIM(Data!F132)","v":"3"},{"$f":"TRIM(Data!G132)","v":"HA CMIS"},{"$f":"TRIM(Data!H132)","v":"Local System"},{"$f":"TRIM(Data!I132)","v":"2846"},{"$f":"TRIM(Data!J132)","v":"0"},{"$f":"TRIM(Data!K132)","v":"0"},{"$f":"TRIM(Data!L132)","v":"617"},{"$f":"TRIM(Data!M132)","v":"2229"},null,null,null,{"$f":"TRIM(Data!N132)","v":"0"},{"$f":"TRIM(Data!O132)","v":"0"},{"$f":"TRIM(Data!P132)","v":"350"},null,{"$f":"TRIM(Data!Q132)","v":"350"},null,null,{"$f":"TRIM(Data!R132)","v":"350"},{"$f":"TRIM(Data!S132)","v":"0"},{"$f":"TRIM(Data!T132)","v":"0"},null,null,null,{"$f":"TRIM(Data!U132)","v":"0"},null,{"$f":"TRIM(Data!V132)","v":"0"},{"$f":"TRIM(Data!W132)","v":"0"},{"$f":"TRIM(Data!X132)","v":"0"},{"$f":"TRIM(Data!Y132)","v":"0"},{"$f":"TRIM(Data!Z132)","v":"0"},{"$f":"TRIM(Data!AA132)","v":"0"},194,"1 Nov 2024 to 30 Nov 2024","18 Chinese Medicine Clinic cum Traing and Research Centre (Tung Wah Group of Hospital)","18CMCTRs(TWGHS)","NGO","5249502353","CMPROB","3","Local System","EC Connect","2846","0","0","617","2229","","0","0","0","0","350","0.122979620520028","350","0","0","350","0","0","","2229","0.783204497540408","0","0","0","0","0","0","0","0"]
["1 Nov 2024 to 30 Nov 20243923060878ENCTR","1 Nov 2024 to 30 Nov 2024","Confidence Medical Centre Limited","CONFIDENCE MEDICAL CTR","SOLO",3923060878,"ENCTR",3,"ClinicSolution","Local System",18,0,0,0,18,null,0,0,0,0,0,0,0,0,0,0,0,0,null,18,1,0,0,0,0,0,0,0,0,"","","Y","1 Nov 2024 to 30 Nov 20245249502353ENCTR",{"$f":"Data!A133","v":"2024-11-01"},{"$f":"TRIM(Data!B133)","v":"18 CHINESE MEDICINE CLINIC CUM TRAINING AND RESEARCH CENTRE (TUNG WAH GROUP OF HOSPITALS)"},null,{"$f":"TRIM(Data!C133)","v":"NGO"},{"$f":"TRIM(Data!D133)","v":"5249502353"},{"$f":"TRIM(Data!E133)","v":"ENCTR"},{"$f":"TRIM(Data!F133)","v":"3"},{"$f":"TRIM(Data!G133)","v":"HA CMIS"},{"$f":"TRIM(Data!H133)","v":"Local System"},{"$f":"TRIM(Data!I133)","v":"2372"},{"$f":"TRIM(Data!J133)","v":"0"},{"$f":"TRIM(Data!K133)","v":"0"},{"$f":"TRIM(Data!L133)","v":"0"},{"$f":"TRIM(Data!M133)","v":"2372"},null,null,null,{"$f":"TRIM(Data!N133)","v":"0"},{"$f":"TRIM(Data!O133)","v":"0"},{"$f":"TRIM(Data!P133)","v":"0"},null,{"$f":"TRIM(Data!Q133)","v":"0"},null,null,{"$f":"TRIM(Data!R133)","v":"0"},{"$f":"TRIM(Data!S133)","v":"0"},{"$f":"TRIM(Data!T133)","v":"0"},null,null,null,{"$f":"TRIM(Data!U133)","v":"0"},null,{"$f":"TRIM(Data!V133)","v":"0"},{"$f":"TRIM(Data!W133)","v":"0"},{"$f":"TRIM(Data!X133)","v":"0"},{"$f":"TRIM(Data!Y133)","v":"0"},{"$f":"TRIM(Data!Z133)","v":"0"},{"$f":"TRIM(Data!AA133)","v":"0"},197,"1 Nov 2024 to 30 Nov 2024","18 Chinese Medicine Clinic cum Traing and Research Centre (Tung Wah Group of Hospital)","18CMCTRs(TWGHS)","NGO","5249502353","ENCTR","3","Local System","Local System","2372","0","0","0","2372","","0","0","0","0","0","0","0","0","0","0","0","0","","2372","1","0","0","0","0","0","0","0","0"]
["1 Nov 2024 to 30 Nov 20243955467232AL1","1 Nov 2024 to 30 Nov 2024","CHOW KAI LAI","CKL","SOLO",3955467232,"AL1",2,"ClinicSolution","Local System",2,0,0,2,0,null,0,0,0,0,0,0,0,0,0,0,0,0,null,0,0,0,0,0,0,0,0,0,0,"","","Y","1 Nov 2024 to 30 Nov 20245249502353CMRXO",{"$f":"Data!A134","v":"2024-11-01"},{"$f":"TRIM(Data!B134)","v":"18 CHINESE MEDICINE CLINIC CUM TRAINING AND RESEARCH CENTRE (TUNG WAH GROUP OF HOSPITALS)"},null,{"$f":"TRIM(Data!C134)","v":"NGO"},{"$f":"TRIM(Data!D134)","v":"5249502353"},{"$f":"TRIM(Data!E134)","v":"CMRXO"},{"$f":"TRIM(Data!F134)","v":"3"},{"$f":"TRIM(Data!G134)","v":"HA CMIS"},{"$f":"TRIM(Data!H134)","v":"Local System"},{"$f":"TRIM(Data!I134)","v":"1276"},{"$f":"TRIM(Data!J134)","v":"0"},{"$f":"TRIM(Data!K134)","v":"0"},{"$f":"TRIM(Data!L134)","v":"472"},{"$f":"TRIM(Data!M134)","v":"804"},null,null,null,{"$f":"TRIM(Data!N134)","v":"0"},{"$f":"TRIM(Data!O134)","v":"0"},{"$f":"TRIM(Data!P134)","v":"472"},null,{"$f":"TRIM(Data!Q134)","v":"472"},null,null,{"$f":"TRIM(Data!R134)","v":"472"},{"$f":"TRIM(Data!S134)","v":"0"},{"$f":"TRIM(Data!T134)","v":"0"},null,null,null,{"$f":"TRIM(Data!U134)","v":"0"},null,{"$f":"TRIM(Data!V134)","v":"0"},{"$f":"TRIM(Data!W134)","v":"0"},{"$f":"TRIM(Data!X134)","v":"0"},{"$f":"TRIM(Data!Y134)","v":"0"},{"$f":"TRIM(Data!Z134)","v":"0"},{"$f":"TRIM(Data!AA134)","v":"0"},196,"1 Nov 2024 to 30 Nov 2024","18 Chinese Medicine Clinic cum Traing and Research Centre (Tung Wah Group of Hospital)","18CMCTRs(TWGHS)","NGO","5249502353","CMRXO","3","Local System","EC Connect","1276","0","0","472","804","","0","0","0","0","472","0.369905956112853","472","0","0","472","0","0","","804","0.630094043887147","0","0","0","0","0","0","0","0"]
["1 Nov 2024 to 30 Nov 20243955467232ENCTR","1 Nov 2024 to 30 Nov 2024","CHOW KAI LAI","CKL","SOLO",3955467232,"ENCTR",3,"ClinicSolution","Local System",24,0,0,0,24,null,0,0,0,0,0,0,0,0,0,0,0,0,null,24,1,0,0,0,0,0,0,0,0,"","","Y","1 Nov 2024 to 30 Nov 20245249502353CMPX",{"$f":"Data!A135","v":"2024-11-01"},{"$f":"TRIM(Data!B135)","v":"18 CHINESE MEDICINE CLINIC CUM TRAINING AND RESEARCH CENTRE (TUNG WAH GROUP OF HOSPITALS)"},null,{"$f":"TRIM(Data!C135)","v":"NGO"},{"$f":"TRIM(Data!D135)","v":"5249502353"},{"$f":"TRIM(Data!E135)","v":"CMPX"},{"$f":"TRIM(Data!F135)","v":"3"},{"$f":"TRIM(Data!G135)","v":"HA CMIS"},{"$f":"TRIM(Data!H135)","v":"Local System"},{"$f":"TRIM(Data!I135)","v":"611"},{"$f":"TRIM(Data!J135)","v":"0"},{"$f":"TRIM(Data!K135)","v":"0"},{"$f":"TRIM(Data!L135)","v":"0"},{"$f":"TRIM(Data!M135)","v":"611"},null,null,null,{"$f":"TRIM(Data!N135)","v":"0"},{"$f":"TRIM(Data!O135)","v":"0"},{"$f":"TRIM(Data!P135)","v":"0"},null,{"$f":"TRIM(Data!Q135)","v":"0"},null,null,{"$f":"TRIM(Data!R135)","v":"0"},{"$f":"TRIM(Data!S135)","v":"0"},{"$f":"TRIM(Data!T135)","v":"0"},null,null,null,{"$f":"TRIM(Data!U135)","v":"0"},null,{"$f":"TRIM(Data!V135)","v":"0"},{"$f":"TRIM(Data!W135)","v":"0"},{"$f":"TRIM(Data!X135)","v":"0"},{"$f":"TRIM(Data!Y135)","v":"0"},{"$f":"TRIM(Data!Z135)","v":"0"},{"$f":"TRIM(Data!AA135)","v":"0"},195,"1 Nov 2024 to 30 Nov 2024","18 Chinese Medicine Clinic cum Traing and Research Centre (Tung Wah Group of Hospital)","18CMCTRs(TWGHS)","NGO","5249502353","CMPX","3","Local System","EC Connect","611","0","0","0","611","","0","0","0","0","0","0","0","0","0","0","0","0","","611","1","0","0","0","0","0","0","0","0"]
["1 Nov 2024 to 30 Nov 20243955467232PROB","1 Nov 2024 to 30 Nov 2024","CHOW KAI LAI","CKL","SOLO",3955467232,"PROB",3,"ClinicSolution","Local System",13,0,0,13,0,null,0,0,0,0,13,1,13,0,0,13,0,0,null,0,0,0,0,0,0,0,0,0,0,"","","Y","1 Nov 2024 to 30 Nov 20243237753992CMPROB",{"$f":"Data!A136","v":"2024-11-01"},{"$f":"TRIM(Data!B136)","v":"18 CHINESE MEDICINE CLINIC CUM TRAINING AND RESEARCH CENTRE (HAVEN OF HOPE)"},null,{"$f":"TRIM(Data!C136)","v":"NGO"},{"$f":"TRIM(Data!D136)","v":"3237753992"},{"$f":"TRIM(Data!E136)","v":"CMPROB"},{"$f":"TRIM(Data!F136)","v":"3"},{"$f":"TRIM(Data!G136)","v":"HA CMIS"},{"$f":"TRIM(Data!H136)","v":"Local System"},{"$f":"TRIM(Data!I136)","v":"2662"},{"$f":"TRIM(Data!J136)","v":"0"},{"$f":"TRIM(Data!K136)","v":"0"},{"$f":"TRIM(Data!L136)","v":"505"},{"$f":"TRIM(Data!M136)","v":"2157"},null,null,null,{"$f":"TRIM(Data!N136)","v":"0"},{"$f":"TRIM(Data!O136)","v":"0"},{"$f":"TRIM(Data!P136)","v":"396"},null,{"$f":"TRIM(Data!Q136)","v":"396"},null,null,{"$f":"TRIM(Data!R136)","v":"396"},{"$f":"TRIM(Data!S136)","v":"0"},{"$f":"TRIM(Data!T136)","v":"0"},null,null,null,{"$f":"TRIM(Data!U136)","v":"0"},null,{"$f":"TRIM(Data!V136)","v":"0"},{"$f":"TRIM(Data!W136)","v":"0"},{"$f":"TRIM(Data!X136)","v":"0"},{"$f":"TRIM(Data!Y136)","v":"0"},{"$f":"TRIM(Data!Z136)","v":"0"},{"$f":"TRIM(Data!AA136)","v":"0"},101,"1 Nov 2024 to 30 Nov 2024","18 Chinese Medicine Clinic cum Traing and Research Centre (Haven of Hope)","18CMCTRs(HOHCS)","NGO","3237753992","CMPROB","3","Local System","EC Connect","2662","0","0","505","2157","","0","0","0","0","396","0.148760330578512","396","0","0","396","0","0","","2157","0.810293012772352","0","0","0","0","0","0","0","0"]
["1 Nov 2024 to 30 Nov 20243955467232PX","1 Nov 2024 to 30 Nov 2024","CHOW KAI LAI","CKL","SOLO",3955467232,"PX",3,"ClinicSolution","Local System",9,0,0,9,0,null,0,0,0,0,9,1,9,0,0,9,0,0,null,0,0,0,0,0,0,0,0,0,0,"","","Y","1 Nov 2024 to 30 Nov 20243237753992ENCTR",{"$f":"Data!A137","v":"2024-11-01"},{"$f":"TRIM(Data!B137)","v":"18 CHINESE MEDICINE CLINIC CUM TRAINING AND RESEARCH CENTRE (HAVEN OF HOPE)"},null,{"$f":"TRIM(Data!C137)","v":"NGO"},{"$f":"TRIM(Data!D137)","v":"3237753992"},{"$f":"TRIM(Data!E137)","v":"ENCTR"},{"$f":"TRIM(Data!F137)","v":"3"},{"$f":"TRIM(Data!G137)","v":"HA CMIS"},{"$f":"TRIM(Data!H137)","v":"Local System"},{"$f":"TRIM(Data!I137)","v":"2452"},{"$f":"TRIM(Data!J137)","v":"0"},{"$f":"TRIM(Data!K137)","v":"0"},{"$f":"TRIM(Data!L137)","v":"0"},{"$f":"TRIM(Data!M137)","v":"2452"},null,null,null,{"$f":"TRIM(Data!N137)","v":"0"},{"$f":"TRIM(Data!O137)","v":"0"},{"$f":"TRIM(Data!P137)","v":"0"},null,{"$f":"TRIM(Data!Q137)","v":"0"},null,null,{"$f":"TRIM(Data!R137)","v":"0"},{"$f":"TRIM(Data!S137)","v":"0"},{"$f":"TRIM(Data!T137)","v":"0"},null,null,null,{"$f":"TRIM(Data!U137)","v":"0"},null,{"$f":"TRIM(Data!V137)","v":"0"},{"$f":"TRIM(Data!W137)","v":"0"},{"$f":"TRIM(Data!X137)","v":"0"},{"$f":"TRIM(Data!Y137)","v":"0"},{"$f":"TRIM(Data!Z137)","v":"0"},{"$f":"TRIM(Data!AA137)","v":"0"},104,"1 Nov 2024 to 30 Nov 2024","18 Chinese Medicine Clinic cum Traing and Research Centre (Haven of Hope)","18CMCTRs(HOHCS)","NGO","3237753992","ENCTR","3","Local System","Local System","2452","0","0","0","2452","","0","0","0","0","0","0","0","0","0","0","0","0","","2452","1","0","0","0","0","0","0","0","0"]
["1 Nov 2024 to 30 Nov 20243955467232RXD","1 Nov 2024 to 30 Nov 2024","CHOW KAI LAI","CKL","SOLO",3955467232,"RXD",2,"ClinicSolution","Local System",50,0,0,50,0,null,0,0,0,0,0,0,0,0,0,0,0,0,null,0,0,0,0,0,0,0,0,0,0,"","","Y","1 Nov 2024 to 30 Nov 20243237753992CMRXO",{"$f":"Data!A138","v":"2024-11-01"},{"$f":"TRIM(Data!B138)","v":"18 CHINESE MEDICINE CLINIC CUM TRAINING AND RESEARCH CENTRE (HAVEN OF HOPE)"},null,{"$f":"TRIM(Data!C138)","v":"NGO"},{"$f":"TRIM(Data!D138)","v":"3237753992"},{"$f":"TRIM(Data!E138)","v":"CMRXO"},{"$f":"TRIM(Data!F138)","v":"3"},{"$f":"TRIM(Data!G138)","v":"HA CMIS"},{"$f":"TRIM(Data!H138)","v":"Local System"},{"$f":"TRIM(Data!I138)","v":"981"},{"$f":"TRIM(Data!J138)","v":"0"},{"$f":"TRIM(Data!K138)","v":"0"},{"$f":"TRIM(Data!L138)","v":"306"},{"$f":"TRIM(Data!M138)","v":"675"},null,null,null,{"$f":"TRIM(Data!N138)","v":"0"},{"$f":"TRIM(Data!O138)","v":"0"},{"$f":"TRIM(Data!P138)","v":"306"},null,{"$f":"TRIM(Data!Q138)","v":"306"},null,null,{"$f":"TRIM(Data!R138)","v":"306"},{"$f":"TRIM(Data!S138)","v":"0"},{"$f":"TRIM(Data!T138)","v":"0"},null,null,null,{"$f":"TRIM(Data!U138)","v":"0"},null,{"$f":"TRIM(Data!V138)","v":"0"},{"$f":"TRIM(Data!W138)","v":"0"},{"$f":"TRIM(Data!X138)","v":"0"},{"$f":"TRIM(Data!Y138)","v":"0"},{"$f":"TRIM(Data!Z138)","v":"0"},{"$f":"TRIM(Data!AA138)","v":"0"},103,"1 Nov 2024 to 30 Nov 2024","18 Chinese Medicine Clinic cum Traing and Research Centre (Haven of Hope)","18CMCTRs(HOHCS)","NGO","3237753992","CMRXO","3","Local System","EC Connect","981","0","0","306","675","","0","0","0","0","306","0.311926605504587","306","0","0","306","0","0","","675","0.688073394495413","0","0","0","0","0","0","0","0"]
["1 Nov 2024 to 30 Nov 20243955467232RXO","1 Nov 2024 to 30 Nov 2024","CHOW KAI LAI","CKL","SOLO",3955467232,"RXO",2,"ClinicSolution","Local System",50,0,0,50,0,null,0,0,0,0,0,0,0,0,0,0,0,0,null,0,0,0,0,0,0,0,0,0,0,"","","Y","1 Nov 2024 to 30 Nov 20243237753992CMPX",{"$f":"Data!A139","v":"2024-11-01"},{"$f":"TRIM(Data!B139)","v":"18 CHINESE MEDICINE CLINIC CUM TRAINING AND RESEARCH CENTRE (HAVEN OF HOPE)"},null,{"$f":"TRIM(Data!C139)","v":"NGO"},{"$f":"TRIM(Data!D139)","v":"3237753992"},{"$f":"TRIM(Data!E139)","v":"CMPX"},{"$f":"TRIM(Data!F139)","v":"3"},{"$f":"TRIM(Data!G139)","v":"HA CMIS"},{"$f":"TRIM(Data!H139)","v":"Local System"},{"$f":"TRIM(Data!I139)","v":"621"},{"$f":"TRIM(Data!J139)","v":"0"},{"$f":"TRIM(Data!K139)","v":"0"},{"$f":"TRIM(Data!L139)","v":"0"},{"$f":"TRIM(Data!M139)","v":"621"},null,null,null,{"$f":"TRIM(Data!N139)","v":"0"},{"$f":"TRIM(Data!O139)","v":"0"},{"$f":"TRIM(Data!P139)","v":"0"},null,{"$f":"TRIM(Data!Q139)","v":"0"},null,null,{"$f":"TRIM(Data!R139)","v":"0"},{"$f":"TRIM(Data!S139)","v":"0"},{"$f":"TRIM(Data!T139)","v":"0"},null,null,null,{"$f":"TRIM(Data!U139)","v":"0"},null,{"$f":"TRIM(Data!V139)","v":"0"},{"$f":"TRIM(Data!W139)","v":"0"},{"$f":"TRIM(Data!X139)","v":"0"},{"$f":"TRIM(Data!Y139)","v":"0"},{"$f":"TRIM(Data!Z139)","v":"0"},{"$f":"TRIM(Data!AA139)","v":"0"},102,"1 Nov 2024 to 30 Nov 2024","18 Chinese Medicine Clinic cum Traing and Research Centre (Haven of Hope)","18CMCTRs(HOHCS)","NGO","3237753992","CMPX","3","Local System","EC Connect","621","0","0","0","621","","0","0","0","0","0","0","0","0","0","0","0","0","","621","1","0","0","0","0","0","0","0","0"]
["1 Nov 2024 to 30 Nov 20243973708225RAD","1 Nov 2024 to 30 Nov 2024","APOLLO MRI CENTRE LIMITED","APOLLO MRI CENTRE LIMITED","SOLO",3973708225,"RAD",3,"RHI2","Local System",39,0,0,0,39,null,0,0,0,0,0,0,0,0,0,0,0,0,null,39,1,0,0,0,0,0,0,0,0,"","","","1 Nov 2024 to 30 Nov 20245712620300RAD",{"$f":"Data!A140","v":"2024-11-01"},{"$f":"TRIM(Data!B140)","v":"UNION HOSPITAL"},null,{"$f":"TRIM(Data!C140)","v":"PH"},{"$f":"TRIM(Data!D140)","v":"5712620300"},{"$f":"TRIM(Data!E140)","v":"RAD"},{"$f":"TRIM(Data!F140)","v":"3"},{"$f":"TRIM(Data!G140)","v":"UHLAAM"},{"$f":"TRIM(Data!H140)","v":"Local System"},{"$f":"TRIM(Data!I140)","v":"4239"},{"$f":"TRIM(Data!J140)","v":"0"},{"$f":"TRIM(Data!K140)","v":"0"},{"$f":"TRIM(Data!L140)","v":"0"},{"$f":"TRIM(Data!M140)","v":"4239"},null,null,null,{"$f":"TRIM(Data!N140)","v":"0"},{"$f":"TRIM(Data!O140)","v":"0"},{"$f":"TRIM(Data!P140)","v":"0"},null,{"$f":"TRIM(Data!Q140)","v":"0"},null,null,{"$f":"TRIM(Data!R140)","v":"0"},{"$f":"TRIM(Data!S140)","v":"0"},{"$f":"TRIM(Data!T140)","v":"0"},null,null,null,{"$f":"TRIM(Data!U140)","v":"0"},null,{"$f":"TRIM(Data!V140)","v":"0"},{"$f":"TRIM(Data!W140)","v":"0"},{"$f":"TRIM(Data!X140)","v":"0"},{"$f":"TRIM(Data!Y140)","v":"0"},{"$f":"TRIM(Data!Z140)","v":"0"},{"$f":"TRIM(Data!AA140)","v":"0"},224,"1 Nov 2024 to 30 Nov 2024","UNION HOSPITAL","UNION HOSPITAL","PH","5712620300","RAD","3","UHLAAM","Local System","4239","0","0","0","4239","","0","0","0","0","0","0","0","0","0","0","0","0","","4239","1","0","0","0","0","0","0","0","0"]
["1 Nov 2024 to 30 Nov 20244048010991RAD","1 Nov 2024 to 30 Nov 2024","Venus Health and Imaging Centre Limited","VENUS HELATH CENTRE","SOLO",4048010991,"RAD",3,"RHI2","Local System",518,0,0,0,518,null,0,0,0,0,0,0,0,0,0,0,0,0,null,518,1,0,0,0,0,0,0,0,0,"","","Y","1 Nov 2024 to 30 Nov 20245712620300AL1",{"$f":"Data!A141","v":"2024-11-01"},{"$f":"TRIM(Data!B141)","v":"UNION HOSPITAL"},null,{"$f":"TRIM(Data!C141)","v":"PH"},{"$f":"TRIM(Data!D141)","v":"5712620300"},{"$f":"TRIM(Data!E141)","v":"AL1"},{"$f":"TRIM(Data!F141)","v":"3"},{"$f":"TRIM(Data!G141)","v":"UHLAAM"},{"$f":"TRIM(Data!H141)","v":"Adaptation"},{"$f":"TRIM(Data!I141)","v":"1296"},{"$f":"TRIM(Data!J141)","v":"0"},{"$f":"TRIM(Data!K141)","v":"0"},{"$f":"TRIM(Data!L141)","v":"278"},{"$f":"TRIM(Data!M141)","v":"1018"},null,null,null,{"$f":"TRIM(Data!N141)","v":"0"},{"$f":"TRIM(Data!O141)","v":"0"},{"$f":"TRIM(Data!P141)","v":"265"},null,{"$f":"TRIM(Data!Q141)","v":"265"},null,null,{"$f":"TRIM(Data!R141)","v":"265"},{"$f":"TRIM(Data!S141)","v":"0"},{"$f":"TRIM(Data!T141)","v":"0"},null,null,null,{"$f":"TRIM(Data!U141)","v":"0"},null,{"$f":"TRIM(Data!V141)","v":"0"},{"$f":"TRIM(Data!W141)","v":"0"},{"$f":"TRIM(Data!X141)","v":"0"},{"$f":"TRIM(Data!Y141)","v":"0"},{"$f":"TRIM(Data!Z141)","v":"0"},{"$f":"TRIM(Data!AA141)","v":"0"},220,"1 Nov 2024 to 30 Nov 2024","UNION HOSPITAL","UNION HOSPITAL","PH","5712620300","AL1","3","UHLAAM","Local System","1296","0","0","278","1018","","0","0","0","0","265","0.204475308641975","265","0","0","265","0","0","","1018","0.785493827160494","0","0","0","0","0","0","0","0"]
["1 Nov 2024 to 30 Nov 20244114748209ENCTR","1 Nov 2024 to 30 Nov 2024","Yat Hei Hong Kong Company Limited","YAT HEI HONG KONG","SOLO",4114748209,"ENCTR",3,"Local System","Local System",4,0,0,0,4,null,0,0,0,0,0,0,0,0,0,0,0,0,null,4,1,0,0,0,0,0,0,0,0,"Y","","","1 Nov 2024 to 30 Nov 20245712620300EPIS",{"$f":"Data!A142","v":"2024-11-01"},{"$f":"TRIM(Data!B142)","v":"UNION HOSPITAL"},null,{"$f":"TRIM(Data!C142)","v":"PH"},{"$f":"TRIM(Data!D142)","v":"5712620300"},{"$f":"TRIM(Data!E142)","v":"EPIS"},{"$f":"TRIM(Data!F142)","v":"1"},{"$f":"TRIM(Data!G142)","v":"UHLAAM"},{"$f":"TRIM(Data!H142)","v":"Local System"},{"$f":"TRIM(Data!I142)","v":"464"},{"$f":"TRIM(Data!J142)","v":"0"},{"$f":"TRIM(Data!K142)","v":"464"},{"$f":"TRIM(Data!L142)","v":"0"},{"$f":"TRIM(Data!M142)","v":"0"},null,null,null,{"$f":"TRIM(Data!N142)","v":"0"},{"$f":"TRIM(Data!O142)","v":"0"},{"$f":"TRIM(Data!P142)","v":"0"},null,{"$f":"TRIM(Data!Q142)","v":"0"},null,null,{"$f":"TRIM(Data!R142)","v":"0"},{"$f":"TRIM(Data!S142)","v":"0"},{"$f":"TRIM(Data!T142)","v":"0"},null,null,null,{"$f":"TRIM(Data!U142)","v":"0"},null,{"$f":"TRIM(Data!V142)","v":"0"},{"$f":"TRIM(Data!W142)","v":"0"},{"$f":"TRIM(Data!X142)","v":"0"},{"$f":"TRIM(Data!Y142)","v":"0"},{"$f":"TRIM(Data!Z142)","v":"0"},{"$f":"TRIM(Data!AA142)","v":"0"},222,"1 Nov 2024 to 30 Nov 2024","UNION HOSPITAL","UNION HOSPITAL","PH","5712620300","EPIS","1","UHLAAM","Local System","464","0","464","0","0","","0","0","0","0","0","0","0","0","0","0","0","0","","0","0","0","0","0","0","0","0","0","0"]
["1 Nov 2024 to 30 Nov 20244178262222LABAP","1 Nov 2024 to 30 Nov 2024","IPATH LABORATORY LIMITED","IPATH LABORATORY LIMITED","GROUP",4178262222,"LABAP",1,"Local System","Local System",169,0,169,0,0,null,0,0,0,0,0,0,0,0,0,0,0,0,null,0,0,0,0,0,0,0,0,0,0,"","","","1 Nov 2024 to 30 Nov 20245712620300IMMU",{"$f":"Data!A143","v":"2024-11-01"},{"$f":"TRIM(Data!B143)","v":"UNION HOSPITAL"},null,{"$f":"TRIM(Data!C143)","v":"PH"},{"$f":"TRIM(Data!D143)","v":"5712620300"},{"$f":"TRIM(Data!E143)","v":"IMMU"},{"$f":"TRIM(Data!F143)","v":"2"},{"$f":"TRIM(Data!G143)","v":"UHLAAM"},{"$f":"TRIM(Data!H143)","v":"Local System"},{"$f":"TRIM(Data!I143)","v":"167"},{"$f":"TRIM(Data!J143)","v":"0"},{"$f":"TRIM(Data!K143)","v":"0"},{"$f":"TRIM(Data!L143)","v":"167"},{"$f":"TRIM(Data!M143)","v":"0"},null,null,null,{"$f":"TRIM(Data!N143)","v":"0"},{"$f":"TRIM(Data!O143)","v":"0"},{"$f":"TRIM(Data!P143)","v":"0"},null,{"$f":"TRIM(Data!Q143)","v":"0"},null,null,{"$f":"TRIM(Data!R143)","v":"0"},{"$f":"TRIM(Data!S143)","v":"0"},{"$f":"TRIM(Data!T143)","v":"0"},null,null,null,{"$f":"TRIM(Data!U143)","v":"0"},null,{"$f":"TRIM(Data!V143)","v":"0"},{"$f":"TRIM(Data!W143)","v":"0"},{"$f":"TRIM(Data!X143)","v":"0"},{"$f":"TRIM(Data!Y143)","v":"0"},{"$f":"TRIM(Data!Z143)","v":"0"},{"$f":"TRIM(Data!AA143)","v":"0"},223,"1 Nov 2024 to 30 Nov 2024","UNION HOSPITAL","UNION HOSPITAL","PH","5712620300","IMMU","2","UHLAAM","Local System","167","0","0","167","0","","0","0","0","0","0","0","0","0","0","0","0","0","","0","0","0","0","0","0","0","0","0","0"]
["1 Nov 2024 to 30 Nov 20244427383241ENCTR","1 Nov 2024 to 30 Nov 2024","LEUNG MAN CHIT CLINIC","LEUNG MAN CHIT CLINIC","SOLO",4427383241,"ENCTR",3,"ClinicSolution","Local System",569,0,0,0,569,null,0,0,0,0,0,0,0,0,0,0,0,0,null,569,1,0,0,0,0,0,0,0,0,"","","Y","1 Nov 2024 to 30 Nov 20245712620300ADR",{"$f":"Data!A144","v":"2024-11-01"},{"$f":"TRIM(Data!B144)","v":"UNION HOSPITAL"},null,{"$f":"TRIM(Data!C144)","v":"PH"},{"$f":"TRIM(Data!D144)","v":"5712620300"},{"$f":"TRIM(Data!E144)","v":"ADR"},{"$f":"TRIM(Data!F144)","v":"3"},{"$f":"TRIM(Data!G144)","v":"UHLAAM"},{"$f":"TRIM(Data!H144)","v":"Adaptation"},{"$f":"TRIM(Data!I144)","v":"59"},{"$f":"TRIM(Data!J144)","v":"0"},{"$f":"TRIM(Data!K144)","v":"0"},{"$f":"TRIM(Data!L144)","v":"16"},{"$f":"TRIM(Data!M144)","v":"43"},null,null,null,{"$f":"TRIM(Data!N144)","v":"0"},{"$f":"TRIM(Data!O144)","v":"0"},{"$f":"TRIM(Data!P144)","v":"16"},null,{"$f":"TRIM(Data!Q144)","v":"16"},null,null,{"$f":"TRIM(Data!R144)","v":"16"},{"$f":"TRIM(Data!S144)","v":"0"},{"$f":"TRIM(Data!T144)","v":"0"},null,null,null,{"$f":"TRIM(Data!U144)","v":"0"},null,{"$f":"TRIM(Data!V144)","v":"0"},{"$f":"TRIM(Data!W144)","v":"0"},{"$f":"TRIM(Data!X144)","v":"0"},{"$f":"TRIM(Data!Y144)","v":"0"},{"$f":"TRIM(Data!Z144)","v":"0"},{"$f":"TRIM(Data!AA144)","v":"0"},219,"1 Nov 2024 to 30 Nov 2024","UNION HOSPITAL","UNION HOSPITAL","PH","5712620300","ADR","3","UHLAAM","Local System","59","0","0","16","43","","0","0","0","0","16","0.271186440677966","16","0","0","16","0","0","","43","0.728813559322034","0","0","0","0","0","0","0","0"]
["1 Nov 2024 to 30 Nov 20244437392776AL1","1 Nov 2024 to 30 Nov 2024","DISTRICT HEALTH CENTRE-WONG TAI SIN (HKSKHWCL)","DHC-WONG TAI SIN","DHC",4437392776,"AL1",3,"Local System","Local System",13,0,0,2,11,null,0,0,0,0,2,0.15384615384615385,2,0,0,2,0,0,null,11,0.84615384615384615,0,0,0,0,0,0,0,0,"","","","1 Nov 2024 to 30 Nov 20245712620300BIRTH",{"$f":"Data!A145","v":"2024-11-01"},{"$f":"TRIM(Data!B145)","v":"UNION HOSPITAL"},null,{"$f":"TRIM(Data!C145)","v":"PH"},{"$f":"TRIM(Data!D145)","v":"5712620300"},{"$f":"TRIM(Data!E145)","v":"BIRTH"},{"$f":"TRIM(Data!F145)","v":"3"},{"$f":"TRIM(Data!G145)","v":"UHLAAM"},{"$f":"TRIM(Data!H145)","v":"Local System"},{"$f":"TRIM(Data!I145)","v":"6"},{"$f":"TRIM(Data!J145)","v":"0"},{"$f":"TRIM(Data!K145)","v":"0"},{"$f":"TRIM(Data!L145)","v":"6"},{"$f":"TRIM(Data!M145)","v":"0"},null,null,null,{"$f":"TRIM(Data!N145)","v":"0"},{"$f":"TRIM(Data!O145)","v":"0"},{"$f":"TRIM(Data!P145)","v":"6"},null,{"$f":"TRIM(Data!Q145)","v":"0"},null,null,{"$f":"TRIM(Data!R145)","v":"6"},{"$f":"TRIM(Data!S145)","v":"0"},{"$f":"TRIM(Data!T145)","v":"0"},null,null,null,{"$f":"TRIM(Data!U145)","v":"0"},null,{"$f":"TRIM(Data!V145)","v":"0"},{"$f":"TRIM(Data!W145)","v":"0"},{"$f":"TRIM(Data!X145)","v":"0"},{"$f":"TRIM(Data!Y145)","v":"0"},{"$f":"TRIM(Data!Z145)","v":"0"},{"$f":"TRIM(Data!AA145)","v":"0"},221,"1 Nov 2024 to 30 Nov 2024","UNION HOSPITAL","UNION HOSPITAL","PH","5712620300","BIRTH","3","UHLAAM","Local System","6","0","0","6","0","","0","0","0","0","6","1","0","0","6","6","0","0","","0","0","0","0","0","0","0","0","0","0"]
["1 Nov 2024 to 30 Nov 20244437392776ENCTR","1 Nov 2024 to 30 Nov 2024","DISTRICT HEALTH CENTRE-WONG TAI SIN (HKSKHWCL)","DHC-WONG TAI SIN","DHC",4437392776,"ENCTR",3,"Local System","Local System",23272,0,0,0,23272,null,0,0,0,0,0,0,0,0,0,0,0,0,null,23272,1,0,0,0,0,0,0,0,0,"","","","1 Nov 2024 to 30 Nov 20242548616569ENCTR",{"$f":"Data!A146","v":"2024-11-01"},{"$f":"TRIM(Data!B146)","v":"DHC EXPRESS-KOWLOON CITY (LOKSINTONG)"},null,{"$f":"TRIM(Data!C146)","v":"DHC"},{"$f":"TRIM(Data!D146)","v":"2548616569"},{"$f":"TRIM(Data!E146)","v":"ENCTR"},{"$f":"TRIM(Data!F146)","v":"3"},{"$f":"TRIM(Data!G146)","v":"DHCCMS"},{"$f":"TRIM(Data!H146)","v":"Local System"},{"$f":"TRIM(Data!I146)","v":"3890"},{"$f":"TRIM(Data!J146)","v":"0"},{"$f":"TRIM(Data!K146)","v":"0"},{"$f":"TRIM(Data!L146)","v":"0"},{"$f":"TRIM(Data!M146)","v":"3890"},null,null,null,{"$f":"TRIM(Data!N146)","v":"0"},{"$f":"TRIM(Data!O146)","v":"0"},{"$f":"TRIM(Data!P146)","v":"0"},null,{"$f":"TRIM(Data!Q146)","v":"0"},null,null,{"$f":"TRIM(Data!R146)","v":"0"},{"$f":"TRIM(Data!S146)","v":"0"},{"$f":"TRIM(Data!T146)","v":"0"},null,null,null,{"$f":"TRIM(Data!U146)","v":"0"},null,{"$f":"TRIM(Data!V146)","v":"0"},{"$f":"TRIM(Data!W146)","v":"0"},{"$f":"TRIM(Data!X146)","v":"0"},{"$f":"TRIM(Data!Y146)","v":"0"},{"$f":"TRIM(Data!Z146)","v":"0"},{"$f":"TRIM(Data!AA146)","v":"0"},59,"1 Nov 2024 to 30 Nov 2024","DHC EXPRESS-KOWLOON CITY (LOKSINTONG)","DHC EXPRESS-KC-CC","DHC","2548616569","ENCTR","3","DHCCMS","Local System","3890","0","0","0","3890","","0","0","0","0","0","0","0","0","0","0","0","0","","3890","1","0","0","0","0","0","0","0","0"]
["1 Nov 2024 to 30 Nov 20244437392776EPIS","1 Nov 2024 to 30 Nov 2024","DISTRICT HEALTH CENTRE-WONG TAI SIN (HKSKHWCL)","DHC-WONG TAI SIN","DHC",4437392776,"EPIS",1,"Local System","Local System",10589,0,10589,0,0,null,0,0,0,0,0,0,0,0,0,0,0,0,null,0,0,0,0,0,0,0,0,0,0,"","","","1 Nov 2024 to 30 Nov 20242548616569EPIS",{"$f":"Data!A147","v":"2024-11-01"},{"$f":"TRIM(Data!B147)","v":"DHC EXPRESS-KOWLOON CITY (LOKSINTONG)"},null,{"$f":"TRIM(Data!C147)","v":"DHC"},{"$f":"TRIM(Data!D147)","v":"2548616569"},{"$f":"TRIM(Data!E147)","v":"EPIS"},{"$f":"TRIM(Data!F147)","v":"1"},{"$f":"TRIM(Data!G147)","v":"DHCCMS"},{"$f":"TRIM(Data!H147)","v":"Local System"},{"$f":"TRIM(Data!I147)","v":"2337"},{"$f":"TRIM(Data!J147)","v":"0"},{"$f":"TRIM(Data!K147)","v":"2337"},{"$f":"TRIM(Data!L147)","v":"0"},{"$f":"TRIM(Data!M147)","v":"0"},null,null,null,{"$f":"TRIM(Data!N147)","v":"0"},{"$f":"TRIM(Data!O147)","v":"0"},{"$f":"TRIM(Data!P147)","v":"0"},null,{"$f":"TRIM(Data!Q147)","v":"0"},null,null,{"$f":"TRIM(Data!R147)","v":"0"},{"$f":"TRIM(Data!S147)","v":"0"},{"$f":"TRIM(Data!T147)","v":"0"},null,null,null,{"$f":"TRIM(Data!U147)","v":"0"},null,{"$f":"TRIM(Data!V147)","v":"0"},{"$f":"TRIM(Data!W147)","v":"0"},{"$f":"TRIM(Data!X147)","v":"0"},{"$f":"TRIM(Data!Y147)","v":"0"},{"$f":"TRIM(Data!Z147)","v":"0"},{"$f":"TRIM(Data!AA147)","v":"0"},60,"1 Nov 2024 to 30 Nov 2024","DHC EXPRESS-KOWLOON CITY (LOKSINTONG)","DHC EXPRESS-KC-CC","DHC","2548616569","EPIS","1","DHCCMS","Local System","2337","0","2337","0","0","","0","0","0","0","0","0","0","0","0","0","0","0","","0","0","0","0","0","0","0","0","0","0"]
["1 Nov 2024 to 30 Nov 20244471430786RAD","1 Nov 2024 to 30 Nov 2024","TUNG WAH GROUP OF HOSPITALS","TUNG WAH GROUP. OF HOSPITALS","NGO",4471430786,"RAD",3,"TWBHCT-LAAM","Local System",684,0,0,0,684,null,0,0,0,0,0,0,0,0,0,0,0,0,null,684,1,0,0,0,0,0,0,0,0,"","","Y","1 Nov 2024 to 30 Nov 20246402782674ENCTR",{"$f":"Data!A148","v":"2024-11-01"},{"$f":"TRIM(Data!B148)","v":"DHC EXPRESS-SAI KUNG (HOHCS)"},null,{"$f":"TRIM(Data!C148)","v":"DHC"},{"$f":"TRIM(Data!D148)","v":"6402782674"},{"$f":"TRIM(Data!E148)","v":"ENCTR"},{"$f":"TRIM(Data!F148)","v":"3"},{"$f":"TRIM(Data!G148)","v":"DHCCMS"},{"$f":"TRIM(Data!H148)","v":"Local System"},{"$f":"TRIM(Data!I148)","v":"4063"},{"$f":"TRIM(Data!J148)","v":"0"},{"$f":"TRIM(Data!K148)","v":"0"},{"$f":"TRIM(Data!L148)","v":"0"},{"$f":"TRIM(Data!M148)","v":"4063"},null,null,null,{"$f":"TRIM(Data!N148)","v":"0"},{"$f":"TRIM(Data!O148)","v":"0"},{"$f":"TRIM(Data!P148)","v":"0"},null,{"$f":"TRIM(Data!Q148)","v":"0"},null,null,{"$f":"TRIM(Data!R148)","v":"0"},{"$f":"TRIM(Data!S148)","v":"0"},{"$f":"TRIM(Data!T148)","v":"0"},null,null,null,{"$f":"TRIM(Data!U148)","v":"0"},null,{"$f":"TRIM(Data!V148)","v":"0"},{"$f":"TRIM(Data!W148)","v":"0"},{"$f":"TRIM(Data!X148)","v":"0"},{"$f":"TRIM(Data!Y148)","v":"0"},{"$f":"TRIM(Data!Z148)","v":"0"},{"$f":"TRIM(Data!AA148)","v":"0"},264,"1 Nov 2024 to 30 Nov 2024","DHC EXPRESS-SAI KUNG (HOHCS)","DHC EXPRESS-SAI KUNG-CC","DHC","6402782674","ENCTR","3","Local System","Local System","4063","0","0","0","4063","","0","0","0","0","0","0","0","0","0","0","0","0","","4063","1","0","0","0","0","0","0","0","0"]
["1 Nov 2024 to 30 Nov 20244480228848AL1","1 Nov 2024 to 30 Nov 2024","HONG KONG BAPTIST HOSPITAL (COMMUNITY CLINIC)","HK  BAPTIST HOSPITAL","PH",4480228848,"AL1",3,"Onramp","Local System",2,0,0,0,2,null,0,0,0,0,0,0,0,0,0,0,0,0,null,2,1,0,0,0,0,0,0,0,0,"","","Y","1 Nov 2024 to 30 Nov 20246402782674EPIS",{"$f":"Data!A149","v":"2024-11-01"},{"$f":"TRIM(Data!B149)","v":"DHC EXPRESS-SAI KUNG (HOHCS)"},null,{"$f":"TRIM(Data!C149)","v":"DHC"},{"$f":"TRIM(Data!D149)","v":"6402782674"},{"$f":"TRIM(Data!E149)","v":"EPIS"},{"$f":"TRIM(Data!F149)","v":"1"},{"$f":"TRIM(Data!G149)","v":"DHCCMS"},{"$f":"TRIM(Data!H149)","v":"Local System"},{"$f":"TRIM(Data!I149)","v":"1591"},{"$f":"TRIM(Data!J149)","v":"0"},{"$f":"TRIM(Data!K149)","v":"1591"},{"$f":"TRIM(Data!L149)","v":"0"},{"$f":"TRIM(Data!M149)","v":"0"},null,null,null,{"$f":"TRIM(Data!N149)","v":"0"},{"$f":"TRIM(Data!O149)","v":"0"},{"$f":"TRIM(Data!P149)","v":"0"},null,{"$f":"TRIM(Data!Q149)","v":"0"},null,null,{"$f":"TRIM(Data!R149)","v":"0"},{"$f":"TRIM(Data!S149)","v":"0"},{"$f":"TRIM(Data!T149)","v":"0"},null,null,null,{"$f":"TRIM(Data!U149)","v":"0"},null,{"$f":"TRIM(Data!V149)","v":"0"},{"$f":"TRIM(Data!W149)","v":"0"},{"$f":"TRIM(Data!X149)","v":"0"},{"$f":"TRIM(Data!Y149)","v":"0"},{"$f":"TRIM(Data!Z149)","v":"0"},{"$f":"TRIM(Data!AA149)","v":"0"},265,"1 Nov 2024 to 30 Nov 2024","DHC EXPRESS-SAI KUNG (HOHCS)","DHC EXPRESS-SAI KUNG-CC","DHC","6402782674","EPIS","1","Local System","Local System","1591","0","1591","0","0","","0","0","0","0","0","0","0","0","0","0","0","0","","0","0","0","0","0","0","0","0","0","0"]
["1 Nov 2024 to 30 Nov 20244480228848ENCTR","1 Nov 2024 to 30 Nov 2024","HONG KONG BAPTIST HOSPITAL (COMMUNITY CLINIC)","HK  BAPTIST HOSPITAL","PH",4480228848,"ENCTR",3,"Onramp","Local System",221,0,0,0,221,null,0,0,0,0,0,0,0,0,0,0,0,0,null,221,1,0,0,0,0,0,0,0,0,"","","Y","1 Nov 2024 to 30 Nov 20247334960147ENCTR",{"$f":"Data!A150","v":"2024-11-01"},{"$f":"TRIM(Data!B150)","v":"DHC EXPRESS-KWUN TONG (UCMS)"},null,{"$f":"TRIM(Data!C150)","v":"DHC"},{"$f":"TRIM(Data!D150)","v":"7334960147"},{"$f":"TRIM(Data!E150)","v":"ENCTR"},{"$f":"TRIM(Data!F150)","v":"3"},{"$f":"TRIM(Data!G150)","v":"DHCCMS"},{"$f":"TRIM(Data!H150)","v":"Local System"},{"$f":"TRIM(Data!I150)","v":"3464"},{"$f":"TRIM(Data!J150)","v":"0"},{"$f":"TRIM(Data!K150)","v":"0"},{"$f":"TRIM(Data!L150)","v":"0"},{"$f":"TRIM(Data!M150)","v":"3464"},null,null,null,{"$f":"TRIM(Data!N150)","v":"0"},{"$f":"TRIM(Data!O150)","v":"0"},{"$f":"TRIM(Data!P150)","v":"0"},null,{"$f":"TRIM(Data!Q150)","v":"0"},null,null,{"$f":"TRIM(Data!R150)","v":"0"},{"$f":"TRIM(Data!S150)","v":"0"},{"$f":"TRIM(Data!T150)","v":"0"},null,null,null,{"$f":"TRIM(Data!U150)","v":"0"},null,{"$f":"TRIM(Data!V150)","v":"0"},{"$f":"TRIM(Data!W150)","v":"0"},{"$f":"TRIM(Data!X150)","v":"0"},{"$f":"TRIM(Data!Y150)","v":"0"},{"$f":"TRIM(Data!Z150)","v":"0"},{"$f":"TRIM(Data!AA150)","v":"0"},316,"1 Nov 2024 to 30 Nov 2024","DHC EXPRESS-KWUN TONG (UCMS)","DHC EXPRESS-KWUN TONG-CC","DHC","7334960147","ENCTR","3","Local System","Local System","3464","0","0","0","3464","","0","0","0","0","0","0","0","0","0","0","0","0","","3464","1","0","0","0","0","0","0","0","0"]
["1 Nov 2024 to 30 Nov 20244480228848IMMU","1 Nov 2024 to 30 Nov 2024","HONG KONG BAPTIST HOSPITAL (COMMUNITY CLINIC)","HK  BAPTIST HOSPITAL","PH",4480228848,"IMMU",3,"Onramp","Local System",25,0,0,0,25,null,0,0,0,0,0,0,0,0,0,0,0,0,null,25,1,0,0,0,0,0,0,0,0,"","","Y","1 Nov 2024 to 30 Nov 20247334960147EPIS",{"$f":"Data!A151","v":"2024-11-01"},{"$f":"TRIM(Data!B151)","v":"DHC EXPRESS-KWUN TONG (UCMS)"},null,{"$f":"TRIM(Data!C151)","v":"DHC"},{"$f":"TRIM(Data!D151)","v":"7334960147"},{"$f":"TRIM(Data!E151)","v":"EPIS"},{"$f":"TRIM(Data!F151)","v":"1"},{"$f":"TRIM(Data!G151)","v":"DHCCMS"},{"$f":"TRIM(Data!H151)","v":"Local System"},{"$f":"TRIM(Data!I151)","v":"1962"},{"$f":"TRIM(Data!J151)","v":"0"},{"$f":"TRIM(Data!K151)","v":"1962"},{"$f":"TRIM(Data!L151)","v":"0"},{"$f":"TRIM(Data!M151)","v":"0"},null,null,null,{"$f":"TRIM(Data!N151)","v":"0"},{"$f":"TRIM(Data!O151)","v":"0"},{"$f":"TRIM(Data!P151)","v":"0"},null,{"$f":"TRIM(Data!Q151)","v":"0"},null,null,{"$f":"TRIM(Data!R151)","v":"0"},{"$f":"TRIM(Data!S151)","v":"0"},{"$f":"TRIM(Data!T151)","v":"0"},null,null,null,{"$f":"TRIM(Data!U151)","v":"0"},null,{"$f":"TRIM(Data!V151)","v":"0"},{"$f":"TRIM(Data!W151)","v":"0"},{"$f":"TRIM(Data!X151)","v":"0"},{"$f":"TRIM(Data!Y151)","v":"0"},{"$f":"TRIM(Data!Z151)","v":"0"},{"$f":"TRIM(Data!AA151)","v":"0"},317,"1 Nov 2024 to 30 Nov 2024","DHC EXPRESS-KWUN TONG (UCMS)","DHC EXPRESS-KWUN TONG-CC","DHC","7334960147","EPIS","1","Local System","Local System","1962","0","1962","0","0","","0","0","0","0","0","0","0","0","0","0","0","0","","0","0","0","0","0","0","0","0","0","0"]
["1 Nov 2024 to 30 Nov 20244480228848PROB","1 Nov 2024 to 30 Nov 2024","HONG KONG BAPTIST HOSPITAL (COMMUNITY CLINIC)","HK  BAPTIST HOSPITAL","PH",4480228848,"PROB",3,"Onramp","Local System",241,0,0,28,213,null,0,0,0,0,0,0,0,0,0,0,0,0,null,213,0.88381742738589208,0,0,0,0,0,0,0,0,"","","Y","1 Nov 2024 to 30 Nov 20245414310424RAD",{"$f":"Data!A152","v":"2024-11-01"},{"$f":"TRIM(Data!B152)","v":"HONG KONG MEDICAL ADVANCED IMAGING LIMITED"},null,{"$f":"TRIM(Data!C152)","v":"GRP"},{"$f":"TRIM(Data!D152)","v":"5414310424"},{"$f":"TRIM(Data!E152)","v":"RAD"},{"$f":"TRIM(Data!F152)","v":"3"},{"$f":"TRIM(Data!G152)","v":"CSP"},{"$f":"TRIM(Data!H152)","v":"Local System"},{"$f":"TRIM(Data!I152)","v":"5140"},{"$f":"TRIM(Data!J152)","v":"0"},{"$f":"TRIM(Data!K152)","v":"0"},{"$f":"TRIM(Data!L152)","v":"0"},{"$f":"TRIM(Data!M152)","v":"5140"},null,null,null,{"$f":"TRIM(Data!N152)","v":"0"},{"$f":"TRIM(Data!O152)","v":"0"},{"$f":"TRIM(Data!P152)","v":"0"},null,{"$f":"TRIM(Data!Q152)","v":"0"},null,null,{"$f":"TRIM(Data!R152)","v":"0"},{"$f":"TRIM(Data!S152)","v":"0"},{"$f":"TRIM(Data!T152)","v":"0"},null,null,null,{"$f":"TRIM(Data!U152)","v":"0"},null,{"$f":"TRIM(Data!V152)","v":"0"},{"$f":"TRIM(Data!W152)","v":"0"},{"$f":"TRIM(Data!X152)","v":"0"},{"$f":"TRIM(Data!Y152)","v":"0"},{"$f":"TRIM(Data!Z152)","v":"0"},{"$f":"TRIM(Data!AA152)","v":"0"},208,"1 Nov 2024 to 30 Nov 2024","HONG KONG MEDICAL ADVANCED IMAGING LIMITED","HKMAIL","GROUP","5414310424","RAD","3","CSP","Local System","5140","0","0","0","5140","","0","0","0","0","0","0","0","0","0","0","0","0","","5140","1","0","0","0","0","0","0","0","0"]
["1 Nov 2024 to 30 Nov 20244480228848RXD","1 Nov 2024 to 30 Nov 2024","HONG KONG BAPTIST HOSPITAL (COMMUNITY CLINIC)","HK  BAPTIST HOSPITAL","PH",4480228848,"RXD",3,"Onramp","Local System",724,0,0,56,668,null,0,0,0,0,0,0,0,0,0,0,0,0,null,668,0.92265193370165743,0,0,0,0,0,0,0,0,"","","Y","1 Nov 2024 to 30 Nov 20246542377532ENCTR",{"$f":"Data!A153","v":"2024-11-01"},{"$f":"TRIM(Data!B153)","v":"DHC EXPRESS-EASTERN (HKSR)"},null,{"$f":"TRIM(Data!C153)","v":"DHC"},{"$f":"TRIM(Data!D153)","v":"6542377532"},{"$f":"TRIM(Data!E153)","v":"ENCTR"},{"$f":"TRIM(Data!F153)","v":"3"},{"$f":"TRIM(Data!G153)","v":"DHCCMS"},{"$f":"TRIM(Data!H153)","v":"Local System"},{"$f":"TRIM(Data!I153)","v":"3452"},{"$f":"TRIM(Data!J153)","v":"0"},{"$f":"TRIM(Data!K153)","v":"0"},{"$f":"TRIM(Data!L153)","v":"0"},{"$f":"TRIM(Data!M153)","v":"3452"},null,null,null,{"$f":"TRIM(Data!N153)","v":"0"},{"$f":"TRIM(Data!O153)","v":"0"},{"$f":"TRIM(Data!P153)","v":"0"},null,{"$f":"TRIM(Data!Q153)","v":"0"},null,null,{"$f":"TRIM(Data!R153)","v":"0"},{"$f":"TRIM(Data!S153)","v":"0"},{"$f":"TRIM(Data!T153)","v":"0"},null,null,null,{"$f":"TRIM(Data!U153)","v":"0"},null,{"$f":"TRIM(Data!V153)","v":"0"},{"$f":"TRIM(Data!W153)","v":"0"},{"$f":"TRIM(Data!X153)","v":"0"},{"$f":"TRIM(Data!Y153)","v":"0"},{"$f":"TRIM(Data!Z153)","v":"0"},{"$f":"TRIM(Data!AA153)","v":"0"},271,"1 Nov 2024 to 30 Nov 2024","DHC EXPRESS-EASTERN (HKSR)","DHC EXPRESS-EASTERN-CC","DHC","6542377532","ENCTR","3","Local System","Local System","3452","0","0","0","3452","","0","0","0","0","0","0","0","0","0","0","0","0","","3452","1","0","0","0","0","0","0","0","0"]
["1 Nov 2024 to 30 Nov 20244480228848RXO","1 Nov 2024 to 30 Nov 2024","HONG KONG BAPTIST HOSPITAL (COMMUNITY CLINIC)","HK  BAPTIST HOSPITAL","PH",4480228848,"RXO",3,"Onramp","Local System",724,0,0,56,668,null,0,0,0,0,0,0,0,0,0,0,0,0,null,668,0.92265193370165743,0,0,0,0,0,0,0,0,"","","Y","1 Nov 2024 to 30 Nov 20246542377532EPIS",{"$f":"Data!A154","v":"2024-11-01"},{"$f":"TRIM(Data!B154)","v":"DHC EXPRESS-EASTERN (HKSR)"},null,{"$f":"TRIM(Data!C154)","v":"DHC"},{"$f":"TRIM(Data!D154)","v":"6542377532"},{"$f":"TRIM(Data!E154)","v":"EPIS"},{"$f":"TRIM(Data!F154)","v":"1"},{"$f":"TRIM(Data!G154)","v":"DHCCMS"},{"$f":"TRIM(Data!H154)","v":"Local System"},{"$f":"TRIM(Data!I154)","v":"1375"},{"$f":"TRIM(Data!J154)","v":"0"},{"$f":"TRIM(Data!K154)","v":"1375"},{"$f":"TRIM(Data!L154)","v":"0"},{"$f":"TRIM(Data!M154)","v":"0"},null,null,null,{"$f":"TRIM(Data!N154)","v":"0"},{"$f":"TRIM(Data!O154)","v":"0"},{"$f":"TRIM(Data!P154)","v":"0"},null,{"$f":"TRIM(Data!Q154)","v":"0"},null,null,{"$f":"TRIM(Data!R154)","v":"0"},{"$f":"TRIM(Data!S154)","v":"0"},{"$f":"TRIM(Data!T154)","v":"0"},null,null,null,{"$f":"TRIM(Data!U154)","v":"0"},null,{"$f":"TRIM(Data!V154)","v":"0"},{"$f":"TRIM(Data!W154)","v":"0"},{"$f":"TRIM(Data!X154)","v":"0"},{"$f":"TRIM(Data!Y154)","v":"0"},{"$f":"TRIM(Data!Z154)","v":"0"},{"$f":"TRIM(Data!AA154)","v":"0"},272,"1 Nov 2024 to 30 Nov 2024","DHC EXPRESS-EASTERN (HKSR)","DHC EXPRESS-EASTERN-CC","DHC","6542377532","EPIS","1","Local System","Local System","1375","0","1375","0","0","","0","0","0","0","0","0","0","0","0","0","0","0","","0","0","0","0","0","0","0","0","0","0"]
["1 Nov 2024 to 30 Nov 20244578805814ENCTR","1 Nov 2024 to 30 Nov 2024","THE HONG KONG POLYTECHNIC UNIVERSITY","POLYU","HCAI",4578805814,"ENCTR",3,"ClinicMaster Information System","Local System",268,0,0,0,268,null,0,0,0,0,0,0,0,0,0,0,0,0,null,268,1,0,0,0,0,0,0,0,0,"","","","1 Nov 2024 to 30 Nov 20245189883789RAD",{"$f":"Data!A155","v":"2024-11-01"},{"$f":"TRIM(Data!B155)","v":"GLENEAGLES HONG KONG HOSPITAL"},null,{"$f":"TRIM(Data!C155)","v":"PH"},{"$f":"TRIM(Data!D155)","v":"5189883789"},{"$f":"TRIM(Data!E155)","v":"RAD"},{"$f":"TRIM(Data!F155)","v":"3"},{"$f":"TRIM(Data!G155)","v":"HMS"},{"$f":"TRIM(Data!H155)","v":"Local System"},{"$f":"TRIM(Data!I155)","v":"3225"},{"$f":"TRIM(Data!J155)","v":"0"},{"$f":"TRIM(Data!K155)","v":"0"},{"$f":"TRIM(Data!L155)","v":"0"},{"$f":"TRIM(Data!M155)","v":"3225"},null,null,null,{"$f":"TRIM(Data!N155)","v":"0"},{"$f":"TRIM(Data!O155)","v":"0"},{"$f":"TRIM(Data!P155)","v":"0"},null,{"$f":"TRIM(Data!Q155)","v":"0"},null,null,{"$f":"TRIM(Data!R155)","v":"0"},{"$f":"TRIM(Data!S155)","v":"0"},{"$f":"TRIM(Data!T155)","v":"0"},null,null,null,{"$f":"TRIM(Data!U155)","v":"0"},null,{"$f":"TRIM(Data!V155)","v":"0"},{"$f":"TRIM(Data!W155)","v":"0"},{"$f":"TRIM(Data!X155)","v":"0"},{"$f":"TRIM(Data!Y155)","v":"0"},{"$f":"TRIM(Data!Z155)","v":"0"},{"$f":"TRIM(Data!AA155)","v":"0"},189,"1 Nov 2024 to 30 Nov 2024","Gleneagles Hong Kong Hospital","GHK HOSPITAL LIMITED","PH","5189883789","RAD","3","HMS","Local System","3225","0","0","0","3225","","0","0","0","0","0","0","0","0","0","0","0","0","","3225","1","0","0","0","0","0","0","0","0"]
["1 Nov 2024 to 30 Nov 20244578805814IMMU","1 Nov 2024 to 30 Nov 2024","THE HONG KONG POLYTECHNIC UNIVERSITY","POLYU","HCAI",4578805814,"IMMU",3,"ClinicMaster Information System","Local System",38,0,0,0,38,null,0,0,0,0,0,0,0,0,0,0,0,0,null,38,1,0,0,0,0,0,0,0,0,"","","","1 Nov 2024 to 30 Nov 20245189883789AL1",{"$f":"Data!A156","v":"2024-11-01"},{"$f":"TRIM(Data!B156)","v":"GLENEAGLES HONG KONG HOSPITAL"},null,{"$f":"TRIM(Data!C156)","v":"PH"},{"$f":"TRIM(Data!D156)","v":"5189883789"},{"$f":"TRIM(Data!E156)","v":"AL1"},{"$f":"TRIM(Data!F156)","v":"3"},{"$f":"TRIM(Data!G156)","v":"HMS"},{"$f":"TRIM(Data!H156)","v":"Local System"},{"$f":"TRIM(Data!I156)","v":"1414"},{"$f":"TRIM(Data!J156)","v":"0"},{"$f":"TRIM(Data!K156)","v":"0"},{"$f":"TRIM(Data!L156)","v":"1003"},{"$f":"TRIM(Data!M156)","v":"411"},null,null,null,{"$f":"TRIM(Data!N156)","v":"0"},{"$f":"TRIM(Data!O156)","v":"0"},{"$f":"TRIM(Data!P156)","v":"1002"},null,{"$f":"TRIM(Data!Q156)","v":"1002"},null,null,{"$f":"TRIM(Data!R156)","v":"1002"},{"$f":"TRIM(Data!S156)","v":"0"},{"$f":"TRIM(Data!T156)","v":"0"},null,null,null,{"$f":"TRIM(Data!U156)","v":"0"},null,{"$f":"TRIM(Data!V156)","v":"0"},{"$f":"TRIM(Data!W156)","v":"0"},{"$f":"TRIM(Data!X156)","v":"0"},{"$f":"TRIM(Data!Y156)","v":"0"},{"$f":"TRIM(Data!Z156)","v":"0"},{"$f":"TRIM(Data!AA156)","v":"0"},188,"1 Nov 2024 to 30 Nov 2024","Gleneagles Hong Kong Hospital","GHK HOSPITAL LIMITED","PH","5189883789","AL1","3","HMS","Local System","1414","0","0","1003","411","","0","0","0","0","1002","0.708628005657709","1002","0","0","1002","0","0","","411","0.290664780763791","0","0","0","0","0","0","0","0"]
["1 Nov 2024 to 30 Nov 20244578805814RXO","1 Nov 2024 to 30 Nov 2024","THE HONG KONG POLYTECHNIC UNIVERSITY","POLYU","HCAI",4578805814,"RXO",3,"ClinicMaster Information System","Local System",21202,4,0,2023,19175,null,4,1.8866144703329874E-4,4,0,2024,9.5462692198849161E-2,2024,0,0,2024,0,0,null,19175,0.90439581171587591,0,0,0,0,0,0,0,0,"","","","1 Nov 2024 to 30 Nov 20242206285885ENCTR",{"$f":"Data!A157","v":"2024-11-01"},{"$f":"TRIM(Data!B157)","v":"EVANGEL HOSPITAL"},null,{"$f":"TRIM(Data!C157)","v":"PH"},{"$f":"TRIM(Data!D157)","v":"2206285885"},{"$f":"TRIM(Data!E157)","v":"ENCTR"},{"$f":"TRIM(Data!F157)","v":"3"},{"$f":"TRIM(Data!G157)","v":"HMS"},{"$f":"TRIM(Data!H157)","v":"Local System"},{"$f":"TRIM(Data!I157)","v":"3849"},{"$f":"TRIM(Data!J157)","v":"0"},{"$f":"TRIM(Data!K157)","v":"0"},{"$f":"TRIM(Data!L157)","v":"0"},{"$f":"TRIM(Data!M157)","v":"3849"},null,null,null,{"$f":"TRIM(Data!N157)","v":"0"},{"$f":"TRIM(Data!O157)","v":"0"},{"$f":"TRIM(Data!P157)","v":"0"},null,{"$f":"TRIM(Data!Q157)","v":"0"},null,null,{"$f":"TRIM(Data!R157)","v":"0"},{"$f":"TRIM(Data!S157)","v":"0"},{"$f":"TRIM(Data!T157)","v":"0"},null,null,null,{"$f":"TRIM(Data!U157)","v":"0"},null,{"$f":"TRIM(Data!V157)","v":"0"},{"$f":"TRIM(Data!W157)","v":"0"},{"$f":"TRIM(Data!X157)","v":"0"},{"$f":"TRIM(Data!Y157)","v":"0"},{"$f":"TRIM(Data!Z157)","v":"0"},{"$f":"TRIM(Data!AA157)","v":"0"},23,"1 Nov 2024 to 30 Nov 2024","EVANGEL HOSPITAL","EVANGEL HOSPITAL","PH","2206285885","ENCTR","3","HMS","Local System","3849","0","0","0","3849","","0","0","0","0","0","0","0","0","0","0","0","0","","3849","1","0","0","0","0","0","0","0","0"]
["1 Nov 2024 to 30 Nov 20244746565267CMPROB","1 Nov 2024 to 30 Nov 2024","18 Chinese Medicine Clinic cum Traing and Research Centre (HKFTU Worker's Medical Clinics)","18CMCTRs(HKFTU)","NGO",4746565267,"CMPROB",3,"Local System","EC Connect",484,0,0,87,397,null,0,0,0,0,63,0.13016528925619836,63,0,0,63,0,0,null,397,0.82024793388429751,0,0,0,0,0,0,0,0,"","","","1 Nov 2024 to 30 Nov 20242206285885RAD",{"$f":"Data!A158","v":"2024-11-01"},{"$f":"TRIM(Data!B158)","v":"EVANGEL HOSPITAL"},null,{"$f":"TRIM(Data!C158)","v":"PH"},{"$f":"TRIM(Data!D158)","v":"2206285885"},{"$f":"TRIM(Data!E158)","v":"RAD"},{"$f":"TRIM(Data!F158)","v":"3"},{"$f":"TRIM(Data!G158)","v":"HMS"},{"$f":"TRIM(Data!H158)","v":"Local System"},{"$f":"TRIM(Data!I158)","v":"616"},{"$f":"TRIM(Data!J158)","v":"3"},{"$f":"TRIM(Data!K158)","v":"0"},{"$f":"TRIM(Data!L158)","v":"0"},{"$f":"TRIM(Data!M158)","v":"613"},null,null,null,{"$f":"TRIM(Data!N158)","v":"3"},{"$f":"TRIM(Data!O158)","v":"0"},{"$f":"TRIM(Data!P158)","v":"0"},null,{"$f":"TRIM(Data!Q158)","v":"0"},null,null,{"$f":"TRIM(Data!R158)","v":"0"},{"$f":"TRIM(Data!S158)","v":"0"},{"$f":"TRIM(Data!T158)","v":"0"},null,null,null,{"$f":"TRIM(Data!U158)","v":"0"},null,{"$f":"TRIM(Data!V158)","v":"0"},{"$f":"TRIM(Data!W158)","v":"0"},{"$f":"TRIM(Data!X158)","v":"0"},{"$f":"TRIM(Data!Y158)","v":"0"},{"$f":"TRIM(Data!Z158)","v":"0"},{"$f":"TRIM(Data!AA158)","v":"0"},24,"1 Nov 2024 to 30 Nov 2024","EVANGEL HOSPITAL","EVANGEL HOSPITAL","PH","2206285885","RAD","3","HMS","Local System","616","3","0","0","613","","3","0.00487012987012987","3","0","0","0","0","0","0","0","0","0","","613","0.99512987012987","0","0","0","0","0","0","0","0"]
["1 Nov 2024 to 30 Nov 20244746565267CMPX","1 Nov 2024 to 30 Nov 2024","18 Chinese Medicine Clinic cum Traing and Research Centre (HKFTU Worker's Medical Clinics)","18CMCTRs(HKFTU)","NGO",4746565267,"CMPX",3,"Local System","EC Connect",103,0,0,0,103,null,0,0,0,0,0,0,0,0,0,0,0,0,null,103,1,0,0,0,0,0,0,0,0,"","","","1 Nov 2024 to 30 Nov 20242206285885AL1",{"$f":"Data!A159","v":"2024-11-01"},{"$f":"TRIM(Data!B159)","v":"EVANGEL HOSPITAL"},null,{"$f":"TRIM(Data!C159)","v":"PH"},{"$f":"TRIM(Data!D159)","v":"2206285885"},{"$f":"TRIM(Data!E159)","v":"AL1"},{"$f":"TRIM(Data!F159)","v":"3"},{"$f":"TRIM(Data!G159)","v":"HMS"},{"$f":"TRIM(Data!H159)","v":"Local System"},{"$f":"TRIM(Data!I159)","v":"163"},{"$f":"TRIM(Data!J159)","v":"0"},{"$f":"TRIM(Data!K159)","v":"0"},{"$f":"TRIM(Data!L159)","v":"87"},{"$f":"TRIM(Data!M159)","v":"76"},null,null,null,{"$f":"TRIM(Data!N159)","v":"0"},{"$f":"TRIM(Data!O159)","v":"0"},{"$f":"TRIM(Data!P159)","v":"87"},null,{"$f":"TRIM(Data!Q159)","v":"87"},null,null,{"$f":"TRIM(Data!R159)","v":"87"},{"$f":"TRIM(Data!S159)","v":"0"},{"$f":"TRIM(Data!T159)","v":"0"},null,null,null,{"$f":"TRIM(Data!U159)","v":"0"},null,{"$f":"TRIM(Data!V159)","v":"0"},{"$f":"TRIM(Data!W159)","v":"0"},{"$f":"TRIM(Data!X159)","v":"0"},{"$f":"TRIM(Data!Y159)","v":"0"},{"$f":"TRIM(Data!Z159)","v":"0"},{"$f":"TRIM(Data!AA159)","v":"0"},22,"1 Nov 2024 to 30 Nov 2024","EVANGEL HOSPITAL","EVANGEL HOSPITAL","PH","2206285885","AL1","3","HMS","Local System","163","0","0","87","76","","0","0","0","0","87","0.533742331288344","87","0","0","87","0","0","","76","0.466257668711656","0","0","0","0","0","0","0","0"]
["1 Nov 2024 to 30 Nov 20244746565267CMRXO","1 Nov 2024 to 30 Nov 2024","18 Chinese Medicine Clinic cum Traing and Research Centre (HKFTU Worker's Medical Clinics)","18CMCTRs(HKFTU)","NGO",4746565267,"CMRXO",3,"Local System","EC Connect",226,0,0,25,201,null,0,0,0,0,25,0.11061946902654868,25,0,0,25,0,0,null,201,0.88938053097345138,0,0,0,0,0,0,0,0,"","","Y","1 Nov 2024 to 30 Nov 20246678116401ENCTR",{"$f":"Data!A160","v":"2024-11-01"},{"$f":"TRIM(Data!B160)","v":"DHC EXPRESS-NORTH (YWCA)"},null,{"$f":"TRIM(Data!C160)","v":"DHC"},{"$f":"TRIM(Data!D160)","v":"6678116401"},{"$f":"TRIM(Data!E160)","v":"ENCTR"},{"$f":"TRIM(Data!F160)","v":"3"},{"$f":"TRIM(Data!G160)","v":"DHCCMS"},{"$f":"TRIM(Data!H160)","v":"Local System"},{"$f":"TRIM(Data!I160)","v":"3105"},{"$f":"TRIM(Data!J160)","v":"0"},{"$f":"TRIM(Data!K160)","v":"0"},{"$f":"TRIM(Data!L160)","v":"0"},{"$f":"TRIM(Data!M160)","v":"3105"},null,null,null,{"$f":"TRIM(Data!N160)","v":"0"},{"$f":"TRIM(Data!O160)","v":"0"},{"$f":"TRIM(Data!P160)","v":"0"},null,{"$f":"TRIM(Data!Q160)","v":"0"},null,null,{"$f":"TRIM(Data!R160)","v":"0"},{"$f":"TRIM(Data!S160)","v":"0"},{"$f":"TRIM(Data!T160)","v":"0"},null,null,null,{"$f":"TRIM(Data!U160)","v":"0"},null,{"$f":"TRIM(Data!V160)","v":"0"},{"$f":"TRIM(Data!W160)","v":"0"},{"$f":"TRIM(Data!X160)","v":"0"},{"$f":"TRIM(Data!Y160)","v":"0"},{"$f":"TRIM(Data!Z160)","v":"0"},{"$f":"TRIM(Data!AA160)","v":"0"},276,"1 Nov 2024 to 30 Nov 2024","DHC EXPRESS-NORTH (HKSR)","DHC EXPRESS-NORTH-CC","DHC","6678116401","ENCTR","3","Local System","Local System","3105","0","0","0","3105","","0","0","0","0","0","0","0","0","0","0","0","0","","3105","1","0","0","0","0","0","0","0","0"]
["1 Nov 2024 to 30 Nov 20244746565267ENCTR","1 Nov 2024 to 30 Nov 2024","18 Chinese Medicine Clinic cum Traing and Research Centre (HKFTU Worker's Medical Clinics)","18CMCTRs(HKFTU)","NGO",4746565267,"ENCTR",3,"Local System","Local System",441,0,0,0,441,null,0,0,0,0,0,0,0,0,0,0,0,0,null,441,1,0,0,0,0,0,0,0,0,"","","Y","1 Nov 2024 to 30 Nov 20246678116401EPIS",{"$f":"Data!A161","v":"2024-11-01"},{"$f":"TRIM(Data!B161)","v":"DHC EXPRESS-NORTH (YWCA)"},null,{"$f":"TRIM(Data!C161)","v":"DHC"},{"$f":"TRIM(Data!D161)","v":"6678116401"},{"$f":"TRIM(Data!E161)","v":"EPIS"},{"$f":"TRIM(Data!F161)","v":"1"},{"$f":"TRIM(Data!G161)","v":"DHCCMS"},{"$f":"TRIM(Data!H161)","v":"Local System"},{"$f":"TRIM(Data!I161)","v":"1430"},{"$f":"TRIM(Data!J161)","v":"0"},{"$f":"TRIM(Data!K161)","v":"1430"},{"$f":"TRIM(Data!L161)","v":"0"},{"$f":"TRIM(Data!M161)","v":"0"},null,null,null,{"$f":"TRIM(Data!N161)","v":"0"},{"$f":"TRIM(Data!O161)","v":"0"},{"$f":"TRIM(Data!P161)","v":"0"},null,{"$f":"TRIM(Data!Q161)","v":"0"},null,null,{"$f":"TRIM(Data!R161)","v":"0"},{"$f":"TRIM(Data!S161)","v":"0"},{"$f":"TRIM(Data!T161)","v":"0"},null,null,null,{"$f":"TRIM(Data!U161)","v":"0"},null,{"$f":"TRIM(Data!V161)","v":"0"},{"$f":"TRIM(Data!W161)","v":"0"},{"$f":"TRIM(Data!X161)","v":"0"},{"$f":"TRIM(Data!Y161)","v":"0"},{"$f":"TRIM(Data!Z161)","v":"0"},{"$f":"TRIM(Data!AA161)","v":"0"},277,"1 Nov 2024 to 30 Nov 2024","DHC EXPRESS-NORTH (HKSR)","DHC EXPRESS-NORTH-CC","DHC","6678116401","EPIS","1","Local System","Local System","1430","0","1430","0","0","","0","0","0","0","0","0","0","0","0","0","0","0","","0","0","0","0","0","0","0","0","0","0"]
["1 Nov 2024 to 30 Nov 20244773496701ADR","1 Nov 2024 to 30 Nov 2024","HKSH Medical Group Limited","HKSH MEDICAL FROUP","PH",4773496701,"ADR",3,"HKSH e-HR gateway","Local System",106,0,0,9,97,null,0,0,0,0,9,8.4905660377358486E-2,9,0,0,9,0,0,null,97,0.91509433962264153,0,0,0,0,0,0,0,0,"","","Y","1 Nov 2024 to 30 Nov 20246645809992ENCTR",{"$f":"Data!A162","v":"2024-11-01"},{"$f":"TRIM(Data!B162)","v":"DHC EXPRESS-CENTRAL AND WESTERN (HKSR)"},null,{"$f":"TRIM(Data!C162)","v":"DHC"},{"$f":"TRIM(Data!D162)","v":"6645809992"},{"$f":"TRIM(Data!E162)","v":"ENCTR"},{"$f":"TRIM(Data!F162)","v":"3"},{"$f":"TRIM(Data!G162)","v":"DHCCMS"},{"$f":"TRIM(Data!H162)","v":"Local System"},{"$f":"TRIM(Data!I162)","v":"2662"},{"$f":"TRIM(Data!J162)","v":"0"},{"$f":"TRIM(Data!K162)","v":"0"},{"$f":"TRIM(Data!L162)","v":"0"},{"$f":"TRIM(Data!M162)","v":"2662"},null,null,null,{"$f":"TRIM(Data!N162)","v":"0"},{"$f":"TRIM(Data!O162)","v":"0"},{"$f":"TRIM(Data!P162)","v":"0"},null,{"$f":"TRIM(Data!Q162)","v":"0"},null,null,{"$f":"TRIM(Data!R162)","v":"0"},{"$f":"TRIM(Data!S162)","v":"0"},{"$f":"TRIM(Data!T162)","v":"0"},null,null,null,{"$f":"TRIM(Data!U162)","v":"0"},null,{"$f":"TRIM(Data!V162)","v":"0"},{"$f":"TRIM(Data!W162)","v":"0"},{"$f":"TRIM(Data!X162)","v":"0"},{"$f":"TRIM(Data!Y162)","v":"0"},{"$f":"TRIM(Data!Z162)","v":"0"},{"$f":"TRIM(Data!AA162)","v":"0"},274,"1 Nov 2024 to 30 Nov 2024","DHC EXPRESS-CENTRAL AND WESTERN (HKSR)","DHC EXPRESS-C&W-CC","DHC","6645809992","ENCTR","3","Local System","Local System","2662","0","0","0","2662","","0","0","0","0","0","0","0","0","0","0","0","0","","2662","1","0","0","0","0","0","0","0","0"]
["1 Nov 2024 to 30 Nov 20244773496701AL1","1 Nov 2024 to 30 Nov 2024","HKSH Medical Group Limited","HKSH MEDICAL FROUP","PH",4773496701,"AL1",3,"HKSH e-HR gateway","Local System",759,0,0,333,426,null,0,0,0,0,268,0.35309617918313568,268,0,0,268,0,0,null,426,0.56126482213438733,0,0,0,0,0,0,0,0,"","","Y","1 Nov 2024 to 30 Nov 20246645809992EPIS",{"$f":"Data!A163","v":"2024-11-01"},{"$f":"TRIM(Data!B163)","v":"DHC EXPRESS-CENTRAL AND WESTERN (HKSR)"},null,{"$f":"TRIM(Data!C163)","v":"DHC"},{"$f":"TRIM(Data!D163)","v":"6645809992"},{"$f":"TRIM(Data!E163)","v":"EPIS"},{"$f":"TRIM(Data!F163)","v":"1"},{"$f":"TRIM(Data!G163)","v":"DHCCMS"},{"$f":"TRIM(Data!H163)","v":"Local System"},{"$f":"TRIM(Data!I163)","v":"1122"},{"$f":"TRIM(Data!J163)","v":"0"},{"$f":"TRIM(Data!K163)","v":"1122"},{"$f":"TRIM(Data!L163)","v":"0"},{"$f":"TRIM(Data!M163)","v":"0"},null,null,null,{"$f":"TRIM(Data!N163)","v":"0"},{"$f":"TRIM(Data!O163)","v":"0"},{"$f":"TRIM(Data!P163)","v":"0"},null,{"$f":"TRIM(Data!Q163)","v":"0"},null,null,{"$f":"TRIM(Data!R163)","v":"0"},{"$f":"TRIM(Data!S163)","v":"0"},{"$f":"TRIM(Data!T163)","v":"0"},null,null,null,{"$f":"TRIM(Data!U163)","v":"0"},null,{"$f":"TRIM(Data!V163)","v":"0"},{"$f":"TRIM(Data!W163)","v":"0"},{"$f":"TRIM(Data!X163)","v":"0"},{"$f":"TRIM(Data!Y163)","v":"0"},{"$f":"TRIM(Data!Z163)","v":"0"},{"$f":"TRIM(Data!AA163)","v":"0"},275,"1 Nov 2024 to 30 Nov 2024","DHC EXPRESS-CENTRAL AND WESTERN (HKSR)","DHC EXPRESS-C&W-CC","DHC","6645809992","EPIS","1","Local System","Local System","1122","0","1122","0","0","","0","0","0","0","0","0","0","0","0","0","0","0","","0","0","0","0","0","0","0","0","0","0"]
["1 Nov 2024 to 30 Nov 20244773496701BIRTH","1 Nov 2024 to 30 Nov 2024","HKSH Medical Group Limited","HKSH MEDICAL FROUP","PH",4773496701,"BIRTH",3,"HKSH e-HR gateway","Local System",2,0,0,0,2,null,0,0,0,0,0,0,0,0,0,0,0,0,null,2,1,0,0,0,0,0,0,0,0,"","","Y","1 Nov 2024 to 30 Nov 20245832575528ENCTR",{"$f":"Data!A164","v":"2024-11-01"},{"$f":"TRIM(Data!B164)","v":"DHC EXPRESS-YAU TSIM MONG (LOKSINTONG)"},null,{"$f":"TRIM(Data!C164)","v":"DHC"},{"$f":"TRIM(Data!D164)","v":"5832575528"},{"$f":"TRIM(Data!E164)","v":"ENCTR"},{"$f":"TRIM(Data!F164)","v":"3"},{"$f":"TRIM(Data!G164)","v":"DHCCMS"},{"$f":"TRIM(Data!H164)","v":"Local System"},{"$f":"TRIM(Data!I164)","v":"2362"},{"$f":"TRIM(Data!J164)","v":"0"},{"$f":"TRIM(Data!K164)","v":"0"},{"$f":"TRIM(Data!L164)","v":"0"},{"$f":"TRIM(Data!M164)","v":"2362"},null,null,null,{"$f":"TRIM(Data!N164)","v":"0"},{"$f":"TRIM(Data!O164)","v":"0"},{"$f":"TRIM(Data!P164)","v":"0"},null,{"$f":"TRIM(Data!Q164)","v":"0"},null,null,{"$f":"TRIM(Data!R164)","v":"0"},{"$f":"TRIM(Data!S164)","v":"0"},{"$f":"TRIM(Data!T164)","v":"0"},null,null,null,{"$f":"TRIM(Data!U164)","v":"0"},null,{"$f":"TRIM(Data!V164)","v":"0"},{"$f":"TRIM(Data!W164)","v":"0"},{"$f":"TRIM(Data!X164)","v":"0"},{"$f":"TRIM(Data!Y164)","v":"0"},{"$f":"TRIM(Data!Z164)","v":"0"},{"$f":"TRIM(Data!AA164)","v":"0"},229,"1 Nov 2024 to 30 Nov 2024","DHC EXPRESS-YAU TSIM MONG (LOKSINTONG)","DHC EXPRESS-YTM-CC","DHC","5832575528","ENCTR","3","Local System","Local System","2362","0","0","0","2362","","0","0","0","0","0","0","0","0","0","0","0","0","","2362","1","0","0","0","0","0","0","0","0"]
["1 Nov 2024 to 30 Nov 20244773496701EPIS","1 Nov 2024 to 30 Nov 2024","HKSH Medical Group Limited","HKSH MEDICAL FROUP","PH",4773496701,"EPIS",1,"HKSH e-HR gateway","Local System",826,0,826,0,0,null,0,0,0,0,0,0,0,0,0,0,0,0,null,0,0,0,0,0,0,0,0,0,0,"","","Y","1 Nov 2024 to 30 Nov 20245832575528EPIS",{"$f":"Data!A165","v":"2024-11-01"},{"$f":"TRIM(Data!B165)","v":"DHC EXPRESS-YAU TSIM MONG (LOKSINTONG)"},null,{"$f":"TRIM(Data!C165)","v":"DHC"},{"$f":"TRIM(Data!D165)","v":"5832575528"},{"$f":"TRIM(Data!E165)","v":"EPIS"},{"$f":"TRIM(Data!F165)","v":"1"},{"$f":"TRIM(Data!G165)","v":"DHCCMS"},{"$f":"TRIM(Data!H165)","v":"Local System"},{"$f":"TRIM(Data!I165)","v":"813"},{"$f":"TRIM(Data!J165)","v":"0"},{"$f":"TRIM(Data!K165)","v":"813"},{"$f":"TRIM(Data!L165)","v":"0"},{"$f":"TRIM(Data!M165)","v":"0"},null,null,null,{"$f":"TRIM(Data!N165)","v":"0"},{"$f":"TRIM(Data!O165)","v":"0"},{"$f":"TRIM(Data!P165)","v":"0"},null,{"$f":"TRIM(Data!Q165)","v":"0"},null,null,{"$f":"TRIM(Data!R165)","v":"0"},{"$f":"TRIM(Data!S165)","v":"0"},{"$f":"TRIM(Data!T165)","v":"0"},null,null,null,{"$f":"TRIM(Data!U165)","v":"0"},null,{"$f":"TRIM(Data!V165)","v":"0"},{"$f":"TRIM(Data!W165)","v":"0"},{"$f":"TRIM(Data!X165)","v":"0"},{"$f":"TRIM(Data!Y165)","v":"0"},{"$f":"TRIM(Data!Z165)","v":"0"},{"$f":"TRIM(Data!AA165)","v":"0"},230,"1 Nov 2024 to 30 Nov 2024","DHC EXPRESS-YAU TSIM MONG (LOKSINTONG)","DHC EXPRESS-YTM-CC","DHC","5832575528","EPIS","1","Local System","Local System","813","0","813","0","0","","0","0","0","0","0","0","0","0","0","0","0","0","","0","0","0","0","0","0","0","0","0","0"]
["1 Nov 2024 to 30 Nov 20244773496701LABAP","1 Nov 2024 to 30 Nov 2024","HKSH Medical Group Limited","HKSH MEDICAL FROUP","PH",4773496701,"LABAP",1,"HKSH e-HR gateway","Local System",815,0,815,0,0,null,0,0,0,0,0,0,0,0,0,0,0,0,null,0,0,0,0,0,0,0,0,0,0,"","","Y","1 Nov 2024 to 30 Nov 20246255376532CMPROB",{"$f":"Data!A166","v":"2024-11-01"},{"$f":"TRIM(Data!B166)","v":"18 CHINESE MEDICINE CLINIC CUM TRAINING AND RESEARCH CENTRE (YAN CHAI HOSPITAL)"},null,{"$f":"TRIM(Data!C166)","v":"NGO"},{"$f":"TRIM(Data!D166)","v":"6255376532"},{"$f":"TRIM(Data!E166)","v":"CMPROB"},{"$f":"TRIM(Data!F166)","v":"3"},{"$f":"TRIM(Data!G166)","v":"HA CMIS"},{"$f":"TRIM(Data!H166)","v":"Local System"},{"$f":"TRIM(Data!I166)","v":"1098"},{"$f":"TRIM(Data!J166)","v":"0"},{"$f":"TRIM(Data!K166)","v":"0"},{"$f":"TRIM(Data!L166)","v":"358"},{"$f":"TRIM(Data!M166)","v":"740"},null,null,null,{"$f":"TRIM(Data!N166)","v":"0"},{"$f":"TRIM(Data!O166)","v":"0"},{"$f":"TRIM(Data!P166)","v":"254"},null,{"$f":"TRIM(Data!Q166)","v":"254"},null,null,{"$f":"TRIM(Data!R166)","v":"254"},{"$f":"TRIM(Data!S166)","v":"0"},{"$f":"TRIM(Data!T166)","v":"0"},null,null,null,{"$f":"TRIM(Data!U166)","v":"0"},null,{"$f":"TRIM(Data!V166)","v":"0"},{"$f":"TRIM(Data!W166)","v":"0"},{"$f":"TRIM(Data!X166)","v":"0"},{"$f":"TRIM(Data!Y166)","v":"0"},{"$f":"TRIM(Data!Z166)","v":"0"},{"$f":"TRIM(Data!AA166)","v":"0"},248,"1 Nov 2024 to 30 Nov 2024","18 Chinese Medicine Clinic cum Traing and Research Centre (Yan Chai Hospital)","18CMCTRs (YCH)","NGO","6255376532","CMPROB","3","Local System","EC Connect","1098","0","0","358","740","","0","0","0","0","254","0.231329690346084","254","0","0","254","0","0","","740","0.673952641165756","0","0","0","0","0","0","0","0"]
["1 Nov 2024 to 30 Nov 20244773496701LABGEN","1 Nov 2024 to 30 Nov 2024","HKSH Medical Group Limited","HKSH MEDICAL FROUP","PH",4773496701,"LABGEN",1,"HKSH e-HR gateway","Local System",9954,0,9954,0,0,null,0,0,0,0,0,0,0,0,0,0,0,0,null,0,0,0,0,0,0,0,0,0,0,"","","Y","1 Nov 2024 to 30 Nov 20246255376532ENCTR",{"$f":"Data!A167","v":"2024-11-01"},{"$f":"TRIM(Data!B167)","v":"18 CHINESE MEDICINE CLINIC CUM TRAINING AND RESEARCH CENTRE (YAN CHAI HOSPITAL)"},null,{"$f":"TRIM(Data!C167)","v":"NGO"},{"$f":"TRIM(Data!D167)","v":"6255376532"},{"$f":"TRIM(Data!E167)","v":"ENCTR"},{"$f":"TRIM(Data!F167)","v":"3"},{"$f":"TRIM(Data!G167)","v":"HA CMIS"},{"$f":"TRIM(Data!H167)","v":"Local System"},{"$f":"TRIM(Data!I167)","v":"976"},{"$f":"TRIM(Data!J167)","v":"0"},{"$f":"TRIM(Data!K167)","v":"0"},{"$f":"TRIM(Data!L167)","v":"0"},{"$f":"TRIM(Data!M167)","v":"976"},null,null,null,{"$f":"TRIM(Data!N167)","v":"0"},{"$f":"TRIM(Data!O167)","v":"0"},{"$f":"TRIM(Data!P167)","v":"0"},null,{"$f":"TRIM(Data!Q167)","v":"0"},null,null,{"$f":"TRIM(Data!R167)","v":"0"},{"$f":"TRIM(Data!S167)","v":"0"},{"$f":"TRIM(Data!T167)","v":"0"},null,null,null,{"$f":"TRIM(Data!U167)","v":"0"},null,{"$f":"TRIM(Data!V167)","v":"0"},{"$f":"TRIM(Data!W167)","v":"0"},{"$f":"TRIM(Data!X167)","v":"0"},{"$f":"TRIM(Data!Y167)","v":"0"},{"$f":"TRIM(Data!Z167)","v":"0"},{"$f":"TRIM(Data!AA167)","v":"0"},251,"1 Nov 2024 to 30 Nov 2024","18 Chinese Medicine Clinic cum Traing and Research Centre (Yan Chai Hospital)","18CMCTRs (YCH)","NGO","6255376532","ENCTR","3","Local System","Local System","976","0","0","0","976","","0","0","0","0","0","0","0","0","0","0","0","0","","976","1","0","0","0","0","0","0","0","0"]
["1 Nov 2024 to 30 Nov 20244773496701LABMB","1 Nov 2024 to 30 Nov 2024","HKSH Medical Group Limited","HKSH MEDICAL FROUP","PH",4773496701,"LABMB",1,"HKSH e-HR gateway","Local System",1544,0,1544,0,0,null,0,0,0,0,0,0,0,0,0,0,0,0,null,0,0,0,0,0,0,0,0,0,0,"","","Y","1 Nov 2024 to 30 Nov 20246255376532CMRXO",{"$f":"Data!A168","v":"2024-11-01"},{"$f":"TRIM(Data!B168)","v":"18 CHINESE MEDICINE CLINIC CUM TRAINING AND RESEARCH CENTRE (YAN CHAI HOSPITAL)"},null,{"$f":"TRIM(Data!C168)","v":"NGO"},{"$f":"TRIM(Data!D168)","v":"6255376532"},{"$f":"TRIM(Data!E168)","v":"CMRXO"},{"$f":"TRIM(Data!F168)","v":"3"},{"$f":"TRIM(Data!G168)","v":"HA CMIS"},{"$f":"TRIM(Data!H168)","v":"Local System"},{"$f":"TRIM(Data!I168)","v":"559"},{"$f":"TRIM(Data!J168)","v":"0"},{"$f":"TRIM(Data!K168)","v":"0"},{"$f":"TRIM(Data!L168)","v":"211"},{"$f":"TRIM(Data!M168)","v":"348"},null,null,null,{"$f":"TRIM(Data!N168)","v":"0"},{"$f":"TRIM(Data!O168)","v":"0"},{"$f":"TRIM(Data!P168)","v":"211"},null,{"$f":"TRIM(Data!Q168)","v":"211"},null,null,{"$f":"TRIM(Data!R168)","v":"211"},{"$f":"TRIM(Data!S168)","v":"0"},{"$f":"TRIM(Data!T168)","v":"0"},null,null,null,{"$f":"TRIM(Data!U168)","v":"0"},null,{"$f":"TRIM(Data!V168)","v":"0"},{"$f":"TRIM(Data!W168)","v":"0"},{"$f":"TRIM(Data!X168)","v":"0"},{"$f":"TRIM(Data!Y168)","v":"0"},{"$f":"TRIM(Data!Z168)","v":"0"},{"$f":"TRIM(Data!AA168)","v":"0"},250,"1 Nov 2024 to 30 Nov 2024","18 Chinese Medicine Clinic cum Traing and Research Centre (Yan Chai Hospital)","18CMCTRs (YCH)","NGO","6255376532","CMRXO","3","Local System","EC Connect","559","0","0","211","348","","0","0","0","0","211","0.377459749552773","211","0","0","211","0","0","","348","0.622540250447227","0","0","0","0","0","0","0","0"]
["1 Nov 2024 to 30 Nov 20244773496701PROB","1 Nov 2024 to 30 Nov 2024","HKSH Medical Group Limited","HKSH MEDICAL FROUP","PH",4773496701,"PROB",3,"HKSH e-HR gateway","Local System",4283,0,0,0,4283,null,0,0,0,0,0,0,0,0,0,0,0,0,null,4283,1,0,0,0,0,0,0,0,0,"","","Y","1 Nov 2024 to 30 Nov 20246255376532CMPX",{"$f":"Data!A169","v":"2024-11-01"},{"$f":"TRIM(Data!B169)","v":"18 CHINESE MEDICINE CLINIC CUM TRAINING AND RESEARCH CENTRE (YAN CHAI HOSPITAL)"},null,{"$f":"TRIM(Data!C169)","v":"NGO"},{"$f":"TRIM(Data!D169)","v":"6255376532"},{"$f":"TRIM(Data!E169)","v":"CMPX"},{"$f":"TRIM(Data!F169)","v":"3"},{"$f":"TRIM(Data!G169)","v":"HA CMIS"},{"$f":"TRIM(Data!H169)","v":"Local System"},{"$f":"TRIM(Data!I169)","v":"214"},{"$f":"TRIM(Data!J169)","v":"0"},{"$f":"TRIM(Data!K169)","v":"0"},{"$f":"TRIM(Data!L169)","v":"0"},{"$f":"TRIM(Data!M169)","v":"214"},null,null,null,{"$f":"TRIM(Data!N169)","v":"0"},{"$f":"TRIM(Data!O169)","v":"0"},{"$f":"TRIM(Data!P169)","v":"0"},null,{"$f":"TRIM(Data!Q169)","v":"0"},null,null,{"$f":"TRIM(Data!R169)","v":"0"},{"$f":"TRIM(Data!S169)","v":"0"},{"$f":"TRIM(Data!T169)","v":"0"},null,null,null,{"$f":"TRIM(Data!U169)","v":"0"},null,{"$f":"TRIM(Data!V169)","v":"0"},{"$f":"TRIM(Data!W169)","v":"0"},{"$f":"TRIM(Data!X169)","v":"0"},{"$f":"TRIM(Data!Y169)","v":"0"},{"$f":"TRIM(Data!Z169)","v":"0"},{"$f":"TRIM(Data!AA169)","v":"0"},249,"1 Nov 2024 to 30 Nov 2024","18 Chinese Medicine Clinic cum Traing and Research Centre (Yan Chai Hospital)","18CMCTRs (YCH)","NGO","6255376532","CMPX","3","Local System","EC Connect","214","0","0","0","214","","0","0","0","0","0","0","0","0","0","0","0","0","","214","1","0","0","0","0","0","0","0","0"]
["1 Nov 2024 to 30 Nov 20244773496701PX","1 Nov 2024 to 30 Nov 2024","HKSH Medical Group Limited","HKSH MEDICAL FROUP","PH",4773496701,"PX",3,"HKSH e-HR gateway","Local System",131,0,0,0,131,null,0,0,0,0,0,0,0,0,0,0,0,0,null,131,1,0,0,0,0,0,0,0,0,"","","Y","1 Nov 2024 to 30 Nov 20247444819250ENCTR",{"$f":"Data!A170","v":"2024-11-01"},{"$f":"TRIM(Data!B170)","v":"DHC EXPRESS-TAI PO (UCMS)"},null,{"$f":"TRIM(Data!C170)","v":"DHC"},{"$f":"TRIM(Data!D170)","v":"7444819250"},{"$f":"TRIM(Data!E170)","v":"ENCTR"},{"$f":"TRIM(Data!F170)","v":"3"},{"$f":"TRIM(Data!G170)","v":"DHCCMS"},{"$f":"TRIM(Data!H170)","v":"Local System"},{"$f":"TRIM(Data!I170)","v":"1889"},{"$f":"TRIM(Data!J170)","v":"0"},{"$f":"TRIM(Data!K170)","v":"0"},{"$f":"TRIM(Data!L170)","v":"0"},{"$f":"TRIM(Data!M170)","v":"1889"},null,null,null,{"$f":"TRIM(Data!N170)","v":"0"},{"$f":"TRIM(Data!O170)","v":"0"},{"$f":"TRIM(Data!P170)","v":"0"},null,{"$f":"TRIM(Data!Q170)","v":"0"},null,null,{"$f":"TRIM(Data!R170)","v":"0"},{"$f":"TRIM(Data!S170)","v":"0"},{"$f":"TRIM(Data!T170)","v":"0"},null,null,null,{"$f":"TRIM(Data!U170)","v":"0"},null,{"$f":"TRIM(Data!V170)","v":"0"},{"$f":"TRIM(Data!W170)","v":"0"},{"$f":"TRIM(Data!X170)","v":"0"},{"$f":"TRIM(Data!Y170)","v":"0"},{"$f":"TRIM(Data!Z170)","v":"0"},{"$f":"TRIM(Data!AA170)","v":"0"},319,"1 Nov 2024 to 30 Nov 2024","DHC EXPRESS-TAI PO (UCMS)","DHC EXPRESS-TAI PO-CC","DHC","7444819250","ENCTR","3","Local System","Local System","1889","0","0","0","1889","","0","0","0","0","0","0","0","0","0","0","0","0","","1889","1","0","0","0","0","0","0","0","0"]
["1 Nov 2024 to 30 Nov 20244773496701RAD","1 Nov 2024 to 30 Nov 2024","HKSH Medical Group Limited","HKSH MEDICAL FROUP","PH",4773496701,"RAD",3,"HKSH e-HR gateway","Local System",3799,0,0,0,3799,null,0,0,0,0,0,0,0,0,0,0,0,0,null,3799,1,0,0,0,0,0,0,0,0,"","","Y","1 Nov 2024 to 30 Nov 20247444819250EPIS",{"$f":"Data!A171","v":"2024-11-01"},{"$f":"TRIM(Data!B171)","v":"DHC EXPRESS-TAI PO (UCMS)"},null,{"$f":"TRIM(Data!C171)","v":"DHC"},{"$f":"TRIM(Data!D171)","v":"7444819250"},{"$f":"TRIM(Data!E171)","v":"EPIS"},{"$f":"TRIM(Data!F171)","v":"1"},{"$f":"TRIM(Data!G171)","v":"DHCCMS"},{"$f":"TRIM(Data!H171)","v":"Local System"},{"$f":"TRIM(Data!I171)","v":"864"},{"$f":"TRIM(Data!J171)","v":"0"},{"$f":"TRIM(Data!K171)","v":"864"},{"$f":"TRIM(Data!L171)","v":"0"},{"$f":"TRIM(Data!M171)","v":"0"},null,null,null,{"$f":"TRIM(Data!N171)","v":"0"},{"$f":"TRIM(Data!O171)","v":"0"},{"$f":"TRIM(Data!P171)","v":"0"},null,{"$f":"TRIM(Data!Q171)","v":"0"},null,null,{"$f":"TRIM(Data!R171)","v":"0"},{"$f":"TRIM(Data!S171)","v":"0"},{"$f":"TRIM(Data!T171)","v":"0"},null,null,null,{"$f":"TRIM(Data!U171)","v":"0"},null,{"$f":"TRIM(Data!V171)","v":"0"},{"$f":"TRIM(Data!W171)","v":"0"},{"$f":"TRIM(Data!X171)","v":"0"},{"$f":"TRIM(Data!Y171)","v":"0"},{"$f":"TRIM(Data!Z171)","v":"0"},{"$f":"TRIM(Data!AA171)","v":"0"},320,"1 Nov 2024 to 30 Nov 2024","DHC EXPRESS-TAI PO (UCMS)","DHC EXPRESS-TAI PO-CC","DHC","7444819250","EPIS","1","Local System","Local System","864","0","864","0","0","","0","0","0","0","0","0","0","0","0","0","0","0","","0","0","0","0","0","0","0","0","0","0"]
["1 Nov 2024 to 30 Nov 20244830743861PROB","1 Nov 2024 to 30 Nov 2024","DR CHAN YUEN SANG","DR CHAN YUEN SANG","SOLO",4830743861,"PROB",3,"ClinicSolution","Local System",33,0,0,33,0,null,0,0,0,0,33,1,33,0,0,33,0,0,null,0,0,0,0,0,0,0,0,0,0,"","","Y","1 Nov 2024 to 30 Nov 20245528991274RXO",{"$f":"Data!A172","v":"2024-11-01"},{"$f":"TRIM(Data!B172)","v":"DR WONG CHUN POR"},null,{"$f":"TRIM(Data!C172)","v":"SOLO"},{"$f":"TRIM(Data!D172)","v":"5528991274"},{"$f":"TRIM(Data!E172)","v":"RXO"},{"$f":"TRIM(Data!F172)","v":"3,2"},{"$f":"TRIM(Data!G172)","v":"CMS On-ramp"},{"$f":"TRIM(Data!H172)","v":"CMS On-ramp"},{"$f":"TRIM(Data!I172)","v":"716"},{"$f":"TRIM(Data!J172)","v":"0"},{"$f":"TRIM(Data!K172)","v":"0"},{"$f":"TRIM(Data!L172)","v":"73"},{"$f":"TRIM(Data!M172)","v":"643"},null,null,null,{"$f":"TRIM(Data!N172)","v":"0"},{"$f":"TRIM(Data!O172)","v":"0"},{"$f":"TRIM(Data!P172)","v":"1"},null,{"$f":"TRIM(Data!Q172)","v":"1"},null,null,{"$f":"TRIM(Data!R172)","v":"1"},{"$f":"TRIM(Data!S172)","v":"0"},{"$f":"TRIM(Data!T172)","v":"0"},null,null,null,{"$f":"TRIM(Data!U172)","v":"0"},null,{"$f":"TRIM(Data!V172)","v":"0"},{"$f":"TRIM(Data!W172)","v":"0"},{"$f":"TRIM(Data!X172)","v":"0"},{"$f":"TRIM(Data!Y172)","v":"0"},{"$f":"TRIM(Data!Z172)","v":"0"},{"$f":"TRIM(Data!AA172)","v":"0"},215,"1 Nov 2024 to 30 Nov 2024","DR WONG CHUN POR","DR CP WONG CLINIC","SOLO","5528991274","RXO","3","Local System","Local System","716","0","0","73","643","","0","0","0","0","1","0.00139664804469274","1","0","0","1","0","0","","643","0.89804469273743","0","0","0","0","0","0","0","0"]
["1 Nov 2024 to 30 Nov 20244830743861PX","1 Nov 2024 to 30 Nov 2024","DR CHAN YUEN SANG","DR CHAN YUEN SANG","SOLO",4830743861,"PX",3,"ClinicSolution","Local System",1,0,0,1,0,null,0,0,0,0,1,1,1,0,0,1,0,0,null,0,0,0,0,0,0,0,0,0,0,"","","Y","1 Nov 2024 to 30 Nov 20245528991274RXD",{"$f":"Data!A173","v":"2024-11-01"},{"$f":"TRIM(Data!B173)","v":"DR WONG CHUN POR"},null,{"$f":"TRIM(Data!C173)","v":"SOLO"},{"$f":"TRIM(Data!D173)","v":"5528991274"},{"$f":"TRIM(Data!E173)","v":"RXD"},{"$f":"TRIM(Data!F173)","v":"3,2"},{"$f":"TRIM(Data!G173)","v":"CMS On-ramp"},{"$f":"TRIM(Data!H173)","v":"CMS On-ramp"},{"$f":"TRIM(Data!I173)","v":"700"},{"$f":"TRIM(Data!J173)","v":"0"},{"$f":"TRIM(Data!K173)","v":"0"},{"$f":"TRIM(Data!L173)","v":"71"},{"$f":"TRIM(Data!M173)","v":"629"},null,null,null,{"$f":"TRIM(Data!N173)","v":"0"},{"$f":"TRIM(Data!O173)","v":"0"},{"$f":"TRIM(Data!P173)","v":"1"},null,{"$f":"TRIM(Data!Q173)","v":"1"},null,null,{"$f":"TRIM(Data!R173)","v":"1"},{"$f":"TRIM(Data!S173)","v":"0"},{"$f":"TRIM(Data!T173)","v":"0"},null,null,null,{"$f":"TRIM(Data!U173)","v":"0"},null,{"$f":"TRIM(Data!V173)","v":"0"},{"$f":"TRIM(Data!W173)","v":"0"},{"$f":"TRIM(Data!X173)","v":"0"},{"$f":"TRIM(Data!Y173)","v":"0"},{"$f":"TRIM(Data!Z173)","v":"0"},{"$f":"TRIM(Data!AA173)","v":"0"},214,"1 Nov 2024 to 30 Nov 2024","DR WONG CHUN POR","DR CP WONG CLINIC","SOLO","5528991274","RXD","3","Local System","Local System","700","0","0","71","629","","0","0","0","0","1","0.00142857142857143","1","0","0","1","0","0","","629","0.898571428571429","0","0","0","0","0","0","0","0"]
["1 Nov 2024 to 30 Nov 20244830743861RXD","1 Nov 2024 to 30 Nov 2024","DR CHAN YUEN SANG","DR CHAN YUEN SANG","SOLO",4830743861,"RXD",2,"ClinicSolution","Local System",39,0,0,39,0,null,0,0,0,0,0,0,0,0,0,0,0,0,null,0,0,0,0,0,0,0,0,0,0,"","","Y","1 Nov 2024 to 30 Nov 20245528991274PROB",{"$f":"Data!A174","v":"2024-11-01"},{"$f":"TRIM(Data!B174)","v":"DR WONG CHUN POR"},null,{"$f":"TRIM(Data!C174)","v":"SOLO"},{"$f":"TRIM(Data!D174)","v":"5528991274"},{"$f":"TRIM(Data!E174)","v":"PROB"},{"$f":"TRIM(Data!F174)","v":"3,2"},{"$f":"TRIM(Data!G174)","v":"CMS On-ramp"},{"$f":"TRIM(Data!H174)","v":"CMS On-ramp"},{"$f":"TRIM(Data!I174)","v":"693"},{"$f":"TRIM(Data!J174)","v":"0"},{"$f":"TRIM(Data!K174)","v":"0"},{"$f":"TRIM(Data!L174)","v":"13"},{"$f":"TRIM(Data!M174)","v":"680"},null,null,null,{"$f":"TRIM(Data!N174)","v":"0"},{"$f":"TRIM(Data!O174)","v":"0"},{"$f":"TRIM(Data!P174)","v":"0"},null,{"$f":"TRIM(Data!Q174)","v":"0"},null,null,{"$f":"TRIM(Data!R174)","v":"0"},{"$f":"TRIM(Data!S174)","v":"0"},{"$f":"TRIM(Data!T174)","v":"0"},null,null,null,{"$f":"TRIM(Data!U174)","v":"0"},null,{"$f":"TRIM(Data!V174)","v":"0"},{"$f":"TRIM(Data!W174)","v":"0"},{"$f":"TRIM(Data!X174)","v":"0"},{"$f":"TRIM(Data!Y174)","v":"0"},{"$f":"TRIM(Data!Z174)","v":"0"},{"$f":"TRIM(Data!AA174)","v":"0"},213,"1 Nov 2024 to 30 Nov 2024","DR WONG CHUN POR","DR CP WONG CLINIC","SOLO","5528991274","PROB","3","Local System","Local System","693","0","0","13","680","","0","0","0","0","0","0","0","0","0","0","0","0","","680","0.981240981240981","0","0","0","0","0","0","0","0"]
["1 Nov 2024 to 30 Nov 20244830743861RXO","1 Nov 2024 to 30 Nov 2024","DR CHAN YUEN SANG","DR CHAN YUEN SANG","SOLO",4830743861,"RXO",2,"ClinicSolution","Local System",39,0,0,39,0,null,0,0,0,0,0,0,0,0,0,0,0,0,null,0,0,0,0,0,0,0,0,0,0,"","","Y","1 Nov 2024 to 30 Nov 20245528991274ENCTR",{"$f":"Data!A175","v":"2024-11-01"},{"$f":"TRIM(Data!B175)","v":"DR WONG CHUN POR"},null,{"$f":"TRIM(Data!C175)","v":"SOLO"},{"$f":"TRIM(Data!D175)","v":"5528991274"},{"$f":"TRIM(Data!E175)","v":"ENCTR"},{"$f":"TRIM(Data!F175)","v":"3"},{"$f":"TRIM(Data!G175)","v":"CMS On-ramp"},{"$f":"TRIM(Data!H175)","v":"CMS On-ramp"},{"$f":"TRIM(Data!I175)","v":"483"},{"$f":"TRIM(Data!J175)","v":"0"},{"$f":"TRIM(Data!K175)","v":"0"},{"$f":"TRIM(Data!L175)","v":"0"},{"$f":"TRIM(Data!M175)","v":"483"},null,null,null,{"$f":"TRIM(Data!N175)","v":"0"},{"$f":"TRIM(Data!O175)","v":"0"},{"$f":"TRIM(Data!P175)","v":"0"},null,{"$f":"TRIM(Data!Q175)","v":"0"},null,null,{"$f":"TRIM(Data!R175)","v":"0"},{"$f":"TRIM(Data!S175)","v":"0"},{"$f":"TRIM(Data!T175)","v":"0"},null,null,null,{"$f":"TRIM(Data!U175)","v":"0"},null,{"$f":"TRIM(Data!V175)","v":"0"},{"$f":"TRIM(Data!W175)","v":"0"},{"$f":"TRIM(Data!X175)","v":"0"},{"$f":"TRIM(Data!Y175)","v":"0"},{"$f":"TRIM(Data!Z175)","v":"0"},{"$f":"TRIM(Data!AA175)","v":"0"},211,"1 Nov 2024 to 30 Nov 2024","DR WONG CHUN POR","DR CP WONG CLINIC","SOLO","5528991274","ENCTR","3","Local System","Local System","483","0","0","0","483","","0","0","0","0","0","0","0","0","0","0","0","0","","483","1","0","0","0","0","0","0","0","0"]
["1 Nov 2024 to 30 Nov 20245156724947ADR","1 Nov 2024 to 30 Nov 2024","ST. PAUL'S HOSPITAL","SPH","PH",5156724947,"ADR",3,"SPH HIS","Local System",33,0,0,3,30,null,0,0,0,0,3,9.0909090909090912E-2,3,0,0,3,0,0,null,30,0.90909090909090906,0,0,0,0,0,0,0,0,"","","Y","1 Nov 2024 to 30 Nov 20245528991274IMMU",{"$f":"Data!A176","v":"2024-11-01"},{"$f":"TRIM(Data!B176)","v":"DR WONG CHUN POR"},null,{"$f":"TRIM(Data!C176)","v":"SOLO"},{"$f":"TRIM(Data!D176)","v":"5528991274"},{"$f":"TRIM(Data!E176)","v":"IMMU"},{"$f":"TRIM(Data!F176)","v":"3,2"},{"$f":"TRIM(Data!G176)","v":"CMS On-ramp"},{"$f":"TRIM(Data!H176)","v":"CMS On-ramp"},{"$f":"TRIM(Data!I176)","v":"29"},{"$f":"TRIM(Data!J176)","v":"0"},{"$f":"TRIM(Data!K176)","v":"0"},{"$f":"TRIM(Data!L176)","v":"1"},{"$f":"TRIM(Data!M176)","v":"28"},null,null,null,{"$f":"TRIM(Data!N176)","v":"0"},{"$f":"TRIM(Data!O176)","v":"0"},{"$f":"TRIM(Data!P176)","v":"1"},null,{"$f":"TRIM(Data!Q176)","v":"1"},null,null,{"$f":"TRIM(Data!R176)","v":"1"},{"$f":"TRIM(Data!S176)","v":"0"},{"$f":"TRIM(Data!T176)","v":"0"},null,null,null,{"$f":"TRIM(Data!U176)","v":"0"},null,{"$f":"TRIM(Data!V176)","v":"0"},{"$f":"TRIM(Data!W176)","v":"0"},{"$f":"TRIM(Data!X176)","v":"0"},{"$f":"TRIM(Data!Y176)","v":"0"},{"$f":"TRIM(Data!Z176)","v":"0"},{"$f":"TRIM(Data!AA176)","v":"0"},212,"1 Nov 2024 to 30 Nov 2024","DR WONG CHUN POR","DR CP WONG CLINIC","SOLO","5528991274","IMMU","3","Local System","Local System","29","0","0","1","28","","0","0","0","0","1","0.0344827586206897","1","0","0","1","0","0","","28","0.96551724137931","0","0","0","0","0","0","0","0"]
["1 Nov 2024 to 30 Nov 20245156724947AL1","1 Nov 2024 to 30 Nov 2024","ST. PAUL'S HOSPITAL","SPH","PH",5156724947,"AL1",3,"SPH HIS","Local System",254,0,0,102,152,null,0,0,0,0,86,0.33858267716535434,86,0,0,86,0,0,null,152,0.59842519685039375,0,0,0,0,0,0,0,0,"","","Y","1 Nov 2024 to 30 Nov 20245528991274AL1",{"$f":"Data!A177","v":"2024-11-01"},{"$f":"TRIM(Data!B177)","v":"DR WONG CHUN POR"},null,{"$f":"TRIM(Data!C177)","v":"SOLO"},{"$f":"TRIM(Data!D177)","v":"5528991274"},{"$f":"TRIM(Data!E177)","v":"AL1"},{"$f":"TRIM(Data!F177)","v":"3,2"},{"$f":"TRIM(Data!G177)","v":"CMS On-ramp"},{"$f":"TRIM(Data!H177)","v":"CMS On-ramp"},{"$f":"TRIM(Data!I177)","v":"3"},{"$f":"TRIM(Data!J177)","v":"0"},{"$f":"TRIM(Data!K177)","v":"0"},{"$f":"TRIM(Data!L177)","v":"0"},{"$f":"TRIM(Data!M177)","v":"3"},null,null,null,{"$f":"TRIM(Data!N177)","v":"0"},{"$f":"TRIM(Data!O177)","v":"0"},{"$f":"TRIM(Data!P177)","v":"0"},null,{"$f":"TRIM(Data!Q177)","v":"0"},null,null,{"$f":"TRIM(Data!R177)","v":"0"},{"$f":"TRIM(Data!S177)","v":"0"},{"$f":"TRIM(Data!T177)","v":"0"},null,null,null,{"$f":"TRIM(Data!U177)","v":"0"},null,{"$f":"TRIM(Data!V177)","v":"0"},{"$f":"TRIM(Data!W177)","v":"0"},{"$f":"TRIM(Data!X177)","v":"0"},{"$f":"TRIM(Data!Y177)","v":"0"},{"$f":"TRIM(Data!Z177)","v":"0"},{"$f":"TRIM(Data!AA177)","v":"0"},210,"1 Nov 2024 to 30 Nov 2024","DR WONG CHUN POR","DR CP WONG CLINIC","SOLO","5528991274","AL1","3","Local System","Local System","3","0","0","0","3","","0","0","0","0","0","0","0","0","0","0","0","0","","3","1","0","0","0","0","0","0","0","0"]
["1 Nov 2024 to 30 Nov 20245156724947EPIS","1 Nov 2024 to 30 Nov 2024","ST. PAUL'S HOSPITAL","SPH","PH",5156724947,"EPIS",1,"SPH HIS","Local System",804,0,804,0,0,null,0,0,0,0,0,0,0,0,0,0,0,0,null,0,0,0,0,0,0,0,0,0,0,"","","Y","1 Nov 2024 to 30 Nov 20249805671910CMPROB",{"$f":"Data!A178","v":"2024-11-01"},{"$f":"TRIM(Data!B178)","v":"18 CHINESE MEDICINE CLINIC CUM TRAINING AND RESEARCH CENTRE (CHRISTIAN FAMILY SERVICE CENTRE)"},null,{"$f":"TRIM(Data!C178)","v":"NGO"},{"$f":"TRIM(Data!D178)","v":"9805671910"},{"$f":"TRIM(Data!E178)","v":"CMPROB"},{"$f":"TRIM(Data!F178)","v":"3"},{"$f":"TRIM(Data!G178)","v":"HA CMIS"},{"$f":"TRIM(Data!H178)","v":"Local System"},{"$f":"TRIM(Data!I178)","v":"1231"},{"$f":"TRIM(Data!J178)","v":"0"},{"$f":"TRIM(Data!K178)","v":"0"},{"$f":"TRIM(Data!L178)","v":"510"},{"$f":"TRIM(Data!M178)","v":"721"},null,null,null,{"$f":"TRIM(Data!N178)","v":"0"},{"$f":"TRIM(Data!O178)","v":"0"},{"$f":"TRIM(Data!P178)","v":"170"},null,{"$f":"TRIM(Data!Q178)","v":"170"},null,null,{"$f":"TRIM(Data!R178)","v":"170"},{"$f":"TRIM(Data!S178)","v":"0"},{"$f":"TRIM(Data!T178)","v":"0"},null,null,null,{"$f":"TRIM(Data!U178)","v":"0"},null,{"$f":"TRIM(Data!V178)","v":"0"},{"$f":"TRIM(Data!W178)","v":"0"},{"$f":"TRIM(Data!X178)","v":"0"},{"$f":"TRIM(Data!Y178)","v":"0"},{"$f":"TRIM(Data!Z178)","v":"0"},{"$f":"TRIM(Data!AA178)","v":"0"},444,"1 Nov 2024 to 30 Nov 2024","18 Chinese Medicine Clinic cum Traing and Research Centre (Christiam Family Service Centre)","18CMCTRs (CFSC)","NGO","9805671910","CMPROB","3","Local System","EC Connect","1231","0","0","510","721","","0","0","0","0","170","0.138099106417547","170","0","0","170","0","0","","721","0.58570268074736","0","0","0","0","0","0","0","0"]
["1 Nov 2024 to 30 Nov 20245156724947RAD","1 Nov 2024 to 30 Nov 2024","ST. PAUL'S HOSPITAL","SPH","PH",5156724947,"RAD",3,"SPH HIS","Local System",3694,0,0,0,3694,null,0,0,0,0,0,0,0,0,0,0,0,0,null,3694,1,0,0,0,0,0,0,0,0,"","","Y","1 Nov 2024 to 30 Nov 20249805671910ENCTR",{"$f":"Data!A179","v":"2024-11-01"},{"$f":"TRIM(Data!B179)","v":"18 CHINESE MEDICINE CLINIC CUM TRAINING AND RESEARCH CENTRE (CHRISTIAN FAMILY SERVICE CENTRE)"},null,{"$f":"TRIM(Data!C179)","v":"NGO"},{"$f":"TRIM(Data!D179)","v":"9805671910"},{"$f":"TRIM(Data!E179)","v":"ENCTR"},{"$f":"TRIM(Data!F179)","v":"3"},{"$f":"TRIM(Data!G179)","v":"HA CMIS"},{"$f":"TRIM(Data!H179)","v":"Local System"},{"$f":"TRIM(Data!I179)","v":"749"},{"$f":"TRIM(Data!J179)","v":"0"},{"$f":"TRIM(Data!K179)","v":"0"},{"$f":"TRIM(Data!L179)","v":"0"},{"$f":"TRIM(Data!M179)","v":"749"},null,null,null,{"$f":"TRIM(Data!N179)","v":"0"},{"$f":"TRIM(Data!O179)","v":"0"},{"$f":"TRIM(Data!P179)","v":"0"},null,{"$f":"TRIM(Data!Q179)","v":"0"},null,null,{"$f":"TRIM(Data!R179)","v":"0"},{"$f":"TRIM(Data!S179)","v":"0"},{"$f":"TRIM(Data!T179)","v":"0"},null,null,null,{"$f":"TRIM(Data!U179)","v":"0"},null,{"$f":"TRIM(Data!V179)","v":"0"},{"$f":"TRIM(Data!W179)","v":"0"},{"$f":"TRIM(Data!X179)","v":"0"},{"$f":"TRIM(Data!Y179)","v":"0"},{"$f":"TRIM(Data!Z179)","v":"0"},{"$f":"TRIM(Data!AA179)","v":"0"},447,"1 Nov 2024 to 30 Nov 2024","18 Chinese Medicine Clinic cum Traing and Research Centre (Christiam Family Service Centre)","18CMCTRs (CFSC)","NGO","9805671910","ENCTR","3","Local System","Local System","749","0","0","0","749","","0","0","0","0","0","0","0","0","0","0","0","0","","749","1","0","0","0","0","0","0","0","0"]
["1 Nov 2024 to 30 Nov 20245156724947RXD","1 Nov 2024 to 30 Nov 2024","ST. PAUL'S HOSPITAL","SPH","PH",5156724947,"RXD",3,"SPH HIS","Local System",4837,0,0,597,4240,null,0,0,0,0,599,0.12383708910481704,599,0,0,599,0,0,null,4240,0.87657639032458134,0,0,0,0,0,0,0,0,"","","Y","1 Nov 2024 to 30 Nov 20249805671910CMRXO",{"$f":"Data!A180","v":"2024-11-01"},{"$f":"TRIM(Data!B180)","v":"18 CHINESE MEDICINE CLINIC CUM TRAINING AND RESEARCH CENTRE (CHRISTIAN FAMILY SERVICE CENTRE)"},null,{"$f":"TRIM(Data!C180)","v":"NGO"},{"$f":"TRIM(Data!D180)","v":"9805671910"},{"$f":"TRIM(Data!E180)","v":"CMRXO"},{"$f":"TRIM(Data!F180)","v":"3"},{"$f":"TRIM(Data!G180)","v":"HA CMIS"},{"$f":"TRIM(Data!H180)","v":"Local System"},{"$f":"TRIM(Data!I180)","v":"366"},{"$f":"TRIM(Data!J180)","v":"0"},{"$f":"TRIM(Data!K180)","v":"0"},{"$f":"TRIM(Data!L180)","v":"106"},{"$f":"TRIM(Data!M180)","v":"260"},null,null,null,{"$f":"TRIM(Data!N180)","v":"0"},{"$f":"TRIM(Data!O180)","v":"0"},{"$f":"TRIM(Data!P180)","v":"106"},null,{"$f":"TRIM(Data!Q180)","v":"106"},null,null,{"$f":"TRIM(Data!R180)","v":"106"},{"$f":"TRIM(Data!S180)","v":"0"},{"$f":"TRIM(Data!T180)","v":"0"},null,null,null,{"$f":"TRIM(Data!U180)","v":"0"},null,{"$f":"TRIM(Data!V180)","v":"0"},{"$f":"TRIM(Data!W180)","v":"0"},{"$f":"TRIM(Data!X180)","v":"0"},{"$f":"TRIM(Data!Y180)","v":"0"},{"$f":"TRIM(Data!Z180)","v":"0"},{"$f":"TRIM(Data!AA180)","v":"0"},446,"1 Nov 2024 to 30 Nov 2024","18 Chinese Medicine Clinic cum Traing and Research Centre (Christiam Family Service Centre)","18CMCTRs (CFSC)","NGO","9805671910","CMRXO","3","Local System","EC Connect","366","0","0","106","260","","0","0","0","0","106","0.289617486338798","106","0","0","106","0","0","","260","0.710382513661202","0","0","0","0","0","0","0","0"]
["1 Nov 2024 to 30 Nov 20245189883789AL1","1 Nov 2024 to 30 Nov 2024","Gleneagles Hong Kong Hospital","GHK HOSPITAL LIMITED","PH",5189883789,"AL1",3,"HMS","Local System",1414,0,0,1003,411,null,0,0,0,0,1002,0.70862800565770867,1002,0,0,1002,0,0,null,411,0.29066478076379065,0,0,0,0,0,0,0,0,"","","Y","1 Nov 2024 to 30 Nov 20249805671910CMPX",{"$f":"Data!A181","v":"2024-11-01"},{"$f":"TRIM(Data!B181)","v":"18 CHINESE MEDICINE CLINIC CUM TRAINING AND RESEARCH CENTRE (CHRISTIAN FAMILY SERVICE CENTRE)"},null,{"$f":"TRIM(Data!C181)","v":"NGO"},{"$f":"TRIM(Data!D181)","v":"9805671910"},{"$f":"TRIM(Data!E181)","v":"CMPX"},{"$f":"TRIM(Data!F181)","v":"3"},{"$f":"TRIM(Data!G181)","v":"HA CMIS"},{"$f":"TRIM(Data!H181)","v":"Local System"},{"$f":"TRIM(Data!I181)","v":"222"},{"$f":"TRIM(Data!J181)","v":"0"},{"$f":"TRIM(Data!K181)","v":"0"},{"$f":"TRIM(Data!L181)","v":"0"},{"$f":"TRIM(Data!M181)","v":"222"},null,null,null,{"$f":"TRIM(Data!N181)","v":"0"},{"$f":"TRIM(Data!O181)","v":"0"},{"$f":"TRIM(Data!P181)","v":"0"},null,{"$f":"TRIM(Data!Q181)","v":"0"},null,null,{"$f":"TRIM(Data!R181)","v":"0"},{"$f":"TRIM(Data!S181)","v":"0"},{"$f":"TRIM(Data!T181)","v":"0"},null,null,null,{"$f":"TRIM(Data!U181)","v":"0"},null,{"$f":"TRIM(Data!V181)","v":"0"},{"$f":"TRIM(Data!W181)","v":"0"},{"$f":"TRIM(Data!X181)","v":"0"},{"$f":"TRIM(Data!Y181)","v":"0"},{"$f":"TRIM(Data!Z181)","v":"0"},{"$f":"TRIM(Data!AA181)","v":"0"},445,"1 Nov 2024 to 30 Nov 2024","18 Chinese Medicine Clinic cum Traing and Research Centre (Christiam Family Service Centre)","18CMCTRs (CFSC)","NGO","9805671910","CMPX","3","Local System","EC Connect","222","0","0","0","222","","0","0","0","0","0","0","0","0","0","0","0","0","","222","1","0","0","0","0","0","0","0","0"]
["1 Nov 2024 to 30 Nov 20245189883789RAD","1 Nov 2024 to 30 Nov 2024","Gleneagles Hong Kong Hospital","GHK HOSPITAL LIMITED","PH",5189883789,"RAD",3,"HMS","Local System",3225,0,0,0,3225,null,0,0,0,0,0,0,0,0,0,0,0,0,null,3225,1,0,0,0,0,0,0,0,0,"","","Y","1 Nov 2024 to 30 Nov 20246142872901ENCTR",{"$f":"Data!A182","v":"2024-11-01"},{"$f":"TRIM(Data!B182)","v":"DHC EXPRESS-ISLANDS (NAAC)"},null,{"$f":"TRIM(Data!C182)","v":"DHC"},{"$f":"TRIM(Data!D182)","v":"6142872901"},{"$f":"TRIM(Data!E182)","v":"ENCTR"},{"$f":"TRIM(Data!F182)","v":"3"},{"$f":"TRIM(Data!G182)","v":"DHCCMS"},{"$f":"TRIM(Data!H182)","v":"Local System"},{"$f":"TRIM(Data!I182)","v":"2030"},{"$f":"TRIM(Data!J182)","v":"0"},{"$f":"TRIM(Data!K182)","v":"0"},{"$f":"TRIM(Data!L182)","v":"0"},{"$f":"TRIM(Data!M182)","v":"2030"},null,null,null,{"$f":"TRIM(Data!N182)","v":"0"},{"$f":"TRIM(Data!O182)","v":"0"},{"$f":"TRIM(Data!P182)","v":"0"},null,{"$f":"TRIM(Data!Q182)","v":"0"},null,null,{"$f":"TRIM(Data!R182)","v":"0"},{"$f":"TRIM(Data!S182)","v":"0"},{"$f":"TRIM(Data!T182)","v":"0"},null,null,null,{"$f":"TRIM(Data!U182)","v":"0"},null,{"$f":"TRIM(Data!V182)","v":"0"},{"$f":"TRIM(Data!W182)","v":"0"},{"$f":"TRIM(Data!X182)","v":"0"},{"$f":"TRIM(Data!Y182)","v":"0"},{"$f":"TRIM(Data!Z182)","v":"0"},{"$f":"TRIM(Data!AA182)","v":"0"},246,"1 Nov 2024 to 30 Nov 2024","DHC EXPRESS-ISLANDS (NAAC)","DHC EXPRESS-ISLANDS-CC","DHC","6142872901","ENCTR","3","Local System","Local System","2030","0","0","0","2030","","0","0","0","0","0","0","0","0","0","0","0","0","","2030","1","0","0","0","0","0","0","0","0"]
["1 Nov 2024 to 30 Nov 20245197855501ENCTR","1 Nov 2024 to 30 Nov 2024","BETHEL MEDICAL LIMITED","BETHEL MEDICAL LIMITED","SOLO",5197855501,"ENCTR",3,"ClinicSolution","Local System",21,0,0,0,21,null,0,0,0,0,0,0,0,0,0,0,0,0,null,21,1,0,0,0,0,0,0,0,0,"","","Y","1 Nov 2024 to 30 Nov 20246142872901EPIS",{"$f":"Data!A183","v":"2024-11-01"},{"$f":"TRIM(Data!B183)","v":"DHC EXPRESS-ISLANDS (NAAC)"},null,{"$f":"TRIM(Data!C183)","v":"DHC"},{"$f":"TRIM(Data!D183)","v":"6142872901"},{"$f":"TRIM(Data!E183)","v":"EPIS"},{"$f":"TRIM(Data!F183)","v":"1"},{"$f":"TRIM(Data!G183)","v":"DHCCMS"},{"$f":"TRIM(Data!H183)","v":"Local System"},{"$f":"TRIM(Data!I183)","v":"524"},{"$f":"TRIM(Data!J183)","v":"0"},{"$f":"TRIM(Data!K183)","v":"524"},{"$f":"TRIM(Data!L183)","v":"0"},{"$f":"TRIM(Data!M183)","v":"0"},null,null,null,{"$f":"TRIM(Data!N183)","v":"0"},{"$f":"TRIM(Data!O183)","v":"0"},{"$f":"TRIM(Data!P183)","v":"0"},null,{"$f":"TRIM(Data!Q183)","v":"0"},null,null,{"$f":"TRIM(Data!R183)","v":"0"},{"$f":"TRIM(Data!S183)","v":"0"},{"$f":"TRIM(Data!T183)","v":"0"},null,null,null,{"$f":"TRIM(Data!U183)","v":"0"},null,{"$f":"TRIM(Data!V183)","v":"0"},{"$f":"TRIM(Data!W183)","v":"0"},{"$f":"TRIM(Data!X183)","v":"0"},{"$f":"TRIM(Data!Y183)","v":"0"},{"$f":"TRIM(Data!Z183)","v":"0"},{"$f":"TRIM(Data!AA183)","v":"0"},247,"1 Nov 2024 to 30 Nov 2024","DHC EXPRESS-ISLANDS (NAAC)","DHC EXPRESS-ISLANDS-CC","DHC","6142872901","EPIS","1","Local System","Local System","524","0","524","0","0","","0","0","0","0","0","0","0","0","0","0","0","0","","0","0","0","0","0","0","0","0","0","0"]
["1 Nov 2024 to 30 Nov 20245197855501PROB","1 Nov 2024 to 30 Nov 2024","BETHEL MEDICAL LIMITED","BETHEL MEDICAL LIMITED","SOLO",5197855501,"PROB",3,"ClinicSolution","Local System",9,0,0,9,0,null,0,0,0,0,9,1,9,0,0,9,0,0,null,0,0,0,0,0,0,0,0,0,0,"","","Y","1 Nov 2024 to 30 Nov 20246609847497RAD",{"$f":"Data!A184","v":"2024-11-01"},{"$f":"TRIM(Data!B184)","v":"IRAD MEDICAL HOLDING LIMITED"},null,{"$f":"TRIM(Data!C184)","v":"GRP"},{"$f":"TRIM(Data!D184)","v":"6609847497"},{"$f":"TRIM(Data!E184)","v":"RAD"},{"$f":"TRIM(Data!F184)","v":"3"},{"$f":"TRIM(Data!G184)","v":"RHI2"},{"$f":"TRIM(Data!H184)","v":"Local System"},{"$f":"TRIM(Data!I184)","v":"2418"},{"$f":"TRIM(Data!J184)","v":"0"},{"$f":"TRIM(Data!K184)","v":"0"},{"$f":"TRIM(Data!L184)","v":"0"},{"$f":"TRIM(Data!M184)","v":"2418"},null,null,null,{"$f":"TRIM(Data!N184)","v":"0"},{"$f":"TRIM(Data!O184)","v":"0"},{"$f":"TRIM(Data!P184)","v":"0"},null,{"$f":"TRIM(Data!Q184)","v":"0"},null,null,{"$f":"TRIM(Data!R184)","v":"0"},{"$f":"TRIM(Data!S184)","v":"0"},{"$f":"TRIM(Data!T184)","v":"0"},null,null,null,{"$f":"TRIM(Data!U184)","v":"0"},null,{"$f":"TRIM(Data!V184)","v":"0"},{"$f":"TRIM(Data!W184)","v":"0"},{"$f":"TRIM(Data!X184)","v":"0"},{"$f":"TRIM(Data!Y184)","v":"0"},{"$f":"TRIM(Data!Z184)","v":"0"},{"$f":"TRIM(Data!AA184)","v":"0"},273,"1 Nov 2024 to 30 Nov 2024","IRAD MEDICAL HOLDING LIMITED","IRAD MEDICAL","GROUP","6609847497","RAD","3","RHI2","Local System","2418","0","0","0","2418","","0","0","0","0","0","0","0","0","0","0","0","0","","2418","1","0","0","0","0","0","0","0","0"]
["1 Nov 2024 to 30 Nov 20245197855501RXD","1 Nov 2024 to 30 Nov 2024","BETHEL MEDICAL LIMITED","BETHEL MEDICAL LIMITED","SOLO",5197855501,"RXD",2,"ClinicSolution","Local System",8,0,0,8,0,null,0,0,0,0,0,0,0,0,0,0,0,0,null,0,0,0,0,0,0,0,0,0,0,"","","Y","1 Nov 2024 to 30 Nov 20247029571085RAD",{"$f":"Data!A185","v":"2024-11-01"},{"$f":"TRIM(Data!B185)","v":"HONG KONG ADVENTIST HOSPITAL - STUBBS ROAD"},null,{"$f":"TRIM(Data!C185)","v":"PH"},{"$f":"TRIM(Data!D185)","v":"7029571085"},{"$f":"TRIM(Data!E185)","v":"RAD"},{"$f":"TRIM(Data!F185)","v":"3,2"},{"$f":"TRIM(Data!G185)","v":"HKAHLAAM"},{"$f":"TRIM(Data!H185)","v":"Local System"},{"$f":"TRIM(Data!I185)","v":"691"},{"$f":"TRIM(Data!J185)","v":"0"},{"$f":"TRIM(Data!K185)","v":"0"},{"$f":"TRIM(Data!L185)","v":"392"},{"$f":"TRIM(Data!M185)","v":"299"},null,null,null,{"$f":"TRIM(Data!N185)","v":"0"},{"$f":"TRIM(Data!O185)","v":"0"},{"$f":"TRIM(Data!P185)","v":"0"},null,{"$f":"TRIM(Data!Q185)","v":"0"},null,null,{"$f":"TRIM(Data!R185)","v":"0"},{"$f":"TRIM(Data!S185)","v":"0"},{"$f":"TRIM(Data!T185)","v":"0"},null,null,null,{"$f":"TRIM(Data!U185)","v":"0"},null,{"$f":"TRIM(Data!V185)","v":"0"},{"$f":"TRIM(Data!W185)","v":"0"},{"$f":"TRIM(Data!X185)","v":"0"},{"$f":"TRIM(Data!Y185)","v":"0"},{"$f":"TRIM(Data!Z185)","v":"0"},{"$f":"TRIM(Data!AA185)","v":"0"},299,"1 Nov 2024 to 30 Nov 2024","HONG KONG ADVENTIST HOSPITAL - STUBBS ROAD","HK ADVENTIST - SR","PH","7029571085","RAD","2","HKAHLAAM","Local System","691","0","0","392","299","","0","0","0","0","0","0","0","0","0","0","0","0","","299","0.432706222865412","0","0","0","0","0","0","0","0"]
["1 Nov 2024 to 30 Nov 20245197855501RXO","1 Nov 2024 to 30 Nov 2024","BETHEL MEDICAL LIMITED","BETHEL MEDICAL LIMITED","SOLO",5197855501,"RXO",2,"ClinicSolution","Local System",8,0,0,8,0,null,0,0,0,0,0,0,0,0,0,0,0,0,null,0,0,0,0,0,0,0,0,0,0,"","","","1 Nov 2024 to 30 Nov 20247029571085RXD",{"$f":"Data!A186","v":"2024-11-01"},{"$f":"TRIM(Data!B186)","v":"HONG KONG ADVENTIST HOSPITAL - STUBBS ROAD"},null,{"$f":"TRIM(Data!C186)","v":"PH"},{"$f":"TRIM(Data!D186)","v":"7029571085"},{"$f":"TRIM(Data!E186)","v":"RXD"},{"$f":"TRIM(Data!F186)","v":"2"},{"$f":"TRIM(Data!G186)","v":"HKAHLAAM"},{"$f":"TRIM(Data!H186)","v":"Local System"},{"$f":"TRIM(Data!I186)","v":"651"},{"$f":"TRIM(Data!J186)","v":"0"},{"$f":"TRIM(Data!K186)","v":"0"},{"$f":"TRIM(Data!L186)","v":"651"},{"$f":"TRIM(Data!M186)","v":"0"},null,null,null,{"$f":"TRIM(Data!N186)","v":"0"},{"$f":"TRIM(Data!O186)","v":"0"},{"$f":"TRIM(Data!P186)","v":"0"},null,{"$f":"TRIM(Data!Q186)","v":"0"},null,null,{"$f":"TRIM(Data!R186)","v":"0"},{"$f":"TRIM(Data!S186)","v":"0"},{"$f":"TRIM(Data!T186)","v":"0"},null,null,null,{"$f":"TRIM(Data!U186)","v":"0"},null,{"$f":"TRIM(Data!V186)","v":"0"},{"$f":"TRIM(Data!W186)","v":"0"},{"$f":"TRIM(Data!X186)","v":"0"},{"$f":"TRIM(Data!Y186)","v":"0"},{"$f":"TRIM(Data!Z186)","v":"0"},{"$f":"TRIM(Data!AA186)","v":"0"},300,"1 Nov 2024 to 30 Nov 2024","HONG KONG ADVENTIST HOSPITAL - STUBBS ROAD","HK ADVENTIST - SR","PH","7029571085","RXD","2","HKAHLAAM","Local System","651","0","0","651","0","","0","0","0","0","0","0","0","0","0","0","0","0","","0","0","0","0","0","0","0","0","0","0"]
["1 Nov 2024 to 30 Nov 20245249502353CMPROB","1 Nov 2024 to 30 Nov 2024","18 Chinese Medicine Clinic cum Traing and Research Centre (Tung Wah Group of Hospital)","18CMCTRs(TWGHS)","NGO",5249502353,"CMPROB",3,"Local System","EC Connect",2846,0,0,617,2229,null,0,0,0,0,350,0.12297962052002812,350,0,0,350,0,0,null,2229,0.78320449754040755,0,0,0,0,0,0,0,0,"","","","1 Nov 2024 to 30 Nov 20247029571085ENCTR",{"$f":"Data!A187","v":"2024-11-01"},{"$f":"TRIM(Data!B187)","v":"HONG KONG ADVENTIST HOSPITAL - STUBBS ROAD"},null,{"$f":"TRIM(Data!C187)","v":"PH"},{"$f":"TRIM(Data!D187)","v":"7029571085"},{"$f":"TRIM(Data!E187)","v":"ENCTR"},{"$f":"TRIM(Data!F187)","v":"3"},{"$f":"TRIM(Data!G187)","v":"HKAHLAAM"},{"$f":"TRIM(Data!H187)","v":"Local System"},{"$f":"TRIM(Data!I187)","v":"544"},{"$f":"TRIM(Data!J187)","v":"0"},{"$f":"TRIM(Data!K187)","v":"0"},{"$f":"TRIM(Data!L187)","v":"0"},{"$f":"TRIM(Data!M187)","v":"544"},null,null,null,{"$f":"TRIM(Data!N187)","v":"0"},{"$f":"TRIM(Data!O187)","v":"0"},{"$f":"TRIM(Data!P187)","v":"0"},null,{"$f":"TRIM(Data!Q187)","v":"0"},null,null,{"$f":"TRIM(Data!R187)","v":"0"},{"$f":"TRIM(Data!S187)","v":"0"},{"$f":"TRIM(Data!T187)","v":"0"},null,null,null,{"$f":"TRIM(Data!U187)","v":"0"},null,{"$f":"TRIM(Data!V187)","v":"0"},{"$f":"TRIM(Data!W187)","v":"0"},{"$f":"TRIM(Data!X187)","v":"0"},{"$f":"TRIM(Data!Y187)","v":"0"},{"$f":"TRIM(Data!Z187)","v":"0"},{"$f":"TRIM(Data!AA187)","v":"0"},296,"1 Nov 2024 to 30 Nov 2024","HONG KONG ADVENTIST HOSPITAL - STUBBS ROAD","HK ADVENTIST - SR","PH","7029571085","ENCTR","3","HKAHLAAM","Local System","544","0","0","0","544","","0","0","0","0","0","0","0","0","0","0","0","0","","544","1","0","0","0","0","0","0","0","0"]
["1 Nov 2024 to 30 Nov 20245249502353CMPX","1 Nov 2024 to 30 Nov 2024","18 Chinese Medicine Clinic cum Traing and Research Centre (Tung Wah Group of Hospital)","18CMCTRs(TWGHS)","NGO",5249502353,"CMPX",3,"Local System","EC Connect",611,0,0,0,611,null,0,0,0,0,0,0,0,0,0,0,0,0,null,611,1,0,0,0,0,0,0,0,0,"","","","1 Nov 2024 to 30 Nov 20247029571085LABGEN",{"$f":"Data!A188","v":"2024-11-01"},{"$f":"TRIM(Data!B188)","v":"HONG KONG ADVENTIST HOSPITAL - STUBBS ROAD"},null,{"$f":"TRIM(Data!C188)","v":"PH"},{"$f":"TRIM(Data!D188)","v":"7029571085"},{"$f":"TRIM(Data!E188)","v":"LABGEN"},{"$f":"TRIM(Data!F188)","v":"3"},{"$f":"TRIM(Data!G188)","v":"HKAHLAAM"},{"$f":"TRIM(Data!H188)","v":"Local System"},{"$f":"TRIM(Data!I188)","v":"457"},{"$f":"TRIM(Data!J188)","v":"0"},{"$f":"TRIM(Data!K188)","v":"0"},{"$f":"TRIM(Data!L188)","v":"164"},{"$f":"TRIM(Data!M188)","v":"293"},null,null,null,{"$f":"TRIM(Data!N188)","v":"0"},{"$f":"TRIM(Data!O188)","v":"0"},{"$f":"TRIM(Data!P188)","v":"164"},null,{"$f":"TRIM(Data!Q188)","v":"164"},null,null,{"$f":"TRIM(Data!R188)","v":"164"},{"$f":"TRIM(Data!S188)","v":"0"},{"$f":"TRIM(Data!T188)","v":"0"},null,null,null,{"$f":"TRIM(Data!U188)","v":"0"},null,{"$f":"TRIM(Data!V188)","v":"0"},{"$f":"TRIM(Data!W188)","v":"0"},{"$f":"TRIM(Data!X188)","v":"0"},{"$f":"TRIM(Data!Y188)","v":"0"},{"$f":"TRIM(Data!Z188)","v":"0"},{"$f":"TRIM(Data!AA188)","v":"0"},298,"1 Nov 2024 to 30 Nov 2024","HONG KONG ADVENTIST HOSPITAL - STUBBS ROAD","HK ADVENTIST - SR","PH","7029571085","LABGEN","3","HKAHLAAM","Local System","457","0","0","164","293","","0","0","0","0","164","0.358862144420131","164","0","0","164","0","0","","293","0.641137855579869","0","0","0","0","0","0","0","0"]
["1 Nov 2024 to 30 Nov 20245249502353CMRXO","1 Nov 2024 to 30 Nov 2024","18 Chinese Medicine Clinic cum Traing and Research Centre (Tung Wah Group of Hospital)","18CMCTRs(TWGHS)","NGO",5249502353,"CMRXO",3,"Local System","EC Connect",1276,0,0,472,804,null,0,0,0,0,472,0.36990595611285265,472,0,0,472,0,0,null,804,0.63009404388714729,0,0,0,0,0,0,0,0,"","","","1 Nov 2024 to 30 Nov 20247029571085AL1",{"$f":"Data!A189","v":"2024-11-01"},{"$f":"TRIM(Data!B189)","v":"HONG KONG ADVENTIST HOSPITAL - STUBBS ROAD"},null,{"$f":"TRIM(Data!C189)","v":"PH"},{"$f":"TRIM(Data!D189)","v":"7029571085"},{"$f":"TRIM(Data!E189)","v":"AL1"},{"$f":"TRIM(Data!F189)","v":"3"},{"$f":"TRIM(Data!G189)","v":"HKAHLAAM"},{"$f":"TRIM(Data!H189)","v":"Local System"},{"$f":"TRIM(Data!I189)","v":"20"},{"$f":"TRIM(Data!J189)","v":"0"},{"$f":"TRIM(Data!K189)","v":"0"},{"$f":"TRIM(Data!L189)","v":"2"},{"$f":"TRIM(Data!M189)","v":"18"},null,null,null,{"$f":"TRIM(Data!N189)","v":"0"},{"$f":"TRIM(Data!O189)","v":"0"},{"$f":"TRIM(Data!P189)","v":"2"},null,{"$f":"TRIM(Data!Q189)","v":"2"},null,null,{"$f":"TRIM(Data!R189)","v":"2"},{"$f":"TRIM(Data!S189)","v":"0"},{"$f":"TRIM(Data!T189)","v":"0"},null,null,null,{"$f":"TRIM(Data!U189)","v":"0"},null,{"$f":"TRIM(Data!V189)","v":"0"},{"$f":"TRIM(Data!W189)","v":"0"},{"$f":"TRIM(Data!X189)","v":"0"},{"$f":"TRIM(Data!Y189)","v":"0"},{"$f":"TRIM(Data!Z189)","v":"0"},{"$f":"TRIM(Data!AA189)","v":"0"},295,"1 Nov 2024 to 30 Nov 2024","HONG KONG ADVENTIST HOSPITAL - STUBBS ROAD","HK ADVENTIST - SR","PH","7029571085","AL1","3","HKAHLAAM","Local System","20","0","0","2","18","","0","0","0","0","2","0.1","2","0","0","2","0","0","","18","0.9","0","0","0","0","0","0","0","0"]
["1 Nov 2024 to 30 Nov 20245249502353ENCTR","1 Nov 2024 to 30 Nov 2024","18 Chinese Medicine Clinic cum Traing and Research Centre (Tung Wah Group of Hospital)","18CMCTRs(TWGHS)","NGO",5249502353,"ENCTR",3,"Local System","Local System",2372,0,0,0,2372,null,0,0,0,0,0,0,0,0,0,0,0,0,null,2372,1,0,0,0,0,0,0,0,0,"","","","1 Nov 2024 to 30 Nov 20247029571085LABAP",{"$f":"Data!A190","v":"2024-11-01"},{"$f":"TRIM(Data!B190)","v":"HONG KONG ADVENTIST HOSPITAL - STUBBS ROAD"},null,{"$f":"TRIM(Data!C190)","v":"PH"},{"$f":"TRIM(Data!D190)","v":"7029571085"},{"$f":"TRIM(Data!E190)","v":"LABAP"},{"$f":"TRIM(Data!F190)","v":"1"},{"$f":"TRIM(Data!G190)","v":"HKAHLAAM"},{"$f":"TRIM(Data!H190)","v":"Local System"},{"$f":"TRIM(Data!I190)","v":"19"},{"$f":"TRIM(Data!J190)","v":"0"},{"$f":"TRIM(Data!K190)","v":"19"},{"$f":"TRIM(Data!L190)","v":"0"},{"$f":"TRIM(Data!M190)","v":"0"},null,null,null,{"$f":"TRIM(Data!N190)","v":"0"},{"$f":"TRIM(Data!O190)","v":"0"},{"$f":"TRIM(Data!P190)","v":"0"},null,{"$f":"TRIM(Data!Q190)","v":"0"},null,null,{"$f":"TRIM(Data!R190)","v":"0"},{"$f":"TRIM(Data!S190)","v":"0"},{"$f":"TRIM(Data!T190)","v":"0"},null,null,null,{"$f":"TRIM(Data!U190)","v":"0"},null,{"$f":"TRIM(Data!V190)","v":"0"},{"$f":"TRIM(Data!W190)","v":"0"},{"$f":"TRIM(Data!X190)","v":"0"},{"$f":"TRIM(Data!Y190)","v":"0"},{"$f":"TRIM(Data!Z190)","v":"0"},{"$f":"TRIM(Data!AA190)","v":"0"},297,"1 Nov 2024 to 30 Nov 2024","HONG KONG ADVENTIST HOSPITAL - STUBBS ROAD","HK ADVENTIST - SR","PH","7029571085","LABAP","1","HKAHLAAM","Local System","19","0","19","0","0","","0","0","0","0","0","0","0","0","0","0","0","0","","0","0","0","0","0","0","0","0","0","0"]
["1 Nov 2024 to 30 Nov 20245251825990ENCTR","1 Nov 2024 to 30 Nov 2024","L & C CLINICAL PRACTICE","L & C CLINICAL PRACTICE","GROUP",5251825990,"ENCTR",3,"ClinicSolution","Local System",3,0,0,0,3,null,0,0,0,0,0,0,0,0,0,0,0,0,null,3,1,0,0,0,0,0,0,0,0,"","","","1 Nov 2024 to 30 Nov 20247029571085ADR",{"$f":"Data!A191","v":"2024-11-01"},{"$f":"TRIM(Data!B191)","v":"HONG KONG ADVENTIST HOSPITAL - STUBBS ROAD"},null,{"$f":"TRIM(Data!C191)","v":"PH"},{"$f":"TRIM(Data!D191)","v":"7029571085"},{"$f":"TRIM(Data!E191)","v":"ADR"},{"$f":"TRIM(Data!F191)","v":"3"},{"$f":"TRIM(Data!G191)","v":"HKAHLAAM"},{"$f":"TRIM(Data!H191)","v":"Local System"},{"$f":"TRIM(Data!I191)","v":"1"},{"$f":"TRIM(Data!J191)","v":"0"},{"$f":"TRIM(Data!K191)","v":"0"},{"$f":"TRIM(Data!L191)","v":"0"},{"$f":"TRIM(Data!M191)","v":"1"},null,null,null,{"$f":"TRIM(Data!N191)","v":"0"},{"$f":"TRIM(Data!O191)","v":"0"},{"$f":"TRIM(Data!P191)","v":"0"},null,{"$f":"TRIM(Data!Q191)","v":"0"},null,null,{"$f":"TRIM(Data!R191)","v":"0"},{"$f":"TRIM(Data!S191)","v":"0"},{"$f":"TRIM(Data!T191)","v":"0"},null,null,null,{"$f":"TRIM(Data!U191)","v":"0"},null,{"$f":"TRIM(Data!V191)","v":"0"},{"$f":"TRIM(Data!W191)","v":"0"},{"$f":"TRIM(Data!X191)","v":"0"},{"$f":"TRIM(Data!Y191)","v":"0"},{"$f":"TRIM(Data!Z191)","v":"0"},{"$f":"TRIM(Data!AA191)","v":"0"},294,"1 Nov 2024 to 30 Nov 2024","HONG KONG ADVENTIST HOSPITAL - STUBBS ROAD","HK ADVENTIST - SR","PH","7029571085","ADR","3","HKAHLAAM","Local System","1","0","0","0","1","","0","0","0","0","0","0","0","0","0","0","0","0","","1","1","0","0","0","0","0","0","0","0"]
["1 Nov 2024 to 30 Nov 20245251825990PROB","1 Nov 2024 to 30 Nov 2024","L & C CLINICAL PRACTICE","L & C CLINICAL PRACTICE","GROUP",5251825990,"PROB",3,"ClinicSolution","Local System",3,0,0,3,0,null,0,0,0,0,3,1,3,0,0,3,0,0,null,0,0,0,0,0,0,0,0,0,0,"","","Y","1 Nov 2024 to 30 Nov 20242310917092PROB",{"$f":"Data!A192","v":"2024-11-01"},{"$f":"TRIM(Data!B192)","v":"DR. YEE YUK KEI"},null,{"$f":"TRIM(Data!C192)","v":"SOLO"},{"$f":"TRIM(Data!D192)","v":"2310917092"},{"$f":"TRIM(Data!E192)","v":"PROB"},{"$f":"TRIM(Data!F192)","v":"3"},{"$f":"TRIM(Data!G192)","v":"CMS On-ramp"},{"$f":"TRIM(Data!H192)","v":"CMS On-ramp"},{"$f":"TRIM(Data!I192)","v":"559"},{"$f":"TRIM(Data!J192)","v":"0"},{"$f":"TRIM(Data!K192)","v":"0"},{"$f":"TRIM(Data!L192)","v":"19"},{"$f":"TRIM(Data!M192)","v":"540"},null,null,null,{"$f":"TRIM(Data!N192)","v":"0"},{"$f":"TRIM(Data!O192)","v":"0"},{"$f":"TRIM(Data!P192)","v":"0"},null,{"$f":"TRIM(Data!Q192)","v":"0"},null,null,{"$f":"TRIM(Data!R192)","v":"0"},{"$f":"TRIM(Data!S192)","v":"0"},{"$f":"TRIM(Data!T192)","v":"0"},null,null,null,{"$f":"TRIM(Data!U192)","v":"0"},null,{"$f":"TRIM(Data!V192)","v":"0"},{"$f":"TRIM(Data!W192)","v":"0"},{"$f":"TRIM(Data!X192)","v":"0"},{"$f":"TRIM(Data!Y192)","v":"0"},{"$f":"TRIM(Data!Z192)","v":"0"},{"$f":"TRIM(Data!AA192)","v":"0"},39,"1 Nov 2024 to 30 Nov 2024","DR. YEE YUK KEI","DR. YK YEE","SOLO","2310917092","PROB","3","Local System","Local System","559","0","0","19","540","","0","0","0","0","0","0","0","0","0","0","0","0","","540","0.966010733452594","0","0","0","0","0","0","0","0"]
["1 Nov 2024 to 30 Nov 20245251825990RXD","1 Nov 2024 to 30 Nov 2024","L & C CLINICAL PRACTICE","L & C CLINICAL PRACTICE","GROUP",5251825990,"RXD",2,"ClinicSolution","Local System",8,0,0,8,0,null,0,0,0,0,0,0,0,0,0,0,0,0,null,0,0,0,0,0,0,0,0,0,0,"","","Y","1 Nov 2024 to 30 Nov 20242310917092RXD",{"$f":"Data!A193","v":"2024-11-01"},{"$f":"TRIM(Data!B193)","v":"DR. YEE YUK KEI"},null,{"$f":"TRIM(Data!C193)","v":"SOLO"},{"$f":"TRIM(Data!D193)","v":"2310917092"},{"$f":"TRIM(Data!E193)","v":"RXD"},{"$f":"TRIM(Data!F193)","v":"3"},{"$f":"TRIM(Data!G193)","v":"CMS On-ramp"},{"$f":"TRIM(Data!H193)","v":"CMS On-ramp"},{"$f":"TRIM(Data!I193)","v":"532"},{"$f":"TRIM(Data!J193)","v":"0"},{"$f":"TRIM(Data!K193)","v":"0"},{"$f":"TRIM(Data!L193)","v":"382"},{"$f":"TRIM(Data!M193)","v":"150"},null,null,null,{"$f":"TRIM(Data!N193)","v":"0"},{"$f":"TRIM(Data!O193)","v":"0"},{"$f":"TRIM(Data!P193)","v":"0"},null,{"$f":"TRIM(Data!Q193)","v":"0"},null,null,{"$f":"TRIM(Data!R193)","v":"0"},{"$f":"TRIM(Data!S193)","v":"0"},{"$f":"TRIM(Data!T193)","v":"0"},null,null,null,{"$f":"TRIM(Data!U193)","v":"0"},null,{"$f":"TRIM(Data!V193)","v":"0"},{"$f":"TRIM(Data!W193)","v":"0"},{"$f":"TRIM(Data!X193)","v":"0"},{"$f":"TRIM(Data!Y193)","v":"0"},{"$f":"TRIM(Data!Z193)","v":"0"},{"$f":"TRIM(Data!AA193)","v":"0"},41,"1 Nov 2024 to 30 Nov 2024","DR. YEE YUK KEI","DR. YK YEE","SOLO","2310917092","RXD","3","Local System","Local System","532","0","0","382","150","","0","0","0","0","0","0","0","0","0","0","0","0","","150","0.281954887218045","0","0","0","0","0","0","0","0"]
[{"$f":"IF(B201<>\"\",B201&F201&G201,\"\")","v":"1 Nov 2024 to 30 Nov 20245251825990RXO"},"1 Nov 2024 to 30 Nov 2024","L & C CLINICAL PRACTICE","L & C CLINICAL PRACTICE","GROUP",5251825990,"RXO",2,"ClinicSolution","Local System",8,0,0,8,0,null,0,0,0,0,0,0,0,0,0,0,0,0,null,0,0,0,0,0,0,0,0,0,0,{"$f":"IFERROR(IF(SEARCH(\"total\",A201)>0,\"\",\"\"),_xlfn.IFNA(IF(A201<>\"\",IF(MATCH(A201,AQ:AQ,0)>0,\"\",\"\"),\"\"),\"Y\"))","v":""},{"$f":"IFERROR(_xlfn.IFNA(IF(AQ201<>\"\",IF(MATCH(AQ201,A:A,0)>0,\"\",\"\"),\"\"),\"Y\"),\"\")","v":""},{"$f":"IF(OR(TRIM(UPPER(AS201))<>TRIM(UPPER(CF201)),AU201<>CH201,AV201<>CI201,AW201<>CJ201,AX201<>CK201,AY201<>CL201,AZ201<>CM201,BA201<>CN201,BB201<>CO201,BC201<>CP201,BD201<>CQ201,BE201<>CR201,BI201<>CV201,BJ201<>CW201,BK201<>CX201,BM201<>CZ201,BP201<>DC201,BQ201<>DD201,BR201<>DE201,BV201<>DI201,BX201<>DK201,BY201<>DL201,BZ201<>DM201,CA201<>DN201,CB201<>DO201,CC201<>DP201),\"Y\",\"\")","v":"Y"},{"$f":"IF(AR201<>\"\",TEXT(AR201,\"d mmm yyyy\") &\" to \" & TEXT(EOMONTH(AR201,0),\"d mmm yyyy\") & AV201 & AW201,\"\")","v":"1 Nov 2024 to 30 Nov 20242310917092RXO"},{"$f":"Data!A194","v":"2024-11-01"},{"$f":"TRIM(Data!B194)","v":"DR. YEE YUK KEI"},null,{"$f":"TRIM(Data!C194)","v":"SOLO"},{"$f":"TRIM(Data!D194)","v":"2310917092"},{"$f":"TRIM(Data!E194)","v":"RXO"},{"$f":"TRIM(Data!F194)","v":"3"},{"$f":"TRIM(Data!G194)","v":"CMS On-ramp"},{"$f":"TRIM(Data!H194)","v":"CMS On-ramp"},{"$f":"TRIM(Data!I194)","v":"532"},{"$f":"TRIM(Data!J194)","v":"0"},{"$f":"TRIM(Data!K194)","v":"0"},{"$f":"TRIM(Data!L194)","v":"382"},{"$f":"TRIM(Data!M194)","v":"150"},null,null,null,{"$f":"TRIM(Data!N194)","v":"0"},{"$f":"TRIM(Data!O194)","v":"0"},{"$f":"TRIM(Data!P194)","v":"0"},null,{"$f":"TRIM(Data!Q194)","v":"0"},null,null,{"$f":"TRIM(Data!R194)","v":"0"},{"$f":"TRIM(Data!S194)","v":"0"},{"$f":"TRIM(Data!T194)","v":"0"},null,null,null,{"$f":"TRIM(Data!U194)","v":"0"},null,{"$f":"TRIM(Data!V194)","v":"0"},{"$f":"TRIM(Data!W194)","v":"0"},{"$f":"TRIM(Data!X194)","v":"0"},{"$f":"TRIM(Data!Y194)","v":"0"},{"$f":"TRIM(Data!Z194)","v":"0"},{"$f":"TRIM(Data!AA194)","v":"0"},{"$f":"MATCH(AQ201,A:A,0)","v":42},{"$f":"TRIM(INDEX(B:B,$CD201))","v":"1 Nov 2024 to 30 Nov 2024"},{"$f":"TRIM(INDEX(C:C,$CD201))","v":"DR. YEE YUK KEI"},{"$f":"TRIM(INDEX(D:D,$CD201))","v":"DR. YK YEE"},{"$f":"TRIM(INDEX(E:E,$CD201))","v":"SOLO"},{"$f":"TRIM(INDEX(F:F,$CD201))","v":"2310917092"},{"$f":"TRIM(INDEX(G:G,$CD201))","v":"RXO"},{"$f":"TRIM(INDEX(H:H,$CD201))","v":"3"},{"$f":"TRIM(INDEX(I:I,$CD201))","v":"Local System"},{"$f":"TRIM(INDEX(J:J,$CD201))","v":"Local System"},{"$f":"TRIM(INDEX(K:K,$CD201))","v":"532"},{"$f":"TRIM(INDEX(L:L,$CD201))","v":"0"},{"$f":"TRIM(INDEX(M:M,$CD201))","v":"0"},{"$f":"TRIM(INDEX(N:N,$CD201))","v":"382"},{"$f":"TRIM(INDEX(O:O,$CD201))","v":"150"},{"$f":"TRIM(INDEX(P:P,$CD201))","v":""},{"$f":"TRIM(INDEX(Q:Q,$CD201))","v":"0"},{"$f":"TRIM(INDEX(R:R,$CD201))","v":"0"},{"$f":"TRIM(INDEX(S:S,$CD201))","v":"0"},{"$f":"TRIM(INDEX(T:T,$CD201))","v":"0"},{"$f":"TRIM(INDEX(U:U,$CD201))","v":"0"},{"$f":"TRIM(INDEX(V:V,$CD201))","v":"0"},{"$f":"TRIM(INDEX(W:W,$CD201))","v":"0"},{"$f":"TRIM(INDEX(X:X,$CD201))","v":"0"},{"$f":"TRIM(INDEX(Y:Y,$CD201))","v":"0"},{"$f":"TRIM(INDEX(Z:Z,$CD201))","v":"0"},{"$f":"TRIM(INDEX(AA:AA,$CD201))","v":"0"},{"$f":"TRIM(INDEX(AB:AB,$CD201))","v":"0"},{"$f":"TRIM(INDEX(AC:AC,$CD201))","v":""},{"$f":"TRIM(INDEX(AD:AD,$CD201))","v":"150"},{"$f":"TRIM(INDEX(AE:AE,$CD201))","v":"0.281954887218045"},{"$f":"TRIM(INDEX(AF:AF,$CD201))","v":"0"},{"$f":"TRIM(INDEX(AG:AG,$CD201))","v":"0"},{"$f":"TRIM(INDEX(AH:AH,$CD201))","v":"0"},{"$f":"TRIM(INDEX(AI:AI,$CD201))","v":"0"},{"$f":"TRIM(INDEX(AJ:AJ,$CD201))","v":"0"},{"$f":"TRIM(INDEX(AK:AK,$CD201))","v":"0"},{"$f":"TRIM(INDEX(AL:AL,$CD201))","v":"0"},{"$f":"TRIM(INDEX(AM:AM,$CD201))","v":"0"}]
["1 Nov 2024 to 30 Nov 20245292537029RAD","1 Nov 2024 to 30 Nov 2024","Alpha Medical (CWB)","ALPHA MEDICAL (CWB)","GROUP",5292537029,"RAD",3,"RIS (LAAM)","Local System",474,0,0,0,474,null,0,0,0,0,0,0,0,0,0,0,0,0,null,474,1,0,0,0,0,0,0,0,0,"","","Y","1 Nov 2024 to 30 Nov 20242310917092ENCTR",{"$f":"Data!A195","v":"2024-11-01"},{"$f":"TRIM(Data!B195)","v":"DR. YEE YUK KEI"},null,{"$f":"TRIM(Data!C195)","v":"SOLO"},{"$f":"TRIM(Data!D195)","v":"2310917092"},{"$f":"TRIM(Data!E195)","v":"ENCTR"},{"$f":"TRIM(Data!F195)","v":"3"},{"$f":"TRIM(Data!G195)","v":"CMS On-ramp"},{"$f":"TRIM(Data!H195)","v":"CMS On-ramp"},{"$f":"TRIM(Data!I195)","v":"350"},{"$f":"TRIM(Data!J195)","v":"0"},{"$f":"TRIM(Data!K195)","v":"0"},{"$f":"TRIM(Data!L195)","v":"0"},{"$f":"TRIM(Data!M195)","v":"350"},null,null,null,{"$f":"TRIM(Data!N195)","v":"0"},{"$f":"TRIM(Data!O195)","v":"0"},{"$f":"TRIM(Data!P195)","v":"0"},null,{"$f":"TRIM(Data!Q195)","v":"0"},null,null,{"$f":"TRIM(Data!R195)","v":"0"},{"$f":"TRIM(Data!S195)","v":"0"},{"$f":"TRIM(Data!T195)","v":"0"},null,null,null,{"$f":"TRIM(Data!U195)","v":"0"},null,{"$f":"TRIM(Data!V195)","v":"0"},{"$f":"TRIM(Data!W195)","v":"0"},{"$f":"TRIM(Data!X195)","v":"0"},{"$f":"TRIM(Data!Y195)","v":"0"},{"$f":"TRIM(Data!Z195)","v":"0"},{"$f":"TRIM(Data!AA195)","v":"0"},36,"1 Nov 2024 to 30 Nov 2024","DR. YEE YUK KEI","DR. YK YEE","SOLO","2310917092","ENCTR","3","Local System","Local System","350","0","0","0","350","","0","0","0","0","0","0","0","0","0","0","0","0","","350","1","0","0","0","0","0","0","0","0"]
["1 Nov 2024 to 30 Nov 20245368445357ENCTR","1 Nov 2024 to 30 Nov 2024","HEALTH INTEGRATED LIMITED","HEALTH INTEGRATED LIMITED","OTH",5368445357,"ENCTR",3,"ClinicSolution","Local System",10,10,0,0,0,null,10,1,10,0,0,0,0,0,0,0,0,0,null,0,0,0,0,0,0,0,0,0,0,"","","Y","1 Nov 2024 to 30 Nov 20242310917092EPIS",{"$f":"Data!A196","v":"2024-11-01"},{"$f":"TRIM(Data!B196)","v":"DR. YEE YUK KEI"},null,{"$f":"TRIM(Data!C196)","v":"SOLO"},{"$f":"TRIM(Data!D196)","v":"2310917092"},{"$f":"TRIM(Data!E196)","v":"EPIS"},{"$f":"TRIM(Data!F196)","v":"1"},{"$f":"TRIM(Data!G196)","v":"CMS On-ramp"},{"$f":"TRIM(Data!H196)","v":"CMS On-ramp"},{"$f":"TRIM(Data!I196)","v":"332"},{"$f":"TRIM(Data!J196)","v":"0"},{"$f":"TRIM(Data!K196)","v":"332"},{"$f":"TRIM(Data!L196)","v":"0"},{"$f":"TRIM(Data!M196)","v":"0"},null,null,null,{"$f":"TRIM(Data!N196)","v":"0"},{"$f":"TRIM(Data!O196)","v":"0"},{"$f":"TRIM(Data!P196)","v":"0"},null,{"$f":"TRIM(Data!Q196)","v":"0"},null,null,{"$f":"TRIM(Data!R196)","v":"0"},{"$f":"TRIM(Data!S196)","v":"0"},{"$f":"TRIM(Data!T196)","v":"0"},null,null,null,{"$f":"TRIM(Data!U196)","v":"0"},null,{"$f":"TRIM(Data!V196)","v":"0"},{"$f":"TRIM(Data!W196)","v":"0"},{"$f":"TRIM(Data!X196)","v":"0"},{"$f":"TRIM(Data!Y196)","v":"0"},{"$f":"TRIM(Data!Z196)","v":"0"},{"$f":"TRIM(Data!AA196)","v":"0"},37,"1 Nov 2024 to 30 Nov 2024","DR. YEE YUK KEI","DR. YK YEE","SOLO","2310917092","EPIS","1","Local System","Local System","332","0","332","0","0","","0","0","0","0","0","0","0","0","0","0","0","0","","0","0","0","0","0","0","0","0","0","0"]
["1 Nov 2024 to 30 Nov 20245368445357PROB","1 Nov 2024 to 30 Nov 2024","HEALTH INTEGRATED LIMITED","HEALTH INTEGRATED LIMITED","OTH",5368445357,"PROB",3,"ClinicSolution","Local System",10,1,0,9,0,null,1,0.1,1,0,9,0.9,9,0,0,9,0,0,null,0,0,0,0,0,0,0,0,0,0,"","","Y","1 Nov 2024 to 30 Nov 20242310917092PX",{"$f":"Data!A197","v":"2024-11-01"},{"$f":"TRIM(Data!B197)","v":"DR. YEE YUK KEI"},null,{"$f":"TRIM(Data!C197)","v":"SOLO"},{"$f":"TRIM(Data!D197)","v":"2310917092"},{"$f":"TRIM(Data!E197)","v":"PX"},{"$f":"TRIM(Data!F197)","v":"3"},{"$f":"TRIM(Data!G197)","v":"CMS On-ramp"},{"$f":"TRIM(Data!H197)","v":"CMS On-ramp"},{"$f":"TRIM(Data!I197)","v":"57"},{"$f":"TRIM(Data!J197)","v":"0"},{"$f":"TRIM(Data!K197)","v":"0"},{"$f":"TRIM(Data!L197)","v":"0"},{"$f":"TRIM(Data!M197)","v":"57"},null,null,null,{"$f":"TRIM(Data!N197)","v":"0"},{"$f":"TRIM(Data!O197)","v":"0"},{"$f":"TRIM(Data!P197)","v":"0"},null,{"$f":"TRIM(Data!Q197)","v":"0"},null,null,{"$f":"TRIM(Data!R197)","v":"0"},{"$f":"TRIM(Data!S197)","v":"0"},{"$f":"TRIM(Data!T197)","v":"0"},null,null,null,{"$f":"TRIM(Data!U197)","v":"0"},null,{"$f":"TRIM(Data!V197)","v":"0"},{"$f":"TRIM(Data!W197)","v":"0"},{"$f":"TRIM(Data!X197)","v":"0"},{"$f":"TRIM(Data!Y197)","v":"0"},{"$f":"TRIM(Data!Z197)","v":"0"},{"$f":"TRIM(Data!AA197)","v":"0"},40,"1 Nov 2024 to 30 Nov 2024","DR. YEE YUK KEI","DR. YK YEE","SOLO","2310917092","PX","3","Local System","Local System","57","0","0","0","57","","0","0","0","0","0","0","0","0","0","0","0","0","","57","1","0","0","0","0","0","0","0","0"]
["1 Nov 2024 to 30 Nov 20245368445357PX","1 Nov 2024 to 30 Nov 2024","HEALTH INTEGRATED LIMITED","HEALTH INTEGRATED LIMITED","OTH",5368445357,"PX",3,"ClinicSolution","Local System",3,0,0,3,0,null,0,0,0,0,3,1,3,0,0,3,0,0,null,0,0,0,0,0,0,0,0,0,0,"","","Y","1 Nov 2024 to 30 Nov 20242310917092IMMU",{"$f":"Data!A198","v":"2024-11-01"},{"$f":"TRIM(Data!B198)","v":"DR. YEE YUK KEI"},null,{"$f":"TRIM(Data!C198)","v":"SOLO"},{"$f":"TRIM(Data!D198)","v":"2310917092"},{"$f":"TRIM(Data!E198)","v":"IMMU"},{"$f":"TRIM(Data!F198)","v":"3"},{"$f":"TRIM(Data!G198)","v":"CMS On-ramp"},{"$f":"TRIM(Data!H198)","v":"CMS On-ramp"},{"$f":"TRIM(Data!I198)","v":"10"},{"$f":"TRIM(Data!J198)","v":"0"},{"$f":"TRIM(Data!K198)","v":"0"},{"$f":"TRIM(Data!L198)","v":"10"},{"$f":"TRIM(Data!M198)","v":"0"},null,null,null,{"$f":"TRIM(Data!N198)","v":"0"},{"$f":"TRIM(Data!O198)","v":"0"},{"$f":"TRIM(Data!P198)","v":"0"},null,{"$f":"TRIM(Data!Q198)","v":"0"},null,null,{"$f":"TRIM(Data!R198)","v":"0"},{"$f":"TRIM(Data!S198)","v":"0"},{"$f":"TRIM(Data!T198)","v":"0"},null,null,null,{"$f":"TRIM(Data!U198)","v":"0"},null,{"$f":"TRIM(Data!V198)","v":"0"},{"$f":"TRIM(Data!W198)","v":"0"},{"$f":"TRIM(Data!X198)","v":"0"},{"$f":"TRIM(Data!Y198)","v":"0"},{"$f":"TRIM(Data!Z198)","v":"0"},{"$f":"TRIM(Data!AA198)","v":"0"},38,"1 Nov 2024 to 30 Nov 2024","DR. YEE YUK KEI","DR. YK YEE","SOLO","2310917092","IMMU","3","Local System","Local System","10","0","0","10","0","","0","0","0","0","0","0","0","0","0","0","0","0","","0","0","0","0","0","0","0","0","0","0"]
["1 Nov 2024 to 30 Nov 20245368445357RXD","1 Nov 2024 to 30 Nov 2024","HEALTH INTEGRATED LIMITED","HEALTH INTEGRATED LIMITED","OTH",5368445357,"RXD",2,"ClinicSolution","Local System",41,41,0,0,0,null,41,1,41,0,0,0,0,0,0,0,0,0,null,0,0,0,0,0,0,0,0,0,0,"","","Y","1 Nov 2024 to 30 Nov 20242310917092AL1",{"$f":"Data!A199","v":"2024-11-01"},{"$f":"TRIM(Data!B199)","v":"DR. YEE YUK KEI"},null,{"$f":"TRIM(Data!C199)","v":"SOLO"},{"$f":"TRIM(Data!D199)","v":"2310917092"},{"$f":"TRIM(Data!E199)","v":"AL1"},{"$f":"TRIM(Data!F199)","v":"3"},{"$f":"TRIM(Data!G199)","v":"CMS On-ramp"},{"$f":"TRIM(Data!H199)","v":"CMS On-ramp"},{"$f":"TRIM(Data!I199)","v":"4"},{"$f":"TRIM(Data!J199)","v":"0"},{"$f":"TRIM(Data!K199)","v":"0"},{"$f":"TRIM(Data!L199)","v":"0"},{"$f":"TRIM(Data!M199)","v":"4"},null,null,null,{"$f":"TRIM(Data!N199)","v":"0"},{"$f":"TRIM(Data!O199)","v":"0"},{"$f":"TRIM(Data!P199)","v":"0"},null,{"$f":"TRIM(Data!Q199)","v":"0"},null,null,{"$f":"TRIM(Data!R199)","v":"0"},{"$f":"TRIM(Data!S199)","v":"0"},{"$f":"TRIM(Data!T199)","v":"0"},null,null,null,{"$f":"TRIM(Data!U199)","v":"0"},null,{"$f":"TRIM(Data!V199)","v":"0"},{"$f":"TRIM(Data!W199)","v":"0"},{"$f":"TRIM(Data!X199)","v":"0"},{"$f":"TRIM(Data!Y199)","v":"0"},{"$f":"TRIM(Data!Z199)","v":"0"},{"$f":"TRIM(Data!AA199)","v":"0"},35,"1 Nov 2024 to 30 Nov 2024","DR. YEE YUK KEI","DR. YK YEE","SOLO","2310917092","AL1","3","Local System","Local System","4","0","0","0","4","","0","0","0","0","0","0","0","0","0","0","0","0","","4","1","0","0","0","0","0","0","0","0"]
["1 Nov 2024 to 30 Nov 20245368445357RXO","1 Nov 2024 to 30 Nov 2024","HEALTH INTEGRATED LIMITED","HEALTH INTEGRATED LIMITED","OTH",5368445357,"RXO",2,"ClinicSolution","Local System",41,41,0,0,0,null,41,1,41,0,0,0,0,0,0,0,0,0,null,0,0,0,0,0,0,0,0,0,0,"","","","1 Nov 2024 to 30 Nov 20243499048393RXD",{"$f":"Data!A200","v":"2024-11-01"},{"$f":"TRIM(Data!B200)","v":"208 MEDICAL CENTRE"},null,{"$f":"TRIM(Data!C200)","v":"SOLO"},{"$f":"TRIM(Data!D200)","v":"3499048393"},{"$f":"TRIM(Data!E200)","v":"RXD"},{"$f":"TRIM(Data!F200)","v":"2"},{"$f":"TRIM(Data!G200)","v":"ClinicSolution"},{"$f":"TRIM(Data!H200)","v":"Local System"},{"$f":"TRIM(Data!I200)","v":"602"},{"$f":"TRIM(Data!J200)","v":"0"},{"$f":"TRIM(Data!K200)","v":"0"},{"$f":"TRIM(Data!L200)","v":"602"},{"$f":"TRIM(Data!M200)","v":"0"},null,null,null,{"$f":"TRIM(Data!N200)","v":"0"},{"$f":"TRIM(Data!O200)","v":"0"},{"$f":"TRIM(Data!P200)","v":"0"},null,{"$f":"TRIM(Data!Q200)","v":"0"},null,null,{"$f":"TRIM(Data!R200)","v":"0"},{"$f":"TRIM(Data!S200)","v":"0"},{"$f":"TRIM(Data!T200)","v":"0"},null,null,null,{"$f":"TRIM(Data!U200)","v":"0"},null,{"$f":"TRIM(Data!V200)","v":"0"},{"$f":"TRIM(Data!W200)","v":"0"},{"$f":"TRIM(Data!X200)","v":"0"},{"$f":"TRIM(Data!Y200)","v":"0"},{"$f":"TRIM(Data!Z200)","v":"0"},{"$f":"TRIM(Data!AA200)","v":"0"},113,"1 Nov 2024 to 30 Nov 2024","208 Medical Centre","208 MEDICAL CENTRE","SOLO","3499048393","RXD","2","ClinicSolution","Local System","602","0","0","602","0","","0","0","0","0","0","0","0","0","0","0","0","0","","0","0","0","0","0","0","0","0","0","0"]
["1 Nov 2024 to 30 Nov 20245414310424RAD","1 Nov 2024 to 30 Nov 2024","HONG KONG MEDICAL ADVANCED IMAGING LIMITED","HKMAIL","GROUP",5414310424,"RAD",3,"CSP","Local System",5140,0,0,0,5140,null,0,0,0,0,0,0,0,0,0,0,0,0,null,5140,1,0,0,0,0,0,0,0,0,"","","","1 Nov 2024 to 30 Nov 20243499048393RXO",{"$f":"Data!A201","v":"2024-11-01"},{"$f":"TRIM(Data!B201)","v":"208 MEDICAL CENTRE"},null,{"$f":"TRIM(Data!C201)","v":"SOLO"},{"$f":"TRIM(Data!D201)","v":"3499048393"},{"$f":"TRIM(Data!E201)","v":"RXO"},{"$f":"TRIM(Data!F201)","v":"2"},{"$f":"TRIM(Data!G201)","v":"ClinicSolution"},{"$f":"TRIM(Data!H201)","v":"Local System"},{"$f":"TRIM(Data!I201)","v":"602"},{"$f":"TRIM(Data!J201)","v":"0"},{"$f":"TRIM(Data!K201)","v":"0"},{"$f":"TRIM(Data!L201)","v":"602"},{"$f":"TRIM(Data!M201)","v":"0"},null,null,null,{"$f":"TRIM(Data!N201)","v":"0"},{"$f":"TRIM(Data!O201)","v":"0"},{"$f":"TRIM(Data!P201)","v":"0"},null,{"$f":"TRIM(Data!Q201)","v":"0"},null,null,{"$f":"TRIM(Data!R201)","v":"0"},{"$f":"TRIM(Data!S201)","v":"0"},{"$f":"TRIM(Data!T201)","v":"0"},null,null,null,{"$f":"TRIM(Data!U201)","v":"0"},null,{"$f":"TRIM(Data!V201)","v":"0"},{"$f":"TRIM(Data!W201)","v":"0"},{"$f":"TRIM(Data!X201)","v":"0"},{"$f":"TRIM(Data!Y201)","v":"0"},{"$f":"TRIM(Data!Z201)","v":"0"},{"$f":"TRIM(Data!AA201)","v":"0"},114,"1 Nov 2024 to 30 Nov 2024","208 Medical Centre","208 MEDICAL CENTRE","SOLO","3499048393","RXO","2","ClinicSolution","Local System","602","0","0","602","0","","0","0","0","0","0","0","0","0","0","0","0","0","","0","0","0","0","0","0","0","0","0","0"]
["1 Nov 2024 to 30 Nov 20245453649547RAD","1 Nov 2024 to 30 Nov 2024","Trinity Medical Imaging Centre Limited","TRINITY MEDICAL IMG","SOLO",5453649547,"RAD",3,"RIS (LAAM)","Local System",1088,0,0,0,1088,null,0,0,0,0,0,0,0,0,0,0,0,0,null,1088,1,0,0,0,0,0,0,0,0,"","","","1 Nov 2024 to 30 Nov 20243499048393ENCTR",{"$f":"Data!A202","v":"2024-11-01"},{"$f":"TRIM(Data!B202)","v":"208 MEDICAL CENTRE"},null,{"$f":"TRIM(Data!C202)","v":"SOLO"},{"$f":"TRIM(Data!D202)","v":"3499048393"},{"$f":"TRIM(Data!E202)","v":"ENCTR"},{"$f":"TRIM(Data!F202)","v":"3"},{"$f":"TRIM(Data!G202)","v":"ClinicSolution"},{"$f":"TRIM(Data!H202)","v":"Local System"},{"$f":"TRIM(Data!I202)","v":"363"},{"$f":"TRIM(Data!J202)","v":"0"},{"$f":"TRIM(Data!K202)","v":"0"},{"$f":"TRIM(Data!L202)","v":"0"},{"$f":"TRIM(Data!M202)","v":"363"},null,null,null,{"$f":"TRIM(Data!N202)","v":"0"},{"$f":"TRIM(Data!O202)","v":"0"},{"$f":"TRIM(Data!P202)","v":"0"},null,{"$f":"TRIM(Data!Q202)","v":"0"},null,null,{"$f":"TRIM(Data!R202)","v":"0"},{"$f":"TRIM(Data!S202)","v":"0"},{"$f":"TRIM(Data!T202)","v":"0"},null,null,null,{"$f":"TRIM(Data!U202)","v":"0"},null,{"$f":"TRIM(Data!V202)","v":"0"},{"$f":"TRIM(Data!W202)","v":"0"},{"$f":"TRIM(Data!X202)","v":"0"},{"$f":"TRIM(Data!Y202)","v":"0"},{"$f":"TRIM(Data!Z202)","v":"0"},{"$f":"TRIM(Data!AA202)","v":"0"},111,"1 Nov 2024 to 30 Nov 2024","208 Medical Centre","208 MEDICAL CENTRE","SOLO","3499048393","ENCTR","3","ClinicSolution","Local System","363","0","0","0","363","","0","0","0","0","0","0","0","0","0","0","0","0","","363","1","0","0","0","0","0","0","0","0"]
["1 Nov 2024 to 30 Nov 20245528991274AL1","1 Nov 2024 to 30 Nov 2024","DR WONG CHUN POR","DR CP WONG CLINIC","SOLO",5528991274,"AL1",3,"Local System","Local System",3,0,0,0,3,null,0,0,0,0,0,0,0,0,0,0,0,0,null,3,1,0,0,0,0,0,0,0,0,"","","","1 Nov 2024 to 30 Nov 20243499048393PROB",{"$f":"Data!A203","v":"2024-11-01"},{"$f":"TRIM(Data!B203)","v":"208 MEDICAL CENTRE"},null,{"$f":"TRIM(Data!C203)","v":"SOLO"},{"$f":"TRIM(Data!D203)","v":"3499048393"},{"$f":"TRIM(Data!E203)","v":"PROB"},{"$f":"TRIM(Data!F203)","v":"3"},{"$f":"TRIM(Data!G203)","v":"ClinicSolution"},{"$f":"TRIM(Data!H203)","v":"Local System"},{"$f":"TRIM(Data!I203)","v":"302"},{"$f":"TRIM(Data!J203)","v":"21"},{"$f":"TRIM(Data!K203)","v":"0"},{"$f":"TRIM(Data!L203)","v":"281"},{"$f":"TRIM(Data!M203)","v":"0"},null,null,null,{"$f":"TRIM(Data!N203)","v":"21"},{"$f":"TRIM(Data!O203)","v":"0"},{"$f":"TRIM(Data!P203)","v":"281"},null,{"$f":"TRIM(Data!Q203)","v":"281"},null,null,{"$f":"TRIM(Data!R203)","v":"281"},{"$f":"TRIM(Data!S203)","v":"0"},{"$f":"TRIM(Data!T203)","v":"0"},null,null,null,{"$f":"TRIM(Data!U203)","v":"0"},null,{"$f":"TRIM(Data!V203)","v":"0"},{"$f":"TRIM(Data!W203)","v":"0"},{"$f":"TRIM(Data!X203)","v":"0"},{"$f":"TRIM(Data!Y203)","v":"0"},{"$f":"TRIM(Data!Z203)","v":"0"},{"$f":"TRIM(Data!AA203)","v":"0"},112,"1 Nov 2024 to 30 Nov 2024","208 Medical Centre","208 MEDICAL CENTRE","SOLO","3499048393","PROB","3","ClinicSolution","Local System","302","21","0","281","0","","21","0.0695364238410596","21","0","281","0.93046357615894","281","0","0","281","0","0","","0","0","0","0","0","0","0","0","0","0"]
["1 Nov 2024 to 30 Nov 20245528991274ENCTR","1 Nov 2024 to 30 Nov 2024","DR WONG CHUN POR","DR CP WONG CLINIC","SOLO",5528991274,"ENCTR",3,"Local System","Local System",483,0,0,0,483,null,0,0,0,0,0,0,0,0,0,0,0,0,null,483,1,0,0,0,0,0,0,0,0,"","","","1 Nov 2024 to 30 Nov 20243499048393AL1",{"$f":"Data!A204","v":"2024-11-01"},{"$f":"TRIM(Data!B204)","v":"208 MEDICAL CENTRE"},null,{"$f":"TRIM(Data!C204)","v":"SOLO"},{"$f":"TRIM(Data!D204)","v":"3499048393"},{"$f":"TRIM(Data!E204)","v":"AL1"},{"$f":"TRIM(Data!F204)","v":"2"},{"$f":"TRIM(Data!G204)","v":"ClinicSolution"},{"$f":"TRIM(Data!H204)","v":"Local System"},{"$f":"TRIM(Data!I204)","v":"4"},{"$f":"TRIM(Data!J204)","v":"0"},{"$f":"TRIM(Data!K204)","v":"0"},{"$f":"TRIM(Data!L204)","v":"4"},{"$f":"TRIM(Data!M204)","v":"0"},null,null,null,{"$f":"TRIM(Data!N204)","v":"0"},{"$f":"TRIM(Data!O204)","v":"0"},{"$f":"TRIM(Data!P204)","v":"0"},null,{"$f":"TRIM(Data!Q204)","v":"0"},null,null,{"$f":"TRIM(Data!R204)","v":"0"},{"$f":"TRIM(Data!S204)","v":"0"},{"$f":"TRIM(Data!T204)","v":"0"},null,null,null,{"$f":"TRIM(Data!U204)","v":"0"},null,{"$f":"TRIM(Data!V204)","v":"0"},{"$f":"TRIM(Data!W204)","v":"0"},{"$f":"TRIM(Data!X204)","v":"0"},{"$f":"TRIM(Data!Y204)","v":"0"},{"$f":"TRIM(Data!Z204)","v":"0"},{"$f":"TRIM(Data!AA204)","v":"0"},110,"1 Nov 2024 to 30 Nov 2024","208 Medical Centre","208 MEDICAL CENTRE","SOLO","3499048393","AL1","2","ClinicSolution","Local System","4","0","0","4","0","","0","0","0","0","0","0","0","0","0","0","0","0","","0","0","0","0","0","0","0","0","0","0"]
["1 Nov 2024 to 30 Nov 20245528991274IMMU","1 Nov 2024 to 30 Nov 2024","DR WONG CHUN POR","DR CP WONG CLINIC","SOLO",5528991274,"IMMU",3,"Local System","Local System",29,0,0,1,28,null,0,0,0,0,1,3.4482758620689655E-2,1,0,0,1,0,0,null,28,0.96551724137931039,0,0,0,0,0,0,0,0,"","","","1 Nov 2024 to 30 Nov 20248962900949ENCTR",{"$f":"Data!A205","v":"2024-11-01"},{"$f":"TRIM(Data!B205)","v":"DR. LAM SEE YUI JOSEPH"},null,{"$f":"TRIM(Data!C205)","v":"SOLO"},{"$f":"TRIM(Data!D205)","v":"8962900949"},{"$f":"TRIM(Data!E205)","v":"ENCTR"},{"$f":"TRIM(Data!F205)","v":"3"},{"$f":"TRIM(Data!G205)","v":"ClinicSolution"},{"$f":"TRIM(Data!H205)","v":"Local System"},{"$f":"TRIM(Data!I205)","v":"885"},{"$f":"TRIM(Data!J205)","v":"0"},{"$f":"TRIM(Data!K205)","v":"0"},{"$f":"TRIM(Data!L205)","v":"0"},{"$f":"TRIM(Data!M205)","v":"885"},null,null,null,{"$f":"TRIM(Data!N205)","v":"0"},{"$f":"TRIM(Data!O205)","v":"0"},{"$f":"TRIM(Data!P205)","v":"0"},null,{"$f":"TRIM(Data!Q205)","v":"0"},null,null,{"$f":"TRIM(Data!R205)","v":"0"},{"$f":"TRIM(Data!S205)","v":"0"},{"$f":"TRIM(Data!T205)","v":"0"},null,null,null,{"$f":"TRIM(Data!U205)","v":"0"},null,{"$f":"TRIM(Data!V205)","v":"0"},{"$f":"TRIM(Data!W205)","v":"0"},{"$f":"TRIM(Data!X205)","v":"0"},{"$f":"TRIM(Data!Y205)","v":"0"},{"$f":"TRIM(Data!Z205)","v":"0"},{"$f":"TRIM(Data!AA205)","v":"0"},394,"1 Nov 2024 to 30 Nov 2024","DR. LAM SEE YUI JOSEPH","DR. S.Y. LAM","SOLO","8962900949","ENCTR","3","ClinicSolution","Local System","885","0","0","0","885","","0","0","0","0","0","0","0","0","0","0","0","0","","885","1","0","0","0","0","0","0","0","0"]
["1 Nov 2024 to 30 Nov 20245528991274PROB","1 Nov 2024 to 30 Nov 2024","DR WONG CHUN POR","DR CP WONG CLINIC","SOLO",5528991274,"PROB",3,"Local System","Local System",693,0,0,13,680,null,0,0,0,0,0,0,0,0,0,0,0,0,null,680,0.98124098124098125,0,0,0,0,0,0,0,0,"","","","1 Nov 2024 to 30 Nov 20248962900949PROB",{"$f":"Data!A206","v":"2024-11-01"},{"$f":"TRIM(Data!B206)","v":"DR. LAM SEE YUI JOSEPH"},null,{"$f":"TRIM(Data!C206)","v":"SOLO"},{"$f":"TRIM(Data!D206)","v":"8962900949"},{"$f":"TRIM(Data!E206)","v":"PROB"},{"$f":"TRIM(Data!F206)","v":"3"},{"$f":"TRIM(Data!G206)","v":"ClinicSolution"},{"$f":"TRIM(Data!H206)","v":"Local System"},{"$f":"TRIM(Data!I206)","v":"790"},{"$f":"TRIM(Data!J206)","v":"0"},{"$f":"TRIM(Data!K206)","v":"0"},{"$f":"TRIM(Data!L206)","v":"255"},{"$f":"TRIM(Data!M206)","v":"535"},null,null,null,{"$f":"TRIM(Data!N206)","v":"0"},{"$f":"TRIM(Data!O206)","v":"0"},{"$f":"TRIM(Data!P206)","v":"255"},null,{"$f":"TRIM(Data!Q206)","v":"255"},null,null,{"$f":"TRIM(Data!R206)","v":"255"},{"$f":"TRIM(Data!S206)","v":"0"},{"$f":"TRIM(Data!T206)","v":"0"},null,null,null,{"$f":"TRIM(Data!U206)","v":"0"},null,{"$f":"TRIM(Data!V206)","v":"0"},{"$f":"TRIM(Data!W206)","v":"0"},{"$f":"TRIM(Data!X206)","v":"0"},{"$f":"TRIM(Data!Y206)","v":"0"},{"$f":"TRIM(Data!Z206)","v":"0"},{"$f":"TRIM(Data!AA206)","v":"0"},395,"1 Nov 2024 to 30 Nov 2024","DR. LAM SEE YUI JOSEPH","DR. S.Y. LAM","SOLO","8962900949","PROB","3","ClinicSolution","Local System","790","0","0","255","535","","0","0","0","0","255","0.322784810126582","255","0","0","255","0","0","","535","0.677215189873418","0","0","0","0","0","0","0","0"]
["1 Nov 2024 to 30 Nov 20245528991274RXD","1 Nov 2024 to 30 Nov 2024","DR WONG CHUN POR","DR CP WONG CLINIC","SOLO",5528991274,"RXD",3,"Local System","Local System",700,0,0,71,629,null,0,0,0,0,1,1.4285714285714286E-3,1,0,0,1,0,0,null,629,0.89857142857142858,0,0,0,0,0,0,0,0,"","","","1 Nov 2024 to 30 Nov 20248962900949RXD",{"$f":"Data!A207","v":"2024-11-01"},{"$f":"TRIM(Data!B207)","v":"DR. LAM SEE YUI JOSEPH"},null,{"$f":"TRIM(Data!C207)","v":"SOLO"},{"$f":"TRIM(Data!D207)","v":"8962900949"},{"$f":"TRIM(Data!E207)","v":"RXD"},{"$f":"TRIM(Data!F207)","v":"2"},{"$f":"TRIM(Data!G207)","v":"ClinicSolution"},{"$f":"TRIM(Data!H207)","v":"Local System"},{"$f":"TRIM(Data!I207)","v":"20"},{"$f":"TRIM(Data!J207)","v":"0"},{"$f":"TRIM(Data!K207)","v":"0"},{"$f":"TRIM(Data!L207)","v":"20"},{"$f":"TRIM(Data!M207)","v":"0"},null,null,null,{"$f":"TRIM(Data!N207)","v":"0"},{"$f":"TRIM(Data!O207)","v":"0"},{"$f":"TRIM(Data!P207)","v":"0"},null,{"$f":"TRIM(Data!Q207)","v":"0"},null,null,{"$f":"TRIM(Data!R207)","v":"0"},{"$f":"TRIM(Data!S207)","v":"0"},{"$f":"TRIM(Data!T207)","v":"0"},null,null,null,{"$f":"TRIM(Data!U207)","v":"0"},null,{"$f":"TRIM(Data!V207)","v":"0"},{"$f":"TRIM(Data!W207)","v":"0"},{"$f":"TRIM(Data!X207)","v":"0"},{"$f":"TRIM(Data!Y207)","v":"0"},{"$f":"TRIM(Data!Z207)","v":"0"},{"$f":"TRIM(Data!AA207)","v":"0"},396,"1 Nov 2024 to 30 Nov 2024","DR. LAM SEE YUI JOSEPH","DR. S.Y. LAM","SOLO","8962900949","RXD","2","ClinicSolution","Local System","20","0","0","20","0","","0","0","0","0","0","0","0","0","0","0","0","0","","0","0","0","0","0","0","0","0","0","0"]
["1 Nov 2024 to 30 Nov 20245528991274RXO","1 Nov 2024 to 30 Nov 2024","DR WONG CHUN POR","DR CP WONG CLINIC","SOLO",5528991274,"RXO",3,"Local System","Local System",716,0,0,73,643,null,0,0,0,0,1,1.3966480446927375E-3,1,0,0,1,0,0,null,643,0.89804469273743015,0,0,0,0,0,0,0,0,"","","","1 Nov 2024 to 30 Nov 20248962900949RXO",{"$f":"Data!A208","v":"2024-11-01"},{"$f":"TRIM(Data!B208)","v":"DR. LAM SEE YUI JOSEPH"},null,{"$f":"TRIM(Data!C208)","v":"SOLO"},{"$f":"TRIM(Data!D208)","v":"8962900949"},{"$f":"TRIM(Data!E208)","v":"RXO"},{"$f":"TRIM(Data!F208)","v":"2"},{"$f":"TRIM(Data!G208)","v":"ClinicSolution"},{"$f":"TRIM(Data!H208)","v":"Local System"},{"$f":"TRIM(Data!I208)","v":"20"},{"$f":"TRIM(Data!J208)","v":"0"},{"$f":"TRIM(Data!K208)","v":"0"},{"$f":"TRIM(Data!L208)","v":"20"},{"$f":"TRIM(Data!M208)","v":"0"},null,null,null,{"$f":"TRIM(Data!N208)","v":"0"},{"$f":"TRIM(Data!O208)","v":"0"},{"$f":"TRIM(Data!P208)","v":"0"},null,{"$f":"TRIM(Data!Q208)","v":"0"},null,null,{"$f":"TRIM(Data!R208)","v":"0"},{"$f":"TRIM(Data!S208)","v":"0"},{"$f":"TRIM(Data!T208)","v":"0"},null,null,null,{"$f":"TRIM(Data!U208)","v":"0"},null,{"$f":"TRIM(Data!V208)","v":"0"},{"$f":"TRIM(Data!W208)","v":"0"},{"$f":"TRIM(Data!X208)","v":"0"},{"$f":"TRIM(Data!Y208)","v":"0"},{"$f":"TRIM(Data!Z208)","v":"0"},{"$f":"TRIM(Data!AA208)","v":"0"},397,"1 Nov 2024 to 30 Nov 2024","DR. LAM SEE YUI JOSEPH","DR. S.Y. LAM","SOLO","8962900949","RXO","2","ClinicSolution","Local System","20","0","0","20","0","","0","0","0","0","0","0","0","0","0","0","0","0","","0","0","0","0","0","0","0","0","0","0"]
["1 Nov 2024 to 30 Nov 20245596680865RAD","1 Nov 2024 to 30 Nov 2024","HONG KONG HEALTH CHECK (HEAD OFFICE)","HONG KONG HEALTH CHECK","GROUP",5596680865,"RAD",3,"RHI2","Local System",996,0,0,0,996,null,0,0,0,0,0,0,0,0,0,0,0,0,null,996,1,0,0,0,0,0,0,0,0,"","","","1 Nov 2024 to 30 Nov 20248962900949AL1",{"$f":"Data!A209","v":"2024-11-01"},{"$f":"TRIM(Data!B209)","v":"DR. LAM SEE YUI JOSEPH"},null,{"$f":"TRIM(Data!C209)","v":"SOLO"},{"$f":"TRIM(Data!D209)","v":"8962900949"},{"$f":"TRIM(Data!E209)","v":"AL1"},{"$f":"TRIM(Data!F209)","v":"2"},{"$f":"TRIM(Data!G209)","v":"ClinicSolution"},{"$f":"TRIM(Data!H209)","v":"Local System"},{"$f":"TRIM(Data!I209)","v":"4"},{"$f":"TRIM(Data!J209)","v":"0"},{"$f":"TRIM(Data!K209)","v":"0"},{"$f":"TRIM(Data!L209)","v":"4"},{"$f":"TRIM(Data!M209)","v":"0"},null,null,null,{"$f":"TRIM(Data!N209)","v":"0"},{"$f":"TRIM(Data!O209)","v":"0"},{"$f":"TRIM(Data!P209)","v":"0"},null,{"$f":"TRIM(Data!Q209)","v":"0"},null,null,{"$f":"TRIM(Data!R209)","v":"0"},{"$f":"TRIM(Data!S209)","v":"0"},{"$f":"TRIM(Data!T209)","v":"0"},null,null,null,{"$f":"TRIM(Data!U209)","v":"0"},null,{"$f":"TRIM(Data!V209)","v":"0"},{"$f":"TRIM(Data!W209)","v":"0"},{"$f":"TRIM(Data!X209)","v":"0"},{"$f":"TRIM(Data!Y209)","v":"0"},{"$f":"TRIM(Data!Z209)","v":"0"},{"$f":"TRIM(Data!AA209)","v":"0"},393,"1 Nov 2024 to 30 Nov 2024","DR. LAM SEE YUI JOSEPH","DR. S.Y. LAM","SOLO","8962900949","AL1","2","ClinicSolution","Local System","4","0","0","4","0","","0","0","0","0","0","0","0","0","0","0","0","0","","0","0","0","0","0","0","0","0","0","0"]
["1 Nov 2024 to 30 Nov 20245634981022EPIS","1 Nov 2024 to 30 Nov 2024","HUMAN HEALTH MEDICAL CENTRE.","HUMAN  HEALTH","GROUP",5634981022,"EPIS",1,"RCMS_LAAM","Local System",43,0,43,0,0,null,0,0,0,0,0,0,0,0,0,0,0,0,null,0,0,0,0,0,0,0,0,0,0,"","","Y","1 Nov 2024 to 30 Nov 20247889756707RXO",{"$f":"Data!A210","v":"2024-11-01"},{"$f":"TRIM(Data!B210)","v":"DR HO CHUNG PING"},null,{"$f":"TRIM(Data!C210)","v":"SOLO"},{"$f":"TRIM(Data!D210)","v":"7889756707"},{"$f":"TRIM(Data!E210)","v":"RXO"},{"$f":"TRIM(Data!F210)","v":"3,2"},{"$f":"TRIM(Data!G210)","v":"CMSEHR"},{"$f":"TRIM(Data!H210)","v":"Local System"},{"$f":"TRIM(Data!I210)","v":"391"},{"$f":"TRIM(Data!J210)","v":"0"},{"$f":"TRIM(Data!K210)","v":"0"},{"$f":"TRIM(Data!L210)","v":"34"},{"$f":"TRIM(Data!M210)","v":"357"},null,null,null,{"$f":"TRIM(Data!N210)","v":"0"},{"$f":"TRIM(Data!O210)","v":"0"},{"$f":"TRIM(Data!P210)","v":"0"},null,{"$f":"TRIM(Data!Q210)","v":"0"},null,null,{"$f":"TRIM(Data!R210)","v":"0"},{"$f":"TRIM(Data!S210)","v":"0"},{"$f":"TRIM(Data!T210)","v":"0"},null,null,null,{"$f":"TRIM(Data!U210)","v":"0"},null,{"$f":"TRIM(Data!V210)","v":"0"},{"$f":"TRIM(Data!W210)","v":"0"},{"$f":"TRIM(Data!X210)","v":"0"},{"$f":"TRIM(Data!Y210)","v":"0"},{"$f":"TRIM(Data!Z210)","v":"0"},{"$f":"TRIM(Data!AA210)","v":"0"},328,"1 Nov 2024 to 30 Nov 2024","DR HO CHUNG PING","C.P. HO","SOLO","7889756707","RXO","3","Local System","Local System","391","0","0","34","357","","0","0","0","0","0","0","0","0","0","0","0","0","","357","0.91304347826087","0","0","0","0","0","0","0","0"]
["1 Nov 2024 to 30 Nov 20245634981022RAD","1 Nov 2024 to 30 Nov 2024","HUMAN HEALTH MEDICAL CENTRE.","HUMAN  HEALTH","GROUP",5634981022,"RAD",1,"RCMS_LAAM","Local System",46,0,46,0,0,null,0,0,0,0,0,0,0,0,0,0,0,0,null,0,0,0,0,0,0,0,0,0,0,"","","Y","1 Nov 2024 to 30 Nov 20247889756707RXD",{"$f":"Data!A211","v":"2024-11-01"},{"$f":"TRIM(Data!B211)","v":"DR HO CHUNG PING"},null,{"$f":"TRIM(Data!C211)","v":"SOLO"},{"$f":"TRIM(Data!D211)","v":"7889756707"},{"$f":"TRIM(Data!E211)","v":"RXD"},{"$f":"TRIM(Data!F211)","v":"3,2"},{"$f":"TRIM(Data!G211)","v":"CMSEHR"},{"$f":"TRIM(Data!H211)","v":"Local System"},{"$f":"TRIM(Data!I211)","v":"380"},{"$f":"TRIM(Data!J211)","v":"0"},{"$f":"TRIM(Data!K211)","v":"0"},{"$f":"TRIM(Data!L211)","v":"32"},{"$f":"TRIM(Data!M211)","v":"348"},null,null,null,{"$f":"TRIM(Data!N211)","v":"0"},{"$f":"TRIM(Data!O211)","v":"0"},{"$f":"TRIM(Data!P211)","v":"0"},null,{"$f":"TRIM(Data!Q211)","v":"0"},null,null,{"$f":"TRIM(Data!R211)","v":"0"},{"$f":"TRIM(Data!S211)","v":"0"},{"$f":"TRIM(Data!T211)","v":"0"},null,null,null,{"$f":"TRIM(Data!U211)","v":"0"},null,{"$f":"TRIM(Data!V211)","v":"0"},{"$f":"TRIM(Data!W211)","v":"0"},{"$f":"TRIM(Data!X211)","v":"0"},{"$f":"TRIM(Data!Y211)","v":"0"},{"$f":"TRIM(Data!Z211)","v":"0"},{"$f":"TRIM(Data!AA211)","v":"0"},327,"1 Nov 2024 to 30 Nov 2024","DR HO CHUNG PING","C.P. HO","SOLO","7889756707","RXD","3","Local System","Local System","380","0","0","32","348","","0","0","0","0","0","0","0","0","0","0","0","0","","348","0.91578947368421","0","0","0","0","0","0","0","0"]
["1 Nov 2024 to 30 Nov 20245712620300ADR","1 Nov 2024 to 30 Nov 2024","UNION HOSPITAL","UNION HOSPITAL","PH",5712620300,"ADR",3,"UHLAAM","Local System",59,0,0,16,43,null,0,0,0,0,16,0.2711864406779661,16,0,0,16,0,0,null,43,0.72881355932203384,0,0,0,0,0,0,0,0,"","","Y","1 Nov 2024 to 30 Nov 20247889756707ENCTR",{"$f":"Data!A212","v":"2024-11-01"},{"$f":"TRIM(Data!B212)","v":"DR HO CHUNG PING"},null,{"$f":"TRIM(Data!C212)","v":"SOLO"},{"$f":"TRIM(Data!D212)","v":"7889756707"},{"$f":"TRIM(Data!E212)","v":"ENCTR"},{"$f":"TRIM(Data!F212)","v":"3"},{"$f":"TRIM(Data!G212)","v":"CMSEHR"},{"$f":"TRIM(Data!H212)","v":"Local System"},{"$f":"TRIM(Data!I212)","v":"329"},{"$f":"TRIM(Data!J212)","v":"0"},{"$f":"TRIM(Data!K212)","v":"0"},{"$f":"TRIM(Data!L212)","v":"0"},{"$f":"TRIM(Data!M212)","v":"329"},null,null,null,{"$f":"TRIM(Data!N212)","v":"0"},{"$f":"TRIM(Data!O212)","v":"0"},{"$f":"TRIM(Data!P212)","v":"0"},null,{"$f":"TRIM(Data!Q212)","v":"0"},null,null,{"$f":"TRIM(Data!R212)","v":"0"},{"$f":"TRIM(Data!S212)","v":"0"},{"$f":"TRIM(Data!T212)","v":"0"},null,null,null,{"$f":"TRIM(Data!U212)","v":"0"},null,{"$f":"TRIM(Data!V212)","v":"0"},{"$f":"TRIM(Data!W212)","v":"0"},{"$f":"TRIM(Data!X212)","v":"0"},{"$f":"TRIM(Data!Y212)","v":"0"},{"$f":"TRIM(Data!Z212)","v":"0"},{"$f":"TRIM(Data!AA212)","v":"0"},323,"1 Nov 2024 to 30 Nov 2024","DR HO CHUNG PING","C.P. HO","SOLO","7889756707","ENCTR","3","Local System","Local System","329","0","0","0","329","","0","0","0","0","0","0","0","0","0","0","0","0","","329","1","0","0","0","0","0","0","0","0"]
["1 Nov 2024 to 30 Nov 20245712620300AL1","1 Nov 2024 to 30 Nov 2024","UNION HOSPITAL","UNION HOSPITAL","PH",5712620300,"AL1",3,"UHLAAM","Local System",1296,0,0,278,1018,null,0,0,0,0,265,0.2044753086419753,265,0,0,265,0,0,null,1018,0.78549382716049387,0,0,0,0,0,0,0,0,"","","Y","1 Nov 2024 to 30 Nov 20247889756707PROB",{"$f":"Data!A213","v":"2024-11-01"},{"$f":"TRIM(Data!B213)","v":"DR HO CHUNG PING"},null,{"$f":"TRIM(Data!C213)","v":"SOLO"},{"$f":"TRIM(Data!D213)","v":"7889756707"},{"$f":"TRIM(Data!E213)","v":"PROB"},{"$f":"TRIM(Data!F213)","v":"3,2"},{"$f":"TRIM(Data!G213)","v":"CMSEHR"},{"$f":"TRIM(Data!H213)","v":"Local System"},{"$f":"TRIM(Data!I213)","v":"320"},{"$f":"TRIM(Data!J213)","v":"0"},{"$f":"TRIM(Data!K213)","v":"0"},{"$f":"TRIM(Data!L213)","v":"3"},{"$f":"TRIM(Data!M213)","v":"317"},null,null,null,{"$f":"TRIM(Data!N213)","v":"0"},{"$f":"TRIM(Data!O213)","v":"0"},{"$f":"TRIM(Data!P213)","v":"0"},null,{"$f":"TRIM(Data!Q213)","v":"0"},null,null,{"$f":"TRIM(Data!R213)","v":"0"},{"$f":"TRIM(Data!S213)","v":"0"},{"$f":"TRIM(Data!T213)","v":"0"},null,null,null,{"$f":"TRIM(Data!U213)","v":"0"},null,{"$f":"TRIM(Data!V213)","v":"0"},{"$f":"TRIM(Data!W213)","v":"0"},{"$f":"TRIM(Data!X213)","v":"0"},{"$f":"TRIM(Data!Y213)","v":"0"},{"$f":"TRIM(Data!Z213)","v":"0"},{"$f":"TRIM(Data!AA213)","v":"0"},326,"1 Nov 2024 to 30 Nov 2024","DR HO CHUNG PING","C.P. HO","SOLO","7889756707","PROB","3","Local System","Local System","320","0","0","3","317","","0","0","0","0","0","0","0","0","0","0","0","0","","317","0.990625","0","0","0","0","0","0","0","0"]
["1 Nov 2024 to 30 Nov 20245712620300BIRTH","1 Nov 2024 to 30 Nov 2024","UNION HOSPITAL","UNION HOSPITAL","PH",5712620300,"BIRTH",3,"UHLAAM","Local System",6,0,0,6,0,null,0,0,0,0,6,1,0,0,6,6,0,0,null,0,0,0,0,0,0,0,0,0,0,"","","Y","1 Nov 2024 to 30 Nov 20247889756707EPIS",{"$f":"Data!A214","v":"2024-11-01"},{"$f":"TRIM(Data!B214)","v":"DR HO CHUNG PING"},null,{"$f":"TRIM(Data!C214)","v":"SOLO"},{"$f":"TRIM(Data!D214)","v":"7889756707"},{"$f":"TRIM(Data!E214)","v":"EPIS"},{"$f":"TRIM(Data!F214)","v":"1"},{"$f":"TRIM(Data!G214)","v":"CMSEHR"},{"$f":"TRIM(Data!H214)","v":"Local System"},{"$f":"TRIM(Data!I214)","v":"268"},{"$f":"TRIM(Data!J214)","v":"1"},{"$f":"TRIM(Data!K214)","v":"267"},{"$f":"TRIM(Data!L214)","v":"0"},{"$f":"TRIM(Data!M214)","v":"0"},null,null,null,{"$f":"TRIM(Data!N214)","v":"1"},{"$f":"TRIM(Data!O214)","v":"0"},{"$f":"TRIM(Data!P214)","v":"0"},null,{"$f":"TRIM(Data!Q214)","v":"0"},null,null,{"$f":"TRIM(Data!R214)","v":"0"},{"$f":"TRIM(Data!S214)","v":"0"},{"$f":"TRIM(Data!T214)","v":"0"},null,null,null,{"$f":"TRIM(Data!U214)","v":"0"},null,{"$f":"TRIM(Data!V214)","v":"0"},{"$f":"TRIM(Data!W214)","v":"0"},{"$f":"TRIM(Data!X214)","v":"0"},{"$f":"TRIM(Data!Y214)","v":"0"},{"$f":"TRIM(Data!Z214)","v":"0"},{"$f":"TRIM(Data!AA214)","v":"0"},324,"1 Nov 2024 to 30 Nov 2024","DR HO CHUNG PING","C.P. HO","SOLO","7889756707","EPIS","1","Local System","Local System","268","1","267","0","0","","1","0.00373134328358209","1","0","0","0","0","0","0","0","0","0","","0","0","0","0","0","0","0","0","0","0"]
["1 Nov 2024 to 30 Nov 20245712620300EPIS","1 Nov 2024 to 30 Nov 2024","UNION HOSPITAL","UNION HOSPITAL","PH",5712620300,"EPIS",1,"UHLAAM","Local System",464,0,464,0,0,null,0,0,0,0,0,0,0,0,0,0,0,0,null,0,0,0,0,0,0,0,0,0,0,"","","Y","1 Nov 2024 to 30 Nov 20247889756707AL1",{"$f":"Data!A215","v":"2024-11-01"},{"$f":"TRIM(Data!B215)","v":"DR HO CHUNG PING"},null,{"$f":"TRIM(Data!C215)","v":"SOLO"},{"$f":"TRIM(Data!D215)","v":"7889756707"},{"$f":"TRIM(Data!E215)","v":"AL1"},{"$f":"TRIM(Data!F215)","v":"3,2"},{"$f":"TRIM(Data!G215)","v":"CMSEHR"},{"$f":"TRIM(Data!H215)","v":"Local System"},{"$f":"TRIM(Data!I215)","v":"2"},{"$f":"TRIM(Data!J215)","v":"0"},{"$f":"TRIM(Data!K215)","v":"0"},{"$f":"TRIM(Data!L215)","v":"0"},{"$f":"TRIM(Data!M215)","v":"2"},null,null,null,{"$f":"TRIM(Data!N215)","v":"0"},{"$f":"TRIM(Data!O215)","v":"0"},{"$f":"TRIM(Data!P215)","v":"0"},null,{"$f":"TRIM(Data!Q215)","v":"0"},null,null,{"$f":"TRIM(Data!R215)","v":"0"},{"$f":"TRIM(Data!S215)","v":"0"},{"$f":"TRIM(Data!T215)","v":"0"},null,null,null,{"$f":"TRIM(Data!U215)","v":"0"},null,{"$f":"TRIM(Data!V215)","v":"0"},{"$f":"TRIM(Data!W215)","v":"0"},{"$f":"TRIM(Data!X215)","v":"0"},{"$f":"TRIM(Data!Y215)","v":"0"},{"$f":"TRIM(Data!Z215)","v":"0"},{"$f":"TRIM(Data!AA215)","v":"0"},322,"1 Nov 2024 to 30 Nov 2024","DR HO CHUNG PING","C.P. HO","SOLO","7889756707","AL1","3","Local System","Local System","2","0","0","0","2","","0","0","0","0","0","0","0","0","0","0","0","0","","2","1","0","0","0","0","0","0","0","0"]
["1 Nov 2024 to 30 Nov 20245712620300IMMU","1 Nov 2024 to 30 Nov 2024","UNION HOSPITAL","UNION HOSPITAL","PH",5712620300,"IMMU",2,"UHLAAM","Local System",167,0,0,167,0,null,0,0,0,0,0,0,0,0,0,0,0,0,null,0,0,0,0,0,0,0,0,0,0,"","","Y","1 Nov 2024 to 30 Nov 20247889756707IMMU",{"$f":"Data!A216","v":"2024-11-01"},{"$f":"TRIM(Data!B216)","v":"DR HO CHUNG PING"},null,{"$f":"TRIM(Data!C216)","v":"SOLO"},{"$f":"TRIM(Data!D216)","v":"7889756707"},{"$f":"TRIM(Data!E216)","v":"IMMU"},{"$f":"TRIM(Data!F216)","v":"3,2"},{"$f":"TRIM(Data!G216)","v":"CMSEHR"},{"$f":"TRIM(Data!H216)","v":"Local System"},{"$f":"TRIM(Data!I216)","v":"1"},{"$f":"TRIM(Data!J216)","v":"0"},{"$f":"TRIM(Data!K216)","v":"0"},{"$f":"TRIM(Data!L216)","v":"0"},{"$f":"TRIM(Data!M216)","v":"1"},null,null,null,{"$f":"TRIM(Data!N216)","v":"0"},{"$f":"TRIM(Data!O216)","v":"0"},{"$f":"TRIM(Data!P216)","v":"0"},null,{"$f":"TRIM(Data!Q216)","v":"0"},null,null,{"$f":"TRIM(Data!R216)","v":"0"},{"$f":"TRIM(Data!S216)","v":"0"},{"$f":"TRIM(Data!T216)","v":"0"},null,null,null,{"$f":"TRIM(Data!U216)","v":"0"},null,{"$f":"TRIM(Data!V216)","v":"0"},{"$f":"TRIM(Data!W216)","v":"0"},{"$f":"TRIM(Data!X216)","v":"0"},{"$f":"TRIM(Data!Y216)","v":"0"},{"$f":"TRIM(Data!Z216)","v":"0"},{"$f":"TRIM(Data!AA216)","v":"0"},325,"1 Nov 2024 to 30 Nov 2024","DR HO CHUNG PING","C.P. HO","SOLO","7889756707","IMMU","3","Local System","Local System","1","0","0","0","1","","0","0","0","0","0","0","0","0","0","0","0","0","","1","1","0","0","0","0","0","0","0","0"]
["1 Nov 2024 to 30 Nov 20245712620300RAD","1 Nov 2024 to 30 Nov 2024","UNION HOSPITAL","UNION HOSPITAL","PH",5712620300,"RAD",3,"UHLAAM","Local System",4239,0,0,0,4239,null,0,0,0,0,0,0,0,0,0,0,0,0,null,4239,1,0,0,0,0,0,0,0,0,"","","Y","1 Nov 2024 to 30 Nov 20242971417573ENCTR",{"$f":"Data!A217","v":"2024-11-01"},{"$f":"TRIM(Data!B217)","v":"18 CHINESE MEDICINE CLINIC CUM TRAINING AND RESEARCH CENTRE (YAN OI TONG)"},null,{"$f":"TRIM(Data!C217)","v":"NGO"},{"$f":"TRIM(Data!D217)","v":"2971417573"},{"$f":"TRIM(Data!E217)","v":"ENCTR"},{"$f":"TRIM(Data!F217)","v":"3"},{"$f":"TRIM(Data!G217)","v":"HA CMIS"},{"$f":"TRIM(Data!H217)","v":"Local System"},{"$f":"TRIM(Data!I217)","v":"580"},{"$f":"TRIM(Data!J217)","v":"0"},{"$f":"TRIM(Data!K217)","v":"0"},{"$f":"TRIM(Data!L217)","v":"0"},{"$f":"TRIM(Data!M217)","v":"580"},null,null,null,{"$f":"TRIM(Data!N217)","v":"0"},{"$f":"TRIM(Data!O217)","v":"0"},{"$f":"TRIM(Data!P217)","v":"0"},null,{"$f":"TRIM(Data!Q217)","v":"0"},null,null,{"$f":"TRIM(Data!R217)","v":"0"},{"$f":"TRIM(Data!S217)","v":"0"},{"$f":"TRIM(Data!T217)","v":"0"},null,null,null,{"$f":"TRIM(Data!U217)","v":"0"},null,{"$f":"TRIM(Data!V217)","v":"0"},{"$f":"TRIM(Data!W217)","v":"0"},{"$f":"TRIM(Data!X217)","v":"0"},{"$f":"TRIM(Data!Y217)","v":"0"},{"$f":"TRIM(Data!Z217)","v":"0"},{"$f":"TRIM(Data!AA217)","v":"0"},71,"1 Nov 2024 to 30 Nov 2024","18 Chinese Medicine Clinic cum Traing and Research Centre (Yan Oi Tong)","18CMCTRs (YOT)","NGO","2971417573","ENCTR","3","Local System","Local System","580","0","0","0","580","","0","0","0","0","0","0","0","0","0","0","0","0","","580","1","0","0","0","0","0","0","0","0"]
["1 Nov 2024 to 30 Nov 20245772944231ENCTR","1 Nov 2024 to 30 Nov 2024","PASSION MEDICAL LIMITED","PASSION MEDICAL","SOLO",5772944231,"ENCTR",3,"ClinicSolution","Local System",7,0,0,0,7,null,0,0,0,0,0,0,0,0,0,0,0,0,null,7,1,0,0,0,0,0,0,0,0,"","","Y","1 Nov 2024 to 30 Nov 20242971417573CMPROB",{"$f":"Data!A218","v":"2024-11-01"},{"$f":"TRIM(Data!B218)","v":"18 CHINESE MEDICINE CLINIC CUM TRAINING AND RESEARCH CENTRE (YAN OI TONG)"},null,{"$f":"TRIM(Data!C218)","v":"NGO"},{"$f":"TRIM(Data!D218)","v":"2971417573"},{"$f":"TRIM(Data!E218)","v":"CMPROB"},{"$f":"TRIM(Data!F218)","v":"3"},{"$f":"TRIM(Data!G218)","v":"HA CMIS"},{"$f":"TRIM(Data!H218)","v":"Local System"},{"$f":"TRIM(Data!I218)","v":"540"},{"$f":"TRIM(Data!J218)","v":"0"},{"$f":"TRIM(Data!K218)","v":"0"},{"$f":"TRIM(Data!L218)","v":"93"},{"$f":"TRIM(Data!M218)","v":"447"},null,null,null,{"$f":"TRIM(Data!N218)","v":"0"},{"$f":"TRIM(Data!O218)","v":"0"},{"$f":"TRIM(Data!P218)","v":"70"},null,{"$f":"TRIM(Data!Q218)","v":"70"},null,null,{"$f":"TRIM(Data!R218)","v":"70"},{"$f":"TRIM(Data!S218)","v":"0"},{"$f":"TRIM(Data!T218)","v":"0"},null,null,null,{"$f":"TRIM(Data!U218)","v":"0"},null,{"$f":"TRIM(Data!V218)","v":"0"},{"$f":"TRIM(Data!W218)","v":"0"},{"$f":"TRIM(Data!X218)","v":"0"},{"$f":"TRIM(Data!Y218)","v":"0"},{"$f":"TRIM(Data!Z218)","v":"0"},{"$f":"TRIM(Data!AA218)","v":"0"},68,"1 Nov 2024 to 30 Nov 2024","18 Chinese Medicine Clinic cum Traing and Research Centre (Yan Oi Tong)","18CMCTRs (YOT)","NGO","2971417573","CMPROB","3","Local System","EC Connect","540","0","0","93","447","","0","0","0","0","70","0.12962962962963","70","0","0","70","0","0","","447","0.827777777777778","0","0","0","0","0","0","0","0"]
["1 Nov 2024 to 30 Nov 20245772944231PROB","1 Nov 2024 to 30 Nov 2024","PASSION MEDICAL LIMITED","PASSION MEDICAL","SOLO",5772944231,"PROB",3,"ClinicSolution","Local System",1,0,0,1,0,null,0,0,0,0,1,1,1,0,0,1,0,0,null,0,0,0,0,0,0,0,0,0,0,"","","Y","1 Nov 2024 to 30 Nov 20242971417573CMRXO",{"$f":"Data!A219","v":"2024-11-01"},{"$f":"TRIM(Data!B219)","v":"18 CHINESE MEDICINE CLINIC CUM TRAINING AND RESEARCH CENTRE (YAN OI TONG)"},null,{"$f":"TRIM(Data!C219)","v":"NGO"},{"$f":"TRIM(Data!D219)","v":"2971417573"},{"$f":"TRIM(Data!E219)","v":"CMRXO"},{"$f":"TRIM(Data!F219)","v":"3"},{"$f":"TRIM(Data!G219)","v":"HA CMIS"},{"$f":"TRIM(Data!H219)","v":"Local System"},{"$f":"TRIM(Data!I219)","v":"284"},{"$f":"TRIM(Data!J219)","v":"0"},{"$f":"TRIM(Data!K219)","v":"0"},{"$f":"TRIM(Data!L219)","v":"42"},{"$f":"TRIM(Data!M219)","v":"242"},null,null,null,{"$f":"TRIM(Data!N219)","v":"0"},{"$f":"TRIM(Data!O219)","v":"0"},{"$f":"TRIM(Data!P219)","v":"42"},null,{"$f":"TRIM(Data!Q219)","v":"42"},null,null,{"$f":"TRIM(Data!R219)","v":"42"},{"$f":"TRIM(Data!S219)","v":"0"},{"$f":"TRIM(Data!T219)","v":"0"},null,null,null,{"$f":"TRIM(Data!U219)","v":"0"},null,{"$f":"TRIM(Data!V219)","v":"0"},{"$f":"TRIM(Data!W219)","v":"0"},{"$f":"TRIM(Data!X219)","v":"0"},{"$f":"TRIM(Data!Y219)","v":"0"},{"$f":"TRIM(Data!Z219)","v":"0"},{"$f":"TRIM(Data!AA219)","v":"0"},70,"1 Nov 2024 to 30 Nov 2024","18 Chinese Medicine Clinic cum Traing and Research Centre (Yan Oi Tong)","18CMCTRs (YOT)","NGO","2971417573","CMRXO","3","Local System","EC Connect","284","0","0","42","242","","0","0","0","0","42","0.147887323943662","42","0","0","42","0","0","","242","0.852112676056338","0","0","0","0","0","0","0","0"]
["1 Nov 2024 to 30 Nov 20245772944231RXD","1 Nov 2024 to 30 Nov 2024","PASSION MEDICAL LIMITED","PASSION MEDICAL","SOLO",5772944231,"RXD",2,"ClinicSolution","Local System",8,0,0,8,0,null,0,0,0,0,0,0,0,0,0,0,0,0,null,0,0,0,0,0,0,0,0,0,0,"","","Y","1 Nov 2024 to 30 Nov 20242971417573CMPX",{"$f":"Data!A220","v":"2024-11-01"},{"$f":"TRIM(Data!B220)","v":"18 CHINESE MEDICINE CLINIC CUM TRAINING AND RESEARCH CENTRE (YAN OI TONG)"},null,{"$f":"TRIM(Data!C220)","v":"NGO"},{"$f":"TRIM(Data!D220)","v":"2971417573"},{"$f":"TRIM(Data!E220)","v":"CMPX"},{"$f":"TRIM(Data!F220)","v":"3"},{"$f":"TRIM(Data!G220)","v":"HA CMIS"},{"$f":"TRIM(Data!H220)","v":"Local System"},{"$f":"TRIM(Data!I220)","v":"123"},{"$f":"TRIM(Data!J220)","v":"0"},{"$f":"TRIM(Data!K220)","v":"0"},{"$f":"TRIM(Data!L220)","v":"0"},{"$f":"TRIM(Data!M220)","v":"123"},null,null,null,{"$f":"TRIM(Data!N220)","v":"0"},{"$f":"TRIM(Data!O220)","v":"0"},{"$f":"TRIM(Data!P220)","v":"0"},null,{"$f":"TRIM(Data!Q220)","v":"0"},null,null,{"$f":"TRIM(Data!R220)","v":"0"},{"$f":"TRIM(Data!S220)","v":"0"},{"$f":"TRIM(Data!T220)","v":"0"},null,null,null,{"$f":"TRIM(Data!U220)","v":"0"},null,{"$f":"TRIM(Data!V220)","v":"0"},{"$f":"TRIM(Data!W220)","v":"0"},{"$f":"TRIM(Data!X220)","v":"0"},{"$f":"TRIM(Data!Y220)","v":"0"},{"$f":"TRIM(Data!Z220)","v":"0"},{"$f":"TRIM(Data!AA220)","v":"0"},69,"1 Nov 2024 to 30 Nov 2024","18 Chinese Medicine Clinic cum Traing and Research Centre (Yan Oi Tong)","18CMCTRs (YOT)","NGO","2971417573","CMPX","3","Local System","EC Connect","123","0","0","0","123","","0","0","0","0","0","0","0","0","0","0","0","0","","123","1","0","0","0","0","0","0","0","0"]
["1 Nov 2024 to 30 Nov 20245772944231RXO","1 Nov 2024 to 30 Nov 2024","PASSION MEDICAL LIMITED","PASSION MEDICAL","SOLO",5772944231,"RXO",2,"ClinicSolution","Local System",8,0,0,8,0,null,0,0,0,0,0,0,0,0,0,0,0,0,null,0,0,0,0,0,0,0,0,0,0,"","","Y","1 Nov 2024 to 30 Nov 20244746565267CMPROB",{"$f":"Data!A221","v":"2024-11-01"},{"$f":"TRIM(Data!B221)","v":"18 CHINESE MEDICINE CLINIC CUM TRAINING AND RESEARCH CENTRE (HKFTU WORKERS' MEDICAL CLINICS)"},null,{"$f":"TRIM(Data!C221)","v":"NGO"},{"$f":"TRIM(Data!D221)","v":"4746565267"},{"$f":"TRIM(Data!E221)","v":"CMPROB"},{"$f":"TRIM(Data!F221)","v":"3"},{"$f":"TRIM(Data!G221)","v":"HA CMIS"},{"$f":"TRIM(Data!H221)","v":"Local System"},{"$f":"TRIM(Data!I221)","v":"484"},{"$f":"TRIM(Data!J221)","v":"0"},{"$f":"TRIM(Data!K221)","v":"0"},{"$f":"TRIM(Data!L221)","v":"87"},{"$f":"TRIM(Data!M221)","v":"397"},null,null,null,{"$f":"TRIM(Data!N221)","v":"0"},{"$f":"TRIM(Data!O221)","v":"0"},{"$f":"TRIM(Data!P221)","v":"63"},null,{"$f":"TRIM(Data!Q221)","v":"63"},null,null,{"$f":"TRIM(Data!R221)","v":"63"},{"$f":"TRIM(Data!S221)","v":"0"},{"$f":"TRIM(Data!T221)","v":"0"},null,null,null,{"$f":"TRIM(Data!U221)","v":"0"},null,{"$f":"TRIM(Data!V221)","v":"0"},{"$f":"TRIM(Data!W221)","v":"0"},{"$f":"TRIM(Data!X221)","v":"0"},{"$f":"TRIM(Data!Y221)","v":"0"},{"$f":"TRIM(Data!Z221)","v":"0"},{"$f":"TRIM(Data!AA221)","v":"0"},165,"1 Nov 2024 to 30 Nov 2024","18 Chinese Medicine Clinic cum Traing and Research Centre (HKFTU Worker's Medical Clinics)","18CMCTRs(HKFTU)","NGO","4746565267","CMPROB","3","Local System","EC Connect","484","0","0","87","397","","0","0","0","0","63","0.130165289256198","63","0","0","63","0","0","","397","0.820247933884298","0","0","0","0","0","0","0","0"]
["1 Nov 2024 to 30 Nov 20245832575528ENCTR","1 Nov 2024 to 30 Nov 2024","DHC EXPRESS-YAU TSIM MONG (LOKSINTONG)","DHC EXPRESS-YTM-CC","DHC",5832575528,"ENCTR",3,"Local System","Local System",2362,0,0,0,2362,null,0,0,0,0,0,0,0,0,0,0,0,0,null,2362,1,0,0,0,0,0,0,0,0,"","","Y","1 Nov 2024 to 30 Nov 20244746565267ENCTR",{"$f":"Data!A222","v":"2024-11-01"},{"$f":"TRIM(Data!B222)","v":"18 CHINESE MEDICINE CLINIC CUM TRAINING AND RESEARCH CENTRE (HKFTU WORKERS' MEDICAL CLINICS)"},null,{"$f":"TRIM(Data!C222)","v":"NGO"},{"$f":"TRIM(Data!D222)","v":"4746565267"},{"$f":"TRIM(Data!E222)","v":"ENCTR"},{"$f":"TRIM(Data!F222)","v":"3"},{"$f":"TRIM(Data!G222)","v":"HA CMIS"},{"$f":"TRIM(Data!H222)","v":"Local System"},{"$f":"TRIM(Data!I222)","v":"441"},{"$f":"TRIM(Data!J222)","v":"0"},{"$f":"TRIM(Data!K222)","v":"0"},{"$f":"TRIM(Data!L222)","v":"0"},{"$f":"TRIM(Data!M222)","v":"441"},null,null,null,{"$f":"TRIM(Data!N222)","v":"0"},{"$f":"TRIM(Data!O222)","v":"0"},{"$f":"TRIM(Data!P222)","v":"0"},null,{"$f":"TRIM(Data!Q222)","v":"0"},null,null,{"$f":"TRIM(Data!R222)","v":"0"},{"$f":"TRIM(Data!S222)","v":"0"},{"$f":"TRIM(Data!T222)","v":"0"},null,null,null,{"$f":"TRIM(Data!U222)","v":"0"},null,{"$f":"TRIM(Data!V222)","v":"0"},{"$f":"TRIM(Data!W222)","v":"0"},{"$f":"TRIM(Data!X222)","v":"0"},{"$f":"TRIM(Data!Y222)","v":"0"},{"$f":"TRIM(Data!Z222)","v":"0"},{"$f":"TRIM(Data!AA222)","v":"0"},168,"1 Nov 2024 to 30 Nov 2024","18 Chinese Medicine Clinic cum Traing and Research Centre (HKFTU Worker's Medical Clinics)","18CMCTRs(HKFTU)","NGO","4746565267","ENCTR","3","Local System","Local System","441","0","0","0","441","","0","0","0","0","0","0","0","0","0","0","0","0","","441","1","0","0","0","0","0","0","0","0"]
["1 Nov 2024 to 30 Nov 20245832575528EPIS","1 Nov 2024 to 30 Nov 2024","DHC EXPRESS-YAU TSIM MONG (LOKSINTONG)","DHC EXPRESS-YTM-CC","DHC",5832575528,"EPIS",1,"Local System","Local System",813,0,813,0,0,null,0,0,0,0,0,0,0,0,0,0,0,0,null,0,0,0,0,0,0,0,0,0,0,"","","Y","1 Nov 2024 to 30 Nov 20244746565267CMRXO",{"$f":"Data!A223","v":"2024-11-01"},{"$f":"TRIM(Data!B223)","v":"18 CHINESE MEDICINE CLINIC CUM TRAINING AND RESEARCH CENTRE (HKFTU WORKERS' MEDICAL CLINICS)"},null,{"$f":"TRIM(Data!C223)","v":"NGO"},{"$f":"TRIM(Data!D223)","v":"4746565267"},{"$f":"TRIM(Data!E223)","v":"CMRXO"},{"$f":"TRIM(Data!F223)","v":"3"},{"$f":"TRIM(Data!G223)","v":"HA CMIS"},{"$f":"TRIM(Data!H223)","v":"Local System"},{"$f":"TRIM(Data!I223)","v":"226"},{"$f":"TRIM(Data!J223)","v":"0"},{"$f":"TRIM(Data!K223)","v":"0"},{"$f":"TRIM(Data!L223)","v":"25"},{"$f":"TRIM(Data!M223)","v":"201"},null,null,null,{"$f":"TRIM(Data!N223)","v":"0"},{"$f":"TRIM(Data!O223)","v":"0"},{"$f":"TRIM(Data!P223)","v":"25"},null,{"$f":"TRIM(Data!Q223)","v":"25"},null,null,{"$f":"TRIM(Data!R223)","v":"25"},{"$f":"TRIM(Data!S223)","v":"0"},{"$f":"TRIM(Data!T223)","v":"0"},null,null,null,{"$f":"TRIM(Data!U223)","v":"0"},null,{"$f":"TRIM(Data!V223)","v":"0"},{"$f":"TRIM(Data!W223)","v":"0"},{"$f":"TRIM(Data!X223)","v":"0"},{"$f":"TRIM(Data!Y223)","v":"0"},{"$f":"TRIM(Data!Z223)","v":"0"},{"$f":"TRIM(Data!AA223)","v":"0"},167,"1 Nov 2024 to 30 Nov 2024","18 Chinese Medicine Clinic cum Traing and Research Centre (HKFTU Worker's Medical Clinics)","18CMCTRs(HKFTU)","NGO","4746565267","CMRXO","3","Local System","EC Connect","226","0","0","25","201","","0","0","0","0","25","0.110619469026549","25","0","0","25","0","0","","201","0.889380530973451","0","0","0","0","0","0","0","0"]
["1 Nov 2024 to 30 Nov 20245833341375RAD","1 Nov 2024 to 30 Nov 2024","Mongkok MRI Centre Limited","MONGKOK MRI CENTRE LTD","GROUP",5833341375,"RAD",3,"RHI2","Local System",267,0,0,0,267,null,0,0,0,0,0,0,0,0,0,0,0,0,null,267,1,0,0,0,0,0,0,0,0,"","","Y","1 Nov 2024 to 30 Nov 20244746565267CMPX",{"$f":"Data!A224","v":"2024-11-01"},{"$f":"TRIM(Data!B224)","v":"18 CHINESE MEDICINE CLINIC CUM TRAINING AND RESEARCH CENTRE (HKFTU WORKERS' MEDICAL CLINICS)"},null,{"$f":"TRIM(Data!C224)","v":"NGO"},{"$f":"TRIM(Data!D224)","v":"4746565267"},{"$f":"TRIM(Data!E224)","v":"CMPX"},{"$f":"TRIM(Data!F224)","v":"3"},{"$f":"TRIM(Data!G224)","v":"HA CMIS"},{"$f":"TRIM(Data!H224)","v":"Local System"},{"$f":"TRIM(Data!I224)","v":"103"},{"$f":"TRIM(Data!J224)","v":"0"},{"$f":"TRIM(Data!K224)","v":"0"},{"$f":"TRIM(Data!L224)","v":"0"},{"$f":"TRIM(Data!M224)","v":"103"},null,null,null,{"$f":"TRIM(Data!N224)","v":"0"},{"$f":"TRIM(Data!O224)","v":"0"},{"$f":"TRIM(Data!P224)","v":"0"},null,{"$f":"TRIM(Data!Q224)","v":"0"},null,null,{"$f":"TRIM(Data!R224)","v":"0"},{"$f":"TRIM(Data!S224)","v":"0"},{"$f":"TRIM(Data!T224)","v":"0"},null,null,null,{"$f":"TRIM(Data!U224)","v":"0"},null,{"$f":"TRIM(Data!V224)","v":"0"},{"$f":"TRIM(Data!W224)","v":"0"},{"$f":"TRIM(Data!X224)","v":"0"},{"$f":"TRIM(Data!Y224)","v":"0"},{"$f":"TRIM(Data!Z224)","v":"0"},{"$f":"TRIM(Data!AA224)","v":"0"},166,"1 Nov 2024 to 30 Nov 2024","18 Chinese Medicine Clinic cum Traing and Research Centre (HKFTU Worker's Medical Clinics)","18CMCTRs(HKFTU)","NGO","4746565267","CMPX","3","Local System","EC Connect","103","0","0","0","103","","0","0","0","0","0","0","0","0","0","0","0","0","","103","1","0","0","0","0","0","0","0","0"]
["1 Nov 2024 to 30 Nov 20245849557920ENCTR","1 Nov 2024 to 30 Nov 2024","DR. CHOI KAM YEE SAMUEL","DR. CHOI KAM YEE SAMUEL","SOLO",5849557920,"ENCTR",3,"ClinicSolution","Local System",1,0,0,0,1,null,0,0,0,0,0,0,0,0,0,0,0,0,null,1,1,0,0,0,0,0,0,0,0,"","","","1 Nov 2024 to 30 Nov 20241728942726CMPROB",{"$f":"Data!A225","v":"2024-11-01"},{"$f":"TRIM(Data!B225)","v":"ST. TERESA'S HOSPITAL - CHINESE MEDICINE CENTRE"},null,{"$f":"TRIM(Data!C225)","v":"PH"},{"$f":"TRIM(Data!D225)","v":"1728942726"},{"$f":"TRIM(Data!E225)","v":"CMPROB"},{"$f":"TRIM(Data!F225)","v":"3"},{"$f":"TRIM(Data!G225)","v":"STH HIS"},{"$f":"TRIM(Data!H225)","v":"EC Connect"},{"$f":"TRIM(Data!I225)","v":"332"},{"$f":"TRIM(Data!J225)","v":"0"},{"$f":"TRIM(Data!K225)","v":"0"},{"$f":"TRIM(Data!L225)","v":"165"},{"$f":"TRIM(Data!M225)","v":"167"},null,null,null,{"$f":"TRIM(Data!N225)","v":"0"},{"$f":"TRIM(Data!O225)","v":"0"},{"$f":"TRIM(Data!P225)","v":"18"},null,{"$f":"TRIM(Data!Q225)","v":"18"},null,null,{"$f":"TRIM(Data!R225)","v":"18"},{"$f":"TRIM(Data!S225)","v":"0"},{"$f":"TRIM(Data!T225)","v":"0"},null,null,null,{"$f":"TRIM(Data!U225)","v":"0"},null,{"$f":"TRIM(Data!V225)","v":"0"},{"$f":"TRIM(Data!W225)","v":"0"},{"$f":"TRIM(Data!X225)","v":"0"},{"$f":"TRIM(Data!Y225)","v":"0"},{"$f":"TRIM(Data!Z225)","v":"0"},{"$f":"TRIM(Data!AA225)","v":"0"},12,"1 Nov 2024 to 30 Nov 2024","St. Teresa's Hospital - Chinese Medicine Centre","STH-CMC","PH","1728942726","CMPROB","3","STH HIS","EC Connect","332","0","0","165","167","","0","0","0","0","18","0.0542168674698795","18","0","0","18","0","0","","167","0.503012048192771","0","0","0","0","0","0","0","0"]
["1 Nov 2024 to 30 Nov 20245849557920PROB","1 Nov 2024 to 30 Nov 2024","DR. CHOI KAM YEE SAMUEL","DR. CHOI KAM YEE SAMUEL","SOLO",5849557920,"PROB",3,"ClinicSolution","Local System",1,0,0,1,0,null,0,0,0,0,1,1,1,0,0,1,0,0,null,0,0,0,0,0,0,0,0,0,0,"","","Y","1 Nov 2024 to 30 Nov 20241728942726ENCTR",{"$f":"Data!A226","v":"2024-11-01"},{"$f":"TRIM(Data!B226)","v":"ST. TERESA'S HOSPITAL - CHINESE MEDICINE CENTRE"},null,{"$f":"TRIM(Data!C226)","v":"PH"},{"$f":"TRIM(Data!D226)","v":"1728942726"},{"$f":"TRIM(Data!E226)","v":"ENCTR"},{"$f":"TRIM(Data!F226)","v":"3"},{"$f":"TRIM(Data!G226)","v":"STH HIS"},{"$f":"TRIM(Data!H226)","v":"EC Connect"},{"$f":"TRIM(Data!I226)","v":"318"},{"$f":"TRIM(Data!J226)","v":"0"},{"$f":"TRIM(Data!K226)","v":"0"},{"$f":"TRIM(Data!L226)","v":"0"},{"$f":"TRIM(Data!M226)","v":"318"},null,null,null,{"$f":"TRIM(Data!N226)","v":"0"},{"$f":"TRIM(Data!O226)","v":"0"},{"$f":"TRIM(Data!P226)","v":"0"},null,{"$f":"TRIM(Data!Q226)","v":"0"},null,null,{"$f":"TRIM(Data!R226)","v":"0"},{"$f":"TRIM(Data!S226)","v":"0"},{"$f":"TRIM(Data!T226)","v":"0"},null,null,null,{"$f":"TRIM(Data!U226)","v":"0"},null,{"$f":"TRIM(Data!V226)","v":"0"},{"$f":"TRIM(Data!W226)","v":"0"},{"$f":"TRIM(Data!X226)","v":"0"},{"$f":"TRIM(Data!Y226)","v":"0"},{"$f":"TRIM(Data!Z226)","v":"0"},{"$f":"TRIM(Data!AA226)","v":"0"},16,"1 Nov 2024 to 30 Nov 2024","St. Teresa's Hospital - Chinese Medicine Centre","STH-CMC","PH","1728942726","ENCTR","3","STH HIS","Local System","318","0","0","0","318","","0","0","0","0","0","0","0","0","0","0","0","0","","318","1","0","0","0","0","0","0","0","0"]
["1 Nov 2024 to 30 Nov 20245849557920RXD","1 Nov 2024 to 30 Nov 2024","DR. CHOI KAM YEE SAMUEL","DR. CHOI KAM YEE SAMUEL","SOLO",5849557920,"RXD",2,"ClinicSolution","Local System",7,0,0,7,0,null,0,0,0,0,0,0,0,0,0,0,0,0,null,0,0,0,0,0,0,0,0,0,0,"","","","1 Nov 2024 to 30 Nov 20241728942726CMRXO",{"$f":"Data!A227","v":"2024-11-01"},{"$f":"TRIM(Data!B227)","v":"ST. TERESA'S HOSPITAL - CHINESE MEDICINE CENTRE"},null,{"$f":"TRIM(Data!C227)","v":"PH"},{"$f":"TRIM(Data!D227)","v":"1728942726"},{"$f":"TRIM(Data!E227)","v":"CMRXO"},{"$f":"TRIM(Data!F227)","v":"3"},{"$f":"TRIM(Data!G227)","v":"STH HIS"},{"$f":"TRIM(Data!H227)","v":"EC Connect"},{"$f":"TRIM(Data!I227)","v":"235"},{"$f":"TRIM(Data!J227)","v":"0"},{"$f":"TRIM(Data!K227)","v":"0"},{"$f":"TRIM(Data!L227)","v":"7"},{"$f":"TRIM(Data!M227)","v":"228"},null,null,null,{"$f":"TRIM(Data!N227)","v":"0"},{"$f":"TRIM(Data!O227)","v":"0"},{"$f":"TRIM(Data!P227)","v":"0"},null,{"$f":"TRIM(Data!Q227)","v":"0"},null,null,{"$f":"TRIM(Data!R227)","v":"0"},{"$f":"TRIM(Data!S227)","v":"0"},{"$f":"TRIM(Data!T227)","v":"0"},null,null,null,{"$f":"TRIM(Data!U227)","v":"0"},null,{"$f":"TRIM(Data!V227)","v":"0"},{"$f":"TRIM(Data!W227)","v":"0"},{"$f":"TRIM(Data!X227)","v":"0"},{"$f":"TRIM(Data!Y227)","v":"0"},{"$f":"TRIM(Data!Z227)","v":"0"},{"$f":"TRIM(Data!AA227)","v":"0"},15,"1 Nov 2024 to 30 Nov 2024","St. Teresa's Hospital - Chinese Medicine Centre","STH-CMC","PH","1728942726","CMRXO","3","STH HIS","EC Connect","235","0","0","7","228","","0","0","0","0","0","0","0","0","0","0","0","0","","228","0.970212765957447","0","0","0","0","0","0","0","0"]
["1 Nov 2024 to 30 Nov 20245849557920RXO","1 Nov 2024 to 30 Nov 2024","DR. CHOI KAM YEE SAMUEL","DR. CHOI KAM YEE SAMUEL","SOLO",5849557920,"RXO",2,"ClinicSolution","Local System",7,0,0,7,0,null,0,0,0,0,0,0,0,0,0,0,0,0,null,0,0,0,0,0,0,0,0,0,0,"","","","1 Nov 2024 to 30 Nov 20241728942726CMRXD",{"$f":"Data!A228","v":"2024-11-01"},{"$f":"TRIM(Data!B228)","v":"ST. TERESA'S HOSPITAL - CHINESE MEDICINE CENTRE"},null,{"$f":"TRIM(Data!C228)","v":"PH"},{"$f":"TRIM(Data!D228)","v":"1728942726"},{"$f":"TRIM(Data!E228)","v":"CMRXD"},{"$f":"TRIM(Data!F228)","v":"3"},{"$f":"TRIM(Data!G228)","v":"STH HIS"},{"$f":"TRIM(Data!H228)","v":"EC Connect"},{"$f":"TRIM(Data!I228)","v":"230"},{"$f":"TRIM(Data!J228)","v":"0"},{"$f":"TRIM(Data!K228)","v":"0"},{"$f":"TRIM(Data!L228)","v":"6"},{"$f":"TRIM(Data!M228)","v":"224"},null,null,null,{"$f":"TRIM(Data!N228)","v":"0"},{"$f":"TRIM(Data!O228)","v":"0"},{"$f":"TRIM(Data!P228)","v":"0"},null,{"$f":"TRIM(Data!Q228)","v":"0"},null,null,{"$f":"TRIM(Data!R228)","v":"0"},{"$f":"TRIM(Data!S228)","v":"0"},{"$f":"TRIM(Data!T228)","v":"0"},null,null,null,{"$f":"TRIM(Data!U228)","v":"0"},null,{"$f":"TRIM(Data!V228)","v":"0"},{"$f":"TRIM(Data!W228)","v":"0"},{"$f":"TRIM(Data!X228)","v":"0"},{"$f":"TRIM(Data!Y228)","v":"0"},{"$f":"TRIM(Data!Z228)","v":"0"},{"$f":"TRIM(Data!AA228)","v":"0"},14,"1 Nov 2024 to 30 Nov 2024","St. Teresa's Hospital - Chinese Medicine Centre","STH-CMC","PH","1728942726","CMRXD","3","STH HIS","EC Connect","230","0","0","6","224","","0","0","0","0","0","0","0","0","0","0","0","0","","224","0.973913043478261","0","0","0","0","0","0","0","0"]
["1 Nov 2024 to 30 Nov 20245963779130INVR","1 Nov 2024 to 30 Nov 2024","CUHK MEDICAL CENTRE LIMITED","CUHK MEDICAL CENTRE","PH",5963779130,"INVR",1,"HIS","Local System",532,0,532,0,0,null,0,0,0,0,0,0,0,0,0,0,0,0,null,0,0,0,0,0,0,0,0,0,0,"","","","1 Nov 2024 to 30 Nov 20241728942726CMPX",{"$f":"Data!A229","v":"2024-11-01"},{"$f":"TRIM(Data!B229)","v":"ST. TERESA'S HOSPITAL - CHINESE MEDICINE CENTRE"},null,{"$f":"TRIM(Data!C229)","v":"PH"},{"$f":"TRIM(Data!D229)","v":"1728942726"},{"$f":"TRIM(Data!E229)","v":"CMPX"},{"$f":"TRIM(Data!F229)","v":"3"},{"$f":"TRIM(Data!G229)","v":"STH HIS"},{"$f":"TRIM(Data!H229)","v":"EC Connect"},{"$f":"TRIM(Data!I229)","v":"58"},{"$f":"TRIM(Data!J229)","v":"0"},{"$f":"TRIM(Data!K229)","v":"0"},{"$f":"TRIM(Data!L229)","v":"0"},{"$f":"TRIM(Data!M229)","v":"58"},null,null,null,{"$f":"TRIM(Data!N229)","v":"0"},{"$f":"TRIM(Data!O229)","v":"0"},{"$f":"TRIM(Data!P229)","v":"0"},null,{"$f":"TRIM(Data!Q229)","v":"0"},null,null,{"$f":"TRIM(Data!R229)","v":"0"},{"$f":"TRIM(Data!S229)","v":"0"},{"$f":"TRIM(Data!T229)","v":"0"},null,null,null,{"$f":"TRIM(Data!U229)","v":"0"},null,{"$f":"TRIM(Data!V229)","v":"0"},{"$f":"TRIM(Data!W229)","v":"0"},{"$f":"TRIM(Data!X229)","v":"0"},{"$f":"TRIM(Data!Y229)","v":"0"},{"$f":"TRIM(Data!Z229)","v":"0"},{"$f":"TRIM(Data!AA229)","v":"0"},13,"1 Nov 2024 to 30 Nov 2024","St. Teresa's Hospital - Chinese Medicine Centre","STH-CMC","PH","1728942726","CMPX","3","STH HIS","EC Connect","58","0","0","0","58","","0","0","0","0","0","0","0","0","0","0","0","0","","58","1","0","0","0","0","0","0","0","0"]
["1 Nov 2024 to 30 Nov 20245963779130LABAP","1 Nov 2024 to 30 Nov 2024","CUHK MEDICAL CENTRE LIMITED","CUHK MEDICAL CENTRE","PH",5963779130,"LABAP",1,"HIS","Local System",965,0,965,0,0,null,0,0,0,0,0,0,0,0,0,0,0,0,null,0,0,0,0,0,0,0,0,0,0,"","","","1 Nov 2024 to 30 Nov 20242295233392RAD",{"$f":"Data!A230","v":"2024-11-01"},{"$f":"TRIM(Data!B230)","v":"HONG KONG BREAST CANCER FOUNDATION LIMITED"},null,{"$f":"TRIM(Data!C230)","v":"NGO"},{"$f":"TRIM(Data!D230)","v":"2295233392"},{"$f":"TRIM(Data!E230)","v":"RAD"},{"$f":"TRIM(Data!F230)","v":"3"},{"$f":"TRIM(Data!G230)","v":"MTG_CMS_RIS"},{"$f":"TRIM(Data!H230)","v":"Local System"},{"$f":"TRIM(Data!I230)","v":"1119"},{"$f":"TRIM(Data!J230)","v":"0"},{"$f":"TRIM(Data!K230)","v":"0"},{"$f":"TRIM(Data!L230)","v":"0"},{"$f":"TRIM(Data!M230)","v":"1119"},null,null,null,{"$f":"TRIM(Data!N230)","v":"0"},{"$f":"TRIM(Data!O230)","v":"0"},{"$f":"TRIM(Data!P230)","v":"0"},null,{"$f":"TRIM(Data!Q230)","v":"0"},null,null,{"$f":"TRIM(Data!R230)","v":"0"},{"$f":"TRIM(Data!S230)","v":"0"},{"$f":"TRIM(Data!T230)","v":"0"},null,null,null,{"$f":"TRIM(Data!U230)","v":"0"},null,{"$f":"TRIM(Data!V230)","v":"0"},{"$f":"TRIM(Data!W230)","v":"0"},{"$f":"TRIM(Data!X230)","v":"0"},{"$f":"TRIM(Data!Y230)","v":"0"},{"$f":"TRIM(Data!Z230)","v":"0"},{"$f":"TRIM(Data!AA230)","v":"0"},29,"1 Nov 2024 to 30 Nov 2024","Hong Kong Breast Cancer Foundation Limited","HKBCF","NGO","2295233392","RAD","3","MTG_CMS_RIS","Local System","1119","0","0","0","1119","","0","0","0","0","0","0","0","0","0","0","0","0","","1119","1","0","0","0","0","0","0","0","0"]
["1 Nov 2024 to 30 Nov 20245963779130LABGEN","1 Nov 2024 to 30 Nov 2024","CUHK MEDICAL CENTRE LIMITED","CUHK MEDICAL CENTRE","PH",5963779130,"LABGEN",1,"HIS","Local System",7315,0,7315,0,0,null,0,0,0,0,0,0,0,0,0,0,0,0,null,0,0,0,0,0,0,0,0,0,0,"","","","1 Nov 2024 to 30 Nov 20245453649547RAD",{"$f":"Data!A231","v":"2024-11-01"},{"$f":"TRIM(Data!B231)","v":"TRINITY MEDICAL IMAGING CENTRE LIMITED"},null,{"$f":"TRIM(Data!C231)","v":"SOLO"},{"$f":"TRIM(Data!D231)","v":"5453649547"},{"$f":"TRIM(Data!E231)","v":"RAD"},{"$f":"TRIM(Data!F231)","v":"3"},{"$f":"TRIM(Data!G231)","v":"RIS (LAAM)"},{"$f":"TRIM(Data!H231)","v":"Local System"},{"$f":"TRIM(Data!I231)","v":"1088"},{"$f":"TRIM(Data!J231)","v":"0"},{"$f":"TRIM(Data!K231)","v":"0"},{"$f":"TRIM(Data!L231)","v":"0"},{"$f":"TRIM(Data!M231)","v":"1088"},null,null,null,{"$f":"TRIM(Data!N231)","v":"0"},{"$f":"TRIM(Data!O231)","v":"0"},{"$f":"TRIM(Data!P231)","v":"0"},null,{"$f":"TRIM(Data!Q231)","v":"0"},null,null,{"$f":"TRIM(Data!R231)","v":"0"},{"$f":"TRIM(Data!S231)","v":"0"},{"$f":"TRIM(Data!T231)","v":"0"},null,null,null,{"$f":"TRIM(Data!U231)","v":"0"},null,{"$f":"TRIM(Data!V231)","v":"0"},{"$f":"TRIM(Data!W231)","v":"0"},{"$f":"TRIM(Data!X231)","v":"0"},{"$f":"TRIM(Data!Y231)","v":"0"},{"$f":"TRIM(Data!Z231)","v":"0"},{"$f":"TRIM(Data!AA231)","v":"0"},209,"1 Nov 2024 to 30 Nov 2024","Trinity Medical Imaging Centre Limited","TRINITY MEDICAL IMG","SOLO","5453649547","RAD","3","RIS (LAAM)","Local System","1088","0","0","0","1088","","0","0","0","0","0","0","0","0","0","0","0","0","","1088","1","0","0","0","0","0","0","0","0"]
["1 Nov 2024 to 30 Nov 20245963779130LABMB","1 Nov 2024 to 30 Nov 2024","CUHK MEDICAL CENTRE LIMITED","CUHK MEDICAL CENTRE","PH",5963779130,"LABMB",1,"HIS","Local System",1477,0,1477,0,0,null,0,0,0,0,0,0,0,0,0,0,0,0,null,0,0,0,0,0,0,0,0,0,0,"","","Y","1 Nov 2024 to 30 Nov 20242231879813ENCTR",{"$f":"Data!A232","v":"2024-11-01"},{"$f":"TRIM(Data!B232)","v":"18 CHINESE MEDICINE CLINIC CUM TRAINING AND RESEARCH CENTRE (THE HONG KONG TUBERCULOSIS ASSOCIATION)"},null,{"$f":"TRIM(Data!C232)","v":"NGO"},{"$f":"TRIM(Data!D232)","v":"2231879813"},{"$f":"TRIM(Data!E232)","v":"ENCTR"},{"$f":"TRIM(Data!F232)","v":"3"},{"$f":"TRIM(Data!G232)","v":"HA CMIS"},{"$f":"TRIM(Data!H232)","v":"Local System"},{"$f":"TRIM(Data!I232)","v":"390"},{"$f":"TRIM(Data!J232)","v":"0"},{"$f":"TRIM(Data!K232)","v":"0"},{"$f":"TRIM(Data!L232)","v":"0"},{"$f":"TRIM(Data!M232)","v":"390"},null,null,null,{"$f":"TRIM(Data!N232)","v":"0"},{"$f":"TRIM(Data!O232)","v":"0"},{"$f":"TRIM(Data!P232)","v":"0"},null,{"$f":"TRIM(Data!Q232)","v":"0"},null,null,{"$f":"TRIM(Data!R232)","v":"0"},{"$f":"TRIM(Data!S232)","v":"0"},{"$f":"TRIM(Data!T232)","v":"0"},null,null,null,{"$f":"TRIM(Data!U232)","v":"0"},null,{"$f":"TRIM(Data!V232)","v":"0"},{"$f":"TRIM(Data!W232)","v":"0"},{"$f":"TRIM(Data!X232)","v":"0"},{"$f":"TRIM(Data!Y232)","v":"0"},{"$f":"TRIM(Data!Z232)","v":"0"},{"$f":"TRIM(Data!AA232)","v":"0"},28,"1 Nov 2024 to 30 Nov 2024","18 Chinese Medicine Clinic cum Traing and Research Centre (The Hong Kong Tuberculosis Association)","18CMCTRs(HKTBA)","NGO","2231879813","ENCTR","3","Local System","Local System","390","0","0","0","390","","0","0","0","0","0","0","0","0","0","0","0","0","","390","1","0","0","0","0","0","0","0","0"]
["1 Nov 2024 to 30 Nov 20245963779130RAD","1 Nov 2024 to 30 Nov 2024","CUHK MEDICAL CENTRE LIMITED","CUHK MEDICAL CENTRE","PH",5963779130,"RAD",3,"HIS","Local System",4212,0,0,0,4212,null,0,0,0,0,0,0,0,0,0,0,0,0,null,4212,1,0,0,0,0,0,0,0,0,"","","Y","1 Nov 2024 to 30 Nov 20242231879813CMPROB",{"$f":"Data!A233","v":"2024-11-01"},{"$f":"TRIM(Data!B233)","v":"18 CHINESE MEDICINE CLINIC CUM TRAINING AND RESEARCH CENTRE (THE HONG KONG TUBERCULOSIS ASSOCIATION)"},null,{"$f":"TRIM(Data!C233)","v":"NGO"},{"$f":"TRIM(Data!D233)","v":"2231879813"},{"$f":"TRIM(Data!E233)","v":"CMPROB"},{"$f":"TRIM(Data!F233)","v":"3"},{"$f":"TRIM(Data!G233)","v":"HA CMIS"},{"$f":"TRIM(Data!H233)","v":"Local System"},{"$f":"TRIM(Data!I233)","v":"371"},{"$f":"TRIM(Data!J233)","v":"0"},{"$f":"TRIM(Data!K233)","v":"0"},{"$f":"TRIM(Data!L233)","v":"124"},{"$f":"TRIM(Data!M233)","v":"247"},null,null,null,{"$f":"TRIM(Data!N233)","v":"0"},{"$f":"TRIM(Data!O233)","v":"0"},{"$f":"TRIM(Data!P233)","v":"69"},null,{"$f":"TRIM(Data!Q233)","v":"69"},null,null,{"$f":"TRIM(Data!R233)","v":"69"},{"$f":"TRIM(Data!S233)","v":"0"},{"$f":"TRIM(Data!T233)","v":"0"},null,null,null,{"$f":"TRIM(Data!U233)","v":"0"},null,{"$f":"TRIM(Data!V233)","v":"0"},{"$f":"TRIM(Data!W233)","v":"0"},{"$f":"TRIM(Data!X233)","v":"0"},{"$f":"TRIM(Data!Y233)","v":"0"},{"$f":"TRIM(Data!Z233)","v":"0"},{"$f":"TRIM(Data!AA233)","v":"0"},25,"1 Nov 2024 to 30 Nov 2024","18 Chinese Medicine Clinic cum Traing and Research Centre (The Hong Kong Tuberculosis Association)","18CMCTRs(HKTBA)","NGO","2231879813","CMPROB","3","Local System","EC Connect","371","0","0","124","247","","0","0","0","0","69","0.185983827493261","69","0","0","69","0","0","","247","0.665768194070081","0","0","0","0","0","0","0","0"]
["1 Nov 2024 to 30 Nov 20245977831183AL1","1 Nov 2024 to 30 Nov 2024","PENG CHAU MEDICAL CENTRE","PENG CHAU MEDICAL CENTRE","SOLO",5977831183,"AL1",3,"Local System","Local System",1,0,0,0,1,null,0,0,0,0,0,0,0,0,0,0,0,0,null,1,1,0,0,0,0,0,0,0,0,"Y","","Y","1 Nov 2024 to 30 Nov 20242231879813CMRXO",{"$f":"Data!A234","v":"2024-11-01"},{"$f":"TRIM(Data!B234)","v":"18 CHINESE MEDICINE CLINIC CUM TRAINING AND RESEARCH CENTRE (THE HONG KONG TUBERCULOSIS ASSOCIATION)"},null,{"$f":"TRIM(Data!C234)","v":"NGO"},{"$f":"TRIM(Data!D234)","v":"2231879813"},{"$f":"TRIM(Data!E234)","v":"CMRXO"},{"$f":"TRIM(Data!F234)","v":"3"},{"$f":"TRIM(Data!G234)","v":"HA CMIS"},{"$f":"TRIM(Data!H234)","v":"Local System"},{"$f":"TRIM(Data!I234)","v":"199"},{"$f":"TRIM(Data!J234)","v":"0"},{"$f":"TRIM(Data!K234)","v":"0"},{"$f":"TRIM(Data!L234)","v":"4"},{"$f":"TRIM(Data!M234)","v":"195"},null,null,null,{"$f":"TRIM(Data!N234)","v":"0"},{"$f":"TRIM(Data!O234)","v":"0"},{"$f":"TRIM(Data!P234)","v":"4"},null,{"$f":"TRIM(Data!Q234)","v":"4"},null,null,{"$f":"TRIM(Data!R234)","v":"4"},{"$f":"TRIM(Data!S234)","v":"0"},{"$f":"TRIM(Data!T234)","v":"0"},null,null,null,{"$f":"TRIM(Data!U234)","v":"0"},null,{"$f":"TRIM(Data!V234)","v":"0"},{"$f":"TRIM(Data!W234)","v":"0"},{"$f":"TRIM(Data!X234)","v":"0"},{"$f":"TRIM(Data!Y234)","v":"0"},{"$f":"TRIM(Data!Z234)","v":"0"},{"$f":"TRIM(Data!AA234)","v":"0"},27,"1 Nov 2024 to 30 Nov 2024","18 Chinese Medicine Clinic cum Traing and Research Centre (The Hong Kong Tuberculosis Association)","18CMCTRs(HKTBA)","NGO","2231879813","CMRXO","3","Local System","EC Connect","199","0","0","4","195","","0","0","0","0","4","0.0201005025125628","4","0","0","4","0","0","","195","0.979899497487437","0","0","0","0","0","0","0","0"]
["1 Nov 2024 to 30 Nov 20245977831183ENCTR","1 Nov 2024 to 30 Nov 2024","PENG CHAU MEDICAL CENTRE","PENG CHAU MEDICAL CENTRE","SOLO",5977831183,"ENCTR",3,"Local System","Local System",121,0,0,0,121,null,0,0,0,0,0,0,0,0,0,0,0,0,null,121,1,0,0,0,0,0,0,0,0,"Y","","Y","1 Nov 2024 to 30 Nov 20242231879813CMPX",{"$f":"Data!A235","v":"2024-11-01"},{"$f":"TRIM(Data!B235)","v":"18 CHINESE MEDICINE CLINIC CUM TRAINING AND RESEARCH CENTRE (THE HONG KONG TUBERCULOSIS ASSOCIATION)"},null,{"$f":"TRIM(Data!C235)","v":"NGO"},{"$f":"TRIM(Data!D235)","v":"2231879813"},{"$f":"TRIM(Data!E235)","v":"CMPX"},{"$f":"TRIM(Data!F235)","v":"3"},{"$f":"TRIM(Data!G235)","v":"HA CMIS"},{"$f":"TRIM(Data!H235)","v":"Local System"},{"$f":"TRIM(Data!I235)","v":"75"},{"$f":"TRIM(Data!J235)","v":"0"},{"$f":"TRIM(Data!K235)","v":"0"},{"$f":"TRIM(Data!L235)","v":"0"},{"$f":"TRIM(Data!M235)","v":"75"},null,null,null,{"$f":"TRIM(Data!N235)","v":"0"},{"$f":"TRIM(Data!O235)","v":"0"},{"$f":"TRIM(Data!P235)","v":"0"},null,{"$f":"TRIM(Data!Q235)","v":"0"},null,null,{"$f":"TRIM(Data!R235)","v":"0"},{"$f":"TRIM(Data!S235)","v":"0"},{"$f":"TRIM(Data!T235)","v":"0"},null,null,null,{"$f":"TRIM(Data!U235)","v":"0"},null,{"$f":"TRIM(Data!V235)","v":"0"},{"$f":"TRIM(Data!W235)","v":"0"},{"$f":"TRIM(Data!X235)","v":"0"},{"$f":"TRIM(Data!Y235)","v":"0"},{"$f":"TRIM(Data!Z235)","v":"0"},{"$f":"TRIM(Data!AA235)","v":"0"},26,"1 Nov 2024 to 30 Nov 2024","18 Chinese Medicine Clinic cum Traing and Research Centre (The Hong Kong Tuberculosis Association)","18CMCTRs(HKTBA)","NGO","2231879813","CMPX","3","Local System","EC Connect","75","0","0","0","75","","0","0","0","0","0","0","0","0","0","0","0","0","","75","1","0","0","0","0","0","0","0","0"]
["1 Nov 2024 to 30 Nov 20245977831183PROB","1 Nov 2024 to 30 Nov 2024","PENG CHAU MEDICAL CENTRE","PENG CHAU MEDICAL CENTRE","SOLO",5977831183,"PROB",3,"Local System","Local System",75,0,0,21,54,null,0,0,0,0,0,0,0,0,0,0,0,0,null,54,0.72,0,0,0,0,0,0,0,0,"Y","","","1 Nov 2024 to 30 Nov 20243425265108RXD",{"$f":"Data!A236","v":"2024-11-01"},{"$f":"TRIM(Data!B236)","v":"CHOI YING MEDICAL CENTRE LTD"},null,{"$f":"TRIM(Data!C236)","v":"SOLO"},{"$f":"TRIM(Data!D236)","v":"3425265108"},{"$f":"TRIM(Data!E236)","v":"RXD"},{"$f":"TRIM(Data!F236)","v":"2"},{"$f":"TRIM(Data!G236)","v":"ClinicSolution"},{"$f":"TRIM(Data!H236)","v":"Local System"},{"$f":"TRIM(Data!I236)","v":"420"},{"$f":"TRIM(Data!J236)","v":"0"},{"$f":"TRIM(Data!K236)","v":"0"},{"$f":"TRIM(Data!L236)","v":"420"},{"$f":"TRIM(Data!M236)","v":"0"},null,null,null,{"$f":"TRIM(Data!N236)","v":"0"},{"$f":"TRIM(Data!O236)","v":"0"},{"$f":"TRIM(Data!P236)","v":"0"},null,{"$f":"TRIM(Data!Q236)","v":"0"},null,null,{"$f":"TRIM(Data!R236)","v":"0"},{"$f":"TRIM(Data!S236)","v":"0"},{"$f":"TRIM(Data!T236)","v":"0"},null,null,null,{"$f":"TRIM(Data!U236)","v":"0"},null,{"$f":"TRIM(Data!V236)","v":"0"},{"$f":"TRIM(Data!W236)","v":"0"},{"$f":"TRIM(Data!X236)","v":"0"},{"$f":"TRIM(Data!Y236)","v":"0"},{"$f":"TRIM(Data!Z236)","v":"0"},{"$f":"TRIM(Data!AA236)","v":"0"},107,"1 Nov 2024 to 30 Nov 2024","Choi Ying Medical Centre LTD","CHOI YING MEDICAL CTR LTD","SOLO","3425265108","RXD","2","ClinicSolution","Local System","420","0","0","420","0","","0","0","0","0","0","0","0","0","0","0","0","0","","0","0","0","0","0","0","0","0","0","0"]
["1 Nov 2024 to 30 Nov 20245977831183RXD","1 Nov 2024 to 30 Nov 2024","PENG CHAU MEDICAL CENTRE","PENG CHAU MEDICAL CENTRE","SOLO",5977831183,"RXD",3,"Local System","Local System",408,0,0,45,363,null,0,0,0,0,7,1.7156862745098041E-2,7,0,0,7,0,0,null,363,0.88970588235294112,1,2.4509803921568627E-3,0,0,0,1,0,0,"Y","","","1 Nov 2024 to 30 Nov 20243425265108RXO",{"$f":"Data!A237","v":"2024-11-01"},{"$f":"TRIM(Data!B237)","v":"CHOI YING MEDICAL CENTRE LTD"},null,{"$f":"TRIM(Data!C237)","v":"SOLO"},{"$f":"TRIM(Data!D237)","v":"3425265108"},{"$f":"TRIM(Data!E237)","v":"RXO"},{"$f":"TRIM(Data!F237)","v":"2"},{"$f":"TRIM(Data!G237)","v":"ClinicSolution"},{"$f":"TRIM(Data!H237)","v":"Local System"},{"$f":"TRIM(Data!I237)","v":"420"},{"$f":"TRIM(Data!J237)","v":"0"},{"$f":"TRIM(Data!K237)","v":"0"},{"$f":"TRIM(Data!L237)","v":"420"},{"$f":"TRIM(Data!M237)","v":"0"},null,null,null,{"$f":"TRIM(Data!N237)","v":"0"},{"$f":"TRIM(Data!O237)","v":"0"},{"$f":"TRIM(Data!P237)","v":"0"},null,{"$f":"TRIM(Data!Q237)","v":"0"},null,null,{"$f":"TRIM(Data!R237)","v":"0"},{"$f":"TRIM(Data!S237)","v":"0"},{"$f":"TRIM(Data!T237)","v":"0"},null,null,null,{"$f":"TRIM(Data!U237)","v":"0"},null,{"$f":"TRIM(Data!V237)","v":"0"},{"$f":"TRIM(Data!W237)","v":"0"},{"$f":"TRIM(Data!X237)","v":"0"},{"$f":"TRIM(Data!Y237)","v":"0"},{"$f":"TRIM(Data!Z237)","v":"0"},{"$f":"TRIM(Data!AA237)","v":"0"},108,"1 Nov 2024 to 30 Nov 2024","Choi Ying Medical Centre LTD","CHOI YING MEDICAL CTR LTD","SOLO","3425265108","RXO","2","ClinicSolution","Local System","420","0","0","420","0","","0","0","0","0","0","0","0","0","0","0","0","0","","0","0","0","0","0","0","0","0","0","0"]
["1 Nov 2024 to 30 Nov 20245977831183RXO","1 Nov 2024 to 30 Nov 2024","PENG CHAU MEDICAL CENTRE","PENG CHAU MEDICAL CENTRE","SOLO",5977831183,"RXO",3,"Local System","Local System",421,0,0,45,376,null,0,0,0,0,7,1.66270783847981E-2,7,0,0,7,0,0,null,376,0.89311163895486934,1,2.3752969121140144E-3,0,0,0,1,0,0,"Y","","","1 Nov 2024 to 30 Nov 20243425265108ENCTR",{"$f":"Data!A238","v":"2024-11-01"},{"$f":"TRIM(Data!B238)","v":"CHOI YING MEDICAL CENTRE LTD"},null,{"$f":"TRIM(Data!C238)","v":"SOLO"},{"$f":"TRIM(Data!D238)","v":"3425265108"},{"$f":"TRIM(Data!E238)","v":"ENCTR"},{"$f":"TRIM(Data!F238)","v":"3"},{"$f":"TRIM(Data!G238)","v":"ClinicSolution"},{"$f":"TRIM(Data!H238)","v":"Local System"},{"$f":"TRIM(Data!I238)","v":"109"},{"$f":"TRIM(Data!J238)","v":"0"},{"$f":"TRIM(Data!K238)","v":"0"},{"$f":"TRIM(Data!L238)","v":"0"},{"$f":"TRIM(Data!M238)","v":"109"},null,null,null,{"$f":"TRIM(Data!N238)","v":"0"},{"$f":"TRIM(Data!O238)","v":"0"},{"$f":"TRIM(Data!P238)","v":"0"},null,{"$f":"TRIM(Data!Q238)","v":"0"},null,null,{"$f":"TRIM(Data!R238)","v":"0"},{"$f":"TRIM(Data!S238)","v":"0"},{"$f":"TRIM(Data!T238)","v":"0"},null,null,null,{"$f":"TRIM(Data!U238)","v":"0"},null,{"$f":"TRIM(Data!V238)","v":"0"},{"$f":"TRIM(Data!W238)","v":"0"},{"$f":"TRIM(Data!X238)","v":"0"},{"$f":"TRIM(Data!Y238)","v":"0"},{"$f":"TRIM(Data!Z238)","v":"0"},{"$f":"TRIM(Data!AA238)","v":"0"},105,"1 Nov 2024 to 30 Nov 2024","Choi Ying Medical Centre LTD","CHOI YING MEDICAL CTR LTD","SOLO","3425265108","ENCTR","3","ClinicSolution","Local System","109","0","0","0","109","","0","0","0","0","0","0","0","0","0","0","0","0","","109","1","0","0","0","0","0","0","0","0"]
["1 Nov 2024 to 30 Nov 20246142872901ENCTR","1 Nov 2024 to 30 Nov 2024","DHC EXPRESS-ISLANDS (NAAC)","DHC EXPRESS-ISLANDS-CC","DHC",6142872901,"ENCTR",3,"Local System","Local System",2030,0,0,0,2030,null,0,0,0,0,0,0,0,0,0,0,0,0,null,2030,1,0,0,0,0,0,0,0,0,"","","","1 Nov 2024 to 30 Nov 20243425265108PROB",{"$f":"Data!A239","v":"2024-11-01"},{"$f":"TRIM(Data!B239)","v":"CHOI YING MEDICAL CENTRE LTD"},null,{"$f":"TRIM(Data!C239)","v":"SOLO"},{"$f":"TRIM(Data!D239)","v":"3425265108"},{"$f":"TRIM(Data!E239)","v":"PROB"},{"$f":"TRIM(Data!F239)","v":"3"},{"$f":"TRIM(Data!G239)","v":"ClinicSolution"},{"$f":"TRIM(Data!H239)","v":"Local System"},{"$f":"TRIM(Data!I239)","v":"86"},{"$f":"TRIM(Data!J239)","v":"0"},{"$f":"TRIM(Data!K239)","v":"0"},{"$f":"TRIM(Data!L239)","v":"86"},{"$f":"TRIM(Data!M239)","v":"0"},null,null,null,{"$f":"TRIM(Data!N239)","v":"0"},{"$f":"TRIM(Data!O239)","v":"0"},{"$f":"TRIM(Data!P239)","v":"86"},null,{"$f":"TRIM(Data!Q239)","v":"86"},null,null,{"$f":"TRIM(Data!R239)","v":"86"},{"$f":"TRIM(Data!S239)","v":"0"},{"$f":"TRIM(Data!T239)","v":"0"},null,null,null,{"$f":"TRIM(Data!U239)","v":"0"},null,{"$f":"TRIM(Data!V239)","v":"0"},{"$f":"TRIM(Data!W239)","v":"0"},{"$f":"TRIM(Data!X239)","v":"0"},{"$f":"TRIM(Data!Y239)","v":"0"},{"$f":"TRIM(Data!Z239)","v":"0"},{"$f":"TRIM(Data!AA239)","v":"0"},106,"1 Nov 2024 to 30 Nov 2024","Choi Ying Medical Centre LTD","CHOI YING MEDICAL CTR LTD","SOLO","3425265108","PROB","3","ClinicSolution","Local System","86","0","0","86","0","","0","0","0","0","86","1","86","0","0","86","0","0","","0","0","0","0","0","0","0","0","0","0"]
["1 Nov 2024 to 30 Nov 20246142872901EPIS","1 Nov 2024 to 30 Nov 2024","DHC EXPRESS-ISLANDS (NAAC)","DHC EXPRESS-ISLANDS-CC","DHC",6142872901,"EPIS",1,"Local System","Local System",524,0,524,0,0,null,0,0,0,0,0,0,0,0,0,0,0,0,null,0,0,0,0,0,0,0,0,0,0,"","","Y","1 Nov 2024 to 30 Nov 20248895790679RXO",{"$f":"Data!A240","v":"2024-11-01"},{"$f":"TRIM(Data!B240)","v":"DR. CHAN KIT YAN SELINA"},null,{"$f":"TRIM(Data!C240)","v":"SOLO"},{"$f":"TRIM(Data!D240)","v":"8895790679"},{"$f":"TRIM(Data!E240)","v":"RXO"},{"$f":"TRIM(Data!F240)","v":"3,2"},{"$f":"TRIM(Data!G240)","v":"CMS On-ramp"},{"$f":"TRIM(Data!H240)","v":"CMS On-ramp"},{"$f":"TRIM(Data!I240)","v":"265"},{"$f":"TRIM(Data!J240)","v":"0"},{"$f":"TRIM(Data!K240)","v":"0"},{"$f":"TRIM(Data!L240)","v":"14"},{"$f":"TRIM(Data!M240)","v":"251"},null,null,null,{"$f":"TRIM(Data!N240)","v":"0"},{"$f":"TRIM(Data!O240)","v":"0"},{"$f":"TRIM(Data!P240)","v":"0"},null,{"$f":"TRIM(Data!Q240)","v":"0"},null,null,{"$f":"TRIM(Data!R240)","v":"0"},{"$f":"TRIM(Data!S240)","v":"0"},{"$f":"TRIM(Data!T240)","v":"0"},null,null,null,{"$f":"TRIM(Data!U240)","v":"0"},null,{"$f":"TRIM(Data!V240)","v":"0"},{"$f":"TRIM(Data!W240)","v":"0"},{"$f":"TRIM(Data!X240)","v":"0"},{"$f":"TRIM(Data!Y240)","v":"0"},{"$f":"TRIM(Data!Z240)","v":"0"},{"$f":"TRIM(Data!AA240)","v":"0"},379,"1 Nov 2024 to 30 Nov 2024","DR. CHAN KIT YAN SELINA","DR. CHAN KIT YAN SELINA","SOLO","8895790679","RXO","3","Local System","Local System","265","0","0","14","251","","0","0","0","0","0","0","0","0","0","0","0","0","","251","0.947169811320755","0","0","0","0","0","0","0","0"]
["1 Nov 2024 to 30 Nov 20246255376532CMPROB","1 Nov 2024 to 30 Nov 2024","18 Chinese Medicine Clinic cum Traing and Research Centre (Yan Chai Hospital)","18CMCTRs (YCH)","NGO",6255376532,"CMPROB",3,"Local System","EC Connect",1098,0,0,358,740,null,0,0,0,0,254,0.23132969034608378,254,0,0,254,0,0,null,740,0.67395264116575593,0,0,0,0,0,0,0,0,"","","Y","1 Nov 2024 to 30 Nov 20248895790679ENCTR",{"$f":"Data!A241","v":"2024-11-01"},{"$f":"TRIM(Data!B241)","v":"DR. CHAN KIT YAN SELINA"},null,{"$f":"TRIM(Data!C241)","v":"SOLO"},{"$f":"TRIM(Data!D241)","v":"8895790679"},{"$f":"TRIM(Data!E241)","v":"ENCTR"},{"$f":"TRIM(Data!F241)","v":"3"},{"$f":"TRIM(Data!G241)","v":"CMS On-ramp"},{"$f":"TRIM(Data!H241)","v":"CMS On-ramp"},{"$f":"TRIM(Data!I241)","v":"259"},{"$f":"TRIM(Data!J241)","v":"0"},{"$f":"TRIM(Data!K241)","v":"0"},{"$f":"TRIM(Data!L241)","v":"0"},{"$f":"TRIM(Data!M241)","v":"259"},null,null,null,{"$f":"TRIM(Data!N241)","v":"0"},{"$f":"TRIM(Data!O241)","v":"0"},{"$f":"TRIM(Data!P241)","v":"0"},null,{"$f":"TRIM(Data!Q241)","v":"0"},null,null,{"$f":"TRIM(Data!R241)","v":"0"},{"$f":"TRIM(Data!S241)","v":"0"},{"$f":"TRIM(Data!T241)","v":"0"},null,null,null,{"$f":"TRIM(Data!U241)","v":"0"},null,{"$f":"TRIM(Data!V241)","v":"0"},{"$f":"TRIM(Data!W241)","v":"0"},{"$f":"TRIM(Data!X241)","v":"0"},{"$f":"TRIM(Data!Y241)","v":"0"},{"$f":"TRIM(Data!Z241)","v":"0"},{"$f":"TRIM(Data!AA241)","v":"0"},375,"1 Nov 2024 to 30 Nov 2024","DR. CHAN KIT YAN SELINA","DR. CHAN KIT YAN SELINA","SOLO","8895790679","ENCTR","3","Local System","Local System","259","0","0","0","259","","0","0","0","0","0","0","0","0","0","0","0","0","","259","1","0","0","0","0","0","0","0","0"]
["1 Nov 2024 to 30 Nov 20246255376532CMPX","1 Nov 2024 to 30 Nov 2024","18 Chinese Medicine Clinic cum Traing and Research Centre (Yan Chai Hospital)","18CMCTRs (YCH)","NGO",6255376532,"CMPX",3,"Local System","EC Connect",214,0,0,0,214,null,0,0,0,0,0,0,0,0,0,0,0,0,null,214,1,0,0,0,0,0,0,0,0,"","","Y","1 Nov 2024 to 30 Nov 20248895790679RXD",{"$f":"Data!A242","v":"2024-11-01"},{"$f":"TRIM(Data!B242)","v":"DR. CHAN KIT YAN SELINA"},null,{"$f":"TRIM(Data!C242)","v":"SOLO"},{"$f":"TRIM(Data!D242)","v":"8895790679"},{"$f":"TRIM(Data!E242)","v":"RXD"},{"$f":"TRIM(Data!F242)","v":"3,2"},{"$f":"TRIM(Data!G242)","v":"CMS On-ramp"},{"$f":"TRIM(Data!H242)","v":"CMS On-ramp"},{"$f":"TRIM(Data!I242)","v":"254"},{"$f":"TRIM(Data!J242)","v":"0"},{"$f":"TRIM(Data!K242)","v":"0"},{"$f":"TRIM(Data!L242)","v":"12"},{"$f":"TRIM(Data!M242)","v":"242"},null,null,null,{"$f":"TRIM(Data!N242)","v":"0"},{"$f":"TRIM(Data!O242)","v":"0"},{"$f":"TRIM(Data!P242)","v":"0"},null,{"$f":"TRIM(Data!Q242)","v":"0"},null,null,{"$f":"TRIM(Data!R242)","v":"0"},{"$f":"TRIM(Data!S242)","v":"0"},{"$f":"TRIM(Data!T242)","v":"0"},null,null,null,{"$f":"TRIM(Data!U242)","v":"0"},null,{"$f":"TRIM(Data!V242)","v":"0"},{"$f":"TRIM(Data!W242)","v":"0"},{"$f":"TRIM(Data!X242)","v":"0"},{"$f":"TRIM(Data!Y242)","v":"0"},{"$f":"TRIM(Data!Z242)","v":"0"},{"$f":"TRIM(Data!AA242)","v":"0"},378,"1 Nov 2024 to 30 Nov 2024","DR. CHAN KIT YAN SELINA","DR. CHAN KIT YAN SELINA","SOLO","8895790679","RXD","3","Local System","Local System","254","0","0","12","242","","0","0","0","0","0","0","0","0","0","0","0","0","","242","0.952755905511811","0","0","0","0","0","0","0","0"]
["1 Nov 2024 to 30 Nov 20246255376532CMRXO","1 Nov 2024 to 30 Nov 2024","18 Chinese Medicine Clinic cum Traing and Research Centre (Yan Chai Hospital)","18CMCTRs (YCH)","NGO",6255376532,"CMRXO",3,"Local System","EC Connect",559,0,0,211,348,null,0,0,0,0,211,0.37745974955277278,211,0,0,211,0,0,null,348,0.62254025044722716,0,0,0,0,0,0,0,0,"","","Y","1 Nov 2024 to 30 Nov 20248895790679PROB",{"$f":"Data!A243","v":"2024-11-01"},{"$f":"TRIM(Data!B243)","v":"DR. CHAN KIT YAN SELINA"},null,{"$f":"TRIM(Data!C243)","v":"SOLO"},{"$f":"TRIM(Data!D243)","v":"8895790679"},{"$f":"TRIM(Data!E243)","v":"PROB"},{"$f":"TRIM(Data!F243)","v":"3,2"},{"$f":"TRIM(Data!G243)","v":"CMS On-ramp"},{"$f":"TRIM(Data!H243)","v":"CMS On-ramp"},{"$f":"TRIM(Data!I243)","v":"204"},{"$f":"TRIM(Data!J243)","v":"0"},{"$f":"TRIM(Data!K243)","v":"0"},{"$f":"TRIM(Data!L243)","v":"38"},{"$f":"TRIM(Data!M243)","v":"166"},null,null,null,{"$f":"TRIM(Data!N243)","v":"0"},{"$f":"TRIM(Data!O243)","v":"0"},{"$f":"TRIM(Data!P243)","v":"0"},null,{"$f":"TRIM(Data!Q243)","v":"0"},null,null,{"$f":"TRIM(Data!R243)","v":"0"},{"$f":"TRIM(Data!S243)","v":"0"},{"$f":"TRIM(Data!T243)","v":"0"},null,null,null,{"$f":"TRIM(Data!U243)","v":"0"},null,{"$f":"TRIM(Data!V243)","v":"0"},{"$f":"TRIM(Data!W243)","v":"0"},{"$f":"TRIM(Data!X243)","v":"0"},{"$f":"TRIM(Data!Y243)","v":"0"},{"$f":"TRIM(Data!Z243)","v":"0"},{"$f":"TRIM(Data!AA243)","v":"0"},377,"1 Nov 2024 to 30 Nov 2024","DR. CHAN KIT YAN SELINA","DR. CHAN KIT YAN SELINA","SOLO","8895790679","PROB","3","Local System","Local System","204","0","0","38","166","","0","0","0","0","0","0","0","0","0","0","0","0","","166","0.813725490196078","0","0","0","0","0","0","0","0"]
["1 Nov 2024 to 30 Nov 20246256774535AL1","1 Nov 2024 to 30 Nov 2024","DR. WONG MAN HUNG","DR. WONG MAN HUNG","SOLO",6256774535,"AL1",2,"ClinicSolution","Local System",1,0,0,1,0,null,0,0,0,0,0,0,0,0,0,0,0,0,null,0,0,0,0,0,0,0,0,0,0,"","","Y","1 Nov 2024 to 30 Nov 20248895790679AL1",{"$f":"Data!A245","v":"2024-11-01"},{"$f":"TRIM(Data!B245)","v":"DR. CHAN KIT YAN SELINA"},null,{"$f":"TRIM(Data!C245)","v":"SOLO"},{"$f":"TRIM(Data!D245)","v":"8895790679"},{"$f":"TRIM(Data!E245)","v":"AL1"},{"$f":"TRIM(Data!F245)","v":"3,2"},{"$f":"TRIM(Data!G245)","v":"CMS On-ramp"},{"$f":"TRIM(Data!H245)","v":"CMS On-ramp"},{"$f":"TRIM(Data!I245)","v":"5"},{"$f":"TRIM(Data!J245)","v":"0"},{"$f":"TRIM(Data!K245)","v":"0"},{"$f":"TRIM(Data!L245)","v":"0"},{"$f":"TRIM(Data!M245)","v":"5"},null,null,null,{"$f":"TRIM(Data!N245)","v":"0"},{"$f":"TRIM(Data!O245)","v":"0"},{"$f":"TRIM(Data!P245)","v":"0"},null,{"$f":"TRIM(Data!Q245)","v":"0"},null,null,{"$f":"TRIM(Data!R245)","v":"0"},{"$f":"TRIM(Data!S245)","v":"0"},{"$f":"TRIM(Data!T245)","v":"0"},null,null,null,{"$f":"TRIM(Data!U245)","v":"0"},null,{"$f":"TRIM(Data!V245)","v":"0"},{"$f":"TRIM(Data!W245)","v":"0"},{"$f":"TRIM(Data!X245)","v":"0"},{"$f":"TRIM(Data!Y245)","v":"0"},{"$f":"TRIM(Data!Z245)","v":"0"},{"$f":"TRIM(Data!AA245)","v":"0"},374,"1 Nov 2024 to 30 Nov 2024","DR. CHAN KIT YAN SELINA","DR. CHAN KIT YAN SELINA","SOLO","8895790679","AL1","3","Local System","Local System","5","0","0","0","5","","0","0","0","0","0","0","0","0","0","0","0","0","","5","1","0","0","0","0","0","0","0","0"]
["1 Nov 2024 to 30 Nov 20246256774535ENCTR","1 Nov 2024 to 30 Nov 2024","DR. WONG MAN HUNG","DR. WONG MAN HUNG","SOLO",6256774535,"ENCTR",3,"ClinicSolution","Local System",17,0,0,0,17,null,0,0,0,0,0,0,0,0,0,0,0,0,null,17,1,0,0,0,0,0,0,0,0,"","","Y","1 Nov 2024 to 30 Nov 20248895790679ADR",{"$f":"Data!A246","v":"2024-11-01"},{"$f":"TRIM(Data!B246)","v":"DR. CHAN KIT YAN SELINA"},null,{"$f":"TRIM(Data!C246)","v":"SOLO"},{"$f":"TRIM(Data!D246)","v":"8895790679"},{"$f":"TRIM(Data!E246)","v":"ADR"},{"$f":"TRIM(Data!F246)","v":"3,2"},{"$f":"TRIM(Data!G246)","v":"CMS On-ramp"},{"$f":"TRIM(Data!H246)","v":"CMS On-ramp"},{"$f":"TRIM(Data!I246)","v":"2"},{"$f":"TRIM(Data!J246)","v":"0"},{"$f":"TRIM(Data!K246)","v":"0"},{"$f":"TRIM(Data!L246)","v":"0"},{"$f":"TRIM(Data!M246)","v":"2"},null,null,null,{"$f":"TRIM(Data!N246)","v":"0"},{"$f":"TRIM(Data!O246)","v":"0"},{"$f":"TRIM(Data!P246)","v":"0"},null,{"$f":"TRIM(Data!Q246)","v":"0"},null,null,{"$f":"TRIM(Data!R246)","v":"0"},{"$f":"TRIM(Data!S246)","v":"0"},{"$f":"TRIM(Data!T246)","v":"0"},null,null,null,{"$f":"TRIM(Data!U246)","v":"0"},null,{"$f":"TRIM(Data!V246)","v":"0"},{"$f":"TRIM(Data!W246)","v":"0"},{"$f":"TRIM(Data!X246)","v":"0"},{"$f":"TRIM(Data!Y246)","v":"0"},{"$f":"TRIM(Data!Z246)","v":"0"},{"$f":"TRIM(Data!AA246)","v":"0"},373,"1 Nov 2024 to 30 Nov 2024","DR. CHAN KIT YAN SELINA","DR. CHAN KIT YAN SELINA","SOLO","8895790679","ADR","3","Local System","Local System","2","0","0","0","2","","0","0","0","0","0","0","0","0","0","0","0","0","","2","1","0","0","0","0","0","0","0","0"]
["1 Nov 2024 to 30 Nov 20246303033042ADR","1 Nov 2024 to 30 Nov 2024","DISTRICT HEALTH CENTRE-TUEN MUN (ELCHK)","DHC-TUEN MUN-CC","DHC",6303033042,"ADR",3,"Local System","Local System",11,0,0,1,10,null,0,0,0,0,1,9.0909090909090912E-2,1,0,0,1,0,0,null,10,0.90909090909090906,0,0,0,0,0,0,0,0,"","","","1 Nov 2024 to 30 Nov 20248154807797RXO",{"$f":"Data!A249","v":"2024-11-01"},{"$f":"TRIM(Data!B249)","v":"CELESTIAL HEALTHCARE"},null,{"$f":"TRIM(Data!C249)","v":"SOLO"},{"$f":"TRIM(Data!D249)","v":"8154807797"},{"$f":"TRIM(Data!E249)","v":"RXO"},{"$f":"TRIM(Data!F249)","v":"2"},{"$f":"TRIM(Data!G249)","v":"ClinicSolution"},{"$f":"TRIM(Data!H249)","v":"Local System"},{"$f":"TRIM(Data!I249)","v":"302"},{"$f":"TRIM(Data!J249)","v":"0"},{"$f":"TRIM(Data!K249)","v":"0"},{"$f":"TRIM(Data!L249)","v":"302"},{"$f":"TRIM(Data!M249)","v":"0"},null,null,null,{"$f":"TRIM(Data!N249)","v":"0"},{"$f":"TRIM(Data!O249)","v":"0"},{"$f":"TRIM(Data!P249)","v":"0"},null,{"$f":"TRIM(Data!Q249)","v":"0"},null,null,{"$f":"TRIM(Data!R249)","v":"0"},{"$f":"TRIM(Data!S249)","v":"0"},{"$f":"TRIM(Data!T249)","v":"0"},null,null,null,{"$f":"TRIM(Data!U249)","v":"0"},null,{"$f":"TRIM(Data!V249)","v":"0"},{"$f":"TRIM(Data!W249)","v":"0"},{"$f":"TRIM(Data!X249)","v":"0"},{"$f":"TRIM(Data!Y249)","v":"0"},{"$f":"TRIM(Data!Z249)","v":"0"},{"$f":"TRIM(Data!AA249)","v":"0"},346,"1 Nov 2024 to 30 Nov 2024","CELESTIAL HEALTHCARE","DR. LIM CHAW NAM","SOLO","8154807797","RXO","2","ClinicSolution","Local System","302","0","0","302","0","","0","0","0","0","0","0","0","0","0","0","0","0","","0","0","0","0","0","0","0","0","0","0"]
["1 Nov 2024 to 30 Nov 20246303033042EPIS","1 Nov 2024 to 30 Nov 2024","DISTRICT HEALTH CENTRE-TUEN MUN (ELCHK)","DHC-TUEN MUN-CC","DHC",6303033042,"EPIS",1,"Local System","Local System",9739,0,9739,0,0,null,0,0,0,0,0,0,0,0,0,0,0,0,null,0,0,0,0,0,0,0,0,0,0,"","","","1 Nov 2024 to 30 Nov 20248154807797PX",{"$f":"Data!A252","v":"2024-11-01"},{"$f":"TRIM(Data!B252)","v":"CELESTIAL HEALTHCARE"},null,{"$f":"TRIM(Data!C252)","v":"SOLO"},{"$f":"TRIM(Data!D252)","v":"8154807797"},{"$f":"TRIM(Data!E252)","v":"PX"},{"$f":"TRIM(Data!F252)","v":"3"},{"$f":"TRIM(Data!G252)","v":"ClinicSolution"},{"$f":"TRIM(Data!H252)","v":"Local System"},{"$f":"TRIM(Data!I252)","v":"5"},{"$f":"TRIM(Data!J252)","v":"0"},{"$f":"TRIM(Data!K252)","v":"0"},{"$f":"TRIM(Data!L252)","v":"5"},{"$f":"TRIM(Data!M252)","v":"0"},null,null,null,{"$f":"TRIM(Data!N252)","v":"0"},{"$f":"TRIM(Data!O252)","v":"0"},{"$f":"TRIM(Data!P252)","v":"5"},null,{"$f":"TRIM(Data!Q252)","v":"5"},null,null,{"$f":"TRIM(Data!R252)","v":"5"},{"$f":"TRIM(Data!S252)","v":"0"},{"$f":"TRIM(Data!T252)","v":"0"},null,null,null,{"$f":"TRIM(Data!U252)","v":"0"},null,{"$f":"TRIM(Data!V252)","v":"0"},{"$f":"TRIM(Data!W252)","v":"0"},{"$f":"TRIM(Data!X252)","v":"0"},{"$f":"TRIM(Data!Y252)","v":"0"},{"$f":"TRIM(Data!Z252)","v":"0"},{"$f":"TRIM(Data!AA252)","v":"0"},344,"1 Nov 2024 to 30 Nov 2024","CELESTIAL HEALTHCARE","DR. LIM CHAW NAM","SOLO","8154807797","PX","3","ClinicSolution","Local System","5","0","0","5","0","","0","0","0","0","5","1","5","0","0","5","0","0","","0","0","0","0","0","0","0","0","0","0"]
["1 Nov 2024 to 30 Nov 20246360872899CMRXD","1 Nov 2024 to 30 Nov 2024","GENHOPE TCM CLINIC","GENHOPE TCM CLINIC","SOLO",6360872899,"CMRXD",3,"Local System","EC Connect",2,0,0,1,1,null,0,0,0,0,0,0,0,0,0,0,0,0,null,1,0.5,0,0,0,0,0,0,0,0,"Y","","Y","1 Nov 2024 to 30 Nov 20248296860643CMPROB",{"$f":"Data!A254","v":"2024-11-01"},{"$f":"TRIM(Data!B254)","v":"18 CHINESE MEDICINE CLINIC CUM TRAINING AND RESEARCH CENTRE (THE HONG KONG BUDDHIST ASSOCIATION)"},null,{"$f":"TRIM(Data!C254)","v":"NGO"},{"$f":"TRIM(Data!D254)","v":"8296860643"},{"$f":"TRIM(Data!E254)","v":"CMPROB"},{"$f":"TRIM(Data!F254)","v":"3"},{"$f":"TRIM(Data!G254)","v":"HA CMIS"},{"$f":"TRIM(Data!H254)","v":"Local System"},{"$f":"TRIM(Data!I254)","v":"345"},{"$f":"TRIM(Data!J254)","v":"0"},{"$f":"TRIM(Data!K254)","v":"0"},{"$f":"TRIM(Data!L254)","v":"121"},{"$f":"TRIM(Data!M254)","v":"224"},null,null,null,{"$f":"TRIM(Data!N254)","v":"0"},{"$f":"TRIM(Data!O254)","v":"0"},{"$f":"TRIM(Data!P254)","v":"73"},null,{"$f":"TRIM(Data!Q254)","v":"73"},null,null,{"$f":"TRIM(Data!R254)","v":"73"},{"$f":"TRIM(Data!S254)","v":"0"},{"$f":"TRIM(Data!T254)","v":"0"},null,null,null,{"$f":"TRIM(Data!U254)","v":"0"},null,{"$f":"TRIM(Data!V254)","v":"0"},{"$f":"TRIM(Data!W254)","v":"0"},{"$f":"TRIM(Data!X254)","v":"0"},{"$f":"TRIM(Data!Y254)","v":"0"},{"$f":"TRIM(Data!Z254)","v":"0"},{"$f":"TRIM(Data!AA254)","v":"0"},353,"1 Nov 2024 to 30 Nov 2024","18 Chinese Medicine Clinic cum Traing and Research Centre (The Hong Kong Buddist Association)","18CMCTRs (HKBA)","NGO","8296860643","CMPROB","3","Local System","EC Connect","345","0","0","121","224","","0","0","0","0","73","0.211594202898551","73","0","0","73","0","0","","224","0.649275362318841","0","0","0","0","0","0","0","0"]
["1 Nov 2024 to 30 Nov 20246360872899CMRXO","1 Nov 2024 to 30 Nov 2024","GENHOPE TCM CLINIC","GENHOPE TCM CLINIC","SOLO",6360872899,"CMRXO",3,"Local System","EC Connect",2,0,0,1,1,null,0,0,0,0,0,0,0,0,0,0,0,0,null,1,0.5,0,0,0,0,0,0,0,0,"Y","","Y","1 Nov 2024 to 30 Nov 20248296860643CMRXO",{"$f":"Data!A255","v":"2024-11-01"},{"$f":"TRIM(Data!B255)","v":"18 CHINESE MEDICINE CLINIC CUM TRAINING AND RESEARCH CENTRE (THE HONG KONG BUDDHIST ASSOCIATION)"},null,{"$f":"TRIM(Data!C255)","v":"NGO"},{"$f":"TRIM(Data!D255)","v":"8296860643"},{"$f":"TRIM(Data!E255)","v":"CMRXO"},{"$f":"TRIM(Data!F255)","v":"3"},{"$f":"TRIM(Data!G255)","v":"HA CMIS"},{"$f":"TRIM(Data!H255)","v":"Local System"},{"$f":"TRIM(Data!I255)","v":"158"},{"$f":"TRIM(Data!J255)","v":"0"},{"$f":"TRIM(Data!K255)","v":"0"},{"$f":"TRIM(Data!L255)","v":"1"},{"$f":"TRIM(Data!M255)","v":"157"},null,null,null,{"$f":"TRIM(Data!N255)","v":"0"},{"$f":"TRIM(Data!O255)","v":"0"},{"$f":"TRIM(Data!P255)","v":"1"},null,{"$f":"TRIM(Data!Q255)","v":"1"},null,null,{"$f":"TRIM(Data!R255)","v":"1"},{"$f":"TRIM(Data!S255)","v":"0"},{"$f":"TRIM(Data!T255)","v":"0"},null,null,null,{"$f":"TRIM(Data!U255)","v":"0"},null,{"$f":"TRIM(Data!V255)","v":"0"},{"$f":"TRIM(Data!W255)","v":"0"},{"$f":"TRIM(Data!X255)","v":"0"},{"$f":"TRIM(Data!Y255)","v":"0"},{"$f":"TRIM(Data!Z255)","v":"0"},{"$f":"TRIM(Data!AA255)","v":"0"},355,"1 Nov 2024 to 30 Nov 2024","18 Chinese Medicine Clinic cum Traing and Research Centre (The Hong Kong Buddist Association)","18CMCTRs (HKBA)","NGO","8296860643","CMRXO","3","Local System","EC Connect","158","0","0","1","157","","0","0","0","0","1","0.00632911392405063","1","0","0","1","0","0","","157","0.993670886075949","0","0","0","0","0","0","0","0"]
[{"$f":"IF(B265<>\"\",B265&F265&G265,\"\")","v":"1 Nov 2024 to 30 Nov 20246402782674EPIS"},"1 Nov 2024 to 30 Nov 2024","DHC EXPRESS-SAI KUNG (HOHCS)","DHC EXPRESS-SAI KUNG-CC","DHC",6402782674,"EPIS",1,"Local System","Local System",1591,0,1591,0,0,null,0,0,0,0,0,0,0,0,0,0,0,0,null,0,0,0,0,0,0,0,0,0,0,{"$f":"IFERROR(IF(SEARCH(\"total\",A265)>0,\"\",\"\"),_xlfn.IFNA(IF(A265<>\"\",IF(MATCH(A265,AQ:AQ,0)>0,\"\",\"\"),\"\"),\"Y\"))","v":""},{"$f":"IFERROR(_xlfn.IFNA(IF(AQ265<>\"\",IF(MATCH(AQ265,A:A,0)>0,\"\",\"\"),\"\"),\"Y\"),\"\")","v":""},{"$f":"IF(OR(TRIM(UPPER(AS265))<>TRIM(UPPER(CF265)),AU265<>CH265,AV265<>CI265,AW265<>CJ265,AX265<>CK265,AY265<>CL265,AZ265<>CM265,BA265<>CN265,BB265<>CO265,BC265<>CP265,BD265<>CQ265,BE265<>CR265,BI265<>CV265,BJ265<>CW265,BK265<>CX265,BM265<>CZ265,BP265<>DC265,BQ265<>DD265,BR265<>DE265,BV265<>DI265,BX265<>DK265,BY265<>DL265,BZ265<>DM265,CA265<>DN265,CB265<>DO265,CC265<>DP265),\"Y\",\"\")","v":"Y"},{"$f":"IF(AR265<>\"\",TEXT(AR265,\"d mmm yyyy\") &\" to \" & TEXT(EOMONTH(AR265,0),\"d mmm yyyy\") & AV265 & AW265,\"\")","v":"1 Nov 2024 to 30 Nov 20249056383716RXO"},{"$f":"Data!A258","v":"2024-11-01"},{"$f":"TRIM(Data!B258)","v":"HK MERCY MEDICAL LIMITED"},null,{"$f":"TRIM(Data!C258)","v":"SOLO"},{"$f":"TRIM(Data!D258)","v":"9056383716"},{"$f":"TRIM(Data!E258)","v":"RXO"},{"$f":"TRIM(Data!F258)","v":"3,2"},{"$f":"TRIM(Data!G258)","v":"CMS On-ramp"},{"$f":"TRIM(Data!H258)","v":"CMS On-ramp"},{"$f":"TRIM(Data!I258)","v":"317"},{"$f":"TRIM(Data!J258)","v":"0"},{"$f":"TRIM(Data!K258)","v":"0"},{"$f":"TRIM(Data!L258)","v":"109"},{"$f":"TRIM(Data!M258)","v":"208"},null,null,null,{"$f":"TRIM(Data!N258)","v":"0"},{"$f":"TRIM(Data!O258)","v":"0"},{"$f":"TRIM(Data!P258)","v":"0"},null,{"$f":"TRIM(Data!Q258)","v":"0"},null,null,{"$f":"TRIM(Data!R258)","v":"0"},{"$f":"TRIM(Data!S258)","v":"0"},{"$f":"TRIM(Data!T258)","v":"0"},null,null,null,{"$f":"TRIM(Data!U258)","v":"0"},null,{"$f":"TRIM(Data!V258)","v":"0"},{"$f":"TRIM(Data!W258)","v":"0"},{"$f":"TRIM(Data!X258)","v":"0"},{"$f":"TRIM(Data!Y258)","v":"0"},{"$f":"TRIM(Data!Z258)","v":"0"},{"$f":"TRIM(Data!AA258)","v":"0"},{"$f":"MATCH(AQ265,A:A,0)","v":406},{"$f":"TRIM(INDEX(B:B,$CD265))","v":"1 Nov 2024 to 30 Nov 2024"},{"$f":"TRIM(INDEX(C:C,$CD265))","v":"HK MERCY MEDICAL LIMITED"},{"$f":"TRIM(INDEX(D:D,$CD265))","v":"HK MERCY MEDICAL LIMITED"},{"$f":"TRIM(INDEX(E:E,$CD265))","v":"SOLO"},{"$f":"TRIM(INDEX(F:F,$CD265))","v":"9056383716"},{"$f":"TRIM(INDEX(G:G,$CD265))","v":"RXO"},{"$f":"TRIM(INDEX(H:H,$CD265))","v":"3"},{"$f":"TRIM(INDEX(I:I,$CD265))","v":"Local System"},{"$f":"TRIM(INDEX(J:J,$CD265))","v":"Local System"},{"$f":"TRIM(INDEX(K:K,$CD265))","v":"317"},{"$f":"TRIM(INDEX(L:L,$CD265))","v":"0"},{"$f":"TRIM(INDEX(M:M,$CD265))","v":"0"},{"$f":"TRIM(INDEX(N:N,$CD265))","v":"109"},{"$f":"TRIM(INDEX(O:O,$CD265))","v":"208"},{"$f":"TRIM(INDEX(P:P,$CD265))","v":""},{"$f":"TRIM(INDEX(Q:Q,$CD265))","v":"0"},{"$f":"TRIM(INDEX(R:R,$CD265))","v":"0"},{"$f":"TRIM(INDEX(S:S,$CD265))","v":"0"},{"$f":"TRIM(INDEX(T:T,$CD265))","v":"0"},{"$f":"TRIM(INDEX(U:U,$CD265))","v":"0"},{"$f":"TRIM(INDEX(V:V,$CD265))","v":"0"},{"$f":"TRIM(INDEX(W:W,$CD265))","v":"0"},{"$f":"TRIM(INDEX(X:X,$CD265))","v":"0"},{"$f":"TRIM(INDEX(Y:Y,$CD265))","v":"0"},{"$f":"TRIM(INDEX(Z:Z,$CD265))","v":"0"},{"$f":"TRIM(INDEX(AA:AA,$CD265))","v":"0"},{"$f":"TRIM(INDEX(AB:AB,$CD265))","v":"0"},{"$f":"TRIM(INDEX(AC:AC,$CD265))","v":""},{"$f":"TRIM(INDEX(AD:AD,$CD265))","v":"208"},{"$f":"TRIM(INDEX(AE:AE,$CD265))","v":"0.65615141955836"},{"$f":"TRIM(INDEX(AF:AF,$CD265))","v":"0"},{"$f":"TRIM(INDEX(AG:AG,$CD265))","v":"0"},{"$f":"TRIM(INDEX(AH:AH,$CD265))","v":"0"},{"$f":"TRIM(INDEX(AI:AI,$CD265))","v":"0"},{"$f":"TRIM(INDEX(AJ:AJ,$CD265))","v":"0"},{"$f":"TRIM(INDEX(AK:AK,$CD265))","v":"0"},{"$f":"TRIM(INDEX(AL:AL,$CD265))","v":"0"},{"$f":"TRIM(INDEX(AM:AM,$CD265))","v":"0"}]
["1 Nov 2024 to 30 Nov 20246467582028AL1","1 Nov 2024 to 30 Nov 2024","CITY SURGICAL CENTER LIMITED","CITY SURGICAL CENTER","GROUP",6467582028,"AL1",2,"ClinicSolution","Local System",1,0,0,1,0,null,0,0,0,0,0,0,0,0,0,0,0,0,null,0,0,0,0,0,0,0,0,0,0,"","","Y","1 Nov 2024 to 30 Nov 20249056383716RXD",{"$f":"Data!A259","v":"2024-11-01"},{"$f":"TRIM(Data!B259)","v":"HK MERCY MEDICAL LIMITED"},null,{"$f":"TRIM(Data!C259)","v":"SOLO"},{"$f":"TRIM(Data!D259)","v":"9056383716"},{"$f":"TRIM(Data!E259)","v":"RXD"},{"$f":"TRIM(Data!F259)","v":"3,2"},{"$f":"TRIM(Data!G259)","v":"CMS On-ramp"},{"$f":"TRIM(Data!H259)","v":"CMS On-ramp"},{"$f":"TRIM(Data!I259)","v":"316"},{"$f":"TRIM(Data!J259)","v":"0"},{"$f":"TRIM(Data!K259)","v":"0"},{"$f":"TRIM(Data!L259)","v":"108"},{"$f":"TRIM(Data!M259)","v":"208"},null,null,null,{"$f":"TRIM(Data!N259)","v":"0"},{"$f":"TRIM(Data!O259)","v":"0"},{"$f":"TRIM(Data!P259)","v":"0"},null,{"$f":"TRIM(Data!Q259)","v":"0"},null,null,{"$f":"TRIM(Data!R259)","v":"0"},{"$f":"TRIM(Data!S259)","v":"0"},{"$f":"TRIM(Data!T259)","v":"0"},null,null,null,{"$f":"TRIM(Data!U259)","v":"0"},null,{"$f":"TRIM(Data!V259)","v":"0"},{"$f":"TRIM(Data!W259)","v":"0"},{"$f":"TRIM(Data!X259)","v":"0"},{"$f":"TRIM(Data!Y259)","v":"0"},{"$f":"TRIM(Data!Z259)","v":"0"},{"$f":"TRIM(Data!AA259)","v":"0"},405,"1 Nov 2024 to 30 Nov 2024","HK MERCY MEDICAL LIMITED","HK MERCY MEDICAL LIMITED","SOLO","9056383716","RXD","3","Local System","Local System","316","0","0","108","208","","0","0","0","0","0","0","0","0","0","0","0","0","","208","0.658227848101266","0","0","0","0","0","0","0","0"]
["1 Nov 2024 to 30 Nov 20246467582028RXO","1 Nov 2024 to 30 Nov 2024","CITY SURGICAL CENTER LIMITED","CITY SURGICAL CENTER","GROUP",6467582028,"RXO",2,"ClinicSolution","Local System",15,0,0,15,0,null,0,0,0,0,0,0,0,0,0,0,0,0,null,0,0,0,0,0,0,0,0,0,0,"","","Y","1 Nov 2024 to 30 Nov 20242342444283RAD",{"$f":"Data!A263","v":"2024-11-01"},{"$f":"TRIM(Data!B263)","v":"MODERN ASCENT LIMITED"},null,{"$f":"TRIM(Data!C263)","v":"SOLO"},{"$f":"TRIM(Data!D263)","v":"2342444283"},{"$f":"TRIM(Data!E263)","v":"RAD"},{"$f":"TRIM(Data!F263)","v":"3"},{"$f":"TRIM(Data!G263)","v":"RHI2"},{"$f":"TRIM(Data!H263)","v":"Local System"},{"$f":"TRIM(Data!I263)","v":"766"},{"$f":"TRIM(Data!J263)","v":"0"},{"$f":"TRIM(Data!K263)","v":"0"},{"$f":"TRIM(Data!L263)","v":"75"},{"$f":"TRIM(Data!M263)","v":"691"},null,null,null,{"$f":"TRIM(Data!N263)","v":"0"},{"$f":"TRIM(Data!O263)","v":"0"},{"$f":"TRIM(Data!P263)","v":"0"},null,{"$f":"TRIM(Data!Q263)","v":"0"},null,null,{"$f":"TRIM(Data!R263)","v":"0"},{"$f":"TRIM(Data!S263)","v":"0"},{"$f":"TRIM(Data!T263)","v":"0"},null,null,null,{"$f":"TRIM(Data!U263)","v":"75"},null,{"$f":"TRIM(Data!V263)","v":"0"},{"$f":"TRIM(Data!W263)","v":"0"},{"$f":"TRIM(Data!X263)","v":"0"},{"$f":"TRIM(Data!Y263)","v":"0"},{"$f":"TRIM(Data!Z263)","v":"75"},{"$f":"TRIM(Data!AA263)","v":"0"},43,"1 Nov 2024 to 30 Nov 2024","MORDERN ASCENT LIMITED","MORDERN ASCENT LIMITED","SOLO","2342444283","RAD","3","RHI2","Local System","766","0","0","75","691","","0","0","0","0","0","0","0","0","0","0","0","0","","691","0.902088772845953","75","0.097911227154047","0","0","0","0","75","0"]
["1 Nov 2024 to 30 Nov 20246542377532ENCTR","1 Nov 2024 to 30 Nov 2024","DHC EXPRESS-EASTERN (HKSR)","DHC EXPRESS-EASTERN-CC","DHC",6542377532,"ENCTR",3,"Local System","Local System",3452,0,0,0,3452,null,0,0,0,0,0,0,0,0,0,0,0,0,null,3452,1,0,0,0,0,0,0,0,0,"","","Y","1 Nov 2024 to 30 Nov 20242091864776CMPROB",{"$f":"Data!A264","v":"2024-11-01"},{"$f":"TRIM(Data!B264)","v":"HAN QI CHINESE MEDICINE LIMITED"},null,{"$f":"TRIM(Data!C264)","v":"GRP"},{"$f":"TRIM(Data!D264)","v":"2091864776"},{"$f":"TRIM(Data!E264)","v":"CMPROB"},{"$f":"TRIM(Data!F264)","v":"3"},{"$f":"TRIM(Data!G264)","v":"EC Connect"},{"$f":"TRIM(Data!H264)","v":"EC Connect"},{"$f":"TRIM(Data!I264)","v":"215"},{"$f":"TRIM(Data!J264)","v":"0"},{"$f":"TRIM(Data!K264)","v":"0"},{"$f":"TRIM(Data!L264)","v":"65"},{"$f":"TRIM(Data!M264)","v":"150"},null,null,null,{"$f":"TRIM(Data!N264)","v":"0"},{"$f":"TRIM(Data!O264)","v":"0"},{"$f":"TRIM(Data!P264)","v":"21"},null,{"$f":"TRIM(Data!Q264)","v":"21"},null,null,{"$f":"TRIM(Data!R264)","v":"21"},{"$f":"TRIM(Data!S264)","v":"0"},{"$f":"TRIM(Data!T264)","v":"0"},null,null,null,{"$f":"TRIM(Data!U264)","v":"0"},null,{"$f":"TRIM(Data!V264)","v":"0"},{"$f":"TRIM(Data!W264)","v":"0"},{"$f":"TRIM(Data!X264)","v":"0"},{"$f":"TRIM(Data!Y264)","v":"0"},{"$f":"TRIM(Data!Z264)","v":"0"},{"$f":"TRIM(Data!AA264)","v":"0"},18,"1 Nov 2024 to 30 Nov 2024","Han Qi Chinese Medicine Limited","HAN QI CHINESE MEDICINE","GROUP","2091864776","CMPROB","3","Local System","EC Connect","215","0","0","65","150","","0","0","0","0","21","0.0976744186046512","21","0","0","21","0","0","","150","0.697674418604651","0","0","0","0","0","0","0","0"]
["1 Nov 2024 to 30 Nov 20246645809992ENCTR","1 Nov 2024 to 30 Nov 2024","DHC EXPRESS-CENTRAL AND WESTERN (HKSR)","DHC EXPRESS-C&W-CC","DHC",6645809992,"ENCTR",3,"Local System","Local System",2662,0,0,0,2662,null,0,0,0,0,0,0,0,0,0,0,0,0,null,2662,1,0,0,0,0,0,0,0,0,"","","Y","1 Nov 2024 to 30 Nov 20242091864776CMRXO",{"$f":"Data!A267","v":"2024-11-01"},{"$f":"TRIM(Data!B267)","v":"HAN QI CHINESE MEDICINE LIMITED"},null,{"$f":"TRIM(Data!C267)","v":"GRP"},{"$f":"TRIM(Data!D267)","v":"2091864776"},{"$f":"TRIM(Data!E267)","v":"CMRXO"},{"$f":"TRIM(Data!F267)","v":"3"},{"$f":"TRIM(Data!G267)","v":"EC Connect"},{"$f":"TRIM(Data!H267)","v":"EC Connect"},{"$f":"TRIM(Data!I267)","v":"174"},{"$f":"TRIM(Data!J267)","v":"0"},{"$f":"TRIM(Data!K267)","v":"0"},{"$f":"TRIM(Data!L267)","v":"158"},{"$f":"TRIM(Data!M267)","v":"16"},null,null,null,{"$f":"TRIM(Data!N267)","v":"0"},{"$f":"TRIM(Data!O267)","v":"0"},{"$f":"TRIM(Data!P267)","v":"0"},null,{"$f":"TRIM(Data!Q267)","v":"0"},null,null,{"$f":"TRIM(Data!R267)","v":"0"},{"$f":"TRIM(Data!S267)","v":"0"},{"$f":"TRIM(Data!T267)","v":"0"},null,null,null,{"$f":"TRIM(Data!U267)","v":"0"},null,{"$f":"TRIM(Data!V267)","v":"0"},{"$f":"TRIM(Data!W267)","v":"0"},{"$f":"TRIM(Data!X267)","v":"0"},{"$f":"TRIM(Data!Y267)","v":"0"},{"$f":"TRIM(Data!Z267)","v":"0"},{"$f":"TRIM(Data!AA267)","v":"0"},20,"1 Nov 2024 to 30 Nov 2024","Han Qi Chinese Medicine Limited","HAN QI CHINESE MEDICINE","GROUP","2091864776","CMRXO","3","Local System","EC Connect","174","0","0","158","16","","0","0","0","0","0","0","0","0","0","0","0","0","","16","0.0919540229885057","0","0","0","0","0","0","0","0"]
["1 Nov 2024 to 30 Nov 20246678116401EPIS","1 Nov 2024 to 30 Nov 2024","DHC EXPRESS-NORTH (HKSR)","DHC EXPRESS-NORTH-CC","DHC",6678116401,"EPIS",1,"Local System","Local System",1430,0,1430,0,0,null,0,0,0,0,0,0,0,0,0,0,0,0,null,0,0,0,0,0,0,0,0,0,0,"","","","1 Nov 2024 to 30 Nov 20244427383241ENCTR",{"$f":"Data!A270","v":"2024-11-01"},{"$f":"TRIM(Data!B270)","v":"LEUNG MAN CHIT CLINIC"},null,{"$f":"TRIM(Data!C270)","v":"SOLO"},{"$f":"TRIM(Data!D270)","v":"4427383241"},{"$f":"TRIM(Data!E270)","v":"ENCTR"},{"$f":"TRIM(Data!F270)","v":"3"},{"$f":"TRIM(Data!G270)","v":"ClinicSolution"},{"$f":"TRIM(Data!H270)","v":"Local System"},{"$f":"TRIM(Data!I270)","v":"569"},{"$f":"TRIM(Data!J270)","v":"0"},{"$f":"TRIM(Data!K270)","v":"0"},{"$f":"TRIM(Data!L270)","v":"0"},{"$f":"TRIM(Data!M270)","v":"569"},null,null,null,{"$f":"TRIM(Data!N270)","v":"0"},{"$f":"TRIM(Data!O270)","v":"0"},{"$f":"TRIM(Data!P270)","v":"0"},null,{"$f":"TRIM(Data!Q270)","v":"0"},null,null,{"$f":"TRIM(Data!R270)","v":"0"},{"$f":"TRIM(Data!S270)","v":"0"},{"$f":"TRIM(Data!T270)","v":"0"},null,null,null,{"$f":"TRIM(Data!U270)","v":"0"},null,{"$f":"TRIM(Data!V270)","v":"0"},{"$f":"TRIM(Data!W270)","v":"0"},{"$f":"TRIM(Data!X270)","v":"0"},{"$f":"TRIM(Data!Y270)","v":"0"},{"$f":"TRIM(Data!Z270)","v":"0"},{"$f":"TRIM(Data!AA270)","v":"0"},151,"1 Nov 2024 to 30 Nov 2024","LEUNG MAN CHIT CLINIC","LEUNG MAN CHIT CLINIC","SOLO","4427383241","ENCTR","3","ClinicSolution","Local System","569","0","0","0","569","","0","0","0","0","0","0","0","0","0","0","0","0","","569","1","0","0","0","0","0","0","0","0"]
["1 Nov 2024 to 30 Nov 20246758313621CMPROB","1 Nov 2024 to 30 Nov 2024","18 Chinese Medicine Clinic cum Traing and Research Centre (Pok Oi Hospital)","18CMCTRs (POH)","NGO",6758313621,"CMPROB",3,"Local System","EC Connect",2955,0,0,966,1989,null,0,0,0,0,538,0.18206429780033842,538,0,0,538,0,0,null,1989,0.67309644670050761,0,0,0,0,0,0,0,0,"","","Y","1 Nov 2024 to 30 Nov 20249927384828RAD",{"$f":"Data!A272","v":"2024-11-01"},{"$f":"TRIM(Data!B272)","v":"UMP MEDICAL CENTRE"},null,{"$f":"TRIM(Data!C272)","v":"GRP"},{"$f":"TRIM(Data!D272)","v":"9927384828"},{"$f":"TRIM(Data!E272)","v":"RAD"},{"$f":"TRIM(Data!F272)","v":"3"},{"$f":"TRIM(Data!G272)","v":"RHI2"},{"$f":"TRIM(Data!H272)","v":"Local System"},{"$f":"TRIM(Data!I272)","v":"520"},{"$f":"TRIM(Data!J272)","v":"1"},{"$f":"TRIM(Data!K272)","v":"0"},{"$f":"TRIM(Data!L272)","v":"0"},{"$f":"TRIM(Data!M272)","v":"519"},null,null,null,{"$f":"TRIM(Data!N272)","v":"1"},{"$f":"TRIM(Data!O272)","v":"0"},{"$f":"TRIM(Data!P272)","v":"0"},null,{"$f":"TRIM(Data!Q272)","v":"0"},null,null,{"$f":"TRIM(Data!R272)","v":"0"},{"$f":"TRIM(Data!S272)","v":"0"},{"$f":"TRIM(Data!T272)","v":"0"},null,null,null,{"$f":"TRIM(Data!U272)","v":"0"},null,{"$f":"TRIM(Data!V272)","v":"0"},{"$f":"TRIM(Data!W272)","v":"0"},{"$f":"TRIM(Data!X272)","v":"0"},{"$f":"TRIM(Data!Y272)","v":"0"},{"$f":"TRIM(Data!Z272)","v":"0"},{"$f":"TRIM(Data!AA272)","v":"0"},453,"1 Nov 2024 to 30 Nov 2024","UMP MEDICAL CENTRE","UMP MEDICAL CENTRE","GROUP","9927384828","RAD","3","RHI2","Local System","520","1","0","0","519","","1","0.00192307692307692","1","0","0","0","0","0","0","0","0","0","","519","0.998076923076923","0","0","0","0","0","0","0","0"]
["1 Nov 2024 to 30 Nov 20246758313621CMPX","1 Nov 2024 to 30 Nov 2024","18 Chinese Medicine Clinic cum Traing and Research Centre (Pok Oi Hospital)","18CMCTRs (POH)","NGO",6758313621,"CMPX",3,"Local System","EC Connect",1020,0,0,157,863,null,0,0,0,0,157,0.15392156862745099,157,0,0,157,0,0,null,863,0.84607843137254901,0,0,0,0,0,0,0,0,"","","","1 Nov 2024 to 30 Nov 20244048010991RAD",{"$f":"Data!A273","v":"2024-11-01"},{"$f":"TRIM(Data!B273)","v":"VENUS HEALTH AND IMAGING CENTRE LIMITED"},null,{"$f":"TRIM(Data!C273)","v":"SOLO"},{"$f":"TRIM(Data!D273)","v":"4048010991"},{"$f":"TRIM(Data!E273)","v":"RAD"},{"$f":"TRIM(Data!F273)","v":"3"},{"$f":"TRIM(Data!G273)","v":"RHI2"},{"$f":"TRIM(Data!H273)","v":"Local System"},{"$f":"TRIM(Data!I273)","v":"518"},{"$f":"TRIM(Data!J273)","v":"0"},{"$f":"TRIM(Data!K273)","v":"0"},{"$f":"TRIM(Data!L273)","v":"0"},{"$f":"TRIM(Data!M273)","v":"518"},null,null,null,{"$f":"TRIM(Data!N273)","v":"0"},{"$f":"TRIM(Data!O273)","v":"0"},{"$f":"TRIM(Data!P273)","v":"0"},null,{"$f":"TRIM(Data!Q273)","v":"0"},null,null,{"$f":"TRIM(Data!R273)","v":"0"},{"$f":"TRIM(Data!S273)","v":"0"},{"$f":"TRIM(Data!T273)","v":"0"},null,null,null,{"$f":"TRIM(Data!U273)","v":"0"},null,{"$f":"TRIM(Data!V273)","v":"0"},{"$f":"TRIM(Data!W273)","v":"0"},{"$f":"TRIM(Data!X273)","v":"0"},{"$f":"TRIM(Data!Y273)","v":"0"},{"$f":"TRIM(Data!Z273)","v":"0"},{"$f":"TRIM(Data!AA273)","v":"0"},148,"1 Nov 2024 to 30 Nov 2024","Venus Health and Imaging Centre Limited","VENUS HELATH CENTRE","SOLO","4048010991","RAD","3","RHI2","Local System","518","0","0","0","518","","0","0","0","0","0","0","0","0","0","0","0","0","","518","1","0","0","0","0","0","0","0","0"]
["1 Nov 2024 to 30 Nov 20246916175566AL1","1 Nov 2024 to 30 Nov 2024","Island Professional Service Company Limited","ISLAND PROF SVC CO LTD","SOLO",6916175566,"AL1",3,"Local System","Local System",3,0,0,0,3,null,0,0,0,0,0,0,0,0,0,0,0,0,null,3,1,0,0,0,0,0,0,0,0,"Y","","Y","1 Nov 2024 to 30 Nov 20242308765964RXD",{"$f":"Data!A276","v":"2024-11-01"},{"$f":"TRIM(Data!B276)","v":"DR SHUM NAM CHU'S CLINIC"},null,{"$f":"TRIM(Data!C276)","v":"SOLO"},{"$f":"TRIM(Data!D276)","v":"2308765964"},{"$f":"TRIM(Data!E276)","v":"RXD"},{"$f":"TRIM(Data!F276)","v":"3"},{"$f":"TRIM(Data!G276)","v":"CMS On-ramp"},{"$f":"TRIM(Data!H276)","v":"CMS On-ramp"},{"$f":"TRIM(Data!I276)","v":"134"},{"$f":"TRIM(Data!J276)","v":"0"},{"$f":"TRIM(Data!K276)","v":"0"},{"$f":"TRIM(Data!L276)","v":"20"},{"$f":"TRIM(Data!M276)","v":"114"},null,null,null,{"$f":"TRIM(Data!N276)","v":"0"},{"$f":"TRIM(Data!O276)","v":"0"},{"$f":"TRIM(Data!P276)","v":"0"},null,{"$f":"TRIM(Data!Q276)","v":"0"},null,null,{"$f":"TRIM(Data!R276)","v":"0"},{"$f":"TRIM(Data!S276)","v":"0"},{"$f":"TRIM(Data!T276)","v":"0"},null,null,null,{"$f":"TRIM(Data!U276)","v":"0"},null,{"$f":"TRIM(Data!V276)","v":"0"},{"$f":"TRIM(Data!W276)","v":"0"},{"$f":"TRIM(Data!X276)","v":"0"},{"$f":"TRIM(Data!Y276)","v":"0"},{"$f":"TRIM(Data!Z276)","v":"0"},{"$f":"TRIM(Data!AA276)","v":"0"},33,"1 Nov 2024 to 30 Nov 2024","DR SUM NAM CHU'S CLINIC","DR SUM NAM CHU'S CLINIC","SOLO","2308765964","RXD","3","Local System","Local System","134","0","0","20","114","","0","0","0","0","0","0","0","0","0","0","0","0","","114","0.850746268656716","0","0","0","0","0","0","0","0"]
["1 Nov 2024 to 30 Nov 20246916175566ENCTR","1 Nov 2024 to 30 Nov 2024","Island Professional Service Company Limited","ISLAND PROF SVC CO LTD","SOLO",6916175566,"ENCTR",3,"Local System","Local System",50,0,0,0,50,null,0,0,0,0,0,0,0,0,0,0,0,0,null,50,1,0,0,0,0,0,0,0,0,"Y","","Y","1 Nov 2024 to 30 Nov 20242308765964PROB",{"$f":"Data!A277","v":"2024-11-01"},{"$f":"TRIM(Data!B277)","v":"DR SHUM NAM CHU'S CLINIC"},null,{"$f":"TRIM(Data!C277)","v":"SOLO"},{"$f":"TRIM(Data!D277)","v":"2308765964"},{"$f":"TRIM(Data!E277)","v":"PROB"},{"$f":"TRIM(Data!F277)","v":"3"},{"$f":"TRIM(Data!G277)","v":"CMS On-ramp"},{"$f":"TRIM(Data!H277)","v":"CMS On-ramp"},{"$f":"TRIM(Data!I277)","v":"88"},{"$f":"TRIM(Data!J277)","v":"0"},{"$f":"TRIM(Data!K277)","v":"0"},{"$f":"TRIM(Data!L277)","v":"2"},{"$f":"TRIM(Data!M277)","v":"86"},null,null,null,{"$f":"TRIM(Data!N277)","v":"0"},{"$f":"TRIM(Data!O277)","v":"0"},{"$f":"TRIM(Data!P277)","v":"0"},null,{"$f":"TRIM(Data!Q277)","v":"0"},null,null,{"$f":"TRIM(Data!R277)","v":"0"},{"$f":"TRIM(Data!S277)","v":"0"},{"$f":"TRIM(Data!T277)","v":"0"},null,null,null,{"$f":"TRIM(Data!U277)","v":"0"},null,{"$f":"TRIM(Data!V277)","v":"0"},{"$f":"TRIM(Data!W277)","v":"0"},{"$f":"TRIM(Data!X277)","v":"0"},{"$f":"TRIM(Data!Y277)","v":"0"},{"$f":"TRIM(Data!Z277)","v":"0"},{"$f":"TRIM(Data!AA277)","v":"0"},32,"1 Nov 2024 to 30 Nov 2024","DR SUM NAM CHU'S CLINIC","DR SUM NAM CHU'S CLINIC","SOLO","2308765964","PROB","3","Local System","Local System","88","0","0","2","86","","0","0","0","0","0","0","0","0","0","0","0","0","","86","0.977272727272727","0","0","0","0","0","0","0","0"]
["1 Nov 2024 to 30 Nov 20246916175566RXD","1 Nov 2024 to 30 Nov 2024","Island Professional Service Company Limited","ISLAND PROF SVC CO LTD","SOLO",6916175566,"RXD",3,"Local System","Local System",120,0,0,2,118,null,0,0,0,0,0,0,0,0,0,0,0,0,null,118,0.98333333333333328,0,0,0,0,0,0,0,0,"Y","","Y","1 Nov 2024 to 30 Nov 20243726405388RAD",{"$f":"Data!A281","v":"2024-11-01"},{"$f":"TRIM(Data!B281)","v":"THE UNIVERSITY OF HONG KONG"},null,{"$f":"TRIM(Data!C281)","v":"ACAD"},{"$f":"TRIM(Data!D281)","v":"3726405388"},{"$f":"TRIM(Data!E281)","v":"RAD"},{"$f":"TRIM(Data!F281)","v":"3"},{"$f":"TRIM(Data!G281)","v":"RHI2"},{"$f":"TRIM(Data!H281)","v":"Local System"},{"$f":"TRIM(Data!I281)","v":"430"},{"$f":"TRIM(Data!J281)","v":"0"},{"$f":"TRIM(Data!K281)","v":"0"},{"$f":"TRIM(Data!L281)","v":"0"},{"$f":"TRIM(Data!M281)","v":"430"},null,null,null,{"$f":"TRIM(Data!N281)","v":"0"},{"$f":"TRIM(Data!O281)","v":"0"},{"$f":"TRIM(Data!P281)","v":"0"},null,{"$f":"TRIM(Data!Q281)","v":"0"},null,null,{"$f":"TRIM(Data!R281)","v":"0"},{"$f":"TRIM(Data!S281)","v":"0"},{"$f":"TRIM(Data!T281)","v":"0"},null,null,null,{"$f":"TRIM(Data!U281)","v":"0"},null,{"$f":"TRIM(Data!V281)","v":"0"},{"$f":"TRIM(Data!W281)","v":"0"},{"$f":"TRIM(Data!X281)","v":"0"},{"$f":"TRIM(Data!Y281)","v":"0"},{"$f":"TRIM(Data!Z281)","v":"0"},{"$f":"TRIM(Data!AA281)","v":"0"},131,"1 Nov 2024 to 30 Nov 2024","The University of Hong Kong","HKU","HCAI","3726405388","RAD","3","Local System","Local System","430","0","0","0","430","","0","0","0","0","0","0","0","0","0","0","0","0","","430","1","0","0","0","0","0","0","0","0"]
["1 Nov 2024 to 30 Nov 20246916175566RXO","1 Nov 2024 to 30 Nov 2024","Island Professional Service Company Limited","ISLAND PROF SVC CO LTD","SOLO",6916175566,"RXO",3,"Local System","Local System",122,0,0,2,120,null,0,0,0,0,0,0,0,0,0,0,0,0,null,120,0.98360655737704916,0,0,0,0,0,0,0,0,"Y","","Y","1 Nov 2024 to 30 Nov 20249713227452ENCTR",{"$f":"Data!A282","v":"2024-11-01"},{"$f":"TRIM(Data!B282)","v":"ANCHOR ONCOLOGY AND HEMATOLOGY CENTRE LIMITED"},null,{"$f":"TRIM(Data!C282)","v":"GRP"},{"$f":"TRIM(Data!D282)","v":"9713227452"},{"$f":"TRIM(Data!E282)","v":"ENCTR"},{"$f":"TRIM(Data!F282)","v":"3"},{"$f":"TRIM(Data!G282)","v":"ClinicSolution"},{"$f":"TRIM(Data!H282)","v":"Local System"},{"$f":"TRIM(Data!I282)","v":"232"},{"$f":"TRIM(Data!J282)","v":"0"},{"$f":"TRIM(Data!K282)","v":"0"},{"$f":"TRIM(Data!L282)","v":"0"},{"$f":"TRIM(Data!M282)","v":"232"},null,null,null,{"$f":"TRIM(Data!N282)","v":"0"},{"$f":"TRIM(Data!O282)","v":"0"},{"$f":"TRIM(Data!P282)","v":"0"},null,{"$f":"TRIM(Data!Q282)","v":"0"},null,null,{"$f":"TRIM(Data!R282)","v":"0"},{"$f":"TRIM(Data!S282)","v":"0"},{"$f":"TRIM(Data!T282)","v":"0"},null,null,null,{"$f":"TRIM(Data!U282)","v":"0"},null,{"$f":"TRIM(Data!V282)","v":"0"},{"$f":"TRIM(Data!W282)","v":"0"},{"$f":"TRIM(Data!X282)","v":"0"},{"$f":"TRIM(Data!Y282)","v":"0"},{"$f":"TRIM(Data!Z282)","v":"0"},{"$f":"TRIM(Data!AA282)","v":"0"},440,"1 Nov 2024 to 30 Nov 2024","ANCHOR ONCOLOGY AND HEMATOLOGY CENTRE LIMITED","AOHC","GROUP","9713227452","ENCTR","3","ClinicSolution","Local System","232","0","0","0","232","","0","0","0","0","0","0","0","0","0","0","0","0","","232","1","0","0","0","0","0","0","0","0"]
["1 Nov 2024 to 30 Nov 20247002059678ENCTR","1 Nov 2024 to 30 Nov 2024","PRECIOUS BLOOD HOSPITAL (CARITAS)","PRECIOUS BLOOD HOSPITAL","PH",7002059678,"ENCTR",3,"PBHIS","Local System",7637,0,0,0,7637,null,0,0,0,0,0,0,0,0,0,0,0,0,null,7637,1,0,0,0,0,0,0,0,0,"","","","1 Nov 2024 to 30 Nov 20248558761107RXD",{"$f":"Data!A285","v":"2024-11-01"},{"$f":"TRIM(Data!B285)","v":"DY EYE CONSULTANT LIMITED"},null,{"$f":"TRIM(Data!C285)","v":"SOLO"},{"$f":"TRIM(Data!D285)","v":"8558761107"},{"$f":"TRIM(Data!E285)","v":"RXD"},{"$f":"TRIM(Data!F285)","v":"2"},{"$f":"TRIM(Data!G285)","v":"ClinicSolution"},{"$f":"TRIM(Data!H285)","v":"Local System"},{"$f":"TRIM(Data!I285)","v":"94"},{"$f":"TRIM(Data!J285)","v":"0"},{"$f":"TRIM(Data!K285)","v":"0"},{"$f":"TRIM(Data!L285)","v":"94"},{"$f":"TRIM(Data!M285)","v":"0"},null,null,null,{"$f":"TRIM(Data!N285)","v":"0"},{"$f":"TRIM(Data!O285)","v":"0"},{"$f":"TRIM(Data!P285)","v":"0"},null,{"$f":"TRIM(Data!Q285)","v":"0"},null,null,{"$f":"TRIM(Data!R285)","v":"0"},{"$f":"TRIM(Data!S285)","v":"0"},{"$f":"TRIM(Data!T285)","v":"0"},null,null,null,{"$f":"TRIM(Data!U285)","v":"0"},null,{"$f":"TRIM(Data!V285)","v":"0"},{"$f":"TRIM(Data!W285)","v":"0"},{"$f":"TRIM(Data!X285)","v":"0"},{"$f":"TRIM(Data!Y285)","v":"0"},{"$f":"TRIM(Data!Z285)","v":"0"},{"$f":"TRIM(Data!AA285)","v":"0"},360,"1 Nov 2024 to 30 Nov 2024","DY EYE CONSULTANT LIMITED","DY EYE CONSULTANT LIMITED","SOLO","8558761107","RXD","2","ClinicSolution","Local System","94","0","0","94","0","","0","0","0","0","0","0","0","0","0","0","0","0","","0","0","0","0","0","0","0","0","0","0"]
["1 Nov 2024 to 30 Nov 20247029571085ADR","1 Nov 2024 to 30 Nov 2024","HONG KONG ADVENTIST HOSPITAL - STUBBS ROAD","HK ADVENTIST - SR","PH",7029571085,"ADR",3,"HKAHLAAM","Local System",1,0,0,0,1,null,0,0,0,0,0,0,0,0,0,0,0,0,null,1,1,0,0,0,0,0,0,0,0,"","","","1 Nov 2024 to 30 Nov 20248558761107ENCTR",{"$f":"Data!A287","v":"2024-11-01"},{"$f":"TRIM(Data!B287)","v":"DY EYE CONSULTANT LIMITED"},null,{"$f":"TRIM(Data!C287)","v":"SOLO"},{"$f":"TRIM(Data!D287)","v":"8558761107"},{"$f":"TRIM(Data!E287)","v":"ENCTR"},{"$f":"TRIM(Data!F287)","v":"3"},{"$f":"TRIM(Data!G287)","v":"ClinicSolution"},{"$f":"TRIM(Data!H287)","v":"Local System"},{"$f":"TRIM(Data!I287)","v":"88"},{"$f":"TRIM(Data!J287)","v":"0"},{"$f":"TRIM(Data!K287)","v":"0"},{"$f":"TRIM(Data!L287)","v":"0"},{"$f":"TRIM(Data!M287)","v":"88"},null,null,null,{"$f":"TRIM(Data!N287)","v":"0"},{"$f":"TRIM(Data!O287)","v":"0"},{"$f":"TRIM(Data!P287)","v":"0"},null,{"$f":"TRIM(Data!Q287)","v":"0"},null,null,{"$f":"TRIM(Data!R287)","v":"0"},{"$f":"TRIM(Data!S287)","v":"0"},{"$f":"TRIM(Data!T287)","v":"0"},null,null,null,{"$f":"TRIM(Data!U287)","v":"0"},null,{"$f":"TRIM(Data!V287)","v":"0"},{"$f":"TRIM(Data!W287)","v":"0"},{"$f":"TRIM(Data!X287)","v":"0"},{"$f":"TRIM(Data!Y287)","v":"0"},{"$f":"TRIM(Data!Z287)","v":"0"},{"$f":"TRIM(Data!AA287)","v":"0"},357,"1 Nov 2024 to 30 Nov 2024","DY EYE CONSULTANT LIMITED","DY EYE CONSULTANT LIMITED","SOLO","8558761107","ENCTR","3","ClinicSolution","Local System","88","0","0","0","88","","0","0","0","0","0","0","0","0","0","0","0","0","","88","1","0","0","0","0","0","0","0","0"]
["1 Nov 2024 to 30 Nov 20247029571085LABAP","1 Nov 2024 to 30 Nov 2024","HONG KONG ADVENTIST HOSPITAL - STUBBS ROAD","HK ADVENTIST - SR","PH",7029571085,"LABAP",1,"HKAHLAAM","Local System",19,0,19,0,0,null,0,0,0,0,0,0,0,0,0,0,0,0,null,0,0,0,0,0,0,0,0,0,0,"","","Y","1 Nov 2024 to 30 Nov 20246467582028ENCTR",{"$f":"Data!A290","v":"2024-11-01"},{"$f":"TRIM(Data!B290)","v":"CITY SURGICAL CENTER LIMITED"},null,{"$f":"TRIM(Data!C290)","v":"GRP"},{"$f":"TRIM(Data!D290)","v":"6467582028"},{"$f":"TRIM(Data!E290)","v":"ENCTR"},{"$f":"TRIM(Data!F290)","v":"3"},{"$f":"TRIM(Data!G290)","v":"ClinicSolution"},{"$f":"TRIM(Data!H290)","v":"Local System"},{"$f":"TRIM(Data!I290)","v":"152"},{"$f":"TRIM(Data!J290)","v":"0"},{"$f":"TRIM(Data!K290)","v":"0"},{"$f":"TRIM(Data!L290)","v":"0"},{"$f":"TRIM(Data!M290)","v":"152"},null,null,null,{"$f":"TRIM(Data!N290)","v":"0"},{"$f":"TRIM(Data!O290)","v":"0"},{"$f":"TRIM(Data!P290)","v":"0"},null,{"$f":"TRIM(Data!Q290)","v":"0"},null,null,{"$f":"TRIM(Data!R290)","v":"0"},{"$f":"TRIM(Data!S290)","v":"0"},{"$f":"TRIM(Data!T290)","v":"0"},null,null,null,{"$f":"TRIM(Data!U290)","v":"0"},null,{"$f":"TRIM(Data!V290)","v":"0"},{"$f":"TRIM(Data!W290)","v":"0"},{"$f":"TRIM(Data!X290)","v":"0"},{"$f":"TRIM(Data!Y290)","v":"0"},{"$f":"TRIM(Data!Z290)","v":"0"},{"$f":"TRIM(Data!AA290)","v":"0"},267,"1 Nov 2024 to 30 Nov 2024","CITY SURGICAL CENTER LIMITED","CITY SURGICAL CENTER","GROUP","6467582028","ENCTR","3","ClinicSolution","Local System","152","0","0","0","152","","0","0","0","0","0","0","0","0","0","0","0","0","","152","1","0","0","0","0","0","0","0","0"]
["1 Nov 2024 to 30 Nov 20247029571085LABGEN","1 Nov 2024 to 30 Nov 2024","HONG KONG ADVENTIST HOSPITAL - STUBBS ROAD","HK ADVENTIST - SR","PH",7029571085,"LABGEN",3,"HKAHLAAM","Local System",457,0,0,164,293,null,0,0,0,0,164,0.35886214442013131,164,0,0,164,0,0,null,293,0.64113785557986869,0,0,0,0,0,0,0,0,"","","Y","1 Nov 2024 to 30 Nov 20246467582028PROB",{"$f":"Data!A291","v":"2024-11-01"},{"$f":"TRIM(Data!B291)","v":"CITY SURGICAL CENTER LIMITED"},null,{"$f":"TRIM(Data!C291)","v":"GRP"},{"$f":"TRIM(Data!D291)","v":"6467582028"},{"$f":"TRIM(Data!E291)","v":"PROB"},{"$f":"TRIM(Data!F291)","v":"3"},{"$f":"TRIM(Data!G291)","v":"ClinicSolution"},{"$f":"TRIM(Data!H291)","v":"Local System"},{"$f":"TRIM(Data!I291)","v":"105"},{"$f":"TRIM(Data!J291)","v":"5"},{"$f":"TRIM(Data!K291)","v":"0"},{"$f":"TRIM(Data!L291)","v":"100"},{"$f":"TRIM(Data!M291)","v":"0"},null,null,null,{"$f":"TRIM(Data!N291)","v":"5"},{"$f":"TRIM(Data!O291)","v":"0"},{"$f":"TRIM(Data!P291)","v":"100"},null,{"$f":"TRIM(Data!Q291)","v":"100"},null,null,{"$f":"TRIM(Data!R291)","v":"100"},{"$f":"TRIM(Data!S291)","v":"0"},{"$f":"TRIM(Data!T291)","v":"0"},null,null,null,{"$f":"TRIM(Data!U291)","v":"0"},null,{"$f":"TRIM(Data!V291)","v":"0"},{"$f":"TRIM(Data!W291)","v":"0"},{"$f":"TRIM(Data!X291)","v":"0"},{"$f":"TRIM(Data!Y291)","v":"0"},{"$f":"TRIM(Data!Z291)","v":"0"},{"$f":"TRIM(Data!AA291)","v":"0"},268,"1 Nov 2024 to 30 Nov 2024","CITY SURGICAL CENTER LIMITED","CITY SURGICAL CENTER","GROUP","6467582028","PROB","3","ClinicSolution","Local System","105","5","0","100","0","","5","0.0476190476190476","5","0","100","0.952380952380952","100","0","0","100","0","0","","0","0","0","0","0","0","0","0","0","0"]
["1 Nov 2024 to 30 Nov 20247029571085RXD","1 Nov 2024 to 30 Nov 2024","HONG KONG ADVENTIST HOSPITAL - STUBBS ROAD","HK ADVENTIST - SR","PH",7029571085,"RXD",2,"HKAHLAAM","Local System",651,0,0,651,0,null,0,0,0,0,0,0,0,0,0,0,0,0,null,0,0,0,0,0,0,0,0,0,0,"","","Y","1 Nov 2024 to 30 Nov 20246467582028RXO",{"$f":"Data!A293","v":"2024-11-01"},{"$f":"TRIM(Data!B293)","v":"CITY SURGICAL CENTER LIMITED"},null,{"$f":"TRIM(Data!C293)","v":"GRP"},{"$f":"TRIM(Data!D293)","v":"6467582028"},{"$f":"TRIM(Data!E293)","v":"RXO"},{"$f":"TRIM(Data!F293)","v":"2"},{"$f":"TRIM(Data!G293)","v":"ClinicSolution"},{"$f":"TRIM(Data!H293)","v":"Local System"},{"$f":"TRIM(Data!I293)","v":"15"},{"$f":"TRIM(Data!J293)","v":"0"},{"$f":"TRIM(Data!K293)","v":"0"},{"$f":"TRIM(Data!L293)","v":"15"},{"$f":"TRIM(Data!M293)","v":"0"},null,null,null,{"$f":"TRIM(Data!N293)","v":"0"},{"$f":"TRIM(Data!O293)","v":"0"},{"$f":"TRIM(Data!P293)","v":"0"},null,{"$f":"TRIM(Data!Q293)","v":"0"},null,null,{"$f":"TRIM(Data!R293)","v":"0"},{"$f":"TRIM(Data!S293)","v":"0"},{"$f":"TRIM(Data!T293)","v":"0"},null,null,null,{"$f":"TRIM(Data!U293)","v":"0"},null,{"$f":"TRIM(Data!V293)","v":"0"},{"$f":"TRIM(Data!W293)","v":"0"},{"$f":"TRIM(Data!X293)","v":"0"},{"$f":"TRIM(Data!Y293)","v":"0"},{"$f":"TRIM(Data!Z293)","v":"0"},{"$f":"TRIM(Data!AA293)","v":"0"},270,"1 Nov 2024 to 30 Nov 2024","CITY SURGICAL CENTER LIMITED","CITY SURGICAL CENTER","GROUP","6467582028","RXO","2","ClinicSolution","Local System","15","0","0","15","0","","0","0","0","0","0","0","0","0","0","0","0","0","","0","0","0","0","0","0","0","0","0","0"]
["1 Nov 2024 to 30 Nov 20247071207758PROB","1 Nov 2024 to 30 Nov 2024","DR. TONY CHUN KIT LEE MEDICAL PRATICE LIMITED","DR. TONY CHUN KIT LEE","SOLO",7071207758,"PROB",3,"ClinicSolution","Local System",5,0,0,5,0,null,0,0,0,0,5,1,5,0,0,5,0,0,null,0,0,0,0,0,0,0,0,0,0,"","","Y","1 Nov 2024 to 30 Nov 20249179355867RXD",{"$f":"Data!A296","v":"2024-11-01"},{"$f":"TRIM(Data!B296)","v":"HONG KONG CHRISTIAN SERVICE"},null,{"$f":"TRIM(Data!C296)","v":"NGO"},{"$f":"TRIM(Data!D296)","v":"9179355867"},{"$f":"TRIM(Data!E296)","v":"RXD"},{"$f":"TRIM(Data!F296)","v":"3,2"},{"$f":"TRIM(Data!G296)","v":"CMS On-ramp"},{"$f":"TRIM(Data!H296)","v":"CMS On-ramp"},{"$f":"TRIM(Data!I296)","v":"85"},{"$f":"TRIM(Data!J296)","v":"0"},{"$f":"TRIM(Data!K296)","v":"0"},{"$f":"TRIM(Data!L296)","v":"22"},{"$f":"TRIM(Data!M296)","v":"63"},null,null,null,{"$f":"TRIM(Data!N296)","v":"0"},{"$f":"TRIM(Data!O296)","v":"0"},{"$f":"TRIM(Data!P296)","v":"0"},null,{"$f":"TRIM(Data!Q296)","v":"0"},null,null,{"$f":"TRIM(Data!R296)","v":"0"},{"$f":"TRIM(Data!S296)","v":"0"},{"$f":"TRIM(Data!T296)","v":"0"},null,null,null,{"$f":"TRIM(Data!U296)","v":"0"},null,{"$f":"TRIM(Data!V296)","v":"0"},{"$f":"TRIM(Data!W296)","v":"0"},{"$f":"TRIM(Data!X296)","v":"0"},{"$f":"TRIM(Data!Y296)","v":"0"},{"$f":"TRIM(Data!Z296)","v":"0"},{"$f":"TRIM(Data!AA296)","v":"0"},415,"1 Nov 2024 to 30 Nov 2024","Hong Kong Christian Service","HKCS","GROUP","9179355867","RXD","3","Local System","Local System","85","0","0","22","63","","0","0","0","0","0","0","0","0","0","0","0","0","","63","0.741176470588235","0","0","0","0","0","0","0","0"]
["1 Nov 2024 to 30 Nov 20247218241485ADR","1 Nov 2024 to 30 Nov 2024","DISTRICT HEALTH CENTRE-YUEN LONG (POH)","DHC-YUEN LONG","DHC",7218241485,"ADR",3,"Local System","Local System",2,0,0,0,2,null,0,0,0,0,0,0,0,0,0,0,0,0,null,2,1,0,0,0,0,0,0,0,0,"","","Y","1 Nov 2024 to 30 Nov 20249179355867IMMU",{"$f":"Data!A299","v":"2024-11-01"},{"$f":"TRIM(Data!B299)","v":"HONG KONG CHRISTIAN SERVICE"},null,{"$f":"TRIM(Data!C299)","v":"NGO"},{"$f":"TRIM(Data!D299)","v":"9179355867"},{"$f":"TRIM(Data!E299)","v":"IMMU"},{"$f":"TRIM(Data!F299)","v":"3,2"},{"$f":"TRIM(Data!G299)","v":"CMS On-ramp"},{"$f":"TRIM(Data!H299)","v":"CMS On-ramp"},{"$f":"TRIM(Data!I299)","v":"6"},{"$f":"TRIM(Data!J299)","v":"0"},{"$f":"TRIM(Data!K299)","v":"0"},{"$f":"TRIM(Data!L299)","v":"3"},{"$f":"TRIM(Data!M299)","v":"3"},null,null,null,{"$f":"TRIM(Data!N299)","v":"0"},{"$f":"TRIM(Data!O299)","v":"0"},{"$f":"TRIM(Data!P299)","v":"0"},null,{"$f":"TRIM(Data!Q299)","v":"0"},null,null,{"$f":"TRIM(Data!R299)","v":"0"},{"$f":"TRIM(Data!S299)","v":"0"},{"$f":"TRIM(Data!T299)","v":"0"},null,null,null,{"$f":"TRIM(Data!U299)","v":"0"},null,{"$f":"TRIM(Data!V299)","v":"0"},{"$f":"TRIM(Data!W299)","v":"0"},{"$f":"TRIM(Data!X299)","v":"0"},{"$f":"TRIM(Data!Y299)","v":"0"},{"$f":"TRIM(Data!Z299)","v":"0"},{"$f":"TRIM(Data!AA299)","v":"0"},414,"1 Nov 2024 to 30 Nov 2024","Hong Kong Christian Service","HKCS","GROUP","9179355867","IMMU","3","Local System","Local System","6","0","0","3","3","","0","0","0","0","0","0","0","0","0","0","0","0","","3","0.5","0","0","0","0","0","0","0","0"]
["1 Nov 2024 to 30 Nov 20247218241485AL1","1 Nov 2024 to 30 Nov 2024","DISTRICT HEALTH CENTRE-YUEN LONG (POH)","DHC-YUEN LONG","DHC",7218241485,"AL1",3,"Local System","Local System",6,0,0,2,4,null,0,0,0,0,2,0.33333333333333331,2,0,0,2,0,0,null,4,0.66666666666666663,0,0,0,0,0,0,0,0,"","","Y","1 Nov 2024 to 30 Nov 20249179355867AL1",{"$f":"Data!A300","v":"2024-11-01"},{"$f":"TRIM(Data!B300)","v":"HONG KONG CHRISTIAN SERVICE"},null,{"$f":"TRIM(Data!C300)","v":"NGO"},{"$f":"TRIM(Data!D300)","v":"9179355867"},{"$f":"TRIM(Data!E300)","v":"AL1"},{"$f":"TRIM(Data!F300)","v":"3,2"},{"$f":"TRIM(Data!G300)","v":"CMS On-ramp"},{"$f":"TRIM(Data!H300)","v":"CMS On-ramp"},{"$f":"TRIM(Data!I300)","v":"3"},{"$f":"TRIM(Data!J300)","v":"0"},{"$f":"TRIM(Data!K300)","v":"0"},{"$f":"TRIM(Data!L300)","v":"1"},{"$f":"TRIM(Data!M300)","v":"2"},null,null,null,{"$f":"TRIM(Data!N300)","v":"0"},{"$f":"TRIM(Data!O300)","v":"0"},{"$f":"TRIM(Data!P300)","v":"1"},null,{"$f":"TRIM(Data!Q300)","v":"1"},null,null,{"$f":"TRIM(Data!R300)","v":"1"},{"$f":"TRIM(Data!S300)","v":"0"},{"$f":"TRIM(Data!T300)","v":"0"},null,null,null,{"$f":"TRIM(Data!U300)","v":"0"},null,{"$f":"TRIM(Data!V300)","v":"0"},{"$f":"TRIM(Data!W300)","v":"0"},{"$f":"TRIM(Data!X300)","v":"0"},{"$f":"TRIM(Data!Y300)","v":"0"},{"$f":"TRIM(Data!Z300)","v":"0"},{"$f":"TRIM(Data!AA300)","v":"0"},412,"1 Nov 2024 to 30 Nov 2024","Hong Kong Christian Service","HKCS","GROUP","9179355867","AL1","3","Local System","Local System","3","0","0","1","2","","0","0","0","0","1","0.333333333333333","1","0","0","1","0","0","","2","0.666666666666667","0","0","0","0","0","0","0","0"]
["1 Nov 2024 to 30 Nov 20247221331623RAD","1 Nov 2024 to 30 Nov 2024","Acton Digital PET-CT Centre Limited","ACTON DIGITAL PET-CT CTR","GROUP",7221331623,"RAD",3,"Local System","Local System",98,0,0,0,98,null,0,0,0,0,0,0,0,0,0,0,0,0,null,98,1,0,0,0,0,0,0,0,0,"","","Y","1 Nov 2024 to 30 Nov 20244178262222LABAP",{"$f":"Data!A303","v":"2024-11-01"},{"$f":"TRIM(Data!B303)","v":"IPATH LABORATORY LIMITED"},null,{"$f":"TRIM(Data!C303)","v":"GRP"},{"$f":"TRIM(Data!D303)","v":"4178262222"},{"$f":"TRIM(Data!E303)","v":"LABAP"},{"$f":"TRIM(Data!F303)","v":"1"},{"$f":"TRIM(Data!G303)","v":"iPath"},{"$f":"TRIM(Data!H303)","v":"Local System"},{"$f":"TRIM(Data!I303)","v":"169"},{"$f":"TRIM(Data!J303)","v":"0"},{"$f":"TRIM(Data!K303)","v":"169"},{"$f":"TRIM(Data!L303)","v":"0"},{"$f":"TRIM(Data!M303)","v":"0"},null,null,null,{"$f":"TRIM(Data!N303)","v":"0"},{"$f":"TRIM(Data!O303)","v":"0"},{"$f":"TRIM(Data!P303)","v":"0"},null,{"$f":"TRIM(Data!Q303)","v":"0"},null,null,{"$f":"TRIM(Data!R303)","v":"0"},{"$f":"TRIM(Data!S303)","v":"0"},{"$f":"TRIM(Data!T303)","v":"0"},null,null,null,{"$f":"TRIM(Data!U303)","v":"0"},null,{"$f":"TRIM(Data!V303)","v":"0"},{"$f":"TRIM(Data!W303)","v":"0"},{"$f":"TRIM(Data!X303)","v":"0"},{"$f":"TRIM(Data!Y303)","v":"0"},{"$f":"TRIM(Data!Z303)","v":"0"},{"$f":"TRIM(Data!AA303)","v":"0"},150,"1 Nov 2024 to 30 Nov 2024","IPATH LABORATORY LIMITED","IPATH LABORATORY LIMITED","GROUP","4178262222","LABAP","1","Local System","Local System","169","0","169","0","0","","0","0","0","0","0","0","0","0","0","0","0","0","","0","0","0","0","0","0","0","0","0","0"]
["1 Nov 2024 to 30 Nov 20247228524127CMPX","1 Nov 2024 to 30 Nov 2024","HOLISTIC MIND LIMITED","HOLISTIC MIND","SOLO",7228524127,"CMPX",3,"Local System","EC Connect",3,0,0,1,2,null,0,0,0,0,0,0,0,0,0,0,0,0,null,2,0.66666666666666663,0,0,0,0,0,0,0,0,"Y","","","1 Nov 2024 to 30 Nov 20242825508730RXD",{"$f":"Data!A305","v":"2024-11-01"},{"$f":"TRIM(Data!B305)","v":"DR LEUNG KAM FUNG"},null,{"$f":"TRIM(Data!C305)","v":"SOLO"},{"$f":"TRIM(Data!D305)","v":"2825508730"},{"$f":"TRIM(Data!E305)","v":"RXD"},{"$f":"TRIM(Data!F305)","v":"2"},{"$f":"TRIM(Data!G305)","v":"ClinicSolution"},{"$f":"TRIM(Data!H305)","v":"Local System"},{"$f":"TRIM(Data!I305)","v":"41"},{"$f":"TRIM(Data!J305)","v":"0"},{"$f":"TRIM(Data!K305)","v":"0"},{"$f":"TRIM(Data!L305)","v":"41"},{"$f":"TRIM(Data!M305)","v":"0"},null,null,null,{"$f":"TRIM(Data!N305)","v":"0"},{"$f":"TRIM(Data!O305)","v":"0"},{"$f":"TRIM(Data!P305)","v":"0"},null,{"$f":"TRIM(Data!Q305)","v":"0"},null,null,{"$f":"TRIM(Data!R305)","v":"0"},{"$f":"TRIM(Data!S305)","v":"0"},{"$f":"TRIM(Data!T305)","v":"0"},null,null,null,{"$f":"TRIM(Data!U305)","v":"0"},null,{"$f":"TRIM(Data!V305)","v":"0"},{"$f":"TRIM(Data!W305)","v":"0"},{"$f":"TRIM(Data!X305)","v":"0"},{"$f":"TRIM(Data!Y305)","v":"0"},{"$f":"TRIM(Data!Z305)","v":"0"},{"$f":"TRIM(Data!AA305)","v":"0"},66,"1 Nov 2024 to 30 Nov 2024","DR LEUNG KAM FUNG","DR LEUNG KAM FUNG","SOLO","2825508730","RXD","2","ClinicSolution","Local System","41","0","0","41","0","","0","0","0","0","0","0","0","0","0","0","0","0","","0","0","0","0","0","0","0","0","0","0"]
["1 Nov 2024 to 30 Nov 20247228524127ENCTR","1 Nov 2024 to 30 Nov 2024","HOLISTIC MIND LIMITED","HOLISTIC MIND","SOLO",7228524127,"ENCTR",3,"Local System","Local System",3,0,0,0,3,null,0,0,0,0,0,0,0,0,0,0,0,0,null,3,1,0,0,0,0,0,0,0,0,"Y","","","1 Nov 2024 to 30 Nov 20243955467232RXO",{"$f":"Data!A308","v":"2024-11-01"},{"$f":"TRIM(Data!B308)","v":"CHOW KAI LAI"},null,{"$f":"TRIM(Data!C308)","v":"SOLO"},{"$f":"TRIM(Data!D308)","v":"3955467232"},{"$f":"TRIM(Data!E308)","v":"RXO"},{"$f":"TRIM(Data!F308)","v":"2"},{"$f":"TRIM(Data!G308)","v":"ClinicSolution"},{"$f":"TRIM(Data!H308)","v":"Local System"},{"$f":"TRIM(Data!I308)","v":"50"},{"$f":"TRIM(Data!J308)","v":"0"},{"$f":"TRIM(Data!K308)","v":"0"},{"$f":"TRIM(Data!L308)","v":"50"},{"$f":"TRIM(Data!M308)","v":"0"},null,null,null,{"$f":"TRIM(Data!N308)","v":"0"},{"$f":"TRIM(Data!O308)","v":"0"},{"$f":"TRIM(Data!P308)","v":"0"},null,{"$f":"TRIM(Data!Q308)","v":"0"},null,null,{"$f":"TRIM(Data!R308)","v":"0"},{"$f":"TRIM(Data!S308)","v":"0"},{"$f":"TRIM(Data!T308)","v":"0"},null,null,null,{"$f":"TRIM(Data!U308)","v":"0"},null,{"$f":"TRIM(Data!V308)","v":"0"},{"$f":"TRIM(Data!W308)","v":"0"},{"$f":"TRIM(Data!X308)","v":"0"},{"$f":"TRIM(Data!Y308)","v":"0"},{"$f":"TRIM(Data!Z308)","v":"0"},{"$f":"TRIM(Data!AA308)","v":"0"},146,"1 Nov 2024 to 30 Nov 2024","CHOW KAI LAI","CKL","SOLO","3955467232","RXO","2","ClinicSolution","Local System","50","0","0","50","0","","0","0","0","0","0","0","0","0","0","0","0","0","","0","0","0","0","0","0","0","0","0","0"]
["1 Nov 2024 to 30 Nov 20247334960147ENCTR","1 Nov 2024 to 30 Nov 2024","DHC EXPRESS-KWUN TONG (UCMS)","DHC EXPRESS-KWUN TONG-CC","DHC",7334960147,"ENCTR",3,"Local System","Local System",3464,0,0,0,3464,null,0,0,0,0,0,0,0,0,0,0,0,0,null,3464,1,0,0,0,0,0,0,0,0,"","","","1 Nov 2024 to 30 Nov 20243955467232ENCTR",{"$f":"Data!A309","v":"2024-11-01"},{"$f":"TRIM(Data!B309)","v":"CHOW KAI LAI"},null,{"$f":"TRIM(Data!C309)","v":"SOLO"},{"$f":"TRIM(Data!D309)","v":"3955467232"},{"$f":"TRIM(Data!E309)","v":"ENCTR"},{"$f":"TRIM(Data!F309)","v":"3"},{"$f":"TRIM(Data!G309)","v":"ClinicSolution"},{"$f":"TRIM(Data!H309)","v":"Local System"},{"$f":"TRIM(Data!I309)","v":"24"},{"$f":"TRIM(Data!J309)","v":"0"},{"$f":"TRIM(Data!K309)","v":"0"},{"$f":"TRIM(Data!L309)","v":"0"},{"$f":"TRIM(Data!M309)","v":"24"},null,null,null,{"$f":"TRIM(Data!N309)","v":"0"},{"$f":"TRIM(Data!O309)","v":"0"},{"$f":"TRIM(Data!P309)","v":"0"},null,{"$f":"TRIM(Data!Q309)","v":"0"},null,null,{"$f":"TRIM(Data!R309)","v":"0"},{"$f":"TRIM(Data!S309)","v":"0"},{"$f":"TRIM(Data!T309)","v":"0"},null,null,null,{"$f":"TRIM(Data!U309)","v":"0"},null,{"$f":"TRIM(Data!V309)","v":"0"},{"$f":"TRIM(Data!W309)","v":"0"},{"$f":"TRIM(Data!X309)","v":"0"},{"$f":"TRIM(Data!Y309)","v":"0"},{"$f":"TRIM(Data!Z309)","v":"0"},{"$f":"TRIM(Data!AA309)","v":"0"},142,"1 Nov 2024 to 30 Nov 2024","CHOW KAI LAI","CKL","SOLO","3955467232","ENCTR","3","ClinicSolution","Local System","24","0","0","0","24","","0","0","0","0","0","0","0","0","0","0","0","0","","24","1","0","0","0","0","0","0","0","0"]
["1 Nov 2024 to 30 Nov 20247417567584RAD","1 Nov 2024 to 30 Nov 2024","BNS Medical Imaging Limited                                                                                                                         ","BNS MEDICAL IMAGING LTD","GROUP",7417567584,"RAD",3,"RHI2","Local System",76,0,0,0,76,null,0,0,0,0,0,0,0,0,0,0,0,0,null,76,1,0,0,0,0,0,0,0,0,"","","","1 Nov 2024 to 30 Nov 20243955467232PX",{"$f":"Data!A311","v":"2024-11-01"},{"$f":"TRIM(Data!B311)","v":"CHOW KAI LAI"},null,{"$f":"TRIM(Data!C311)","v":"SOLO"},{"$f":"TRIM(Data!D311)","v":"3955467232"},{"$f":"TRIM(Data!E311)","v":"PX"},{"$f":"TRIM(Data!F311)","v":"3"},{"$f":"TRIM(Data!G311)","v":"ClinicSolution"},{"$f":"TRIM(Data!H311)","v":"Local System"},{"$f":"TRIM(Data!I311)","v":"9"},{"$f":"TRIM(Data!J311)","v":"0"},{"$f":"TRIM(Data!K311)","v":"0"},{"$f":"TRIM(Data!L311)","v":"9"},{"$f":"TRIM(Data!M311)","v":"0"},null,null,null,{"$f":"TRIM(Data!N311)","v":"0"},{"$f":"TRIM(Data!O311)","v":"0"},{"$f":"TRIM(Data!P311)","v":"9"},null,{"$f":"TRIM(Data!Q311)","v":"9"},null,null,{"$f":"TRIM(Data!R311)","v":"9"},{"$f":"TRIM(Data!S311)","v":"0"},{"$f":"TRIM(Data!T311)","v":"0"},null,null,null,{"$f":"TRIM(Data!U311)","v":"0"},null,{"$f":"TRIM(Data!V311)","v":"0"},{"$f":"TRIM(Data!W311)","v":"0"},{"$f":"TRIM(Data!X311)","v":"0"},{"$f":"TRIM(Data!Y311)","v":"0"},{"$f":"TRIM(Data!Z311)","v":"0"},{"$f":"TRIM(Data!AA311)","v":"0"},144,"1 Nov 2024 to 30 Nov 2024","CHOW KAI LAI","CKL","SOLO","3955467232","PX","3","ClinicSolution","Local System","9","0","0","9","0","","0","0","0","0","9","1","9","0","0","9","0","0","","0","0","0","0","0","0","0","0","0","0"]
["1 Nov 2024 to 30 Nov 20247764187800IMMU","1 Nov 2024 to 30 Nov 2024","eHealth Declaration Form","eHealth Declaration Form","DH",7764187800,"IMMU",3,"Local System","Local System",4629,0,0,0,4629,null,0,0,0,0,0,0,0,0,0,0,0,0,null,4629,1,0,0,0,0,0,0,0,0,"Y","","Y","1 Nov 2024 to 30 Nov 20243226804803RXD",{"$f":"Data!A314","v":"2024-11-01"},{"$f":"TRIM(Data!B314)","v":"DR. LEUNG KIN KAY"},null,{"$f":"TRIM(Data!C314)","v":"SOLO"},{"$f":"TRIM(Data!D314)","v":"3226804803"},{"$f":"TRIM(Data!E314)","v":"RXD"},{"$f":"TRIM(Data!F314)","v":"3,2"},{"$f":"TRIM(Data!G314)","v":"CMS On-ramp"},{"$f":"TRIM(Data!H314)","v":"CMS On-ramp"},{"$f":"TRIM(Data!I314)","v":"31"},{"$f":"TRIM(Data!J314)","v":"0"},{"$f":"TRIM(Data!K314)","v":"0"},{"$f":"TRIM(Data!L314)","v":"1"},{"$f":"TRIM(Data!M314)","v":"30"},null,null,null,{"$f":"TRIM(Data!N314)","v":"0"},{"$f":"TRIM(Data!O314)","v":"0"},{"$f":"TRIM(Data!P314)","v":"0"},null,{"$f":"TRIM(Data!Q314)","v":"0"},null,null,{"$f":"TRIM(Data!R314)","v":"0"},{"$f":"TRIM(Data!S314)","v":"0"},{"$f":"TRIM(Data!T314)","v":"0"},null,null,null,{"$f":"TRIM(Data!U314)","v":"1"},null,{"$f":"TRIM(Data!V314)","v":"0"},{"$f":"TRIM(Data!W314)","v":"0"},{"$f":"TRIM(Data!X314)","v":"0"},{"$f":"TRIM(Data!Y314)","v":"1"},{"$f":"TRIM(Data!Z314)","v":"0"},{"$f":"TRIM(Data!AA314)","v":"0"},99,"1 Nov 2024 to 30 Nov 2024","DR. LEUNG KIN KAY","DR. LEUNG KIN KAY","SOLO","3226804803","RXD","3","Local System","Local System","31","0","0","1","30","","0","0","0","0","0","0","0","0","0","0","0","0","","30","0.967741935483871","1","0.032258064516129","0","0","0","1","0","0"]
["1 Nov 2024 to 30 Nov 20247889756707EPIS","1 Nov 2024 to 30 Nov 2024","DR HO CHUNG PING","C.P. HO","SOLO",7889756707,"EPIS",1,"Local System","Local System",268,1,267,0,0,null,1,3.7313432835820895E-3,1,0,0,0,0,0,0,0,0,0,null,0,0,0,0,0,0,0,0,0,0,"","","Y","1 Nov 2024 to 30 Nov 20243226804803IMMU",{"$f":"Data!A317","v":"2024-11-01"},{"$f":"TRIM(Data!B317)","v":"DR. LEUNG KIN KAY"},null,{"$f":"TRIM(Data!C317)","v":"SOLO"},{"$f":"TRIM(Data!D317)","v":"3226804803"},{"$f":"TRIM(Data!E317)","v":"IMMU"},{"$f":"TRIM(Data!F317)","v":"3,2"},{"$f":"TRIM(Data!G317)","v":"CMS On-ramp"},{"$f":"TRIM(Data!H317)","v":"CMS On-ramp"},{"$f":"TRIM(Data!I317)","v":"1"},{"$f":"TRIM(Data!J317)","v":"0"},{"$f":"TRIM(Data!K317)","v":"0"},{"$f":"TRIM(Data!L317)","v":"0"},{"$f":"TRIM(Data!M317)","v":"1"},null,null,null,{"$f":"TRIM(Data!N317)","v":"0"},{"$f":"TRIM(Data!O317)","v":"0"},{"$f":"TRIM(Data!P317)","v":"0"},null,{"$f":"TRIM(Data!Q317)","v":"0"},null,null,{"$f":"TRIM(Data!R317)","v":"0"},{"$f":"TRIM(Data!S317)","v":"0"},{"$f":"TRIM(Data!T317)","v":"0"},null,null,null,{"$f":"TRIM(Data!U317)","v":"0"},null,{"$f":"TRIM(Data!V317)","v":"0"},{"$f":"TRIM(Data!W317)","v":"0"},{"$f":"TRIM(Data!X317)","v":"0"},{"$f":"TRIM(Data!Y317)","v":"0"},{"$f":"TRIM(Data!Z317)","v":"0"},{"$f":"TRIM(Data!AA317)","v":"0"},97,"1 Nov 2024 to 30 Nov 2024","DR. LEUNG KIN KAY","DR. LEUNG KIN KAY","SOLO","3226804803","IMMU","3","Local System","Local System","1","0","0","0","1","","0","0","0","0","0","0","0","0","0","0","0","0","","1","1","0","0","0","0","0","0","0","0"]
["1 Nov 2024 to 30 Nov 20247889756707IMMU","1 Nov 2024 to 30 Nov 2024","DR HO CHUNG PING","C.P. HO","SOLO",7889756707,"IMMU",3,"Local System","Local System",1,0,0,0,1,null,0,0,0,0,0,0,0,0,0,0,0,0,null,1,1,0,0,0,0,0,0,0,0,"","","","1 Nov 2024 to 30 Nov 20248832216811RXD",{"$f":"Data!A318","v":"2024-11-01"},{"$f":"TRIM(Data!B318)","v":"HEALTH & WEALTH MEDICAL CENTRE"},null,{"$f":"TRIM(Data!C318)","v":"SOLO"},{"$f":"TRIM(Data!D318)","v":"8832216811"},{"$f":"TRIM(Data!E318)","v":"RXD"},{"$f":"TRIM(Data!F318)","v":"2"},{"$f":"TRIM(Data!G318)","v":"ClinicSolution"},{"$f":"TRIM(Data!H318)","v":"Local System"},{"$f":"TRIM(Data!I318)","v":"40"},{"$f":"TRIM(Data!J318)","v":"0"},{"$f":"TRIM(Data!K318)","v":"0"},{"$f":"TRIM(Data!L318)","v":"40"},{"$f":"TRIM(Data!M318)","v":"0"},null,null,null,{"$f":"TRIM(Data!N318)","v":"0"},{"$f":"TRIM(Data!O318)","v":"0"},{"$f":"TRIM(Data!P318)","v":"0"},null,{"$f":"TRIM(Data!Q318)","v":"0"},null,null,{"$f":"TRIM(Data!R318)","v":"0"},{"$f":"TRIM(Data!S318)","v":"0"},{"$f":"TRIM(Data!T318)","v":"0"},null,null,null,{"$f":"TRIM(Data!U318)","v":"0"},null,{"$f":"TRIM(Data!V318)","v":"0"},{"$f":"TRIM(Data!W318)","v":"0"},{"$f":"TRIM(Data!X318)","v":"0"},{"$f":"TRIM(Data!Y318)","v":"0"},{"$f":"TRIM(Data!Z318)","v":"0"},{"$f":"TRIM(Data!AA318)","v":"0"},369,"1 Nov 2024 to 30 Nov 2024","HEALTH & WEALTH MEDICAL CENTRE","HWMCL","SOLO","8832216811","RXD","2","ClinicSolution","Local System","40","0","0","40","0","","0","0","0","0","0","0","0","0","0","0","0","0","","0","0","0","0","0","0","0","0","0","0"]
["1 Nov 2024 to 30 Nov 20247889756707RXO","1 Nov 2024 to 30 Nov 2024","DR HO CHUNG PING","C.P. HO","SOLO",7889756707,"RXO",3,"Local System","Local System",391,0,0,34,357,null,0,0,0,0,0,0,0,0,0,0,0,0,null,357,0.91304347826086951,0,0,0,0,0,0,0,0,"","","","1 Nov 2024 to 30 Nov 20248832216811ENCTR",{"$f":"Data!A321","v":"2024-11-01"},{"$f":"TRIM(Data!B321)","v":"HEALTH & WEALTH MEDICAL CENTRE"},null,{"$f":"TRIM(Data!C321)","v":"SOLO"},{"$f":"TRIM(Data!D321)","v":"8832216811"},{"$f":"TRIM(Data!E321)","v":"ENCTR"},{"$f":"TRIM(Data!F321)","v":"3"},{"$f":"TRIM(Data!G321)","v":"ClinicSolution"},{"$f":"TRIM(Data!H321)","v":"Local System"},{"$f":"TRIM(Data!I321)","v":"19"},{"$f":"TRIM(Data!J321)","v":"0"},{"$f":"TRIM(Data!K321)","v":"0"},{"$f":"TRIM(Data!L321)","v":"0"},{"$f":"TRIM(Data!M321)","v":"19"},null,null,null,{"$f":"TRIM(Data!N321)","v":"0"},{"$f":"TRIM(Data!O321)","v":"0"},{"$f":"TRIM(Data!P321)","v":"0"},null,{"$f":"TRIM(Data!Q321)","v":"0"},null,null,{"$f":"TRIM(Data!R321)","v":"0"},{"$f":"TRIM(Data!S321)","v":"0"},{"$f":"TRIM(Data!T321)","v":"0"},null,null,null,{"$f":"TRIM(Data!U321)","v":"0"},null,{"$f":"TRIM(Data!V321)","v":"0"},{"$f":"TRIM(Data!W321)","v":"0"},{"$f":"TRIM(Data!X321)","v":"0"},{"$f":"TRIM(Data!Y321)","v":"0"},{"$f":"TRIM(Data!Z321)","v":"0"},{"$f":"TRIM(Data!AA321)","v":"0"},366,"1 Nov 2024 to 30 Nov 2024","HEALTH & WEALTH MEDICAL CENTRE","HWMCL","SOLO","8832216811","ENCTR","3","ClinicSolution","Local System","19","0","0","0","19","","0","0","0","0","0","0","0","0","0","0","0","0","","19","1","0","0","0","0","0","0","0","0"]
["1 Nov 2024 to 30 Nov 20247969980015AL1","1 Nov 2024 to 30 Nov 2024","ST.TERESA's HOSPITAL","STH","PH",7969980015,"AL1",3,"STH HIS","Local System",264,0,0,90,174,null,0,0,0,0,79,0.29924242424242425,79,0,0,79,0,0,null,174,0.65909090909090906,0,0,0,0,0,0,0,0,"","","","1 Nov 2024 to 30 Nov 20248832216811IMMU",{"$f":"Data!A323","v":"2024-11-01"},{"$f":"TRIM(Data!B323)","v":"HEALTH & WEALTH MEDICAL CENTRE"},null,{"$f":"TRIM(Data!C323)","v":"SOLO"},{"$f":"TRIM(Data!D323)","v":"8832216811"},{"$f":"TRIM(Data!E323)","v":"IMMU"},{"$f":"TRIM(Data!F323)","v":"2"},{"$f":"TRIM(Data!G323)","v":"ClinicSolution"},{"$f":"TRIM(Data!H323)","v":"Local System"},{"$f":"TRIM(Data!I323)","v":"2"},{"$f":"TRIM(Data!J323)","v":"0"},{"$f":"TRIM(Data!K323)","v":"0"},{"$f":"TRIM(Data!L323)","v":"2"},{"$f":"TRIM(Data!M323)","v":"0"},null,null,null,{"$f":"TRIM(Data!N323)","v":"0"},{"$f":"TRIM(Data!O323)","v":"0"},{"$f":"TRIM(Data!P323)","v":"0"},null,{"$f":"TRIM(Data!Q323)","v":"0"},null,null,{"$f":"TRIM(Data!R323)","v":"0"},{"$f":"TRIM(Data!S323)","v":"0"},{"$f":"TRIM(Data!T323)","v":"0"},null,null,null,{"$f":"TRIM(Data!U323)","v":"0"},null,{"$f":"TRIM(Data!V323)","v":"0"},{"$f":"TRIM(Data!W323)","v":"0"},{"$f":"TRIM(Data!X323)","v":"0"},{"$f":"TRIM(Data!Y323)","v":"0"},{"$f":"TRIM(Data!Z323)","v":"0"},{"$f":"TRIM(Data!AA323)","v":"0"},367,"1 Nov 2024 to 30 Nov 2024","HEALTH & WEALTH MEDICAL CENTRE","HWMCL","SOLO","8832216811","IMMU","2","ClinicSolution","Local System","2","0","0","2","0","","0","0","0","0","0","0","0","0","0","0","0","0","","0","0","0","0","0","0","0","0","0","0"]
["1 Nov 2024 to 30 Nov 20247969980015LABAP","1 Nov 2024 to 30 Nov 2024","ST.TERESA's HOSPITAL","STH","PH",7969980015,"LABAP",1,"STH HIS","Local System",886,0,886,0,0,null,0,0,0,0,0,0,0,0,0,0,0,0,null,0,0,0,0,0,0,0,0,0,0,"","","","1 Nov 2024 to 30 Nov 20243747982882AL1",{"$f":"Data!A326","v":"2024-11-01"},{"$f":"TRIM(Data!B326)","v":"VMC HEALTHCARE GROUP LIMITED"},null,{"$f":"TRIM(Data!C326)","v":"SOLO"},{"$f":"TRIM(Data!D326)","v":"3747982882"},{"$f":"TRIM(Data!E326)","v":"AL1"},{"$f":"TRIM(Data!F326)","v":"2"},{"$f":"TRIM(Data!G326)","v":"ClinicSolution"},{"$f":"TRIM(Data!H326)","v":"Local System"},{"$f":"TRIM(Data!I326)","v":"3"},{"$f":"TRIM(Data!J326)","v":"0"},{"$f":"TRIM(Data!K326)","v":"0"},{"$f":"TRIM(Data!L326)","v":"3"},{"$f":"TRIM(Data!M326)","v":"0"},null,null,null,{"$f":"TRIM(Data!N326)","v":"0"},{"$f":"TRIM(Data!O326)","v":"0"},{"$f":"TRIM(Data!P326)","v":"0"},null,{"$f":"TRIM(Data!Q326)","v":"0"},null,null,{"$f":"TRIM(Data!R326)","v":"0"},{"$f":"TRIM(Data!S326)","v":"0"},{"$f":"TRIM(Data!T326)","v":"0"},null,null,null,{"$f":"TRIM(Data!U326)","v":"0"},null,{"$f":"TRIM(Data!V326)","v":"0"},{"$f":"TRIM(Data!W326)","v":"0"},{"$f":"TRIM(Data!X326)","v":"0"},{"$f":"TRIM(Data!Y326)","v":"0"},{"$f":"TRIM(Data!Z326)","v":"0"},{"$f":"TRIM(Data!AA326)","v":"0"},136,"1 Nov 2024 to 30 Nov 2024","VMC Healthcare Group Limited","VMC HEALTHCARE GROUP","SOLO","3747982882","AL1","2","ClinicSolution","Local System","3","0","0","3","0","","0","0","0","0","0","0","0","0","0","0","0","0","","0","0","0","0","0","0","0","0","0","0"]
["1 Nov 2024 to 30 Nov 20247969980015RAD","1 Nov 2024 to 30 Nov 2024","ST.TERESA's HOSPITAL","STH","PH",7969980015,"RAD",3,"STH HIS","Local System",4611,0,0,0,4611,null,0,0,0,0,0,0,0,0,0,0,0,0,null,4611,1,0,0,0,0,0,0,0,0,"","","","1 Nov 2024 to 30 Nov 20243747982882PROB",{"$f":"Data!A327","v":"2024-11-01"},{"$f":"TRIM(Data!B327)","v":"VMC HEALTHCARE GROUP LIMITED"},null,{"$f":"TRIM(Data!C327)","v":"SOLO"},{"$f":"TRIM(Data!D327)","v":"3747982882"},{"$f":"TRIM(Data!E327)","v":"PROB"},{"$f":"TRIM(Data!F327)","v":"3"},{"$f":"TRIM(Data!G327)","v":"ClinicSolution"},{"$f":"TRIM(Data!H327)","v":"Local System"},{"$f":"TRIM(Data!I327)","v":"1"},{"$f":"TRIM(Data!J327)","v":"0"},{"$f":"TRIM(Data!K327)","v":"0"},{"$f":"TRIM(Data!L327)","v":"1"},{"$f":"TRIM(Data!M327)","v":"0"},null,null,null,{"$f":"TRIM(Data!N327)","v":"0"},{"$f":"TRIM(Data!O327)","v":"0"},{"$f":"TRIM(Data!P327)","v":"1"},null,{"$f":"TRIM(Data!Q327)","v":"1"},null,null,{"$f":"TRIM(Data!R327)","v":"1"},{"$f":"TRIM(Data!S327)","v":"0"},{"$f":"TRIM(Data!T327)","v":"0"},null,null,null,{"$f":"TRIM(Data!U327)","v":"0"},null,{"$f":"TRIM(Data!V327)","v":"0"},{"$f":"TRIM(Data!W327)","v":"0"},{"$f":"TRIM(Data!X327)","v":"0"},{"$f":"TRIM(Data!Y327)","v":"0"},{"$f":"TRIM(Data!Z327)","v":"0"},{"$f":"TRIM(Data!AA327)","v":"0"},138,"1 Nov 2024 to 30 Nov 2024","VMC Healthcare Group Limited","VMC HEALTHCARE GROUP","SOLO","3747982882","PROB","3","ClinicSolution","Local System","1","0","0","1","0","","0","0","0","0","1","1","1","0","0","1","0","0","","0","0","0","0","0","0","0","0","0","0"]
["1 Nov 2024 to 30 Nov 20248061038543CMPX","1 Nov 2024 to 30 Nov 2024","Shao Yao Chinese Medicine Clinic Limited","SYCMC LTD","SOLO",8061038543,"CMPX",3,"Local System","EC Connect",1,0,0,0,1,null,0,0,0,0,0,0,0,0,0,0,0,0,null,1,1,0,0,0,0,0,0,0,0,"","","","1 Nov 2024 to 30 Nov 20244830743861PX",{"$f":"Data!A331","v":"2024-11-01"},{"$f":"TRIM(Data!B331)","v":"DR CHAN YUEN SANG"},null,{"$f":"TRIM(Data!C331)","v":"SOLO"},{"$f":"TRIM(Data!D331)","v":"4830743861"},{"$f":"TRIM(Data!E331)","v":"PX"},{"$f":"TRIM(Data!F331)","v":"3"},{"$f":"TRIM(Data!G331)","v":"ClinicSolution"},{"$f":"TRIM(Data!H331)","v":"Local System"},{"$f":"TRIM(Data!I331)","v":"1"},{"$f":"TRIM(Data!J331)","v":"0"},{"$f":"TRIM(Data!K331)","v":"0"},{"$f":"TRIM(Data!L331)","v":"1"},{"$f":"TRIM(Data!M331)","v":"0"},null,null,null,{"$f":"TRIM(Data!N331)","v":"0"},{"$f":"TRIM(Data!O331)","v":"0"},{"$f":"TRIM(Data!P331)","v":"1"},null,{"$f":"TRIM(Data!Q331)","v":"1"},null,null,{"$f":"TRIM(Data!R331)","v":"1"},{"$f":"TRIM(Data!S331)","v":"0"},{"$f":"TRIM(Data!T331)","v":"0"},null,null,null,{"$f":"TRIM(Data!U331)","v":"0"},null,{"$f":"TRIM(Data!V331)","v":"0"},{"$f":"TRIM(Data!W331)","v":"0"},{"$f":"TRIM(Data!X331)","v":"0"},{"$f":"TRIM(Data!Y331)","v":"0"},{"$f":"TRIM(Data!Z331)","v":"0"},{"$f":"TRIM(Data!AA331)","v":"0"},180,"1 Nov 2024 to 30 Nov 2024","DR CHAN YUEN SANG","DR CHAN YUEN SANG","SOLO","4830743861","PX","3","ClinicSolution","Local System","1","0","0","1","0","","0","0","0","0","1","1","1","0","0","1","0","0","","0","0","0","0","0","0","0","0","0","0"]
["1 Nov 2024 to 30 Nov 20248061038543CMRXD","1 Nov 2024 to 30 Nov 2024","Shao Yao Chinese Medicine Clinic Limited","SYCMC LTD","SOLO",8061038543,"CMRXD",3,"Local System","EC Connect",4,0,0,0,4,null,0,0,0,0,0,0,0,0,0,0,0,0,null,4,1,0,0,0,0,0,0,0,0,"","","","1 Nov 2024 to 30 Nov 20243168691844RAD",{"$f":"Data!A332","v":"2024-11-01"},{"$f":"TRIM(Data!B332)","v":"HEALTH IMAGING & CHECK-UP CENTRE LIMITED"},null,{"$f":"TRIM(Data!C332)","v":"SOLO"},{"$f":"TRIM(Data!D332)","v":"3168691844"},{"$f":"TRIM(Data!E332)","v":"RAD"},{"$f":"TRIM(Data!F332)","v":"3"},{"$f":"TRIM(Data!G332)","v":"RHI2"},{"$f":"TRIM(Data!H332)","v":"Local System"},{"$f":"TRIM(Data!I332)","v":"109"},{"$f":"TRIM(Data!J332)","v":"0"},{"$f":"TRIM(Data!K332)","v":"0"},{"$f":"TRIM(Data!L332)","v":"0"},{"$f":"TRIM(Data!M332)","v":"109"},null,null,null,{"$f":"TRIM(Data!N332)","v":"0"},{"$f":"TRIM(Data!O332)","v":"0"},{"$f":"TRIM(Data!P332)","v":"0"},null,{"$f":"TRIM(Data!Q332)","v":"0"},null,null,{"$f":"TRIM(Data!R332)","v":"0"},{"$f":"TRIM(Data!S332)","v":"0"},{"$f":"TRIM(Data!T332)","v":"0"},null,null,null,{"$f":"TRIM(Data!U332)","v":"0"},null,{"$f":"TRIM(Data!V332)","v":"0"},{"$f":"TRIM(Data!W332)","v":"0"},{"$f":"TRIM(Data!X332)","v":"0"},{"$f":"TRIM(Data!Y332)","v":"0"},{"$f":"TRIM(Data!Z332)","v":"0"},{"$f":"TRIM(Data!AA332)","v":"0"},94,"1 Nov 2024 to 30 Nov 2024","HEALTH IMAGING & CHECK-UP CENTRE LIMITED","HICUC","SOLO","3168691844","RAD","3","RHI2","Local System","109","0","0","0","109","","0","0","0","0","0","0","0","0","0","0","0","0","","109","1","0","0","0","0","0","0","0","0"]
["1 Nov 2024 to 30 Nov 20248154807797ENCTR","1 Nov 2024 to 30 Nov 2024","CELESTIAL HEALTHCARE                                                                                                                                                                                                                                                                                                                                                                                                                                                                                                             ","DR. LIM CHAW NAM","SOLO",8154807797,"ENCTR",3,"ClinicSolution","Local System",272,0,0,0,272,null,0,0,0,0,0,0,0,0,0,0,0,0,null,272,1,0,0,0,0,0,0,0,0,"","","Y","1 Nov 2024 to 30 Nov 20245368445357ENCTR",{"$f":"Data!A335","v":"2024-11-01"},{"$f":"TRIM(Data!B335)","v":"HEALTH INTEGRATED LIMITED"},null,{"$f":"TRIM(Data!C335)","v":"SOLO"},{"$f":"TRIM(Data!D335)","v":"5368445357"},{"$f":"TRIM(Data!E335)","v":"ENCTR"},{"$f":"TRIM(Data!F335)","v":"3"},{"$f":"TRIM(Data!G335)","v":"ClinicSolution"},{"$f":"TRIM(Data!H335)","v":"Local System"},{"$f":"TRIM(Data!I335)","v":"10"},{"$f":"TRIM(Data!J335)","v":"10"},{"$f":"TRIM(Data!K335)","v":"0"},{"$f":"TRIM(Data!L335)","v":"0"},{"$f":"TRIM(Data!M335)","v":"0"},null,null,null,{"$f":"TRIM(Data!N335)","v":"10"},{"$f":"TRIM(Data!O335)","v":"0"},{"$f":"TRIM(Data!P335)","v":"0"},null,{"$f":"TRIM(Data!Q335)","v":"0"},null,null,{"$f":"TRIM(Data!R335)","v":"0"},{"$f":"TRIM(Data!S335)","v":"0"},{"$f":"TRIM(Data!T335)","v":"0"},null,null,null,{"$f":"TRIM(Data!U335)","v":"0"},null,{"$f":"TRIM(Data!V335)","v":"0"},{"$f":"TRIM(Data!W335)","v":"0"},{"$f":"TRIM(Data!X335)","v":"0"},{"$f":"TRIM(Data!Y335)","v":"0"},{"$f":"TRIM(Data!Z335)","v":"0"},{"$f":"TRIM(Data!AA335)","v":"0"},203,"1 Nov 2024 to 30 Nov 2024","HEALTH INTEGRATED LIMITED","HEALTH INTEGRATED LIMITED","OTH","5368445357","ENCTR","3","ClinicSolution","Local System","10","10","0","0","0","","10","1","10","0","0","0","0","0","0","0","0","0","","0","0","0","0","0","0","0","0","0","0"]
["1 Nov 2024 to 30 Nov 20248154807797PX","1 Nov 2024 to 30 Nov 2024","CELESTIAL HEALTHCARE                                                                                                                                                                                                                                                                                                                                                                                                                                                                                                             ","DR. LIM CHAW NAM","SOLO",8154807797,"PX",3,"ClinicSolution","Local System",5,0,0,5,0,null,0,0,0,0,5,1,5,0,0,5,0,0,null,0,0,0,0,0,0,0,0,0,0,"","","Y","1 Nov 2024 to 30 Nov 20245368445357PX",{"$f":"Data!A337","v":"2024-11-01"},{"$f":"TRIM(Data!B337)","v":"HEALTH INTEGRATED LIMITED"},null,{"$f":"TRIM(Data!C337)","v":"SOLO"},{"$f":"TRIM(Data!D337)","v":"5368445357"},{"$f":"TRIM(Data!E337)","v":"PX"},{"$f":"TRIM(Data!F337)","v":"3"},{"$f":"TRIM(Data!G337)","v":"ClinicSolution"},{"$f":"TRIM(Data!H337)","v":"Local System"},{"$f":"TRIM(Data!I337)","v":"3"},{"$f":"TRIM(Data!J337)","v":"0"},{"$f":"TRIM(Data!K337)","v":"0"},{"$f":"TRIM(Data!L337)","v":"3"},{"$f":"TRIM(Data!M337)","v":"0"},null,null,null,{"$f":"TRIM(Data!N337)","v":"0"},{"$f":"TRIM(Data!O337)","v":"0"},{"$f":"TRIM(Data!P337)","v":"3"},null,{"$f":"TRIM(Data!Q337)","v":"3"},null,null,{"$f":"TRIM(Data!R337)","v":"3"},{"$f":"TRIM(Data!S337)","v":"0"},{"$f":"TRIM(Data!T337)","v":"0"},null,null,null,{"$f":"TRIM(Data!U337)","v":"0"},null,{"$f":"TRIM(Data!V337)","v":"0"},{"$f":"TRIM(Data!W337)","v":"0"},{"$f":"TRIM(Data!X337)","v":"0"},{"$f":"TRIM(Data!Y337)","v":"0"},{"$f":"TRIM(Data!Z337)","v":"0"},{"$f":"TRIM(Data!AA337)","v":"0"},205,"1 Nov 2024 to 30 Nov 2024","HEALTH INTEGRATED LIMITED","HEALTH INTEGRATED LIMITED","OTH","5368445357","PX","3","ClinicSolution","Local System","3","0","0","3","0","","0","0","0","0","3","1","3","0","0","3","0","0","","0","0","0","0","0","0","0","0","0","0"]
["1 Nov 2024 to 30 Nov 20248252506240ADR","1 Nov 2024 to 30 Nov 2024","CANOSSA HOSPITAL (CARITAS)","CANNOSSA HOSPITAL","PH",8252506240,"ADR",3,"Canossa Hospital Management System","Local System",2,0,0,0,2,null,0,0,0,0,0,0,0,0,0,0,0,0,null,2,1,0,0,0,0,0,0,0,0,"","","Y","1 Nov 2024 to 30 Nov 20245634981022EPIS",{"$f":"Data!A340","v":"2024-11-01"},{"$f":"TRIM(Data!B340)","v":"HUMAN HEALTH MEDICAL CENTRE."},null,{"$f":"TRIM(Data!C340)","v":"GRP"},{"$f":"TRIM(Data!D340)","v":"5634981022"},{"$f":"TRIM(Data!E340)","v":"EPIS"},{"$f":"TRIM(Data!F340)","v":"1"},{"$f":"TRIM(Data!G340)","v":"RCMS_LAAM"},{"$f":"TRIM(Data!H340)","v":"Local System"},{"$f":"TRIM(Data!I340)","v":"43"},{"$f":"TRIM(Data!J340)","v":"0"},{"$f":"TRIM(Data!K340)","v":"43"},{"$f":"TRIM(Data!L340)","v":"0"},{"$f":"TRIM(Data!M340)","v":"0"},null,null,null,{"$f":"TRIM(Data!N340)","v":"0"},{"$f":"TRIM(Data!O340)","v":"0"},{"$f":"TRIM(Data!P340)","v":"0"},null,{"$f":"TRIM(Data!Q340)","v":"0"},null,null,{"$f":"TRIM(Data!R340)","v":"0"},{"$f":"TRIM(Data!S340)","v":"0"},{"$f":"TRIM(Data!T340)","v":"0"},null,null,null,{"$f":"TRIM(Data!U340)","v":"0"},null,{"$f":"TRIM(Data!V340)","v":"0"},{"$f":"TRIM(Data!W340)","v":"0"},{"$f":"TRIM(Data!X340)","v":"0"},{"$f":"TRIM(Data!Y340)","v":"0"},{"$f":"TRIM(Data!Z340)","v":"0"},{"$f":"TRIM(Data!AA340)","v":"0"},217,"1 Nov 2024 to 30 Nov 2024","HUMAN HEALTH MEDICAL CENTRE.","HUMAN HEALTH","GROUP","5634981022","EPIS","1","RCMS_LAAM","Local System","43","0","43","0","0","","0","0","0","0","0","0","0","0","0","0","0","0","","0","0","0","0","0","0","0","0","0","0"]
["1 Nov 2024 to 30 Nov 20248252506240AL1","1 Nov 2024 to 30 Nov 2024","CANOSSA HOSPITAL (CARITAS)","CANNOSSA HOSPITAL","PH",8252506240,"AL1",3,"Canossa Hospital Management System","Local System",26,0,0,8,18,null,0,0,0,0,8,0.30769230769230771,8,0,0,8,0,0,null,18,0.69230769230769229,0,0,0,0,0,0,0,0,"","","Y","1 Nov 2024 to 30 Nov 20243426117536RAD",{"$f":"Data!A341","v":"2024-11-01"},{"$f":"TRIM(Data!B341)","v":"INSTA MEDLAB MRI CENTRE LIMITED"},null,{"$f":"TRIM(Data!C341)","v":"GRP"},{"$f":"TRIM(Data!D341)","v":"3426117536"},{"$f":"TRIM(Data!E341)","v":"RAD"},{"$f":"TRIM(Data!F341)","v":"3"},{"$f":"TRIM(Data!G341)","v":"RIS(LAAM for Insta MedLab PRD)"},{"$f":"TRIM(Data!H341)","v":"Local System"},{"$f":"TRIM(Data!I341)","v":"83"},{"$f":"TRIM(Data!J341)","v":"0"},{"$f":"TRIM(Data!K341)","v":"0"},{"$f":"TRIM(Data!L341)","v":"0"},{"$f":"TRIM(Data!M341)","v":"83"},null,null,null,{"$f":"TRIM(Data!N341)","v":"0"},{"$f":"TRIM(Data!O341)","v":"0"},{"$f":"TRIM(Data!P341)","v":"0"},null,{"$f":"TRIM(Data!Q341)","v":"0"},null,null,{"$f":"TRIM(Data!R341)","v":"0"},{"$f":"TRIM(Data!S341)","v":"0"},{"$f":"TRIM(Data!T341)","v":"0"},null,null,null,{"$f":"TRIM(Data!U341)","v":"0"},null,{"$f":"TRIM(Data!V341)","v":"0"},{"$f":"TRIM(Data!W341)","v":"0"},{"$f":"TRIM(Data!X341)","v":"0"},{"$f":"TRIM(Data!Y341)","v":"0"},{"$f":"TRIM(Data!Z341)","v":"0"},{"$f":"TRIM(Data!AA341)","v":"0"},109,"1 Nov 2024 to 30 Nov 2024","INSTA MELAB MRI CENTRE LIMITED","INSTA MELAB MRI CTR LTD","GROUP","3426117536","RAD","3","RIS(LAAM for Insta MedLab PRD)","Local System","83","0","0","0","83","","0","0","0","0","0","0","0","0","0","0","0","0","","83","1","0","0","0","0","0","0","0","0"]
["1 Nov 2024 to 30 Nov 20248256954924RXD","1 Nov 2024 to 30 Nov 2024","DR LAM KOON MAN CLINIC","DR LAM KOON MAN CLINIC","SOLO",8256954924,"RXD",2,"ClinicSolution","Local System",2,0,0,2,0,null,0,0,0,0,0,0,0,0,0,0,0,0,null,0,0,0,0,0,0,0,0,0,0,"","","Y","1 Nov 2024 to 30 Nov 20249306084059ENCTR",{"$f":"Data!A344","v":"2024-11-01"},{"$f":"TRIM(Data!B344)","v":"ADVANCE X-RAY & MEDICAL DIAGNOSTIC CENTRE LTD"},null,{"$f":"TRIM(Data!C344)","v":"SOLO"},{"$f":"TRIM(Data!D344)","v":"9306084059"},{"$f":"TRIM(Data!E344)","v":"ENCTR"},{"$f":"TRIM(Data!F344)","v":"3"},{"$f":"TRIM(Data!G344)","v":"HKMA CMS for LAAM"},{"$f":"TRIM(Data!H344)","v":"Local System"},{"$f":"TRIM(Data!I344)","v":"2"},{"$f":"TRIM(Data!J344)","v":"0"},{"$f":"TRIM(Data!K344)","v":"0"},{"$f":"TRIM(Data!L344)","v":"0"},{"$f":"TRIM(Data!M344)","v":"2"},null,null,null,{"$f":"TRIM(Data!N344)","v":"0"},{"$f":"TRIM(Data!O344)","v":"0"},{"$f":"TRIM(Data!P344)","v":"0"},null,{"$f":"TRIM(Data!Q344)","v":"0"},null,null,{"$f":"TRIM(Data!R344)","v":"0"},{"$f":"TRIM(Data!S344)","v":"0"},{"$f":"TRIM(Data!T344)","v":"0"},null,null,null,{"$f":"TRIM(Data!U344)","v":"0"},null,{"$f":"TRIM(Data!V344)","v":"0"},{"$f":"TRIM(Data!W344)","v":"0"},{"$f":"TRIM(Data!X344)","v":"0"},{"$f":"TRIM(Data!Y344)","v":"0"},{"$f":"TRIM(Data!Z344)","v":"0"},{"$f":"TRIM(Data!AA344)","v":"0"},421,"1 Nov 2024 to 30 Nov 2024","Advance X-Ray & Medical Diagnostic Centre Ltd","AXMDCL","SOLO","9306084059","ENCTR","3","CMS5.0 (HKMA)","Local System","2","0","0","0","2","","0","0","0","0","0","0","0","0","0","0","0","0","","2","1","0","0","0","0","0","0","0","0"]
["1 Nov 2024 to 30 Nov 20248256954924RXO","1 Nov 2024 to 30 Nov 2024","DR LAM KOON MAN CLINIC","DR LAM KOON MAN CLINIC","SOLO",8256954924,"RXO",2,"ClinicSolution","Local System",2,0,0,2,0,null,0,0,0,0,0,0,0,0,0,0,0,0,null,0,0,0,0,0,0,0,0,0,0,"","","","1 Nov 2024 to 30 Nov 20246256774535RXD",{"$f":"Data!A345","v":"2024-11-01"},{"$f":"TRIM(Data!B345)","v":"DR. WONG MAN HUNG"},null,{"$f":"TRIM(Data!C345)","v":"SOLO"},{"$f":"TRIM(Data!D345)","v":"6256774535"},{"$f":"TRIM(Data!E345)","v":"RXD"},{"$f":"TRIM(Data!F345)","v":"2"},{"$f":"TRIM(Data!G345)","v":"ClinicSolution"},{"$f":"TRIM(Data!H345)","v":"Local System"},{"$f":"TRIM(Data!I345)","v":"23"},{"$f":"TRIM(Data!J345)","v":"0"},{"$f":"TRIM(Data!K345)","v":"0"},{"$f":"TRIM(Data!L345)","v":"23"},{"$f":"TRIM(Data!M345)","v":"0"},null,null,null,{"$f":"TRIM(Data!N345)","v":"0"},{"$f":"TRIM(Data!O345)","v":"0"},{"$f":"TRIM(Data!P345)","v":"0"},null,{"$f":"TRIM(Data!Q345)","v":"0"},null,null,{"$f":"TRIM(Data!R345)","v":"0"},{"$f":"TRIM(Data!S345)","v":"0"},{"$f":"TRIM(Data!T345)","v":"0"},null,null,null,{"$f":"TRIM(Data!U345)","v":"0"},null,{"$f":"TRIM(Data!V345)","v":"0"},{"$f":"TRIM(Data!W345)","v":"0"},{"$f":"TRIM(Data!X345)","v":"0"},{"$f":"TRIM(Data!Y345)","v":"0"},{"$f":"TRIM(Data!Z345)","v":"0"},{"$f":"TRIM(Data!AA345)","v":"0"},254,"1 Nov 2024 to 30 Nov 2024","DR. WONG MAN HUNG","DR. WONG MAN HUNG","SOLO","6256774535","RXD","2","ClinicSolution","Local System","23","0","0","23","0","","0","0","0","0","0","0","0","0","0","0","0","0","","0","0","0","0","0","0","0","0","0","0"]
["1 Nov 2024 to 30 Nov 20248296860643ENCTR","1 Nov 2024 to 30 Nov 2024","18 Chinese Medicine Clinic cum Traing and Research Centre (The Hong Kong Buddist Association)","18CMCTRs (HKBA)","NGO",8296860643,"ENCTR",3,"Local System","Local System",351,0,0,0,351,null,0,0,0,0,0,0,0,0,0,0,0,0,null,351,1,0,0,0,0,0,0,0,0,"","","","1 Nov 2024 to 30 Nov 20249841327550ENCTR",{"$f":"Data!A349","v":"2024-11-01"},{"$f":"TRIM(Data!B349)","v":"HEALS CLINIC LIMITED"},null,{"$f":"TRIM(Data!C349)","v":"SOLO"},{"$f":"TRIM(Data!D349)","v":"9841327550"},{"$f":"TRIM(Data!E349)","v":"ENCTR"},{"$f":"TRIM(Data!F349)","v":"3"},{"$f":"TRIM(Data!G349)","v":"ClinicSolution"},{"$f":"TRIM(Data!H349)","v":"Local System"},{"$f":"TRIM(Data!I349)","v":"18"},{"$f":"TRIM(Data!J349)","v":"0"},{"$f":"TRIM(Data!K349)","v":"0"},{"$f":"TRIM(Data!L349)","v":"0"},{"$f":"TRIM(Data!M349)","v":"18"},null,null,null,{"$f":"TRIM(Data!N349)","v":"0"},{"$f":"TRIM(Data!O349)","v":"0"},{"$f":"TRIM(Data!P349)","v":"0"},null,{"$f":"TRIM(Data!Q349)","v":"0"},null,null,{"$f":"TRIM(Data!R349)","v":"0"},{"$f":"TRIM(Data!S349)","v":"0"},{"$f":"TRIM(Data!T349)","v":"0"},null,null,null,{"$f":"TRIM(Data!U349)","v":"0"},null,{"$f":"TRIM(Data!V349)","v":"0"},{"$f":"TRIM(Data!W349)","v":"0"},{"$f":"TRIM(Data!X349)","v":"0"},{"$f":"TRIM(Data!Y349)","v":"0"},{"$f":"TRIM(Data!Z349)","v":"0"},{"$f":"TRIM(Data!AA349)","v":"0"},448,"1 Nov 2024 to 30 Nov 2024","HEALS CLINIC LIMITED","HEALS CLINIC LIMITED","SOLO","9841327550","ENCTR","3","ClinicSolution","Local System","18","0","0","0","18","","0","0","0","0","0","0","0","0","0","0","0","0","","18","1","0","0","0","0","0","0","0","0"]
["1 Nov 2024 to 30 Nov 20248558761107ENCTR","1 Nov 2024 to 30 Nov 2024","DY EYE CONSULTANT LIMITED","DY EYE CONSULTANT LIMITED","SOLO",8558761107,"ENCTR",3,"ClinicSolution","Local System",88,0,0,0,88,null,0,0,0,0,0,0,0,0,0,0,0,0,null,88,1,0,0,0,0,0,0,0,0,"","","","1 Nov 2024 to 30 Nov 20249841327550RXD",{"$f":"Data!A350","v":"2024-11-01"},{"$f":"TRIM(Data!B350)","v":"HEALS CLINIC LIMITED"},null,{"$f":"TRIM(Data!C350)","v":"SOLO"},{"$f":"TRIM(Data!D350)","v":"9841327550"},{"$f":"TRIM(Data!E350)","v":"RXD"},{"$f":"TRIM(Data!F350)","v":"2"},{"$f":"TRIM(Data!G350)","v":"ClinicSolution"},{"$f":"TRIM(Data!H350)","v":"Local System"},{"$f":"TRIM(Data!I350)","v":"17"},{"$f":"TRIM(Data!J350)","v":"0"},{"$f":"TRIM(Data!K350)","v":"0"},{"$f":"TRIM(Data!L350)","v":"17"},{"$f":"TRIM(Data!M350)","v":"0"},null,null,null,{"$f":"TRIM(Data!N350)","v":"0"},{"$f":"TRIM(Data!O350)","v":"0"},{"$f":"TRIM(Data!P350)","v":"0"},null,{"$f":"TRIM(Data!Q350)","v":"0"},null,null,{"$f":"TRIM(Data!R350)","v":"0"},{"$f":"TRIM(Data!S350)","v":"0"},{"$f":"TRIM(Data!T350)","v":"0"},null,null,null,{"$f":"TRIM(Data!U350)","v":"0"},null,{"$f":"TRIM(Data!V350)","v":"0"},{"$f":"TRIM(Data!W350)","v":"0"},{"$f":"TRIM(Data!X350)","v":"0"},{"$f":"TRIM(Data!Y350)","v":"0"},{"$f":"TRIM(Data!Z350)","v":"0"},{"$f":"TRIM(Data!AA350)","v":"0"},451,"1 Nov 2024 to 30 Nov 2024","HEALS CLINIC LIMITED","HEALS CLINIC LIMITED","SOLO","9841327550","RXD","2","ClinicSolution","Local System","17","0","0","17","0","","0","0","0","0","0","0","0","0","0","0","0","0","","0","0","0","0","0","0","0","0","0","0"]
["1 Nov 2024 to 30 Nov 20248558761107RXD","1 Nov 2024 to 30 Nov 2024","DY EYE CONSULTANT LIMITED","DY EYE CONSULTANT LIMITED","SOLO",8558761107,"RXD",2,"ClinicSolution","Local System",94,0,0,94,0,null,0,0,0,0,0,0,0,0,0,0,0,0,null,0,0,0,0,0,0,0,0,0,0,"","","","1 Nov 2024 to 30 Nov 20249841327550PROB",{"$f":"Data!A353","v":"2024-11-01"},{"$f":"TRIM(Data!B353)","v":"HEALS CLINIC LIMITED"},null,{"$f":"TRIM(Data!C353)","v":"SOLO"},{"$f":"TRIM(Data!D353)","v":"9841327550"},{"$f":"TRIM(Data!E353)","v":"PROB"},{"$f":"TRIM(Data!F353)","v":"3"},{"$f":"TRIM(Data!G353)","v":"ClinicSolution"},{"$f":"TRIM(Data!H353)","v":"Local System"},{"$f":"TRIM(Data!I353)","v":"2"},{"$f":"TRIM(Data!J353)","v":"0"},{"$f":"TRIM(Data!K353)","v":"0"},{"$f":"TRIM(Data!L353)","v":"0"},{"$f":"TRIM(Data!M353)","v":"2"},null,null,null,{"$f":"TRIM(Data!N353)","v":"0"},{"$f":"TRIM(Data!O353)","v":"0"},{"$f":"TRIM(Data!P353)","v":"0"},null,{"$f":"TRIM(Data!Q353)","v":"0"},null,null,{"$f":"TRIM(Data!R353)","v":"0"},{"$f":"TRIM(Data!S353)","v":"0"},{"$f":"TRIM(Data!T353)","v":"0"},null,null,null,{"$f":"TRIM(Data!U353)","v":"0"},null,{"$f":"TRIM(Data!V353)","v":"0"},{"$f":"TRIM(Data!W353)","v":"0"},{"$f":"TRIM(Data!X353)","v":"0"},{"$f":"TRIM(Data!Y353)","v":"0"},{"$f":"TRIM(Data!Z353)","v":"0"},{"$f":"TRIM(Data!AA353)","v":"0"},450,"1 Nov 2024 to 30 Nov 2024","HEALS CLINIC LIMITED","HEALS CLINIC LIMITED","SOLO","9841327550","PROB","3","ClinicSolution","Local System","2","0","0","0","2","","0","0","0","0","0","0","0","0","0","0","0","0","","2","1","0","0","0","0","0","0","0","0"]
["1 Nov 2024 to 30 Nov 20248755083644ENCTR","1 Nov 2024 to 30 Nov 2024","HEALTHFOCUS MEDICAL CENTRE LIMITED","HEALTHFOCUS MEDICAL","SOLO",8755083644,"ENCTR",3,"ClinicSolution","Local System",1,0,0,0,1,null,0,0,0,0,0,0,0,0,0,0,0,0,null,1,1,0,0,0,0,0,0,0,0,"Y","","","1 Nov 2024 to 30 Nov 20243545073904ENCTR",{"$f":"Data!A355","v":"2024-11-01"},{"$f":"TRIM(Data!B355)","v":"CLEARBRIDGE MEDICAL CENTER"},null,{"$f":"TRIM(Data!C355)","v":"SOLO"},{"$f":"TRIM(Data!D355)","v":"3545073904"},{"$f":"TRIM(Data!E355)","v":"ENCTR"},{"$f":"TRIM(Data!F355)","v":"3"},{"$f":"TRIM(Data!G355)","v":"ClinicSolution"},{"$f":"TRIM(Data!H355)","v":"Local System"},{"$f":"TRIM(Data!I355)","v":"11"},{"$f":"TRIM(Data!J355)","v":"0"},{"$f":"TRIM(Data!K355)","v":"0"},{"$f":"TRIM(Data!L355)","v":"0"},{"$f":"TRIM(Data!M355)","v":"11"},null,null,null,{"$f":"TRIM(Data!N355)","v":"0"},{"$f":"TRIM(Data!O355)","v":"0"},{"$f":"TRIM(Data!P355)","v":"0"},null,{"$f":"TRIM(Data!Q355)","v":"0"},null,null,{"$f":"TRIM(Data!R355)","v":"0"},{"$f":"TRIM(Data!S355)","v":"0"},{"$f":"TRIM(Data!T355)","v":"0"},null,null,null,{"$f":"TRIM(Data!U355)","v":"0"},null,{"$f":"TRIM(Data!V355)","v":"0"},{"$f":"TRIM(Data!W355)","v":"0"},{"$f":"TRIM(Data!X355)","v":"0"},{"$f":"TRIM(Data!Y355)","v":"0"},{"$f":"TRIM(Data!Z355)","v":"0"},{"$f":"TRIM(Data!AA355)","v":"0"},116,"1 Nov 2024 to 30 Nov 2024","CLEARBRIDGE MEDICAL CENTER","CLEARBRIDGE MEDICAL","SOLO","3545073904","ENCTR","3","ClinicSolution","Local System","11","0","0","0","11","","0","0","0","0","0","0","0","0","0","0","0","0","","11","1","0","0","0","0","0","0","0","0"]
["1 Nov 2024 to 30 Nov 20248832216811AL1","1 Nov 2024 to 30 Nov 2024","HEALTH & WEALTH MEDICAL CENTRE","HWMCL","SOLO",8832216811,"AL1",2,"ClinicSolution","Local System",2,0,0,2,0,null,0,0,0,0,0,0,0,0,0,0,0,0,null,0,0,0,0,0,0,0,0,0,0,"","","","1 Nov 2024 to 30 Nov 20243545073904AL1",{"$f":"Data!A358","v":"2024-11-01"},{"$f":"TRIM(Data!B358)","v":"CLEARBRIDGE MEDICAL CENTER"},null,{"$f":"TRIM(Data!C358)","v":"SOLO"},{"$f":"TRIM(Data!D358)","v":"3545073904"},{"$f":"TRIM(Data!E358)","v":"AL1"},{"$f":"TRIM(Data!F358)","v":"2"},{"$f":"TRIM(Data!G358)","v":"ClinicSolution"},{"$f":"TRIM(Data!H358)","v":"Local System"},{"$f":"TRIM(Data!I358)","v":"1"},{"$f":"TRIM(Data!J358)","v":"0"},{"$f":"TRIM(Data!K358)","v":"0"},{"$f":"TRIM(Data!L358)","v":"1"},{"$f":"TRIM(Data!M358)","v":"0"},null,null,null,{"$f":"TRIM(Data!N358)","v":"0"},{"$f":"TRIM(Data!O358)","v":"0"},{"$f":"TRIM(Data!P358)","v":"0"},null,{"$f":"TRIM(Data!Q358)","v":"0"},null,null,{"$f":"TRIM(Data!R358)","v":"0"},{"$f":"TRIM(Data!S358)","v":"0"},{"$f":"TRIM(Data!T358)","v":"0"},null,null,null,{"$f":"TRIM(Data!U358)","v":"0"},null,{"$f":"TRIM(Data!V358)","v":"0"},{"$f":"TRIM(Data!W358)","v":"0"},{"$f":"TRIM(Data!X358)","v":"0"},{"$f":"TRIM(Data!Y358)","v":"0"},{"$f":"TRIM(Data!Z358)","v":"0"},{"$f":"TRIM(Data!AA358)","v":"0"},115,"1 Nov 2024 to 30 Nov 2024","CLEARBRIDGE MEDICAL CENTER","CLEARBRIDGE MEDICAL","SOLO","3545073904","AL1","2","ClinicSolution","Local System","1","0","0","1","0","","0","0","0","0","0","0","0","0","0","0","0","0","","0","0","0","0","0","0","0","0","0","0"]
["1 Nov 2024 to 30 Nov 20248832216811ENCTR","1 Nov 2024 to 30 Nov 2024","HEALTH & WEALTH MEDICAL CENTRE","HWMCL","SOLO",8832216811,"ENCTR",3,"ClinicSolution","Local System",19,0,0,0,19,null,0,0,0,0,0,0,0,0,0,0,0,0,null,19,1,0,0,0,0,0,0,0,0,"","","","1 Nov 2024 to 30 Nov 20249398567973PROB",{"$f":"Data!A359","v":"2024-11-01"},{"$f":"TRIM(Data!B359)","v":"DR. CHUNG CHI PING SIMON"},null,{"$f":"TRIM(Data!C359)","v":"SOLO"},{"$f":"TRIM(Data!D359)","v":"9398567973"},{"$f":"TRIM(Data!E359)","v":"PROB"},{"$f":"TRIM(Data!F359)","v":"3"},{"$f":"TRIM(Data!G359)","v":"ClinicSolution"},{"$f":"TRIM(Data!H359)","v":"Local System"},{"$f":"TRIM(Data!I359)","v":"17"},{"$f":"TRIM(Data!J359)","v":"0"},{"$f":"TRIM(Data!K359)","v":"0"},{"$f":"TRIM(Data!L359)","v":"17"},{"$f":"TRIM(Data!M359)","v":"0"},null,null,null,{"$f":"TRIM(Data!N359)","v":"0"},{"$f":"TRIM(Data!O359)","v":"0"},{"$f":"TRIM(Data!P359)","v":"17"},null,{"$f":"TRIM(Data!Q359)","v":"17"},null,null,{"$f":"TRIM(Data!R359)","v":"17"},{"$f":"TRIM(Data!S359)","v":"0"},{"$f":"TRIM(Data!T359)","v":"0"},null,null,null,{"$f":"TRIM(Data!U359)","v":"0"},null,{"$f":"TRIM(Data!V359)","v":"0"},{"$f":"TRIM(Data!W359)","v":"0"},{"$f":"TRIM(Data!X359)","v":"0"},{"$f":"TRIM(Data!Y359)","v":"0"},{"$f":"TRIM(Data!Z359)","v":"0"},{"$f":"TRIM(Data!AA359)","v":"0"},424,"1 Nov 2024 to 30 Nov 2024","DR. CHUNG CHI PING SIMON","DR. SIMON C.P. CHUNG","SOLO","9398567973","PROB","3","ClinicSolution","Local System","17","0","0","17","0","","0","0","0","0","17","1","17","0","0","17","0","0","","0","0","0","0","0","0","0","0","0","0"]
["1 Nov 2024 to 30 Nov 20248832216811RXD","1 Nov 2024 to 30 Nov 2024","HEALTH & WEALTH MEDICAL CENTRE","HWMCL","SOLO",8832216811,"RXD",2,"ClinicSolution","Local System",40,0,0,40,0,null,0,0,0,0,0,0,0,0,0,0,0,0,null,0,0,0,0,0,0,0,0,0,0,"","","","1 Nov 2024 to 30 Nov 20249398567973RXO",{"$f":"Data!A362","v":"2024-11-01"},{"$f":"TRIM(Data!B362)","v":"DR. CHUNG CHI PING SIMON"},null,{"$f":"TRIM(Data!C362)","v":"SOLO"},{"$f":"TRIM(Data!D362)","v":"9398567973"},{"$f":"TRIM(Data!E362)","v":"RXO"},{"$f":"TRIM(Data!F362)","v":"2"},{"$f":"TRIM(Data!G362)","v":"ClinicSolution"},{"$f":"TRIM(Data!H362)","v":"Local System"},{"$f":"TRIM(Data!I362)","v":"10"},{"$f":"TRIM(Data!J362)","v":"0"},{"$f":"TRIM(Data!K362)","v":"0"},{"$f":"TRIM(Data!L362)","v":"10"},{"$f":"TRIM(Data!M362)","v":"0"},null,null,null,{"$f":"TRIM(Data!N362)","v":"0"},{"$f":"TRIM(Data!O362)","v":"0"},{"$f":"TRIM(Data!P362)","v":"0"},null,{"$f":"TRIM(Data!Q362)","v":"0"},null,null,{"$f":"TRIM(Data!R362)","v":"0"},{"$f":"TRIM(Data!S362)","v":"0"},{"$f":"TRIM(Data!T362)","v":"0"},null,null,null,{"$f":"TRIM(Data!U362)","v":"0"},null,{"$f":"TRIM(Data!V362)","v":"0"},{"$f":"TRIM(Data!W362)","v":"0"},{"$f":"TRIM(Data!X362)","v":"0"},{"$f":"TRIM(Data!Y362)","v":"0"},{"$f":"TRIM(Data!Z362)","v":"0"},{"$f":"TRIM(Data!AA362)","v":"0"},426,"1 Nov 2024 to 30 Nov 2024","DR. CHUNG CHI PING SIMON","DR. SIMON C.P. CHUNG","SOLO","9398567973","RXO","2","ClinicSolution","Local System","10","0","0","10","0","","0","0","0","0","0","0","0","0","0","0","0","0","","0","0","0","0","0","0","0","0","0","0"]
["1 Nov 2024 to 30 Nov 20248832216811RXO","1 Nov 2024 to 30 Nov 2024","HEALTH & WEALTH MEDICAL CENTRE","HWMCL","SOLO",8832216811,"RXO",2,"ClinicSolution","Local System",40,0,0,40,0,null,0,0,0,0,0,0,0,0,0,0,0,0,null,0,0,0,0,0,0,0,0,0,0,"","","","1 Nov 2024 to 30 Nov 20245197855501ENCTR",{"$f":"Data!A363","v":"2024-11-01"},{"$f":"TRIM(Data!B363)","v":"BETHEL MEDICAL LIMITED"},null,{"$f":"TRIM(Data!C363)","v":"SOLO"},{"$f":"TRIM(Data!D363)","v":"5197855501"},{"$f":"TRIM(Data!E363)","v":"ENCTR"},{"$f":"TRIM(Data!F363)","v":"3"},{"$f":"TRIM(Data!G363)","v":"ClinicSolution"},{"$f":"TRIM(Data!H363)","v":"Local System"},{"$f":"TRIM(Data!I363)","v":"21"},{"$f":"TRIM(Data!J363)","v":"0"},{"$f":"TRIM(Data!K363)","v":"0"},{"$f":"TRIM(Data!L363)","v":"0"},{"$f":"TRIM(Data!M363)","v":"21"},null,null,null,{"$f":"TRIM(Data!N363)","v":"0"},{"$f":"TRIM(Data!O363)","v":"0"},{"$f":"TRIM(Data!P363)","v":"0"},null,{"$f":"TRIM(Data!Q363)","v":"0"},null,null,{"$f":"TRIM(Data!R363)","v":"0"},{"$f":"TRIM(Data!S363)","v":"0"},{"$f":"TRIM(Data!T363)","v":"0"},null,null,null,{"$f":"TRIM(Data!U363)","v":"0"},null,{"$f":"TRIM(Data!V363)","v":"0"},{"$f":"TRIM(Data!W363)","v":"0"},{"$f":"TRIM(Data!X363)","v":"0"},{"$f":"TRIM(Data!Y363)","v":"0"},{"$f":"TRIM(Data!Z363)","v":"0"},{"$f":"TRIM(Data!AA363)","v":"0"},190,"1 Nov 2024 to 30 Nov 2024","BETHEL MEDICAL LIMITED","BETHEL MEDICAL LIMITED","SOLO","5197855501","ENCTR","3","ClinicSolution","Local System","21","0","0","0","21","","0","0","0","0","0","0","0","0","0","0","0","0","","21","1","0","0","0","0","0","0","0","0"]
["1 Nov 2024 to 30 Nov 20248895790679AL1","1 Nov 2024 to 30 Nov 2024","DR. CHAN KIT YAN SELINA","DR. CHAN KIT YAN SELINA","SOLO",8895790679,"AL1",3,"Local System","Local System",5,0,0,0,5,null,0,0,0,0,0,0,0,0,0,0,0,0,null,5,1,0,0,0,0,0,0,0,0,"","","","1 Nov 2024 to 30 Nov 20248252506240AL1",{"$f":"Data!A367","v":"2024-11-01"},{"$f":"TRIM(Data!B367)","v":"CANOSSA HOSPITAL (CARITAS)"},null,{"$f":"TRIM(Data!C367)","v":"PH"},{"$f":"TRIM(Data!D367)","v":"8252506240"},{"$f":"TRIM(Data!E367)","v":"AL1"},{"$f":"TRIM(Data!F367)","v":"3"},{"$f":"TRIM(Data!G367)","v":"Canossa Hospital Management System"},{"$f":"TRIM(Data!H367)","v":"Local System"},{"$f":"TRIM(Data!I367)","v":"26"},{"$f":"TRIM(Data!J367)","v":"0"},{"$f":"TRIM(Data!K367)","v":"0"},{"$f":"TRIM(Data!L367)","v":"8"},{"$f":"TRIM(Data!M367)","v":"18"},null,null,null,{"$f":"TRIM(Data!N367)","v":"0"},{"$f":"TRIM(Data!O367)","v":"0"},{"$f":"TRIM(Data!P367)","v":"8"},null,{"$f":"TRIM(Data!Q367)","v":"8"},null,null,{"$f":"TRIM(Data!R367)","v":"8"},{"$f":"TRIM(Data!S367)","v":"0"},{"$f":"TRIM(Data!T367)","v":"0"},null,null,null,{"$f":"TRIM(Data!U367)","v":"0"},null,{"$f":"TRIM(Data!V367)","v":"0"},{"$f":"TRIM(Data!W367)","v":"0"},{"$f":"TRIM(Data!X367)","v":"0"},{"$f":"TRIM(Data!Y367)","v":"0"},{"$f":"TRIM(Data!Z367)","v":"0"},{"$f":"TRIM(Data!AA367)","v":"0"},348,"1 Nov 2024 to 30 Nov 2024","CANOSSA HOSPITAL (CARITAS)","CANNOSSA HOSPITAL","PH","8252506240","AL1","3","Canossa Hospital Management System","Local System","26","0","0","8","18","","0","0","0","0","8","0.307692307692308","8","0","0","8","0","0","","18","0.692307692307692","0","0","0","0","0","0","0","0"]
["1 Nov 2024 to 30 Nov 20248895790679ENCTR","1 Nov 2024 to 30 Nov 2024","DR. CHAN KIT YAN SELINA","DR. CHAN KIT YAN SELINA","SOLO",8895790679,"ENCTR",3,"Local System","Local System",259,0,0,0,259,null,0,0,0,0,0,0,0,0,0,0,0,0,null,259,1,0,0,0,0,0,0,0,0,"","","","1 Nov 2024 to 30 Nov 20248252506240RAD",{"$f":"Data!A368","v":"2024-11-01"},{"$f":"TRIM(Data!B368)","v":"CANOSSA HOSPITAL (CARITAS)"},null,{"$f":"TRIM(Data!C368)","v":"PH"},{"$f":"TRIM(Data!D368)","v":"8252506240"},{"$f":"TRIM(Data!E368)","v":"RAD"},{"$f":"TRIM(Data!F368)","v":"3"},{"$f":"TRIM(Data!G368)","v":"Canossa Hospital Management System"},{"$f":"TRIM(Data!H368)","v":"Local System"},{"$f":"TRIM(Data!I368)","v":"17"},{"$f":"TRIM(Data!J368)","v":"0"},{"$f":"TRIM(Data!K368)","v":"0"},{"$f":"TRIM(Data!L368)","v":"8"},{"$f":"TRIM(Data!M368)","v":"9"},null,null,null,{"$f":"TRIM(Data!N368)","v":"0"},{"$f":"TRIM(Data!O368)","v":"0"},{"$f":"TRIM(Data!P368)","v":"0"},null,{"$f":"TRIM(Data!Q368)","v":"0"},null,null,{"$f":"TRIM(Data!R368)","v":"0"},{"$f":"TRIM(Data!S368)","v":"0"},{"$f":"TRIM(Data!T368)","v":"0"},null,null,null,{"$f":"TRIM(Data!U368)","v":"8"},null,{"$f":"TRIM(Data!V368)","v":"0"},{"$f":"TRIM(Data!W368)","v":"0"},{"$f":"TRIM(Data!X368)","v":"0"},{"$f":"TRIM(Data!Y368)","v":"0"},{"$f":"TRIM(Data!Z368)","v":"8"},{"$f":"TRIM(Data!AA368)","v":"0"},349,"1 Nov 2024 to 30 Nov 2024","CANOSSA HOSPITAL (CARITAS)","CANNOSSA HOSPITAL","PH","8252506240","RAD","3","Canossa Hospital Management System","Local System","17","0","0","8","9","","0","0","0","0","0","0","0","0","0","0","0","0","","9","0.529411764705882","8","0.470588235294118","0","0","0","0","8","0"]
["1 Nov 2024 to 30 Nov 20248895790679RXD","1 Nov 2024 to 30 Nov 2024","DR. CHAN KIT YAN SELINA","DR. CHAN KIT YAN SELINA","SOLO",8895790679,"RXD",3,"Local System","Local System",254,0,0,12,242,null,0,0,0,0,0,0,0,0,0,0,0,0,null,242,0.952755905511811,0,0,0,0,0,0,0,0,"","","Y","1 Nov 2024 to 30 Nov 20249407305541RXD",{"$f":"Data!A371","v":"2024-11-01"},{"$f":"TRIM(Data!B371)","v":"HONG KONG BREAST CANCER AND DISEASE CENTRE LIMITED"},null,{"$f":"TRIM(Data!C371)","v":"SOLO"},{"$f":"TRIM(Data!D371)","v":"9407305541"},{"$f":"TRIM(Data!E371)","v":"RXD"},{"$f":"TRIM(Data!F371)","v":"3,2"},{"$f":"TRIM(Data!G371)","v":"CMS On-ramp"},{"$f":"TRIM(Data!H371)","v":"CMS On-ramp"},{"$f":"TRIM(Data!I371)","v":"19"},{"$f":"TRIM(Data!J371)","v":"0"},{"$f":"TRIM(Data!K371)","v":"0"},{"$f":"TRIM(Data!L371)","v":"1"},{"$f":"TRIM(Data!M371)","v":"18"},null,null,null,{"$f":"TRIM(Data!N371)","v":"0"},{"$f":"TRIM(Data!O371)","v":"0"},{"$f":"TRIM(Data!P371)","v":"0"},null,{"$f":"TRIM(Data!Q371)","v":"0"},null,null,{"$f":"TRIM(Data!R371)","v":"0"},{"$f":"TRIM(Data!S371)","v":"0"},{"$f":"TRIM(Data!T371)","v":"0"},null,null,null,{"$f":"TRIM(Data!U371)","v":"0"},null,{"$f":"TRIM(Data!V371)","v":"0"},{"$f":"TRIM(Data!W371)","v":"0"},{"$f":"TRIM(Data!X371)","v":"0"},{"$f":"TRIM(Data!Y371)","v":"0"},{"$f":"TRIM(Data!Z371)","v":"0"},{"$f":"TRIM(Data!AA371)","v":"0"},428,"1 Nov 2024 to 30 Nov 2024","Hong Kong Breast Cancer and Disease Centre Limited","HKBCADC","SOLO","9407305541","RXD","3","Local System","Local System","19","0","0","1","18","","0","0","0","0","0","0","0","0","0","0","0","0","","18","0.947368421052632","0","0","0","0","0","0","0","0"]
["1 Nov 2024 to 30 Nov 20248900325933AL1","1 Nov 2024 to 30 Nov 2024","DISTRICT HEALTH CENTRE-SOUTHERN (AKA)","DHC-SOUTHERN","DHC",8900325933,"AL1",3,"Local System","Local System",8,0,0,0,8,null,0,0,0,0,0,0,0,0,0,0,0,0,null,8,1,0,0,0,0,0,0,0,0,"","","","1 Nov 2024 to 30 Nov 20243973708225RAD",{"$f":"Data!A373","v":"2024-11-01"},{"$f":"TRIM(Data!B373)","v":"APOLLO MRI CENTRE LIMITED"},null,{"$f":"TRIM(Data!C373)","v":"SOLO"},{"$f":"TRIM(Data!D373)","v":"3973708225"},{"$f":"TRIM(Data!E373)","v":"RAD"},{"$f":"TRIM(Data!F373)","v":"3"},{"$f":"TRIM(Data!G373)","v":"RHI2"},{"$f":"TRIM(Data!H373)","v":"Local System"},{"$f":"TRIM(Data!I373)","v":"39"},{"$f":"TRIM(Data!J373)","v":"0"},{"$f":"TRIM(Data!K373)","v":"0"},{"$f":"TRIM(Data!L373)","v":"0"},{"$f":"TRIM(Data!M373)","v":"39"},null,null,null,{"$f":"TRIM(Data!N373)","v":"0"},{"$f":"TRIM(Data!O373)","v":"0"},{"$f":"TRIM(Data!P373)","v":"0"},null,{"$f":"TRIM(Data!Q373)","v":"0"},null,null,{"$f":"TRIM(Data!R373)","v":"0"},{"$f":"TRIM(Data!S373)","v":"0"},{"$f":"TRIM(Data!T373)","v":"0"},null,null,null,{"$f":"TRIM(Data!U373)","v":"0"},null,{"$f":"TRIM(Data!V373)","v":"0"},{"$f":"TRIM(Data!W373)","v":"0"},{"$f":"TRIM(Data!X373)","v":"0"},{"$f":"TRIM(Data!Y373)","v":"0"},{"$f":"TRIM(Data!Z373)","v":"0"},{"$f":"TRIM(Data!AA373)","v":"0"},147,"1 Nov 2024 to 30 Nov 2024","APOLLO MRI CENTRE LIMITED","APOLLO MRI CENTRE LIMITED","SOLO","3973708225","RAD","3","RHI2","Local System","39","0","0","0","39","","0","0","0","0","0","0","0","0","0","0","0","0","","39","1","0","0","0","0","0","0","0","0"]
["1 Nov 2024 to 30 Nov 20248909436562ADR","1 Nov 2024 to 30 Nov 2024","HONG KONG ADVENTIST HOSPITAL - TSUEN WAN","HK ADVENTIST - TW","PH",8909436562,"ADR",3,"TWAHLAAM","Local System",32,0,0,3,29,null,0,0,0,0,3,9.375E-2,3,0,0,3,0,0,null,29,0.90625,0,0,0,0,0,0,0,0,"","","","1 Nov 2024 to 30 Nov 20249585979787ENCTR",{"$f":"Data!A376","v":"2024-11-01"},{"$f":"TRIM(Data!B376)","v":"DR. TSANG FAN KWONG"},null,{"$f":"TRIM(Data!C376)","v":"SOLO"},{"$f":"TRIM(Data!D376)","v":"9585979787"},{"$f":"TRIM(Data!E376)","v":"ENCTR"},{"$f":"TRIM(Data!F376)","v":"3"},{"$f":"TRIM(Data!G376)","v":"ClinicSolution"},{"$f":"TRIM(Data!H376)","v":"Local System"},{"$f":"TRIM(Data!I376)","v":"7"},{"$f":"TRIM(Data!J376)","v":"0"},{"$f":"TRIM(Data!K376)","v":"0"},{"$f":"TRIM(Data!L376)","v":"0"},{"$f":"TRIM(Data!M376)","v":"7"},null,null,null,{"$f":"TRIM(Data!N376)","v":"0"},{"$f":"TRIM(Data!O376)","v":"0"},{"$f":"TRIM(Data!P376)","v":"0"},null,{"$f":"TRIM(Data!Q376)","v":"0"},null,null,{"$f":"TRIM(Data!R376)","v":"0"},{"$f":"TRIM(Data!S376)","v":"0"},{"$f":"TRIM(Data!T376)","v":"0"},null,null,null,{"$f":"TRIM(Data!U376)","v":"0"},null,{"$f":"TRIM(Data!V376)","v":"0"},{"$f":"TRIM(Data!W376)","v":"0"},{"$f":"TRIM(Data!X376)","v":"0"},{"$f":"TRIM(Data!Y376)","v":"0"},{"$f":"TRIM(Data!Z376)","v":"0"},{"$f":"TRIM(Data!AA376)","v":"0"},433,"1 Nov 2024 to 30 Nov 2024","DR. TSANG FAN KWONG","DR. TSANG FAN KWONG","SOLO","9585979787","ENCTR","3","ClinicSolution","Local System","7","0","0","0","7","","0","0","0","0","0","0","0","0","0","0","0","0","","7","1","0","0","0","0","0","0","0","0"]
["1 Nov 2024 to 30 Nov 20248909436562AL1","1 Nov 2024 to 30 Nov 2024","HONG KONG ADVENTIST HOSPITAL - TSUEN WAN","HK ADVENTIST - TW","PH",8909436562,"AL1",3,"TWAHLAAM","Local System",783,0,0,185,598,null,0,0,0,0,156,0.19923371647509577,156,0,0,156,0,0,null,598,0.76372924648786722,0,0,0,0,0,0,0,0,"","","","1 Nov 2024 to 30 Nov 20249585979787PROB",{"$f":"Data!A377","v":"2024-11-01"},{"$f":"TRIM(Data!B377)","v":"DR. TSANG FAN KWONG"},null,{"$f":"TRIM(Data!C377)","v":"SOLO"},{"$f":"TRIM(Data!D377)","v":"9585979787"},{"$f":"TRIM(Data!E377)","v":"PROB"},{"$f":"TRIM(Data!F377)","v":"3"},{"$f":"TRIM(Data!G377)","v":"ClinicSolution"},{"$f":"TRIM(Data!H377)","v":"Local System"},{"$f":"TRIM(Data!I377)","v":"2"},{"$f":"TRIM(Data!J377)","v":"0"},{"$f":"TRIM(Data!K377)","v":"0"},{"$f":"TRIM(Data!L377)","v":"2"},{"$f":"TRIM(Data!M377)","v":"0"},null,null,null,{"$f":"TRIM(Data!N377)","v":"0"},{"$f":"TRIM(Data!O377)","v":"0"},{"$f":"TRIM(Data!P377)","v":"2"},null,{"$f":"TRIM(Data!Q377)","v":"2"},null,null,{"$f":"TRIM(Data!R377)","v":"2"},{"$f":"TRIM(Data!S377)","v":"0"},{"$f":"TRIM(Data!T377)","v":"0"},null,null,null,{"$f":"TRIM(Data!U377)","v":"0"},null,{"$f":"TRIM(Data!V377)","v":"0"},{"$f":"TRIM(Data!W377)","v":"0"},{"$f":"TRIM(Data!X377)","v":"0"},{"$f":"TRIM(Data!Y377)","v":"0"},{"$f":"TRIM(Data!Z377)","v":"0"},{"$f":"TRIM(Data!AA377)","v":"0"},434,"1 Nov 2024 to 30 Nov 2024","DR. TSANG FAN KWONG","DR. TSANG FAN KWONG","SOLO","9585979787","PROB","3","ClinicSolution","Local System","2","0","0","2","0","","0","0","0","0","2","1","2","0","0","2","0","0","","0","0","0","0","0","0","0","0","0","0"]
["1 Nov 2024 to 30 Nov 20248909436562LABGEN","1 Nov 2024 to 30 Nov 2024","HONG KONG ADVENTIST HOSPITAL - TSUEN WAN","HK ADVENTIST - TW","PH",8909436562,"LABGEN",3,"TWAHLAAM","Local System",29522,0,0,1766,27756,null,0,0,0,0,1767,5.9853668450646977E-2,1767,0,0,1767,0,0,null,27756,0.94018020459318474,0,0,0,0,0,0,0,0,"","","Y","1 Nov 2024 to 30 Nov 20247071207758RXO",{"$f":"Data!A381","v":"2024-11-01"},{"$f":"TRIM(Data!B381)","v":"DR. TONY CHUN KIT LEE MEDICAL PRACTICE LIMITED"},null,{"$f":"TRIM(Data!C381)","v":"SOLO"},{"$f":"TRIM(Data!D381)","v":"7071207758"},{"$f":"TRIM(Data!E381)","v":"RXO"},{"$f":"TRIM(Data!F381)","v":"2"},{"$f":"TRIM(Data!G381)","v":"ClinicSolution"},{"$f":"TRIM(Data!H381)","v":"Local System"},{"$f":"TRIM(Data!I381)","v":"5"},{"$f":"TRIM(Data!J381)","v":"0"},{"$f":"TRIM(Data!K381)","v":"0"},{"$f":"TRIM(Data!L381)","v":"5"},{"$f":"TRIM(Data!M381)","v":"0"},null,null,null,{"$f":"TRIM(Data!N381)","v":"0"},{"$f":"TRIM(Data!O381)","v":"0"},{"$f":"TRIM(Data!P381)","v":"0"},null,{"$f":"TRIM(Data!Q381)","v":"0"},null,null,{"$f":"TRIM(Data!R381)","v":"0"},{"$f":"TRIM(Data!S381)","v":"0"},{"$f":"TRIM(Data!T381)","v":"0"},null,null,null,{"$f":"TRIM(Data!U381)","v":"0"},null,{"$f":"TRIM(Data!V381)","v":"0"},{"$f":"TRIM(Data!W381)","v":"0"},{"$f":"TRIM(Data!X381)","v":"0"},{"$f":"TRIM(Data!Y381)","v":"0"},{"$f":"TRIM(Data!Z381)","v":"0"},{"$f":"TRIM(Data!AA381)","v":"0"},305,"1 Nov 2024 to 30 Nov 2024","DR. TONY CHUN KIT LEE MEDICAL PRATICE LIMITED","DR. TONY CHUN KIT LEE","SOLO","7071207758","RXO","2","ClinicSolution","Local System","5","0","0","5","0","","0","0","0","0","0","0","0","0","0","0","0","0","","0","0","0","0","0","0","0","0","0","0"]
["1 Nov 2024 to 30 Nov 20248909436562RAD","1 Nov 2024 to 30 Nov 2024","HONG KONG ADVENTIST HOSPITAL - TSUEN WAN","HK ADVENTIST - TW","PH",8909436562,"RAD",2,"TWAHLAAM","Local System",3726,0,0,0,3726,null,0,0,0,0,0,0,0,0,0,0,0,0,null,3726,1,0,0,0,0,0,0,0,0,"","","Y","1 Nov 2024 to 30 Nov 20241667592556CMRXO",{"$f":"Data!A382","v":"2024-11-01"},{"$f":"TRIM(Data!B382)","v":"WELL BEING CHINESE MEDICINE CLINIC"},null,{"$f":"TRIM(Data!C382)","v":"SOLO"},{"$f":"TRIM(Data!D382)","v":"1667592556"},{"$f":"TRIM(Data!E382)","v":"CMRXO"},{"$f":"TRIM(Data!F382)","v":"3"},{"$f":"TRIM(Data!G382)","v":"EC Connect"},{"$f":"TRIM(Data!H382)","v":"EC Connect"},{"$f":"TRIM(Data!I382)","v":"13"},{"$f":"TRIM(Data!J382)","v":"0"},{"$f":"TRIM(Data!K382)","v":"0"},{"$f":"TRIM(Data!L382)","v":"0"},{"$f":"TRIM(Data!M382)","v":"13"},null,null,null,{"$f":"TRIM(Data!N382)","v":"0"},{"$f":"TRIM(Data!O382)","v":"0"},{"$f":"TRIM(Data!P382)","v":"0"},null,{"$f":"TRIM(Data!Q382)","v":"0"},null,null,{"$f":"TRIM(Data!R382)","v":"0"},{"$f":"TRIM(Data!S382)","v":"0"},{"$f":"TRIM(Data!T382)","v":"0"},null,null,null,{"$f":"TRIM(Data!U382)","v":"0"},null,{"$f":"TRIM(Data!V382)","v":"0"},{"$f":"TRIM(Data!W382)","v":"0"},{"$f":"TRIM(Data!X382)","v":"0"},{"$f":"TRIM(Data!Y382)","v":"0"},{"$f":"TRIM(Data!Z382)","v":"0"},{"$f":"TRIM(Data!AA382)","v":"0"},10,"1 Nov 2024 to 30 Nov 2024","WELL BEING CHINESE MEDICINE CLINIC","WBCMC","SOLO","1667592556","CMRXO","3","Local System","EC Connect","13","0","0","0","13","","0","0","0","0","0","0","0","0","0","0","0","0","","13","1","0","0","0","0","0","0","0","0"]
["1 Nov 2024 to 30 Nov 20248958425524PROB","1 Nov 2024 to 30 Nov 2024","DR DANIEL YIANG WU","DR DANIEL YIANG WU","SOLO",8958425524,"PROB",3,"ClinicSolution","Local System",1,0,0,1,0,null,0,0,0,0,1,1,1,0,0,1,0,0,null,0,0,0,0,0,0,0,0,0,0,"","","","1 Nov 2024 to 30 Nov 20245772944231RXD",{"$f":"Data!A385","v":"2024-11-01"},{"$f":"TRIM(Data!B385)","v":"PASSION MEDICAL LIMITED"},null,{"$f":"TRIM(Data!C385)","v":"SOLO"},{"$f":"TRIM(Data!D385)","v":"5772944231"},{"$f":"TRIM(Data!E385)","v":"RXD"},{"$f":"TRIM(Data!F385)","v":"2"},{"$f":"TRIM(Data!G385)","v":"ClinicSolution"},{"$f":"TRIM(Data!H385)","v":"Local System"},{"$f":"TRIM(Data!I385)","v":"8"},{"$f":"TRIM(Data!J385)","v":"0"},{"$f":"TRIM(Data!K385)","v":"0"},{"$f":"TRIM(Data!L385)","v":"8"},{"$f":"TRIM(Data!M385)","v":"0"},null,null,null,{"$f":"TRIM(Data!N385)","v":"0"},{"$f":"TRIM(Data!O385)","v":"0"},{"$f":"TRIM(Data!P385)","v":"0"},null,{"$f":"TRIM(Data!Q385)","v":"0"},null,null,{"$f":"TRIM(Data!R385)","v":"0"},{"$f":"TRIM(Data!S385)","v":"0"},{"$f":"TRIM(Data!T385)","v":"0"},null,null,null,{"$f":"TRIM(Data!U385)","v":"0"},null,{"$f":"TRIM(Data!V385)","v":"0"},{"$f":"TRIM(Data!W385)","v":"0"},{"$f":"TRIM(Data!X385)","v":"0"},{"$f":"TRIM(Data!Y385)","v":"0"},{"$f":"TRIM(Data!Z385)","v":"0"},{"$f":"TRIM(Data!AA385)","v":"0"},227,"1 Nov 2024 to 30 Nov 2024","PASSION MEDICAL LIMITED","PASSION MEDICAL","SOLO","5772944231","RXD","2","ClinicSolution","Local System","8","0","0","8","0","","0","0","0","0","0","0","0","0","0","0","0","0","","0","0","0","0","0","0","0","0","0","0"]
[{"$f":"IF(B393<>\"\",B393&F393&G393,\"\")","v":"1 Nov 2024 to 30 Nov 20248962900949AL1"},"1 Nov 2024 to 30 Nov 2024","DR. LAM SEE YUI JOSEPH","DR. S.Y. LAM                                                                                                                                                                                                                                                                                                                                                                                                                                                                                                                                                                                                                                                                                                                                                                                                                                                                                                                                                                                                                                                                           ","SOLO",8962900949,"AL1",2,"ClinicSolution","Local System",4,0,0,4,0,null,0,0,0,0,0,0,0,0,0,0,0,0,null,0,0,0,0,0,0,0,0,0,0,{"$f":"IFERROR(IF(SEARCH(\"total\",A393)>0,\"\",\"\"),_xlfn.IFNA(IF(A393<>\"\",IF(MATCH(A393,AQ:AQ,0)>0,\"\",\"\"),\"\"),\"Y\"))","v":""},{"$f":"IFERROR(_xlfn.IFNA(IF(AQ393<>\"\",IF(MATCH(AQ393,A:A,0)>0,\"\",\"\"),\"\"),\"Y\"),\"\")","v":""},{"$f":"IF(OR(TRIM(UPPER(AS393))<>TRIM(UPPER(CF393)),AU393<>CH393,AV393<>CI393,AW393<>CJ393,AX393<>CK393,AY393<>CL393,AZ393<>CM393,BA393<>CN393,BB393<>CO393,BC393<>CP393,BD393<>CQ393,BE393<>CR393,BI393<>CV393,BJ393<>CW393,BK393<>CX393,BM393<>CZ393,BP393<>DC393,BQ393<>DD393,BR393<>DE393,BV393<>DI393,BX393<>DK393,BY393<>DL393,BZ393<>DM393,CA393<>DN393,CB393<>DO393,CC393<>DP393),\"Y\",\"\")","v":""},{"$f":"IF(AR393<>\"\",TEXT(AR393,\"d mmm yyyy\") &\" to \" & TEXT(EOMONTH(AR393,0),\"d mmm yyyy\") & AV393 & AW393,\"\")","v":"1 Nov 2024 to 30 Nov 20245772944231RXO"},{"$f":"Data!A386","v":"2024-11-01"},{"$f":"TRIM(Data!B386)","v":"PASSION MEDICAL LIMITED"},null,{"$f":"TRIM(Data!C386)","v":"SOLO"},{"$f":"TRIM(Data!D386)","v":"5772944231"},{"$f":"TRIM(Data!E386)","v":"RXO"},{"$f":"TRIM(Data!F386)","v":"2"},{"$f":"TRIM(Data!G386)","v":"ClinicSolution"},{"$f":"TRIM(Data!H386)","v":"Local System"},{"$f":"TRIM(Data!I386)","v":"8"},{"$f":"TRIM(Data!J386)","v":"0"},{"$f":"TRIM(Data!K386)","v":"0"},{"$f":"TRIM(Data!L386)","v":"8"},{"$f":"TRIM(Data!M386)","v":"0"},null,null,null,{"$f":"TRIM(Data!N386)","v":"0"},{"$f":"TRIM(Data!O386)","v":"0"},{"$f":"TRIM(Data!P386)","v":"0"},null,{"$f":"TRIM(Data!Q386)","v":"0"},null,null,{"$f":"TRIM(Data!R386)","v":"0"},{"$f":"TRIM(Data!S386)","v":"0"},{"$f":"TRIM(Data!T386)","v":"0"},null,null,null,{"$f":"TRIM(Data!U386)","v":"0"},null,{"$f":"TRIM(Data!V386)","v":"0"},{"$f":"TRIM(Data!W386)","v":"0"},{"$f":"TRIM(Data!X386)","v":"0"},{"$f":"TRIM(Data!Y386)","v":"0"},{"$f":"TRIM(Data!Z386)","v":"0"},{"$f":"TRIM(Data!AA386)","v":"0"},{"$f":"MATCH(AQ393,A:A,0)","v":228},{"$f":"TRIM(INDEX(B:B,$CD393))","v":"1 Nov 2024 to 30 Nov 2024"},{"$f":"TRIM(INDEX(C:C,$CD393))","v":"PASSION MEDICAL LIMITED"},{"$f":"TRIM(INDEX(D:D,$CD393))","v":"PASSION MEDICAL"},{"$f":"TRIM(INDEX(E:E,$CD393))","v":"SOLO"},{"$f":"TRIM(INDEX(F:F,$CD393))","v":"5772944231"},{"$f":"TRIM(INDEX(G:G,$CD393))","v":"RXO"},{"$f":"TRIM(INDEX(H:H,$CD393))","v":"2"},{"$f":"TRIM(INDEX(I:I,$CD393))","v":"ClinicSolution"},{"$f":"TRIM(INDEX(J:J,$CD393))","v":"Local System"},{"$f":"TRIM(INDEX(K:K,$CD393))","v":"8"},{"$f":"TRIM(INDEX(L:L,$CD393))","v":"0"},{"$f":"TRIM(INDEX(M:M,$CD393))","v":"0"},{"$f":"TRIM(INDEX(N:N,$CD393))","v":"8"},{"$f":"TRIM(INDEX(O:O,$CD393))","v":"0"},{"$f":"TRIM(INDEX(P:P,$CD393))","v":""},{"$f":"TRIM(INDEX(Q:Q,$CD393))","v":"0"},{"$f":"TRIM(INDEX(R:R,$CD393))","v":"0"},{"$f":"TRIM(INDEX(S:S,$CD393))","v":"0"},{"$f":"TRIM(INDEX(T:T,$CD393))","v":"0"},{"$f":"TRIM(INDEX(U:U,$CD393))","v":"0"},{"$f":"TRIM(INDEX(V:V,$CD393))","v":"0"},{"$f":"TRIM(INDEX(W:W,$CD393))","v":"0"},{"$f":"TRIM(INDEX(X:X,$CD393))","v":"0"},{"$f":"TRIM(INDEX(Y:Y,$CD393))","v":"0"},{"$f":"TRIM(INDEX(Z:Z,$CD393))","v":"0"},{"$f":"TRIM(INDEX(AA:AA,$CD393))","v":"0"},{"$f":"TRIM(INDEX(AB:AB,$CD393))","v":"0"},{"$f":"TRIM(INDEX(AC:AC,$CD393))","v":""},{"$f":"TRIM(INDEX(AD:AD,$CD393))","v":"0"},{"$f":"TRIM(INDEX(AE:AE,$CD393))","v":"0"},{"$f":"TRIM(INDEX(AF:AF,$CD393))","v":"0"},{"$f":"TRIM(INDEX(AG:AG,$CD393))","v":"0"},{"$f":"TRIM(INDEX(AH:AH,$CD393))","v":"0"},{"$f":"TRIM(INDEX(AI:AI,$CD393))","v":"0"},{"$f":"TRIM(INDEX(AJ:AJ,$CD393))","v":"0"},{"$f":"TRIM(INDEX(AK:AK,$CD393))","v":"0"},{"$f":"TRIM(INDEX(AL:AL,$CD393))","v":"0"},{"$f":"TRIM(INDEX(AM:AM,$CD393))","v":"0"}]
["1 Nov 2024 to 30 Nov 20248962900949RXD","1 Nov 2024 to 30 Nov 2024","DR. LAM SEE YUI JOSEPH","DR. S.Y. LAM                                                                                                                                                                                                                                                                                                                                                                                                                                                                                                                                                                                                                                                                                                                                                                                                                                                                                                                                                                                                                                                                           ","SOLO",8962900949,"RXD",2,"ClinicSolution","Local System",20,0,0,20,0,null,0,0,0,0,0,0,0,0,0,0,0,0,null,0,0,0,0,0,0,0,0,0,0,"","","Y","1 Nov 2024 to 30 Nov 20245251825990RXD",{"$f":"Data!A389","v":"2024-11-01"},{"$f":"TRIM(Data!B389)","v":"L & C CLINICAL PRACTICE"},null,{"$f":"TRIM(Data!C389)","v":"GRP"},{"$f":"TRIM(Data!D389)","v":"5251825990"},{"$f":"TRIM(Data!E389)","v":"RXD"},{"$f":"TRIM(Data!F389)","v":"2"},{"$f":"TRIM(Data!G389)","v":"ClinicSolution"},{"$f":"TRIM(Data!H389)","v":"Local System"},{"$f":"TRIM(Data!I389)","v":"8"},{"$f":"TRIM(Data!J389)","v":"0"},{"$f":"TRIM(Data!K389)","v":"0"},{"$f":"TRIM(Data!L389)","v":"8"},{"$f":"TRIM(Data!M389)","v":"0"},null,null,null,{"$f":"TRIM(Data!N389)","v":"0"},{"$f":"TRIM(Data!O389)","v":"0"},{"$f":"TRIM(Data!P389)","v":"0"},null,{"$f":"TRIM(Data!Q389)","v":"0"},null,null,{"$f":"TRIM(Data!R389)","v":"0"},{"$f":"TRIM(Data!S389)","v":"0"},{"$f":"TRIM(Data!T389)","v":"0"},null,null,null,{"$f":"TRIM(Data!U389)","v":"0"},null,{"$f":"TRIM(Data!V389)","v":"0"},{"$f":"TRIM(Data!W389)","v":"0"},{"$f":"TRIM(Data!X389)","v":"0"},{"$f":"TRIM(Data!Y389)","v":"0"},{"$f":"TRIM(Data!Z389)","v":"0"},{"$f":"TRIM(Data!AA389)","v":"0"},200,"1 Nov 2024 to 30 Nov 2024","L & C CLINICAL PRACTICE","L & C CLINICAL PRACTICE","GROUP","5251825990","RXD","2","ClinicSolution","Local System","8","0","0","8","0","","0","0","0","0","0","0","0","0","0","0","0","0","","0","0","0","0","0","0","0","0","0","0"]
["1 Nov 2024 to 30 Nov 20249043776781ADR","1 Nov 2024 to 30 Nov 2024","DISTRICT HEALTH CENTRE-TSUEN WAN (YCHB)","DHC-TSUEN WAN","DHC",9043776781,"ADR",3,"Local System","Local System",2,0,0,0,2,null,0,0,0,0,0,0,0,0,0,0,0,0,null,2,1,0,0,0,0,0,0,0,0,"","","Y","1 Nov 2024 to 30 Nov 20245251825990ENCTR",{"$f":"Data!A391","v":"2024-11-01"},{"$f":"TRIM(Data!B391)","v":"L & C CLINICAL PRACTICE"},null,{"$f":"TRIM(Data!C391)","v":"GRP"},{"$f":"TRIM(Data!D391)","v":"5251825990"},{"$f":"TRIM(Data!E391)","v":"ENCTR"},{"$f":"TRIM(Data!F391)","v":"3"},{"$f":"TRIM(Data!G391)","v":"ClinicSolution"},{"$f":"TRIM(Data!H391)","v":"Local System"},{"$f":"TRIM(Data!I391)","v":"3"},{"$f":"TRIM(Data!J391)","v":"0"},{"$f":"TRIM(Data!K391)","v":"0"},{"$f":"TRIM(Data!L391)","v":"0"},{"$f":"TRIM(Data!M391)","v":"3"},null,null,null,{"$f":"TRIM(Data!N391)","v":"0"},{"$f":"TRIM(Data!O391)","v":"0"},{"$f":"TRIM(Data!P391)","v":"0"},null,{"$f":"TRIM(Data!Q391)","v":"0"},null,null,{"$f":"TRIM(Data!R391)","v":"0"},{"$f":"TRIM(Data!S391)","v":"0"},{"$f":"TRIM(Data!T391)","v":"0"},null,null,null,{"$f":"TRIM(Data!U391)","v":"0"},null,{"$f":"TRIM(Data!V391)","v":"0"},{"$f":"TRIM(Data!W391)","v":"0"},{"$f":"TRIM(Data!X391)","v":"0"},{"$f":"TRIM(Data!Y391)","v":"0"},{"$f":"TRIM(Data!Z391)","v":"0"},{"$f":"TRIM(Data!AA391)","v":"0"},198,"1 Nov 2024 to 30 Nov 2024","L & C CLINICAL PRACTICE","L & C CLINICAL PRACTICE","GROUP","5251825990","ENCTR","3","ClinicSolution","Local System","3","0","0","0","3","","0","0","0","0","0","0","0","0","0","0","0","0","","3","1","0","0","0","0","0","0","0","0"]
["1 Nov 2024 to 30 Nov 20249043776781EPIS","1 Nov 2024 to 30 Nov 2024","DISTRICT HEALTH CENTRE-TSUEN WAN (YCHB)","DHC-TSUEN WAN","DHC",9043776781,"EPIS",1,"Local System","Local System",5386,0,5386,0,0,null,0,0,0,0,0,0,0,0,0,0,0,0,null,0,0,0,0,0,0,0,0,0,0,"","","Y","1 Nov 2024 to 30 Nov 20248061038543CMRXO",{"$f":"Data!A394","v":"2024-11-01"},{"$f":"TRIM(Data!B394)","v":"SHAO YAO CHINESE MEDICINE CLINIC LIMITED"},null,{"$f":"TRIM(Data!C394)","v":"SOLO"},{"$f":"TRIM(Data!D394)","v":"8061038543"},{"$f":"TRIM(Data!E394)","v":"CMRXO"},{"$f":"TRIM(Data!F394)","v":"3"},{"$f":"TRIM(Data!G394)","v":"EC Connect"},{"$f":"TRIM(Data!H394)","v":"EC Connect"},{"$f":"TRIM(Data!I394)","v":"5"},{"$f":"TRIM(Data!J394)","v":"0"},{"$f":"TRIM(Data!K394)","v":"0"},{"$f":"TRIM(Data!L394)","v":"0"},{"$f":"TRIM(Data!M394)","v":"5"},null,null,null,{"$f":"TRIM(Data!N394)","v":"0"},{"$f":"TRIM(Data!O394)","v":"0"},{"$f":"TRIM(Data!P394)","v":"0"},null,{"$f":"TRIM(Data!Q394)","v":"0"},null,null,{"$f":"TRIM(Data!R394)","v":"0"},{"$f":"TRIM(Data!S394)","v":"0"},{"$f":"TRIM(Data!T394)","v":"0"},null,null,null,{"$f":"TRIM(Data!U394)","v":"0"},null,{"$f":"TRIM(Data!V394)","v":"0"},{"$f":"TRIM(Data!W394)","v":"0"},{"$f":"TRIM(Data!X394)","v":"0"},{"$f":"TRIM(Data!Y394)","v":"0"},{"$f":"TRIM(Data!Z394)","v":"0"},{"$f":"TRIM(Data!AA394)","v":"0"},340,"1 Nov 2024 to 30 Nov 2024","Shao Yao Chinese Medicine Clinic Limited","SYCMC LTD","SOLO","8061038543","CMRXO","3","Local System","EC Connect","5","0","0","0","5","","0","0","0","0","0","0","0","0","0","0","0","0","","5","1","0","0","0","0","0","0","0","0"]
["1 Nov 2024 to 30 Nov 20249056383716ENCTR","1 Nov 2024 to 30 Nov 2024","HK MERCY MEDICAL LIMITED","HK MERCY MEDICAL LIMITED","SOLO",9056383716,"ENCTR",3,"Local System","Local System",160,0,0,0,160,null,0,0,0,0,0,0,0,0,0,0,0,0,null,160,1,0,0,0,0,0,0,0,0,"","","Y","1 Nov 2024 to 30 Nov 20248061038543ENCTR",{"$f":"Data!A395","v":"2024-11-01"},{"$f":"TRIM(Data!B395)","v":"SHAO YAO CHINESE MEDICINE CLINIC LIMITED"},null,{"$f":"TRIM(Data!C395)","v":"SOLO"},{"$f":"TRIM(Data!D395)","v":"8061038543"},{"$f":"TRIM(Data!E395)","v":"ENCTR"},{"$f":"TRIM(Data!F395)","v":"3"},{"$f":"TRIM(Data!G395)","v":"EC Connect"},{"$f":"TRIM(Data!H395)","v":"EC Connect"},{"$f":"TRIM(Data!I395)","v":"5"},{"$f":"TRIM(Data!J395)","v":"0"},{"$f":"TRIM(Data!K395)","v":"0"},{"$f":"TRIM(Data!L395)","v":"0"},{"$f":"TRIM(Data!M395)","v":"5"},null,null,null,{"$f":"TRIM(Data!N395)","v":"0"},{"$f":"TRIM(Data!O395)","v":"0"},{"$f":"TRIM(Data!P395)","v":"0"},null,{"$f":"TRIM(Data!Q395)","v":"0"},null,null,{"$f":"TRIM(Data!R395)","v":"0"},{"$f":"TRIM(Data!S395)","v":"0"},{"$f":"TRIM(Data!T395)","v":"0"},null,null,null,{"$f":"TRIM(Data!U395)","v":"0"},null,{"$f":"TRIM(Data!V395)","v":"0"},{"$f":"TRIM(Data!W395)","v":"0"},{"$f":"TRIM(Data!X395)","v":"0"},{"$f":"TRIM(Data!Y395)","v":"0"},{"$f":"TRIM(Data!Z395)","v":"0"},{"$f":"TRIM(Data!AA395)","v":"0"},341,"1 Nov 2024 to 30 Nov 2024","Shao Yao Chinese Medicine Clinic Limited","SYCMC LTD","SOLO","8061038543","ENCTR","3","Local System","Local System","5","0","0","0","5","","0","0","0","0","0","0","0","0","0","0","0","0","","5","1","0","0","0","0","0","0","0","0"]
["1 Nov 2024 to 30 Nov 20249056383716RXO","1 Nov 2024 to 30 Nov 2024","HK MERCY MEDICAL LIMITED","HK MERCY MEDICAL LIMITED","SOLO",9056383716,"RXO",3,"Local System","Local System",317,0,0,109,208,null,0,0,0,0,0,0,0,0,0,0,0,0,null,208,0.65615141955835965,0,0,0,0,0,0,0,0,"","","","1 Nov 2024 to 30 Nov 20248256954924ENCTR",{"$f":"Data!A399","v":"2024-11-01"},{"$f":"TRIM(Data!B399)","v":"DR LAM KOON MAN CLINIC"},null,{"$f":"TRIM(Data!C399)","v":"SOLO"},{"$f":"TRIM(Data!D399)","v":"8256954924"},{"$f":"TRIM(Data!E399)","v":"ENCTR"},{"$f":"TRIM(Data!F399)","v":"3"},{"$f":"TRIM(Data!G399)","v":"ClinicSolution"},{"$f":"TRIM(Data!H399)","v":"Local System"},{"$f":"TRIM(Data!I399)","v":"13"},{"$f":"TRIM(Data!J399)","v":"0"},{"$f":"TRIM(Data!K399)","v":"0"},{"$f":"TRIM(Data!L399)","v":"0"},{"$f":"TRIM(Data!M399)","v":"13"},null,null,null,{"$f":"TRIM(Data!N399)","v":"0"},{"$f":"TRIM(Data!O399)","v":"0"},{"$f":"TRIM(Data!P399)","v":"0"},null,{"$f":"TRIM(Data!Q399)","v":"0"},null,null,{"$f":"TRIM(Data!R399)","v":"0"},{"$f":"TRIM(Data!S399)","v":"0"},{"$f":"TRIM(Data!T399)","v":"0"},null,null,null,{"$f":"TRIM(Data!U399)","v":"0"},null,{"$f":"TRIM(Data!V399)","v":"0"},{"$f":"TRIM(Data!W399)","v":"0"},{"$f":"TRIM(Data!X399)","v":"0"},{"$f":"TRIM(Data!Y399)","v":"0"},{"$f":"TRIM(Data!Z399)","v":"0"},{"$f":"TRIM(Data!AA399)","v":"0"},350,"1 Nov 2024 to 30 Nov 2024","DR LAM KOON MAN CLINIC","DR LAM KOON MAN CLINIC","SOLO","8256954924","ENCTR","3","ClinicSolution","Local System","13","0","0","0","13","","0","0","0","0","0","0","0","0","0","0","0","0","","13","1","0","0","0","0","0","0","0","0"]
["1 Nov 2024 to 30 Nov 20249141981346RAD","1 Nov 2024 to 30 Nov 2024","Grande Medical Scanning Centre","GMSC","SOLO",9141981346,"RAD",3,"RHI2","Local System",437,0,0,0,437,null,0,0,0,0,0,0,0,0,0,0,0,0,null,437,1,0,0,0,0,0,0,0,0,"","","","1 Nov 2024 to 30 Nov 20248256954924RXD",{"$f":"Data!A400","v":"2024-11-01"},{"$f":"TRIM(Data!B400)","v":"DR LAM KOON MAN CLINIC"},null,{"$f":"TRIM(Data!C400)","v":"SOLO"},{"$f":"TRIM(Data!D400)","v":"8256954924"},{"$f":"TRIM(Data!E400)","v":"RXD"},{"$f":"TRIM(Data!F400)","v":"2"},{"$f":"TRIM(Data!G400)","v":"ClinicSolution"},{"$f":"TRIM(Data!H400)","v":"Local System"},{"$f":"TRIM(Data!I400)","v":"2"},{"$f":"TRIM(Data!J400)","v":"0"},{"$f":"TRIM(Data!K400)","v":"0"},{"$f":"TRIM(Data!L400)","v":"2"},{"$f":"TRIM(Data!M400)","v":"0"},null,null,null,{"$f":"TRIM(Data!N400)","v":"0"},{"$f":"TRIM(Data!O400)","v":"0"},{"$f":"TRIM(Data!P400)","v":"0"},null,{"$f":"TRIM(Data!Q400)","v":"0"},null,null,{"$f":"TRIM(Data!R400)","v":"0"},{"$f":"TRIM(Data!S400)","v":"0"},{"$f":"TRIM(Data!T400)","v":"0"},null,null,null,{"$f":"TRIM(Data!U400)","v":"0"},null,{"$f":"TRIM(Data!V400)","v":"0"},{"$f":"TRIM(Data!W400)","v":"0"},{"$f":"TRIM(Data!X400)","v":"0"},{"$f":"TRIM(Data!Y400)","v":"0"},{"$f":"TRIM(Data!Z400)","v":"0"},{"$f":"TRIM(Data!AA400)","v":"0"},351,"1 Nov 2024 to 30 Nov 2024","DR LAM KOON MAN CLINIC","DR LAM KOON MAN CLINIC","SOLO","8256954924","RXD","2","ClinicSolution","Local System","2","0","0","2","0","","0","0","0","0","0","0","0","0","0","0","0","0","","0","0","0","0","0","0","0","0","0","0"]
["1 Nov 2024 to 30 Nov 20249165130652CMRXO","1 Nov 2024 to 30 Nov 2024","KINDNESS CHINESE MEDICAL CLINIC LIMITED","KINDNESS CHINESE MEDICAL","SOLO",9165130652,"CMRXO",3,"Local System","EC Connect",3,0,0,0,3,null,0,0,0,0,0,0,0,0,0,0,0,0,null,3,1,0,0,0,0,0,0,0,0,"","","","1 Nov 2024 to 30 Nov 20245849557920RXO",{"$f":"Data!A403","v":"2024-11-01"},{"$f":"TRIM(Data!B403)","v":"DR. CHOI KAM YEE SAMUEL"},null,{"$f":"TRIM(Data!C403)","v":"SOLO"},{"$f":"TRIM(Data!D403)","v":"5849557920"},{"$f":"TRIM(Data!E403)","v":"RXO"},{"$f":"TRIM(Data!F403)","v":"2"},{"$f":"TRIM(Data!G403)","v":"ClinicSolution"},{"$f":"TRIM(Data!H403)","v":"Local System"},{"$f":"TRIM(Data!I403)","v":"7"},{"$f":"TRIM(Data!J403)","v":"0"},{"$f":"TRIM(Data!K403)","v":"0"},{"$f":"TRIM(Data!L403)","v":"7"},{"$f":"TRIM(Data!M403)","v":"0"},null,null,null,{"$f":"TRIM(Data!N403)","v":"0"},{"$f":"TRIM(Data!O403)","v":"0"},{"$f":"TRIM(Data!P403)","v":"0"},null,{"$f":"TRIM(Data!Q403)","v":"0"},null,null,{"$f":"TRIM(Data!R403)","v":"0"},{"$f":"TRIM(Data!S403)","v":"0"},{"$f":"TRIM(Data!T403)","v":"0"},null,null,null,{"$f":"TRIM(Data!U403)","v":"0"},null,{"$f":"TRIM(Data!V403)","v":"0"},{"$f":"TRIM(Data!W403)","v":"0"},{"$f":"TRIM(Data!X403)","v":"0"},{"$f":"TRIM(Data!Y403)","v":"0"},{"$f":"TRIM(Data!Z403)","v":"0"},{"$f":"TRIM(Data!AA403)","v":"0"},235,"1 Nov 2024 to 30 Nov 2024","DR. CHOI KAM YEE SAMUEL","DR. CHOI KAM YEE SAMUEL","SOLO","5849557920","RXO","2","ClinicSolution","Local System","7","0","0","7","0","","0","0","0","0","0","0","0","0","0","0","0","0","","0","0","0","0","0","0","0","0","0","0"]
["1 Nov 2024 to 30 Nov 20249179355867AL1","1 Nov 2024 to 30 Nov 2024","Hong Kong Christian Service","HKCS","GROUP",9179355867,"AL1",3,"Local System","Local System",3,0,0,1,2,null,0,0,0,0,1,0.33333333333333331,1,0,0,1,0,0,null,2,0.66666666666666663,0,0,0,0,0,0,0,0,"","","","1 Nov 2024 to 30 Nov 20245849557920PROB",{"$f":"Data!A405","v":"2024-11-01"},{"$f":"TRIM(Data!B405)","v":"DR. CHOI KAM YEE SAMUEL"},null,{"$f":"TRIM(Data!C405)","v":"SOLO"},{"$f":"TRIM(Data!D405)","v":"5849557920"},{"$f":"TRIM(Data!E405)","v":"PROB"},{"$f":"TRIM(Data!F405)","v":"3"},{"$f":"TRIM(Data!G405)","v":"ClinicSolution"},{"$f":"TRIM(Data!H405)","v":"Local System"},{"$f":"TRIM(Data!I405)","v":"1"},{"$f":"TRIM(Data!J405)","v":"0"},{"$f":"TRIM(Data!K405)","v":"0"},{"$f":"TRIM(Data!L405)","v":"1"},{"$f":"TRIM(Data!M405)","v":"0"},null,null,null,{"$f":"TRIM(Data!N405)","v":"0"},{"$f":"TRIM(Data!O405)","v":"0"},{"$f":"TRIM(Data!P405)","v":"1"},null,{"$f":"TRIM(Data!Q405)","v":"1"},null,null,{"$f":"TRIM(Data!R405)","v":"1"},{"$f":"TRIM(Data!S405)","v":"0"},{"$f":"TRIM(Data!T405)","v":"0"},null,null,null,{"$f":"TRIM(Data!U405)","v":"0"},null,{"$f":"TRIM(Data!V405)","v":"0"},{"$f":"TRIM(Data!W405)","v":"0"},{"$f":"TRIM(Data!X405)","v":"0"},{"$f":"TRIM(Data!Y405)","v":"0"},{"$f":"TRIM(Data!Z405)","v":"0"},{"$f":"TRIM(Data!AA405)","v":"0"},233,"1 Nov 2024 to 30 Nov 2024","DR. CHOI KAM YEE SAMUEL","DR. CHOI KAM YEE SAMUEL","SOLO","5849557920","PROB","3","ClinicSolution","Local System","1","0","0","1","0","","0","0","0","0","1","1","1","0","0","1","0","0","","0","0","0","0","0","0","0","0","0","0"]
["1 Nov 2024 to 30 Nov 20249179355867RXD","1 Nov 2024 to 30 Nov 2024","Hong Kong Christian Service","HKCS","GROUP",9179355867,"RXD",3,"Local System","Local System",85,0,0,22,63,null,0,0,0,0,0,0,0,0,0,0,0,0,null,63,0.74117647058823533,0,0,0,0,0,0,0,0,"","","Y","1 Nov 2024 to 30 Nov 20249165130652CMRXO",{"$f":"Data!A408","v":"2024-11-01"},{"$f":"TRIM(Data!B408)","v":"KINDNESS CHINESE MEDICAL CLINIC LIMITED"},null,{"$f":"TRIM(Data!C408)","v":"SOLO"},{"$f":"TRIM(Data!D408)","v":"9165130652"},{"$f":"TRIM(Data!E408)","v":"CMRXO"},{"$f":"TRIM(Data!F408)","v":"3"},{"$f":"TRIM(Data!G408)","v":"EC Connect"},{"$f":"TRIM(Data!H408)","v":"EC Connect"},{"$f":"TRIM(Data!I408)","v":"3"},{"$f":"TRIM(Data!J408)","v":"0"},{"$f":"TRIM(Data!K408)","v":"0"},{"$f":"TRIM(Data!L408)","v":"0"},{"$f":"TRIM(Data!M408)","v":"3"},null,null,null,{"$f":"TRIM(Data!N408)","v":"0"},{"$f":"TRIM(Data!O408)","v":"0"},{"$f":"TRIM(Data!P408)","v":"0"},null,{"$f":"TRIM(Data!Q408)","v":"0"},null,null,{"$f":"TRIM(Data!R408)","v":"0"},{"$f":"TRIM(Data!S408)","v":"0"},{"$f":"TRIM(Data!T408)","v":"0"},null,null,null,{"$f":"TRIM(Data!U408)","v":"0"},null,{"$f":"TRIM(Data!V408)","v":"0"},{"$f":"TRIM(Data!W408)","v":"0"},{"$f":"TRIM(Data!X408)","v":"0"},{"$f":"TRIM(Data!Y408)","v":"0"},{"$f":"TRIM(Data!Z408)","v":"0"},{"$f":"TRIM(Data!AA408)","v":"0"},410,"1 Nov 2024 to 30 Nov 2024","KINDNESS CHINESE MEDICAL CLINIC LIMITED","KINDNESS CHINESE MEDICAL","SOLO","9165130652","CMRXO","3","Local System","EC Connect","3","0","0","0","3","","0","0","0","0","0","0","0","0","0","0","0","0","","3","1","0","0","0","0","0","0","0","0"]
["1 Nov 2024 to 30 Nov 20249179355867RXO","1 Nov 2024 to 30 Nov 2024","Hong Kong Christian Service","HKCS","GROUP",9179355867,"RXO",3,"Local System","Local System",85,0,0,22,63,null,0,0,0,0,0,0,0,0,0,0,0,0,null,63,0.74117647058823533,0,0,0,0,0,0,0,0,"","","Y","1 Nov 2024 to 30 Nov 20249165130652ENCTR",{"$f":"Data!A409","v":"2024-11-01"},{"$f":"TRIM(Data!B409)","v":"KINDNESS CHINESE MEDICAL CLINIC LIMITED"},null,{"$f":"TRIM(Data!C409)","v":"SOLO"},{"$f":"TRIM(Data!D409)","v":"9165130652"},{"$f":"TRIM(Data!E409)","v":"ENCTR"},{"$f":"TRIM(Data!F409)","v":"3"},{"$f":"TRIM(Data!G409)","v":"EC Connect"},{"$f":"TRIM(Data!H409)","v":"EC Connect"},{"$f":"TRIM(Data!I409)","v":"3"},{"$f":"TRIM(Data!J409)","v":"0"},{"$f":"TRIM(Data!K409)","v":"0"},{"$f":"TRIM(Data!L409)","v":"0"},{"$f":"TRIM(Data!M409)","v":"3"},null,null,null,{"$f":"TRIM(Data!N409)","v":"0"},{"$f":"TRIM(Data!O409)","v":"0"},{"$f":"TRIM(Data!P409)","v":"0"},null,{"$f":"TRIM(Data!Q409)","v":"0"},null,null,{"$f":"TRIM(Data!R409)","v":"0"},{"$f":"TRIM(Data!S409)","v":"0"},{"$f":"TRIM(Data!T409)","v":"0"},null,null,null,{"$f":"TRIM(Data!U409)","v":"0"},null,{"$f":"TRIM(Data!V409)","v":"0"},{"$f":"TRIM(Data!W409)","v":"0"},{"$f":"TRIM(Data!X409)","v":"0"},{"$f":"TRIM(Data!Y409)","v":"0"},{"$f":"TRIM(Data!Z409)","v":"0"},{"$f":"TRIM(Data!AA409)","v":"0"},411,"1 Nov 2024 to 30 Nov 2024","KINDNESS CHINESE MEDICAL CLINIC LIMITED","KINDNESS CHINESE MEDICAL","SOLO","9165130652","ENCTR","3","Local System","Local System","3","0","0","0","3","","0","0","0","0","0","0","0","0","0","0","0","0","","3","1","0","0","0","0","0","0","0","0"]
["1 Nov 2024 to 30 Nov 20249265486345IMMU","1 Nov 2024 to 30 Nov 2024","QUALITY HEALTHCARE MEDICAL CENTRE LIMITED","QHMS","GROUP",9265486345,"IMMU",2,"QHMS EMR","Local System",3325,0,0,3325,0,null,0,0,0,0,0,0,0,0,0,0,0,0,null,0,0,0,0,0,0,0,0,0,0,"","","","1 Nov 2024 to 30 Nov 20248958425524PROB",{"$f":"Data!A412","v":"2024-11-01"},{"$f":"TRIM(Data!B412)","v":"DR DANIEL YIANG WU"},null,{"$f":"TRIM(Data!C412)","v":"SOLO"},{"$f":"TRIM(Data!D412)","v":"8958425524"},{"$f":"TRIM(Data!E412)","v":"PROB"},{"$f":"TRIM(Data!F412)","v":"3"},{"$f":"TRIM(Data!G412)","v":"ClinicSolution"},{"$f":"TRIM(Data!H412)","v":"Local System"},{"$f":"TRIM(Data!I412)","v":"1"},{"$f":"TRIM(Data!J412)","v":"0"},{"$f":"TRIM(Data!K412)","v":"0"},{"$f":"TRIM(Data!L412)","v":"1"},{"$f":"TRIM(Data!M412)","v":"0"},null,null,null,{"$f":"TRIM(Data!N412)","v":"0"},{"$f":"TRIM(Data!O412)","v":"0"},{"$f":"TRIM(Data!P412)","v":"1"},null,{"$f":"TRIM(Data!Q412)","v":"1"},null,null,{"$f":"TRIM(Data!R412)","v":"1"},{"$f":"TRIM(Data!S412)","v":"0"},{"$f":"TRIM(Data!T412)","v":"0"},null,null,null,{"$f":"TRIM(Data!U412)","v":"0"},null,{"$f":"TRIM(Data!V412)","v":"0"},{"$f":"TRIM(Data!W412)","v":"0"},{"$f":"TRIM(Data!X412)","v":"0"},{"$f":"TRIM(Data!Y412)","v":"0"},{"$f":"TRIM(Data!Z412)","v":"0"},{"$f":"TRIM(Data!AA412)","v":"0"},392,"1 Nov 2024 to 30 Nov 2024","DR DANIEL YIANG WU","DR DANIEL YIANG WU","SOLO","8958425524","PROB","3","ClinicSolution","Local System","1","0","0","1","0","","0","0","0","0","1","1","1","0","0","1","0","0","","0","0","0","0","0","0","0","0","0","0"]
["1 Nov 2024 to 30 Nov 20249306084059LABGEN","1 Nov 2024 to 30 Nov 2024","Advance X-Ray & Medical Diagnostic Centre Ltd","AXMDCL","SOLO",9306084059,"LABGEN",1,"CMS5.0 (HKMA)","Local System",73,0,73,0,0,null,0,0,0,0,0,0,0,0,0,0,0,0,null,0,0,0,0,0,0,0,0,0,0,"","","Y","1 Nov 2024 to 30 Nov 20242822145488CMPROB",{"$f":"Data!A415","v":"2024-11-01"},{"$f":"TRIM(Data!B415)","v":"MAN YEE (TCM) MEDICAL CLINIC LIMITED"},null,{"$f":"TRIM(Data!C415)","v":"GRP"},{"$f":"TRIM(Data!D415)","v":"2822145488"},{"$f":"TRIM(Data!E415)","v":"CMPROB"},{"$f":"TRIM(Data!F415)","v":"3"},{"$f":"TRIM(Data!G415)","v":"EC Connect"},{"$f":"TRIM(Data!H415)","v":"EC Connect"},{"$f":"TRIM(Data!I415)","v":"1"},{"$f":"TRIM(Data!J415)","v":"0"},{"$f":"TRIM(Data!K415)","v":"0"},{"$f":"TRIM(Data!L415)","v":"0"},{"$f":"TRIM(Data!M415)","v":"1"},null,null,null,{"$f":"TRIM(Data!N415)","v":"0"},{"$f":"TRIM(Data!O415)","v":"0"},{"$f":"TRIM(Data!P415)","v":"0"},null,{"$f":"TRIM(Data!Q415)","v":"0"},null,null,{"$f":"TRIM(Data!R415)","v":"0"},{"$f":"TRIM(Data!S415)","v":"0"},{"$f":"TRIM(Data!T415)","v":"0"},null,null,null,{"$f":"TRIM(Data!U415)","v":"0"},null,{"$f":"TRIM(Data!V415)","v":"0"},{"$f":"TRIM(Data!W415)","v":"0"},{"$f":"TRIM(Data!X415)","v":"0"},{"$f":"TRIM(Data!Y415)","v":"0"},{"$f":"TRIM(Data!Z415)","v":"0"},{"$f":"TRIM(Data!AA415)","v":"0"},62,"1 Nov 2024 to 30 Nov 2024","Man Yee (TCM) Medical Clinic Limited","MAN YEE (TCM)","GROUP","2822145488","CMPROB","3","Local System","EC Connect","1","0","0","0","1","","0","0","0","0","0","0","0","0","0","0","0","0","","1","1","0","0","0","0","0","0","0","0"]
["1 Nov 2024 to 30 Nov 20249398567973PROB","1 Nov 2024 to 30 Nov 2024","DR. CHUNG CHI PING SIMON","DR. SIMON C.P. CHUNG","SOLO",9398567973,"PROB",3,"ClinicSolution","Local System",17,0,0,17,0,null,0,0,0,0,17,1,17,0,0,17,0,0,null,0,0,0,0,0,0,0,0,0,0,"","","","1 Nov 2024 to 30 Nov 20248033207557ENCTR",{"$f":"Data!A417","v":"2024-11-01"},{"$f":"TRIM(Data!B417)","v":"NGAN SZE YUEN"},null,{"$f":"TRIM(Data!C417)","v":"SOLO"},{"$f":"TRIM(Data!D417)","v":"8033207557"},{"$f":"TRIM(Data!E417)","v":"ENCTR"},{"$f":"TRIM(Data!F417)","v":"3"},{"$f":"TRIM(Data!G417)","v":"ClinicSolution"},{"$f":"TRIM(Data!H417)","v":"Local System"},{"$f":"TRIM(Data!I417)","v":"4"},{"$f":"TRIM(Data!J417)","v":"0"},{"$f":"TRIM(Data!K417)","v":"0"},{"$f":"TRIM(Data!L417)","v":"0"},{"$f":"TRIM(Data!M417)","v":"4"},null,null,null,{"$f":"TRIM(Data!N417)","v":"0"},{"$f":"TRIM(Data!O417)","v":"0"},{"$f":"TRIM(Data!P417)","v":"0"},null,{"$f":"TRIM(Data!Q417)","v":"0"},null,null,{"$f":"TRIM(Data!R417)","v":"0"},{"$f":"TRIM(Data!S417)","v":"0"},{"$f":"TRIM(Data!T417)","v":"0"},null,null,null,{"$f":"TRIM(Data!U417)","v":"0"},null,{"$f":"TRIM(Data!V417)","v":"0"},{"$f":"TRIM(Data!W417)","v":"0"},{"$f":"TRIM(Data!X417)","v":"0"},{"$f":"TRIM(Data!Y417)","v":"0"},{"$f":"TRIM(Data!Z417)","v":"0"},{"$f":"TRIM(Data!AA417)","v":"0"},336,"1 Nov 2024 to 30 Nov 2024","NGAN SZE YUEN","NGAN SZE YUEN","SOLO","8033207557","ENCTR","3","ClinicSolution","Local System","4","0","0","0","4","","0","0","0","0","0","0","0","0","0","0","0","0","","4","1","0","0","0","0","0","0","0","0"]
["1 Nov 2024 to 30 Nov 20249398567973RXD","1 Nov 2024 to 30 Nov 2024","DR. CHUNG CHI PING SIMON","DR. SIMON C.P. CHUNG","SOLO",9398567973,"RXD",2,"ClinicSolution","Local System",10,0,0,10,0,null,0,0,0,0,0,0,0,0,0,0,0,0,null,0,0,0,0,0,0,0,0,0,0,"","","","1 Nov 2024 to 30 Nov 20242732778448RAD",{"$f":"Data!A418","v":"2024-11-01"},{"$f":"TRIM(Data!B418)","v":"CONCORDE DIAGNOSTICS LIMITED"},null,{"$f":"TRIM(Data!C418)","v":"SOLO"},{"$f":"TRIM(Data!D418)","v":"2732778448"},{"$f":"TRIM(Data!E418)","v":"RAD"},{"$f":"TRIM(Data!F418)","v":"3"},{"$f":"TRIM(Data!G418)","v":"RHI2"},{"$f":"TRIM(Data!H418)","v":"Local System"},{"$f":"TRIM(Data!I418)","v":"3"},{"$f":"TRIM(Data!J418)","v":"0"},{"$f":"TRIM(Data!K418)","v":"0"},{"$f":"TRIM(Data!L418)","v":"0"},{"$f":"TRIM(Data!M418)","v":"3"},null,null,null,{"$f":"TRIM(Data!N418)","v":"0"},{"$f":"TRIM(Data!O418)","v":"0"},{"$f":"TRIM(Data!P418)","v":"0"},null,{"$f":"TRIM(Data!Q418)","v":"0"},null,null,{"$f":"TRIM(Data!R418)","v":"0"},{"$f":"TRIM(Data!S418)","v":"0"},{"$f":"TRIM(Data!T418)","v":"0"},null,null,null,{"$f":"TRIM(Data!U418)","v":"0"},null,{"$f":"TRIM(Data!V418)","v":"0"},{"$f":"TRIM(Data!W418)","v":"0"},{"$f":"TRIM(Data!X418)","v":"0"},{"$f":"TRIM(Data!Y418)","v":"0"},{"$f":"TRIM(Data!Z418)","v":"0"},{"$f":"TRIM(Data!AA418)","v":"0"},61,"1 Nov 2024 to 30 Nov 2024","CONCORDE DIAGNOSTICS LIMITED","CONCORDE DIAGNOSTICS LTD","SOLO","2732778448","RAD","3","RHI2","Local System","3","0","0","0","3","","0","0","0","0","0","0","0","0","0","0","0","0","","3","1","0","0","0","0","0","0","0","0"]
["1 Nov 2024 to 30 Nov 20249407305541RXD","1 Nov 2024 to 30 Nov 2024","Hong Kong Breast Cancer and Disease Centre Limited","HKBCADC","SOLO           ",9407305541,"RXD",3,"Local System","Local System",19,0,0,1,18,null,0,0,0,0,0,0,0,0,0,0,0,0,null,18,0.94736842105263153,0,0,0,0,0,0,0,0,"","","","1 Dec 2024 to 31 Dec 20243098159131RXO",{"$f":"Data!A421","v":"2024-12-01"},{"$f":"TRIM(Data!B421)","v":"HOSPITAL AUTHORITY"},null,{"$f":"TRIM(Data!C421)","v":"HA"},{"$f":"TRIM(Data!D421)","v":"3098159131"},{"$f":"TRIM(Data!E421)","v":"RXO"},{"$f":"TRIM(Data!F421)","v":"3"},{"$f":"TRIM(Data!G421)","v":"Enterprise Application Integration (EAI)"},{"$f":"TRIM(Data!H421)","v":"Local System"},{"$f":"TRIM(Data!I421)","v":"8879263"},{"$f":"TRIM(Data!J421)","v":"0"},{"$f":"TRIM(Data!K421)","v":"0"},{"$f":"TRIM(Data!L421)","v":"3795700"},{"$f":"TRIM(Data!M421)","v":"5083563"},null,null,null,{"$f":"TRIM(Data!N421)","v":"0"},{"$f":"TRIM(Data!O421)","v":"0"},{"$f":"TRIM(Data!P421)","v":"178835"},null,{"$f":"TRIM(Data!Q421)","v":"178835"},null,null,{"$f":"TRIM(Data!R421)","v":"178835"},{"$f":"TRIM(Data!S421)","v":"0"},{"$f":"TRIM(Data!T421)","v":"0"},null,null,null,{"$f":"TRIM(Data!U421)","v":"0"},null,{"$f":"TRIM(Data!V421)","v":"0"},{"$f":"TRIM(Data!W421)","v":"0"},{"$f":"TRIM(Data!X421)","v":"0"},{"$f":"TRIM(Data!Y421)","v":"0"},{"$f":"TRIM(Data!Z421)","v":"0"},{"$f":"TRIM(Data!AA421)","v":"0"},540,"1 Dec 2024 to 31 Dec 2024","HOSPITAL AUTHORITY","HA","HA","3098159131","RXO","3","Enterprise Application Integration (EAI)","Local System","8879263","0","0","3795700","5083563","","0","0","0","0","178835","0.0201407481679504","178835","0","0","178835","0","0","","5083563","0.572520827460567","0","0","0","0","0","0","0","0"]
["1 Nov 2024 to 30 Nov 20249421690548AL1","1 Nov 2024 to 30 Nov 2024","DHC EXPRESS-WAN CHAI (MC)","DHC EXPRESS-WAN CHAI-CC","DHC",9421690548,"AL1",3,"Local System","Local System",5,0,0,0,5,null,0,0,0,0,0,0,0,0,0,0,0,0,null,5,1,0,0,0,0,0,0,0,0,"","","","1 Dec 2024 to 31 Dec 20243098159131PROB",{"$f":"Data!A423","v":"2024-12-01"},{"$f":"TRIM(Data!B423)","v":"HOSPITAL AUTHORITY"},null,{"$f":"TRIM(Data!C423)","v":"HA"},{"$f":"TRIM(Data!D423)","v":"3098159131"},{"$f":"TRIM(Data!E423)","v":"PROB"},{"$f":"TRIM(Data!F423)","v":"3"},{"$f":"TRIM(Data!G423)","v":"Enterprise Application Integration (EAI)"},{"$f":"TRIM(Data!H423)","v":"Local System"},{"$f":"TRIM(Data!I423)","v":"1194247"},{"$f":"TRIM(Data!J423)","v":"0"},{"$f":"TRIM(Data!K423)","v":"0"},{"$f":"TRIM(Data!L423)","v":"0"},{"$f":"TRIM(Data!M423)","v":"1194247"},null,null,null,{"$f":"TRIM(Data!N423)","v":"0"},{"$f":"TRIM(Data!O423)","v":"0"},{"$f":"TRIM(Data!P423)","v":"0"},null,{"$f":"TRIM(Data!Q423)","v":"0"},null,null,{"$f":"TRIM(Data!R423)","v":"0"},{"$f":"TRIM(Data!S423)","v":"0"},{"$f":"TRIM(Data!T423)","v":"0"},null,null,null,{"$f":"TRIM(Data!U423)","v":"0"},null,{"$f":"TRIM(Data!V423)","v":"0"},{"$f":"TRIM(Data!W423)","v":"0"},{"$f":"TRIM(Data!X423)","v":"0"},{"$f":"TRIM(Data!Y423)","v":"0"},{"$f":"TRIM(Data!Z423)","v":"0"},{"$f":"TRIM(Data!AA423)","v":"0"},535,"1 Dec 2024 to 31 Dec 2024","HOSPITAL AUTHORITY","HA","HA","3098159131","PROB","3","Enterprise Application Integration (EAI)","Local System","1194247","0","0","0","1194247","","0","0","0","0","0","0","0","0","0","0","0","0","","1194247","1","0","0","0","0","0","0","0","0"]
["1 Nov 2024 to 30 Nov 20249585979787ENCTR","1 Nov 2024 to 30 Nov 2024","DR. TSANG FAN KWONG","DR. TSANG FAN KWONG","SOLO",9585979787,"ENCTR",3,"ClinicSolution","Local System",7,0,0,0,7,null,0,0,0,0,0,0,0,0,0,0,0,0,null,7,1,0,0,0,0,0,0,0,0,"","","","1 Dec 2024 to 31 Dec 20243098159131EPIS",{"$f":"Data!A426","v":"2024-12-01"},{"$f":"TRIM(Data!B426)","v":"HOSPITAL AUTHORITY"},null,{"$f":"TRIM(Data!C426)","v":"HA"},{"$f":"TRIM(Data!D426)","v":"3098159131"},{"$f":"TRIM(Data!E426)","v":"EPIS"},{"$f":"TRIM(Data!F426)","v":"1"},{"$f":"TRIM(Data!G426)","v":"Enterprise Application Integration (EAI)"},{"$f":"TRIM(Data!H426)","v":"Local System"},{"$f":"TRIM(Data!I426)","v":"416761"},{"$f":"TRIM(Data!J426)","v":"1385"},{"$f":"TRIM(Data!K426)","v":"415376"},{"$f":"TRIM(Data!L426)","v":"0"},{"$f":"TRIM(Data!M426)","v":"0"},null,null,null,{"$f":"TRIM(Data!N426)","v":"1385"},{"$f":"TRIM(Data!O426)","v":"0"},{"$f":"TRIM(Data!P426)","v":"0"},null,{"$f":"TRIM(Data!Q426)","v":"0"},null,null,{"$f":"TRIM(Data!R426)","v":"0"},{"$f":"TRIM(Data!S426)","v":"0"},{"$f":"TRIM(Data!T426)","v":"0"},null,null,null,{"$f":"TRIM(Data!U426)","v":"0"},null,{"$f":"TRIM(Data!V426)","v":"0"},{"$f":"TRIM(Data!W426)","v":"0"},{"$f":"TRIM(Data!X426)","v":"0"},{"$f":"TRIM(Data!Y426)","v":"0"},{"$f":"TRIM(Data!Z426)","v":"0"},{"$f":"TRIM(Data!AA426)","v":"0"},527,"1 Dec 2024 to 31 Dec 2024","HOSPITAL AUTHORITY","HA","HA","3098159131","EPIS","1","Enterprise Application Integration (EAI)","Local System","416761","1385","415376","0","0","","1385","0.00332324761673957","1385","0","0","0","0","0","0","0","0","0","","0","0","0","0","0","0","0","0","0","0"]
["1 Nov 2024 to 30 Nov 20249585979787PROB","1 Nov 2024 to 30 Nov 2024","DR. TSANG FAN KWONG","DR. TSANG FAN KWONG","SOLO",9585979787,"PROB",3,"ClinicSolution","Local System",2,0,0,2,0,null,0,0,0,0,2,1,2,0,0,2,0,0,null,0,0,0,0,0,0,0,0,0,0,"","","","1 Dec 2024 to 31 Dec 20243098159131PX",{"$f":"Data!A427","v":"2024-12-01"},{"$f":"TRIM(Data!B427)","v":"HOSPITAL AUTHORITY"},null,{"$f":"TRIM(Data!C427)","v":"HA"},{"$f":"TRIM(Data!D427)","v":"3098159131"},{"$f":"TRIM(Data!E427)","v":"PX"},{"$f":"TRIM(Data!F427)","v":"3"},{"$f":"TRIM(Data!G427)","v":"Enterprise Application Integration (EAI)"},{"$f":"TRIM(Data!H427)","v":"Local System"},{"$f":"TRIM(Data!I427)","v":"360773"},{"$f":"TRIM(Data!J427)","v":"0"},{"$f":"TRIM(Data!K427)","v":"0"},{"$f":"TRIM(Data!L427)","v":"0"},{"$f":"TRIM(Data!M427)","v":"360773"},null,null,null,{"$f":"TRIM(Data!N427)","v":"0"},{"$f":"TRIM(Data!O427)","v":"0"},{"$f":"TRIM(Data!P427)","v":"0"},null,{"$f":"TRIM(Data!Q427)","v":"0"},null,null,{"$f":"TRIM(Data!R427)","v":"0"},{"$f":"TRIM(Data!S427)","v":"0"},{"$f":"TRIM(Data!T427)","v":"0"},null,null,null,{"$f":"TRIM(Data!U427)","v":"0"},null,{"$f":"TRIM(Data!V427)","v":"0"},{"$f":"TRIM(Data!W427)","v":"0"},{"$f":"TRIM(Data!X427)","v":"0"},{"$f":"TRIM(Data!Y427)","v":"0"},{"$f":"TRIM(Data!Z427)","v":"0"},{"$f":"TRIM(Data!AA427)","v":"0"},536,"1 Dec 2024 to 31 Dec 2024","HOSPITAL AUTHORITY","HA","HA","3098159131","PX","3","Enterprise Application Integration (EAI)","Local System","360773","0","0","0","360773","","0","0","0","0","0","0","0","0","0","0","0","0","","360773","1","0","0","0","0","0","0","0","0"]
["1 Nov 2024 to 30 Nov 20249681600318AL1","1 Nov 2024 to 30 Nov 2024","DISTRICT HEALTH CENTRE-SHAM SHUI PO (SJS)","DHC-SHAM SHUI PO","DHC",9681600318,"AL1",3,"Local System","Local System",13,0,0,2,11,null,0,0,0,0,1,7.6923076923076927E-2,1,0,0,1,0,0,null,11,0.84615384615384615,0,0,0,0,0,0,0,0,"","","","1 Dec 2024 to 31 Dec 20243098159131IMMU",{"$f":"Data!A430","v":"2024-12-01"},{"$f":"TRIM(Data!B430)","v":"HOSPITAL AUTHORITY"},null,{"$f":"TRIM(Data!C430)","v":"HA"},{"$f":"TRIM(Data!D430)","v":"3098159131"},{"$f":"TRIM(Data!E430)","v":"IMMU"},{"$f":"TRIM(Data!F430)","v":"3"},{"$f":"TRIM(Data!G430)","v":"Enterprise Application Integration (EAI)"},{"$f":"TRIM(Data!H430)","v":"Local System"},{"$f":"TRIM(Data!I430)","v":"133096"},{"$f":"TRIM(Data!J430)","v":"0"},{"$f":"TRIM(Data!K430)","v":"0"},{"$f":"TRIM(Data!L430)","v":"11162"},{"$f":"TRIM(Data!M430)","v":"121934"},null,null,null,{"$f":"TRIM(Data!N430)","v":"0"},{"$f":"TRIM(Data!O430)","v":"0"},{"$f":"TRIM(Data!P430)","v":"10874"},null,{"$f":"TRIM(Data!Q430)","v":"10874"},null,null,{"$f":"TRIM(Data!R430)","v":"10874"},{"$f":"TRIM(Data!S430)","v":"0"},{"$f":"TRIM(Data!T430)","v":"0"},null,null,null,{"$f":"TRIM(Data!U430)","v":"296"},null,{"$f":"TRIM(Data!V430)","v":"0"},{"$f":"TRIM(Data!W430)","v":"296"},{"$f":"TRIM(Data!X430)","v":"0"},{"$f":"TRIM(Data!Y430)","v":"0"},{"$f":"TRIM(Data!Z430)","v":"0"},{"$f":"TRIM(Data!AA430)","v":"0"},528,"1 Dec 2024 to 31 Dec 2024","HOSPITAL AUTHORITY","HA","HA","3098159131","IMMU","3","Enterprise Application Integration (EAI)","Local System","133096","0","0","11162","121934","","0","0","0","0","10874","0.0817004267596321","10874","0","0","10874","0","0","","121934","0.91613572158442","296","0.00222395864639058","0","296","0","0","0","0"]
["1 Nov 2024 to 30 Nov 20249713227452ENCTR","1 Nov 2024 to 30 Nov 2024","ANCHOR ONCOLOGY AND HEMATOLOGY CENTRE LIMITED","AOHC","GROUP",9713227452,"ENCTR",3,"ClinicSolution","Local System",232,0,0,0,232,null,0,0,0,0,0,0,0,0,0,0,0,0,null,232,1,0,0,0,0,0,0,0,0,"","","","1 Dec 2024 to 31 Dec 20243098159131INVR",{"$f":"Data!A433","v":"2024-12-01"},{"$f":"TRIM(Data!B433)","v":"HOSPITAL AUTHORITY"},null,{"$f":"TRIM(Data!C433)","v":"HA"},{"$f":"TRIM(Data!D433)","v":"3098159131"},{"$f":"TRIM(Data!E433)","v":"INVR"},{"$f":"TRIM(Data!F433)","v":"1"},{"$f":"TRIM(Data!G433)","v":"Enterprise Application Integration (EAI)"},{"$f":"TRIM(Data!H433)","v":"Local System"},{"$f":"TRIM(Data!I433)","v":"31914"},{"$f":"TRIM(Data!J433)","v":"28"},{"$f":"TRIM(Data!K433)","v":"31886"},{"$f":"TRIM(Data!L433)","v":"0"},{"$f":"TRIM(Data!M433)","v":"0"},null,null,null,{"$f":"TRIM(Data!N433)","v":"28"},{"$f":"TRIM(Data!O433)","v":"0"},{"$f":"TRIM(Data!P433)","v":"0"},null,{"$f":"TRIM(Data!Q433)","v":"0"},null,null,{"$f":"TRIM(Data!R433)","v":"0"},{"$f":"TRIM(Data!S433)","v":"0"},{"$f":"TRIM(Data!T433)","v":"0"},null,null,null,{"$f":"TRIM(Data!U433)","v":"0"},null,{"$f":"TRIM(Data!V433)","v":"0"},{"$f":"TRIM(Data!W433)","v":"0"},{"$f":"TRIM(Data!X433)","v":"0"},{"$f":"TRIM(Data!Y433)","v":"0"},{"$f":"TRIM(Data!Z433)","v":"0"},{"$f":"TRIM(Data!AA433)","v":"0"},529,"1 Dec 2024 to 31 Dec 2024","HOSPITAL AUTHORITY","HA","HA","3098159131","INVR","1","Enterprise Application Integration (EAI)","Local System","31914","28","31886","0","0","","28","0.000877357899354515","28","0","0","0","0","0","0","0","0","0","","0","0","0","0","0","0","0","0","0","0"]
["1 Nov 2024 to 30 Nov 20249713227452RXO","1 Nov 2024 to 30 Nov 2024","ANCHOR ONCOLOGY AND HEMATOLOGY CENTRE LIMITED","AOHC","GROUP",9713227452,"RXO",2,"ClinicSolution","Local System",82,0,0,82,0,null,0,0,0,0,0,0,0,0,0,0,0,0,null,0,0,0,0,0,0,0,0,0,0,"","","","1 Dec 2024 to 31 Dec 20243098159131AL1",{"$f":"Data!A435","v":"2024-12-01"},{"$f":"TRIM(Data!B435)","v":"HOSPITAL AUTHORITY"},null,{"$f":"TRIM(Data!C435)","v":"HA"},{"$f":"TRIM(Data!D435)","v":"3098159131"},{"$f":"TRIM(Data!E435)","v":"AL1"},{"$f":"TRIM(Data!F435)","v":"3"},{"$f":"TRIM(Data!G435)","v":"Enterprise Application Integration (EAI)"},{"$f":"TRIM(Data!H435)","v":"Local System"},{"$f":"TRIM(Data!I435)","v":"5551"},{"$f":"TRIM(Data!J435)","v":"0"},{"$f":"TRIM(Data!K435)","v":"0"},{"$f":"TRIM(Data!L435)","v":"1548"},{"$f":"TRIM(Data!M435)","v":"4003"},null,null,null,{"$f":"TRIM(Data!N435)","v":"0"},{"$f":"TRIM(Data!O435)","v":"0"},{"$f":"TRIM(Data!P435)","v":"1460"},null,{"$f":"TRIM(Data!Q435)","v":"1460"},null,null,{"$f":"TRIM(Data!R435)","v":"1460"},{"$f":"TRIM(Data!S435)","v":"0"},{"$f":"TRIM(Data!T435)","v":"0"},null,null,null,{"$f":"TRIM(Data!U435)","v":"0"},null,{"$f":"TRIM(Data!V435)","v":"0"},{"$f":"TRIM(Data!W435)","v":"0"},{"$f":"TRIM(Data!X435)","v":"0"},{"$f":"TRIM(Data!Y435)","v":"0"},{"$f":"TRIM(Data!Z435)","v":"0"},{"$f":"TRIM(Data!AA435)","v":"0"},524,"1 Dec 2024 to 31 Dec 2024","HOSPITAL AUTHORITY","HA","HA","3098159131","AL1","3","Enterprise Application Integration (EAI)","Local System","5551","0","0","1548","4003","","0","0","0","0","1460","0.263015672851738","1460","0","0","1460","0","0","","4003","0.721131327688705","0","0","0","0","0","0","0","0"]
["1 Nov 2024 to 30 Nov 20249761710951RAD","1 Nov 2024 to 30 Nov 2024","QUALITY HEALTHCARE MEDICAL CENTRE LIMITED","QHMS","GROUP",9761710951,"RAD",3,"RHI2_QHMS","Local System",879,0,0,0,879,null,0,0,0,0,0,0,0,0,0,0,0,0,null,879,1,0,0,0,0,0,0,0,0,"","","","1 Dec 2024 to 31 Dec 20243098159131ADR",{"$f":"Data!A436","v":"2024-12-01"},{"$f":"TRIM(Data!B436)","v":"HOSPITAL AUTHORITY"},null,{"$f":"TRIM(Data!C436)","v":"HA"},{"$f":"TRIM(Data!D436)","v":"3098159131"},{"$f":"TRIM(Data!E436)","v":"ADR"},{"$f":"TRIM(Data!F436)","v":"3"},{"$f":"TRIM(Data!G436)","v":"Enterprise Application Integration (EAI)"},{"$f":"TRIM(Data!H436)","v":"Local System"},{"$f":"TRIM(Data!I436)","v":"4583"},{"$f":"TRIM(Data!J436)","v":"0"},{"$f":"TRIM(Data!K436)","v":"0"},{"$f":"TRIM(Data!L436)","v":"298"},{"$f":"TRIM(Data!M436)","v":"4285"},null,null,null,{"$f":"TRIM(Data!N436)","v":"0"},{"$f":"TRIM(Data!O436)","v":"0"},{"$f":"TRIM(Data!P436)","v":"291"},null,{"$f":"TRIM(Data!Q436)","v":"291"},null,null,{"$f":"TRIM(Data!R436)","v":"291"},{"$f":"TRIM(Data!S436)","v":"0"},{"$f":"TRIM(Data!T436)","v":"0"},null,null,null,{"$f":"TRIM(Data!U436)","v":"0"},null,{"$f":"TRIM(Data!V436)","v":"0"},{"$f":"TRIM(Data!W436)","v":"0"},{"$f":"TRIM(Data!X436)","v":"0"},{"$f":"TRIM(Data!Y436)","v":"0"},{"$f":"TRIM(Data!Z436)","v":"0"},{"$f":"TRIM(Data!AA436)","v":"0"},523,"1 Dec 2024 to 31 Dec 2024","HOSPITAL AUTHORITY","HA","HA","3098159131","ADR","3","Enterprise Application Integration (EAI)","Local System","4583","0","0","298","4285","","0","0","0","0","291","0.0634955269474144","291","0","0","291","0","0","","4285","0.934977089242854","0","0","0","0","0","0","0","0"]
["1 Nov 2024 to 30 Nov 20249805671910CMRXO","1 Nov 2024 to 30 Nov 2024","18 Chinese Medicine Clinic cum Traing and Research Centre (Christiam Family Service Centre)","18CMCTRs (CFSC)","NGO",9805671910,"CMRXO",3,"Local System","EC Connect",366,0,0,106,260,null,0,0,0,0,106,0.2896174863387978,106,0,0,106,0,0,null,260,0.7103825136612022,0,0,0,0,0,0,0,0,"","","","1 Dec 2024 to 31 Dec 20242438744730IMMU",{"$f":"Data!A439","v":"2024-12-01"},{"$f":"TRIM(Data!B439)","v":"DEPARTMENT OF HEALTH"},null,{"$f":"TRIM(Data!C439)","v":"DH"},{"$f":"TRIM(Data!D439)","v":"2438744730"},{"$f":"TRIM(Data!E439)","v":"IMMU"},{"$f":"TRIM(Data!F439)","v":"3"},{"$f":"TRIM(Data!G439)","v":"CIMS2"},{"$f":"TRIM(Data!H439)","v":"Local System"},{"$f":"TRIM(Data!I439)","v":"154500"},{"$f":"TRIM(Data!J439)","v":"0"},{"$f":"TRIM(Data!K439)","v":"0"},{"$f":"TRIM(Data!L439)","v":"18621"},{"$f":"TRIM(Data!M439)","v":"135879"},null,null,null,{"$f":"TRIM(Data!N439)","v":"0"},{"$f":"TRIM(Data!O439)","v":"0"},{"$f":"TRIM(Data!P439)","v":"18621"},null,{"$f":"TRIM(Data!Q439)","v":"18621"},null,null,{"$f":"TRIM(Data!R439)","v":"18621"},{"$f":"TRIM(Data!S439)","v":"0"},{"$f":"TRIM(Data!T439)","v":"0"},null,null,null,{"$f":"TRIM(Data!U439)","v":"0"},null,{"$f":"TRIM(Data!V439)","v":"0"},{"$f":"TRIM(Data!W439)","v":"0"},{"$f":"TRIM(Data!X439)","v":"0"},{"$f":"TRIM(Data!Y439)","v":"0"},{"$f":"TRIM(Data!Z439)","v":"0"},{"$f":"TRIM(Data!AA439)","v":"0"},498,"1 Dec 2024 to 31 Dec 2024","DEPARTMENT OF HEALTH","DH","DH","2438744730","IMMU","3","CIMS2","Local System","154500","0","0","18621","135879","","0","0","0","0","18621","0.12052427184466","18621","0","0","18621","0","0","","135879","0.87947572815534","0","0","0","0","0","0","0","0"]
["1 Nov 2024 to 30 Nov 20249841327550ENCTR","1 Nov 2024 to 30 Nov 2024","HEALS CLINIC LIMITED","HEALS CLINIC LIMITED","SOLO",9841327550,"ENCTR",3,"ClinicSolution","Local System",18,0,0,0,18,null,0,0,0,0,0,0,0,0,0,0,0,0,null,18,1,0,0,0,0,0,0,0,0,"","","","1 Dec 2024 to 31 Dec 20242438744730PX",{"$f":"Data!A441","v":"2024-12-01"},{"$f":"TRIM(Data!B441)","v":"DEPARTMENT OF HEALTH"},null,{"$f":"TRIM(Data!C441)","v":"DH"},{"$f":"TRIM(Data!D441)","v":"2438744730"},{"$f":"TRIM(Data!E441)","v":"PX"},{"$f":"TRIM(Data!F441)","v":"3"},{"$f":"TRIM(Data!G441)","v":"CIMS2"},{"$f":"TRIM(Data!H441)","v":"Local System"},{"$f":"TRIM(Data!I441)","v":"105140"},{"$f":"TRIM(Data!J441)","v":"0"},{"$f":"TRIM(Data!K441)","v":"0"},{"$f":"TRIM(Data!L441)","v":"8122"},{"$f":"TRIM(Data!M441)","v":"97018"},null,null,null,{"$f":"TRIM(Data!N441)","v":"0"},{"$f":"TRIM(Data!O441)","v":"0"},{"$f":"TRIM(Data!P441)","v":"5477"},null,{"$f":"TRIM(Data!Q441)","v":"5477"},null,null,{"$f":"TRIM(Data!R441)","v":"5477"},{"$f":"TRIM(Data!S441)","v":"0"},{"$f":"TRIM(Data!T441)","v":"0"},null,null,null,{"$f":"TRIM(Data!U441)","v":"2666"},null,{"$f":"TRIM(Data!V441)","v":"0"},{"$f":"TRIM(Data!W441)","v":"2666"},{"$f":"TRIM(Data!X441)","v":"0"},{"$f":"TRIM(Data!Y441)","v":"0"},{"$f":"TRIM(Data!Z441)","v":"0"},{"$f":"TRIM(Data!AA441)","v":"0"},504,"1 Dec 2024 to 31 Dec 2024","DEPARTMENT OF HEALTH","DH","DH","2438744730","PX","3","CIMS2","Local System","105140","0","0","8122","97018","","0","0","0","0","5477","0.0520924481643523","5477","0","0","5477","0","0","","97018","0.922750618223321","2666","0.0253566673007419","0","2666","0","0","0","0"]
["1 Nov 2024 to 30 Nov 20249841327550RXD","1 Nov 2024 to 30 Nov 2024","HEALS CLINIC LIMITED","HEALS CLINIC LIMITED","SOLO",9841327550,"RXD",2,"ClinicSolution","Local System",17,0,0,17,0,null,0,0,0,0,0,0,0,0,0,0,0,0,null,0,0,0,0,0,0,0,0,0,0,"","","","1 Dec 2024 to 31 Dec 20242438744730LABMB",{"$f":"Data!A444","v":"2024-12-01"},{"$f":"TRIM(Data!B444)","v":"DEPARTMENT OF HEALTH"},null,{"$f":"TRIM(Data!C444)","v":"DH"},{"$f":"TRIM(Data!D444)","v":"2438744730"},{"$f":"TRIM(Data!E444)","v":"LABMB"},{"$f":"TRIM(Data!F444)","v":"1"},{"$f":"TRIM(Data!G444)","v":"CIMS2"},{"$f":"TRIM(Data!H444)","v":"Local System"},{"$f":"TRIM(Data!I444)","v":"16521"},{"$f":"TRIM(Data!J444)","v":"0"},{"$f":"TRIM(Data!K444)","v":"16521"},{"$f":"TRIM(Data!L444)","v":"0"},{"$f":"TRIM(Data!M444)","v":"0"},null,null,null,{"$f":"TRIM(Data!N444)","v":"0"},{"$f":"TRIM(Data!O444)","v":"0"},{"$f":"TRIM(Data!P444)","v":"0"},null,{"$f":"TRIM(Data!Q444)","v":"0"},null,null,{"$f":"TRIM(Data!R444)","v":"0"},{"$f":"TRIM(Data!S444)","v":"0"},{"$f":"TRIM(Data!T444)","v":"0"},null,null,null,{"$f":"TRIM(Data!U444)","v":"0"},null,{"$f":"TRIM(Data!V444)","v":"0"},{"$f":"TRIM(Data!W444)","v":"0"},{"$f":"TRIM(Data!X444)","v":"0"},{"$f":"TRIM(Data!Y444)","v":"0"},{"$f":"TRIM(Data!Z444)","v":"0"},{"$f":"TRIM(Data!AA444)","v":"0"},501,"1 Dec 2024 to 31 Dec 2024","DEPARTMENT OF HEALTH","DH","DH","2438744730","LABMB","1","CIMS2","Local System","16521","0","16521","0","0","","0","0","0","0","0","0","0","0","0","0","0","0","","0","0","0","0","0","0","0","0","0","0"]
["1 Nov 2024 to 30 Nov 20249841327550RXO","1 Nov 2024 to 30 Nov 2024","HEALS CLINIC LIMITED","HEALS CLINIC LIMITED","SOLO",9841327550,"RXO",2,"ClinicSolution","Local System",17,0,0,17,0,null,0,0,0,0,0,0,0,0,0,0,0,0,null,0,0,0,0,0,0,0,0,0,0,"","","","1 Dec 2024 to 31 Dec 20242438744730LABGEN",{"$f":"Data!A445","v":"2024-12-01"},{"$f":"TRIM(Data!B445)","v":"DEPARTMENT OF HEALTH"},null,{"$f":"TRIM(Data!C445)","v":"DH"},{"$f":"TRIM(Data!D445)","v":"2438744730"},{"$f":"TRIM(Data!E445)","v":"LABGEN"},{"$f":"TRIM(Data!F445)","v":"3"},{"$f":"TRIM(Data!G445)","v":"CIMS2"},{"$f":"TRIM(Data!H445)","v":"Local System"},{"$f":"TRIM(Data!I445)","v":"15352"},{"$f":"TRIM(Data!J445)","v":"0"},{"$f":"TRIM(Data!K445)","v":"996"},{"$f":"TRIM(Data!L445)","v":"747"},{"$f":"TRIM(Data!M445)","v":"13609"},null,null,null,{"$f":"TRIM(Data!N445)","v":"0"},{"$f":"TRIM(Data!O445)","v":"0"},{"$f":"TRIM(Data!P445)","v":"1743"},null,{"$f":"TRIM(Data!Q445)","v":"1743"},null,null,{"$f":"TRIM(Data!R445)","v":"747"},{"$f":"TRIM(Data!S445)","v":"996"},{"$f":"TRIM(Data!T445)","v":"0"},null,null,null,{"$f":"TRIM(Data!U445)","v":"0"},null,{"$f":"TRIM(Data!V445)","v":"0"},{"$f":"TRIM(Data!W445)","v":"0"},{"$f":"TRIM(Data!X445)","v":"0"},{"$f":"TRIM(Data!Y445)","v":"0"},{"$f":"TRIM(Data!Z445)","v":"0"},{"$f":"TRIM(Data!AA445)","v":"0"},500,"1 Dec 2024 to 31 Dec 2024","DEPARTMENT OF HEALTH","DH","DH","2438744730","LABGEN","3","CIMS2","Local System","15352","0","996","747","13609","","0","0","0","0","1743","0.113535695674831","1743","0","0","747","996","0","","13609","0.886464304325169","0","0","0","0","0","0","0","0"]
["1 Dec 2024 to 31 Dec 20241667592556CMRXD","1 Dec 2024 to 31 Dec 2024","WELL BEING CHINESE MEDICINE CLINIC","WBCMC","SOLO",1667592556,"CMRXD",3,"Local System","EC Connect",1,0,0,0,1,null,0,0,0,0,0,0,0,0,0,0,0,0,null,1,1,0,0,0,0,0,0,0,0,"","","Y","1 Dec 2024 to 31 Dec 20242438744730AL1",{"$f":"Data!A449","v":"2024-12-01"},{"$f":"TRIM(Data!B449)","v":"DEPARTMENT OF HEALTH"},null,{"$f":"TRIM(Data!C449)","v":"DH"},{"$f":"TRIM(Data!D449)","v":"2438744730"},{"$f":"TRIM(Data!E449)","v":"AL1"},{"$f":"TRIM(Data!F449)","v":"3"},{"$f":"TRIM(Data!G449)","v":"CIMS2"},{"$f":"TRIM(Data!H449)","v":"Adaptation"},{"$f":"TRIM(Data!I449)","v":"1199"},{"$f":"TRIM(Data!J449)","v":"0"},{"$f":"TRIM(Data!K449)","v":"0"},{"$f":"TRIM(Data!L449)","v":"276"},{"$f":"TRIM(Data!M449)","v":"923"},null,null,null,{"$f":"TRIM(Data!N449)","v":"0"},{"$f":"TRIM(Data!O449)","v":"0"},{"$f":"TRIM(Data!P449)","v":"257"},null,{"$f":"TRIM(Data!Q449)","v":"257"},null,null,{"$f":"TRIM(Data!R449)","v":"257"},{"$f":"TRIM(Data!S449)","v":"0"},{"$f":"TRIM(Data!T449)","v":"0"},null,null,null,{"$f":"TRIM(Data!U449)","v":"0"},null,{"$f":"TRIM(Data!V449)","v":"0"},{"$f":"TRIM(Data!W449)","v":"0"},{"$f":"TRIM(Data!X449)","v":"0"},{"$f":"TRIM(Data!Y449)","v":"0"},{"$f":"TRIM(Data!Z449)","v":"0"},{"$f":"TRIM(Data!AA449)","v":"0"},496,"1 Dec 2024 to 31 Dec 2024","DEPARTMENT OF HEALTH","DH","DH","2438744730","AL1","3","CIMS2","Local System","1199","0","0","276","923","","0","0","0","0","257","0.214345287739783","257","0","0","257","0","0","","923","0.769808173477898","0","0","0","0","0","0","0","0"]
[{"$f":"IF(B457<>\"\",B457&F457&G457,\"\")","v":"1 Dec 2024 to 31 Dec 20241667592556CMRXO"},"1 Dec 2024 to 31 Dec 2024","WELL BEING CHINESE MEDICINE CLINIC","WBCMC","SOLO",1667592556,"CMRXO",3,"Local System","EC Connect",8,0,0,0,8,null,0,0,0,0,0,0,0,0,0,0,0,0,null,8,1,0,0,0,0,0,0,0,0,{"$f":"IFERROR(IF(SEARCH(\"total\",A457)>0,\"\",\"\"),_xlfn.IFNA(IF(A457<>\"\",IF(MATCH(A457,AQ:AQ,0)>0,\"\",\"\"),\"\"),\"Y\"))","v":""},{"$f":"IFERROR(_xlfn.IFNA(IF(AQ457<>\"\",IF(MATCH(AQ457,A:A,0)>0,\"\",\"\"),\"\"),\"Y\"),\"\")","v":""},{"$f":"IF(OR(TRIM(UPPER(AS457))<>TRIM(UPPER(CF457)),AU457<>CH457,AV457<>CI457,AW457<>CJ457,AX457<>CK457,AY457<>CL457,AZ457<>CM457,BA457<>CN457,BB457<>CO457,BC457<>CP457,BD457<>CQ457,BE457<>CR457,BI457<>CV457,BJ457<>CW457,BK457<>CX457,BM457<>CZ457,BP457<>DC457,BQ457<>DD457,BR457<>DE457,BV457<>DI457,BX457<>DK457,BY457<>DL457,BZ457<>DM457,CA457<>DN457,CB457<>DO457,CC457<>DP457),\"Y\",\"\")","v":"Y"},{"$f":"IF(AR457<>\"\",TEXT(AR457,\"d mmm yyyy\") &\" to \" & TEXT(EOMONTH(AR457,0),\"d mmm yyyy\") & AV457 & AW457,\"\")","v":"1 Dec 2024 to 31 Dec 20242438744730ADR"},{"$f":"Data!A450","v":"2024-12-01"},{"$f":"TRIM(Data!B450)","v":"DEPARTMENT OF HEALTH"},null,{"$f":"TRIM(Data!C450)","v":"DH"},{"$f":"TRIM(Data!D450)","v":"2438744730"},{"$f":"TRIM(Data!E450)","v":"ADR"},{"$f":"TRIM(Data!F450)","v":"3"},{"$f":"TRIM(Data!G450)","v":"CIMS2"},{"$f":"TRIM(Data!H450)","v":"Adaptation"},{"$f":"TRIM(Data!I450)","v":"343"},{"$f":"TRIM(Data!J450)","v":"0"},{"$f":"TRIM(Data!K450)","v":"0"},{"$f":"TRIM(Data!L450)","v":"44"},{"$f":"TRIM(Data!M450)","v":"299"},null,null,null,{"$f":"TRIM(Data!N450)","v":"0"},{"$f":"TRIM(Data!O450)","v":"0"},{"$f":"TRIM(Data!P450)","v":"44"},null,{"$f":"TRIM(Data!Q450)","v":"44"},null,null,{"$f":"TRIM(Data!R450)","v":"44"},{"$f":"TRIM(Data!S450)","v":"0"},{"$f":"TRIM(Data!T450)","v":"0"},null,null,null,{"$f":"TRIM(Data!U450)","v":"0"},null,{"$f":"TRIM(Data!V450)","v":"0"},{"$f":"TRIM(Data!W450)","v":"0"},{"$f":"TRIM(Data!X450)","v":"0"},{"$f":"TRIM(Data!Y450)","v":"0"},{"$f":"TRIM(Data!Z450)","v":"0"},{"$f":"TRIM(Data!AA450)","v":"0"},{"$f":"MATCH(AQ457,A:A,0)","v":495},{"$f":"TRIM(INDEX(B:B,$CD457))","v":"1 Dec 2024 to 31 Dec 2024"},{"$f":"TRIM(INDEX(C:C,$CD457))","v":"DEPARTMENT OF HEALTH"},{"$f":"TRIM(INDEX(D:D,$CD457))","v":"DH"},{"$f":"TRIM(INDEX(E:E,$CD457))","v":"DH"},{"$f":"TRIM(INDEX(F:F,$CD457))","v":"2438744730"},{"$f":"TRIM(INDEX(G:G,$CD457))","v":"ADR"},{"$f":"TRIM(INDEX(H:H,$CD457))","v":"3"},{"$f":"TRIM(INDEX(I:I,$CD457))","v":"CIMS2"},{"$f":"TRIM(INDEX(J:J,$CD457))","v":"Local System"},{"$f":"TRIM(INDEX(K:K,$CD457))","v":"343"},{"$f":"TRIM(INDEX(L:L,$CD457))","v":"0"},{"$f":"TRIM(INDEX(M:M,$CD457))","v":"0"},{"$f":"TRIM(INDEX(N:N,$CD457))","v":"44"},{"$f":"TRIM(INDEX(O:O,$CD457))","v":"299"},{"$f":"TRIM(INDEX(P:P,$CD457))","v":""},{"$f":"TRIM(INDEX(Q:Q,$CD457))","v":"0"},{"$f":"TRIM(INDEX(R:R,$CD457))","v":"0"},{"$f":"TRIM(INDEX(S:S,$CD457))","v":"0"},{"$f":"TRIM(INDEX(T:T,$CD457))","v":"0"},{"$f":"TRIM(INDEX(U:U,$CD457))","v":"44"},{"$f":"TRIM(INDEX(V:V,$CD457))","v":"0.128279883381924"},{"$f":"TRIM(INDEX(W:W,$CD457))","v":"44"},{"$f":"TRIM(INDEX(X:X,$CD457))","v":"0"},{"$f":"TRIM(INDEX(Y:Y,$CD457))","v":"0"},{"$f":"TRIM(INDEX(Z:Z,$CD457))","v":"44"},{"$f":"TRIM(INDEX(AA:AA,$CD457))","v":"0"},{"$f":"TRIM(INDEX(AB:AB,$CD457))","v":"0"},{"$f":"TRIM(INDEX(AC:AC,$CD457))","v":""},{"$f":"TRIM(INDEX(AD:AD,$CD457))","v":"299"},{"$f":"TRIM(INDEX(AE:AE,$CD457))","v":"0.871720116618076"},{"$f":"TRIM(INDEX(AF:AF,$CD457))","v":"0"},{"$f":"TRIM(INDEX(AG:AG,$CD457))","v":"0"},{"$f":"TRIM(INDEX(AH:AH,$CD457))","v":"0"},{"$f":"TRIM(INDEX(AI:AI,$CD457))","v":"0"},{"$f":"TRIM(INDEX(AJ:AJ,$CD457))","v":"0"},{"$f":"TRIM(INDEX(AK:AK,$CD457))","v":"0"},{"$f":"TRIM(INDEX(AL:AL,$CD457))","v":"0"},{"$f":"TRIM(INDEX(AM:AM,$CD457))","v":"0"}]
["1 Dec 2024 to 31 Dec 20241728942726CMPX","1 Dec 2024 to 31 Dec 2024","St. Teresa's Hospital - Chinese Medicine Centre","STH-CMC","PH",1728942726,"CMPX",3,"STH HIS","EC Connect",25,0,0,1,24,null,0,0,0,0,0,0,0,0,0,0,0,0,null,24,0.96,0,0,0,0,0,0,0,0,"","","Y","1 Dec 2024 to 31 Dec 20249265486345IMMU",{"$f":"Data!A453","v":"2024-12-01"},{"$f":"TRIM(Data!B453)","v":"QUALITY HEALTHCARE MEDICAL CENTRE LIMITED"},null,{"$f":"TRIM(Data!C453)","v":"GRP"},{"$f":"TRIM(Data!D453)","v":"9265486345"},{"$f":"TRIM(Data!E453)","v":"IMMU"},{"$f":"TRIM(Data!F453)","v":"2"},{"$f":"TRIM(Data!G453)","v":"QHMS EMR"},{"$f":"TRIM(Data!H453)","v":"Local System"},{"$f":"TRIM(Data!I453)","v":"956"},{"$f":"TRIM(Data!J453)","v":"0"},{"$f":"TRIM(Data!K453)","v":"0"},{"$f":"TRIM(Data!L453)","v":"956"},{"$f":"TRIM(Data!M453)","v":"0"},null,null,null,{"$f":"TRIM(Data!N453)","v":"0"},{"$f":"TRIM(Data!O453)","v":"0"},{"$f":"TRIM(Data!P453)","v":"0"},null,{"$f":"TRIM(Data!Q453)","v":"0"},null,null,{"$f":"TRIM(Data!R453)","v":"0"},{"$f":"TRIM(Data!S453)","v":"0"},{"$f":"TRIM(Data!T453)","v":"0"},null,null,null,{"$f":"TRIM(Data!U453)","v":"0"},null,{"$f":"TRIM(Data!V453)","v":"0"},{"$f":"TRIM(Data!W453)","v":"0"},{"$f":"TRIM(Data!X453)","v":"0"},{"$f":"TRIM(Data!Y453)","v":"0"},{"$f":"TRIM(Data!Z453)","v":"0"},{"$f":"TRIM(Data!AA453)","v":"0"},845,"1 Dec 2024 to 31 Dec 2024","QUALITY HEALTHCARE MEDICAL CENTRE LIMITED","QHMS","GROUP","9265486345","IMMU","2","QHMS EMR","Local System","956","0","0","956","0","","0","0","0","0","0","0","0","0","0","0","0","0","","0","0","0","0","0","0","0","0","0","0"]
["1 Dec 2024 to 31 Dec 20241728942726CMRXD","1 Dec 2024 to 31 Dec 2024","St. Teresa's Hospital - Chinese Medicine Centre","STH-CMC","PH",1728942726,"CMRXD",3,"STH HIS","EC Connect",94,0,0,5,89,null,0,0,0,0,0,0,0,0,0,0,0,0,null,89,0.94680851063829785,0,0,0,0,0,0,0,0,"","","Y","1 Dec 2024 to 31 Dec 20249265486345AL1",{"$f":"Data!A454","v":"2024-12-01"},{"$f":"TRIM(Data!B454)","v":"QUALITY HEALTHCARE MEDICAL CENTRE LIMITED"},null,{"$f":"TRIM(Data!C454)","v":"GRP"},{"$f":"TRIM(Data!D454)","v":"9265486345"},{"$f":"TRIM(Data!E454)","v":"AL1"},{"$f":"TRIM(Data!F454)","v":"3,2"},{"$f":"TRIM(Data!G454)","v":"QHMS EMR"},{"$f":"TRIM(Data!H454)","v":"Local System"},{"$f":"TRIM(Data!I454)","v":"363"},{"$f":"TRIM(Data!J454)","v":"0"},{"$f":"TRIM(Data!K454)","v":"0"},{"$f":"TRIM(Data!L454)","v":"363"},{"$f":"TRIM(Data!M454)","v":"0"},null,null,null,{"$f":"TRIM(Data!N454)","v":"0"},{"$f":"TRIM(Data!O454)","v":"0"},{"$f":"TRIM(Data!P454)","v":"343"},null,{"$f":"TRIM(Data!Q454)","v":"343"},null,null,{"$f":"TRIM(Data!R454)","v":"343"},{"$f":"TRIM(Data!S454)","v":"0"},{"$f":"TRIM(Data!T454)","v":"0"},null,null,null,{"$f":"TRIM(Data!U454)","v":"0"},null,{"$f":"TRIM(Data!V454)","v":"0"},{"$f":"TRIM(Data!W454)","v":"0"},{"$f":"TRIM(Data!X454)","v":"0"},{"$f":"TRIM(Data!Y454)","v":"0"},{"$f":"TRIM(Data!Z454)","v":"0"},{"$f":"TRIM(Data!AA454)","v":"0"},843,"1 Dec 2024 to 31 Dec 2024","QUALITY HEALTHCARE MEDICAL CENTRE LIMITED","QHMS","GROUP","9265486345","AL1","3","QHMS EMR","Local System","363","0","0","363","0","","0","0","0","0","343","0.944903581267218","343","0","0","343","0","0","","0","0","0","0","0","0","0","0","0","0"]
["1 Dec 2024 to 31 Dec 20241728942726ENCTR","1 Dec 2024 to 31 Dec 2024","St. Teresa's Hospital - Chinese Medicine Centre","STH-CMC","PH",1728942726,"ENCTR",3,"STH HIS","Local System",149,0,0,0,149,null,0,0,0,0,0,0,0,0,0,0,0,0,null,149,1,0,0,0,0,0,0,0,0,"","","","1 Dec 2024 to 31 Dec 20248909436562LABGEN",{"$f":"Data!A456","v":"2024-12-01"},{"$f":"TRIM(Data!B456)","v":"HONG KONG ADVENTIST HOSPITAL - TSUEN WAN"},null,{"$f":"TRIM(Data!C456)","v":"PH"},{"$f":"TRIM(Data!D456)","v":"8909436562"},{"$f":"TRIM(Data!E456)","v":"LABGEN"},{"$f":"TRIM(Data!F456)","v":"3"},{"$f":"TRIM(Data!G456)","v":"TWAHLAAM"},{"$f":"TRIM(Data!H456)","v":"Local System"},{"$f":"TRIM(Data!I456)","v":"28565"},{"$f":"TRIM(Data!J456)","v":"0"},{"$f":"TRIM(Data!K456)","v":"0"},{"$f":"TRIM(Data!L456)","v":"2201"},{"$f":"TRIM(Data!M456)","v":"26364"},null,null,null,{"$f":"TRIM(Data!N456)","v":"0"},{"$f":"TRIM(Data!O456)","v":"0"},{"$f":"TRIM(Data!P456)","v":"2250"},null,{"$f":"TRIM(Data!Q456)","v":"2250"},null,null,{"$f":"TRIM(Data!R456)","v":"2250"},{"$f":"TRIM(Data!S456)","v":"0"},{"$f":"TRIM(Data!T456)","v":"0"},null,null,null,{"$f":"TRIM(Data!U456)","v":"0"},null,{"$f":"TRIM(Data!V456)","v":"0"},{"$f":"TRIM(Data!W456)","v":"0"},{"$f":"TRIM(Data!X456)","v":"0"},{"$f":"TRIM(Data!Y456)","v":"0"},{"$f":"TRIM(Data!Z456)","v":"0"},{"$f":"TRIM(Data!AA456)","v":"0"},816,"1 Dec 2024 to 31 Dec 2024","HONG KONG ADVENTIST HOSPITAL - TSUEN WAN","HK ADVENTIST - TW","PH","8909436562","LABGEN","3","TWAHLAAM","Local System","28565","0","0","2201","26364","","0","0","0","0","2250","0.078767722737616","2250","0","0","2250","0","0","","26364","0.922947663224226","0","0","0","0","0","0","0","0"]
["1 Dec 2024 to 31 Dec 20241999740540RAD","1 Dec 2024 to 31 Dec 2024","The Specialists Health Check and Diagnostic Centre Limited","SHC-DIC","SOLO",1999740540,"RAD",3,"RHI2","Local System",46,0,0,0,46,null,0,0,0,0,0,0,0,0,0,0,0,0,null,46,1,0,0,0,0,0,0,0,0,"","","Y","1 Dec 2024 to 31 Dec 20248909436562RAD",{"$f":"Data!A459","v":"2024-12-01"},{"$f":"TRIM(Data!B459)","v":"HONG KONG ADVENTIST HOSPITAL - TSUEN WAN"},null,{"$f":"TRIM(Data!C459)","v":"PH"},{"$f":"TRIM(Data!D459)","v":"8909436562"},{"$f":"TRIM(Data!E459)","v":"RAD"},{"$f":"TRIM(Data!F459)","v":"3,2"},{"$f":"TRIM(Data!G459)","v":"TWAHLAAM"},{"$f":"TRIM(Data!H459)","v":"Local System"},{"$f":"TRIM(Data!I459)","v":"3627"},{"$f":"TRIM(Data!J459)","v":"0"},{"$f":"TRIM(Data!K459)","v":"0"},{"$f":"TRIM(Data!L459)","v":"0"},{"$f":"TRIM(Data!M459)","v":"3627"},null,null,null,{"$f":"TRIM(Data!N459)","v":"0"},{"$f":"TRIM(Data!O459)","v":"0"},{"$f":"TRIM(Data!P459)","v":"0"},null,{"$f":"TRIM(Data!Q459)","v":"0"},null,null,{"$f":"TRIM(Data!R459)","v":"0"},{"$f":"TRIM(Data!S459)","v":"0"},{"$f":"TRIM(Data!T459)","v":"0"},null,null,null,{"$f":"TRIM(Data!U459)","v":"0"},null,{"$f":"TRIM(Data!V459)","v":"0"},{"$f":"TRIM(Data!W459)","v":"0"},{"$f":"TRIM(Data!X459)","v":"0"},{"$f":"TRIM(Data!Y459)","v":"0"},{"$f":"TRIM(Data!Z459)","v":"0"},{"$f":"TRIM(Data!AA459)","v":"0"},817,"1 Dec 2024 to 31 Dec 2024","HONG KONG ADVENTIST HOSPITAL - TSUEN WAN","HK ADVENTIST - TW","PH","8909436562","RAD","2","TWAHLAAM","Local System","3627","0","0","0","3627","","0","0","0","0","0","0","0","0","0","0","0","0","","3627","1","0","0","0","0","0","0","0","0"]
["1 Dec 2024 to 31 Dec 20242091864776CMRXO","1 Dec 2024 to 31 Dec 2024","Han Qi Chinese Medicine Limited","HAN QI CHINESE MEDICINE","GROUP",2091864776,"CMRXO",3,"Local System","EC Connect",6,0,0,6,0,null,0,0,0,0,0,0,0,0,0,0,0,0,null,0,0,0,0,0,0,0,0,0,0,"","","Y","1 Dec 2024 to 31 Dec 20248909436562ADR",{"$f":"Data!A462","v":"2024-12-01"},{"$f":"TRIM(Data!B462)","v":"HONG KONG ADVENTIST HOSPITAL - TSUEN WAN"},null,{"$f":"TRIM(Data!C462)","v":"PH"},{"$f":"TRIM(Data!D462)","v":"8909436562"},{"$f":"TRIM(Data!E462)","v":"ADR"},{"$f":"TRIM(Data!F462)","v":"3"},{"$f":"TRIM(Data!G462)","v":"TWAHLAAM"},{"$f":"TRIM(Data!H462)","v":"Adaptation"},{"$f":"TRIM(Data!I462)","v":"65"},{"$f":"TRIM(Data!J462)","v":"0"},{"$f":"TRIM(Data!K462)","v":"0"},{"$f":"TRIM(Data!L462)","v":"8"},{"$f":"TRIM(Data!M462)","v":"57"},null,null,null,{"$f":"TRIM(Data!N462)","v":"0"},{"$f":"TRIM(Data!O462)","v":"0"},{"$f":"TRIM(Data!P462)","v":"8"},null,{"$f":"TRIM(Data!Q462)","v":"8"},null,null,{"$f":"TRIM(Data!R462)","v":"8"},{"$f":"TRIM(Data!S462)","v":"0"},{"$f":"TRIM(Data!T462)","v":"0"},null,null,null,{"$f":"TRIM(Data!U462)","v":"0"},null,{"$f":"TRIM(Data!V462)","v":"0"},{"$f":"TRIM(Data!W462)","v":"0"},{"$f":"TRIM(Data!X462)","v":"0"},{"$f":"TRIM(Data!Y462)","v":"0"},{"$f":"TRIM(Data!Z462)","v":"0"},{"$f":"TRIM(Data!AA462)","v":"0"},811,"1 Dec 2024 to 31 Dec 2024","HONG KONG ADVENTIST HOSPITAL - TSUEN WAN","HK ADVENTIST - TW","PH","8909436562","ADR","3","TWAHLAAM","Local System","65","0","0","8","57","","0","0","0","0","8","0.123076923076923","8","0","0","8","0","0","","57","0.876923076923077","0","0","0","0","0","0","0","0"]
["1 Dec 2024 to 31 Dec 20242091864776ENCTR","1 Dec 2024 to 31 Dec 2024","Han Qi Chinese Medicine Limited","HAN QI CHINESE MEDICINE","GROUP",2091864776,"ENCTR",3,"Local System","Local System",6,0,0,0,6,null,0,0,0,0,0,0,0,0,0,0,0,0,null,6,1,0,0,0,0,0,0,0,0,"","","","1 Dec 2024 to 31 Dec 20248909436562BIRTH",{"$f":"Data!A463","v":"2024-12-01"},{"$f":"TRIM(Data!B463)","v":"HONG KONG ADVENTIST HOSPITAL - TSUEN WAN"},null,{"$f":"TRIM(Data!C463)","v":"PH"},{"$f":"TRIM(Data!D463)","v":"8909436562"},{"$f":"TRIM(Data!E463)","v":"BIRTH"},{"$f":"TRIM(Data!F463)","v":"3"},{"$f":"TRIM(Data!G463)","v":"TWAHLAAM"},{"$f":"TRIM(Data!H463)","v":"Local System"},{"$f":"TRIM(Data!I463)","v":"11"},{"$f":"TRIM(Data!J463)","v":"0"},{"$f":"TRIM(Data!K463)","v":"0"},{"$f":"TRIM(Data!L463)","v":"0"},{"$f":"TRIM(Data!M463)","v":"11"},null,null,null,{"$f":"TRIM(Data!N463)","v":"0"},{"$f":"TRIM(Data!O463)","v":"0"},{"$f":"TRIM(Data!P463)","v":"0"},null,{"$f":"TRIM(Data!Q463)","v":"0"},null,null,{"$f":"TRIM(Data!R463)","v":"0"},{"$f":"TRIM(Data!S463)","v":"0"},{"$f":"TRIM(Data!T463)","v":"0"},null,null,null,{"$f":"TRIM(Data!U463)","v":"0"},null,{"$f":"TRIM(Data!V463)","v":"0"},{"$f":"TRIM(Data!W463)","v":"0"},{"$f":"TRIM(Data!X463)","v":"0"},{"$f":"TRIM(Data!Y463)","v":"0"},{"$f":"TRIM(Data!Z463)","v":"0"},{"$f":"TRIM(Data!AA463)","v":"0"},813,"1 Dec 2024 to 31 Dec 2024","HONG KONG ADVENTIST HOSPITAL - TSUEN WAN","HK ADVENTIST - TW","PH","8909436562","BIRTH","3","TWAHLAAM","Local System","11","0","0","0","11","","0","0","0","0","0","0","0","0","0","0","0","0","","11","1","0","0","0","0","0","0","0","0"]
["1 Dec 2024 to 31 Dec 20242231879813CMPROB","1 Dec 2024 to 31 Dec 2024","18 Chinese Medicine Clinic cum Traing and Research Centre (The Hong Kong Tuberculosis Association)","18CMCTRs(HKTBA)","NGO",2231879813,"CMPROB",3,"Local System","EC Connect",534,0,0,191,343,null,0,0,0,0,118,0.22097378277153559,118,0,0,118,0,0,null,343,0.64232209737827717,0,0,0,0,0,0,0,0,"","","Y","1 Dec 2024 to 31 Dec 20249681600318AL1",{"$f":"Data!A467","v":"2024-12-01"},{"$f":"TRIM(Data!B467)","v":"DISTRICT HEALTH CENTRE-SHAM SHUI PO (SJS)"},null,{"$f":"TRIM(Data!C467)","v":"DHC"},{"$f":"TRIM(Data!D467)","v":"9681600318"},{"$f":"TRIM(Data!E467)","v":"AL1"},{"$f":"TRIM(Data!F467)","v":"3"},{"$f":"TRIM(Data!G467)","v":"DHCCMS"},{"$f":"TRIM(Data!H467)","v":"Local System"},{"$f":"TRIM(Data!I467)","v":"10"},{"$f":"TRIM(Data!J467)","v":"0"},{"$f":"TRIM(Data!K467)","v":"0"},{"$f":"TRIM(Data!L467)","v":"1"},{"$f":"TRIM(Data!M467)","v":"9"},null,null,null,{"$f":"TRIM(Data!N467)","v":"0"},{"$f":"TRIM(Data!O467)","v":"0"},{"$f":"TRIM(Data!P467)","v":"1"},null,{"$f":"TRIM(Data!Q467)","v":"1"},null,null,{"$f":"TRIM(Data!R467)","v":"1"},{"$f":"TRIM(Data!S467)","v":"0"},{"$f":"TRIM(Data!T467)","v":"0"},null,null,null,{"$f":"TRIM(Data!U467)","v":"0"},null,{"$f":"TRIM(Data!V467)","v":"0"},{"$f":"TRIM(Data!W467)","v":"0"},{"$f":"TRIM(Data!X467)","v":"0"},{"$f":"TRIM(Data!Y467)","v":"0"},{"$f":"TRIM(Data!Z467)","v":"0"},{"$f":"TRIM(Data!AA467)","v":"0"},863,"1 Dec 2024 to 31 Dec 2024","DISTRICT HEALTH CENTRE-SHAM SHUI PO (SJS)","DHC-SHAM SHUI PO","DHC","9681600318","AL1","3","Local System","Local System","10","0","0","1","9","","0","0","0","0","1","0.1","1","0","0","1","0","0","","9","0.9","0","0","0","0","0","0","0","0"]
["1 Dec 2024 to 31 Dec 20242231879813CMPX","1 Dec 2024 to 31 Dec 2024","18 Chinese Medicine Clinic cum Traing and Research Centre (The Hong Kong Tuberculosis Association)","18CMCTRs(HKTBA)","NGO",2231879813,"CMPX",3,"Local System","EC Connect",150,0,0,0,150,null,0,0,0,0,0,0,0,0,0,0,0,0,null,150,1,0,0,0,0,0,0,0,0,"","","Y","1 Dec 2024 to 31 Dec 20249681600318ADR",{"$f":"Data!A468","v":"2024-12-01"},{"$f":"TRIM(Data!B468)","v":"DISTRICT HEALTH CENTRE-SHAM SHUI PO (SJS)"},null,{"$f":"TRIM(Data!C468)","v":"DHC"},{"$f":"TRIM(Data!D468)","v":"9681600318"},{"$f":"TRIM(Data!E468)","v":"ADR"},{"$f":"TRIM(Data!F468)","v":"3"},{"$f":"TRIM(Data!G468)","v":"DHCCMS"},{"$f":"TRIM(Data!H468)","v":"Local System"},{"$f":"TRIM(Data!I468)","v":"2"},{"$f":"TRIM(Data!J468)","v":"0"},{"$f":"TRIM(Data!K468)","v":"0"},{"$f":"TRIM(Data!L468)","v":"0"},{"$f":"TRIM(Data!M468)","v":"2"},null,null,null,{"$f":"TRIM(Data!N468)","v":"0"},{"$f":"TRIM(Data!O468)","v":"0"},{"$f":"TRIM(Data!P468)","v":"0"},null,{"$f":"TRIM(Data!Q468)","v":"0"},null,null,{"$f":"TRIM(Data!R468)","v":"0"},{"$f":"TRIM(Data!S468)","v":"0"},{"$f":"TRIM(Data!T468)","v":"0"},null,null,null,{"$f":"TRIM(Data!U468)","v":"0"},null,{"$f":"TRIM(Data!V468)","v":"0"},{"$f":"TRIM(Data!W468)","v":"0"},{"$f":"TRIM(Data!X468)","v":"0"},{"$f":"TRIM(Data!Y468)","v":"0"},{"$f":"TRIM(Data!Z468)","v":"0"},{"$f":"TRIM(Data!AA468)","v":"0"},862,"1 Dec 2024 to 31 Dec 2024","DISTRICT HEALTH CENTRE-SHAM SHUI PO (SJS)","DHC-SHAM SHUI PO","DHC","9681600318","ADR","3","Local System","Local System","2","0","0","0","2","","0","0","0","0","0","0","0","0","0","0","0","0","","2","1","0","0","0","0","0","0","0","0"]
["1 Dec 2024 to 31 Dec 20242295233392RAD","1 Dec 2024 to 31 Dec 2024","Hong Kong Breast Cancer Foundation Limited","HKBCF","NGO",2295233392,"RAD",3,"MTG_CMS_RIS","Local System",1038,0,0,0,1038,null,0,0,0,0,0,0,0,0,0,0,0,0,null,1038,1,0,0,0,0,0,0,0,0,"","","Y","1 Dec 2024 to 31 Dec 20246303033042AL1",{"$f":"Data!A471","v":"2024-12-01"},{"$f":"TRIM(Data!B471)","v":"DISTRICT HEALTH CENTRE-TUEN MUN (ELCHK)"},null,{"$f":"TRIM(Data!C471)","v":"DHC"},{"$f":"TRIM(Data!D471)","v":"6303033042"},{"$f":"TRIM(Data!E471)","v":"AL1"},{"$f":"TRIM(Data!F471)","v":"3"},{"$f":"TRIM(Data!G471)","v":"DHCCMS"},{"$f":"TRIM(Data!H471)","v":"Local System"},{"$f":"TRIM(Data!I471)","v":"12"},{"$f":"TRIM(Data!J471)","v":"0"},{"$f":"TRIM(Data!K471)","v":"0"},{"$f":"TRIM(Data!L471)","v":"0"},{"$f":"TRIM(Data!M471)","v":"12"},null,null,null,{"$f":"TRIM(Data!N471)","v":"0"},{"$f":"TRIM(Data!O471)","v":"0"},{"$f":"TRIM(Data!P471)","v":"0"},null,{"$f":"TRIM(Data!Q471)","v":"0"},null,null,{"$f":"TRIM(Data!R471)","v":"0"},{"$f":"TRIM(Data!S471)","v":"0"},{"$f":"TRIM(Data!T471)","v":"0"},null,null,null,{"$f":"TRIM(Data!U471)","v":"0"},null,{"$f":"TRIM(Data!V471)","v":"0"},{"$f":"TRIM(Data!W471)","v":"0"},{"$f":"TRIM(Data!X471)","v":"0"},{"$f":"TRIM(Data!Y471)","v":"0"},{"$f":"TRIM(Data!Z471)","v":"0"},{"$f":"TRIM(Data!AA471)","v":"0"},698,"1 Dec 2024 to 31 Dec 2024","DISTRICT HEALTH CENTRE-TUEN MUN (ELCHK)","DHC-TUEN MUN-CC","DHC","6303033042","AL1","3","Local System","Local System","12","0","0","0","12","","0","0","0","0","0","0","0","0","0","0","0","0","","12","1","0","0","0","0","0","0","0","0"]
["1 Dec 2024 to 31 Dec 20242308765964AL1","1 Dec 2024 to 31 Dec 2024","DR SUM NAM CHU'S CLINIC","DR SUM NAM CHU'S CLINIC","SOLO",2308765964,"AL1",3,"Local System","Local System",1,0,0,0,1,null,0,0,0,0,0,0,0,0,0,0,0,0,null,1,1,0,0,0,0,0,0,0,0,"","","Y","1 Dec 2024 to 31 Dec 20246303033042ADR",{"$f":"Data!A472","v":"2024-12-01"},{"$f":"TRIM(Data!B472)","v":"DISTRICT HEALTH CENTRE-TUEN MUN (ELCHK)"},null,{"$f":"TRIM(Data!C472)","v":"DHC"},{"$f":"TRIM(Data!D472)","v":"6303033042"},{"$f":"TRIM(Data!E472)","v":"ADR"},{"$f":"TRIM(Data!F472)","v":"3"},{"$f":"TRIM(Data!G472)","v":"DHCCMS"},{"$f":"TRIM(Data!H472)","v":"Local System"},{"$f":"TRIM(Data!I472)","v":"2"},{"$f":"TRIM(Data!J472)","v":"0"},{"$f":"TRIM(Data!K472)","v":"0"},{"$f":"TRIM(Data!L472)","v":"0"},{"$f":"TRIM(Data!M472)","v":"2"},null,null,null,{"$f":"TRIM(Data!N472)","v":"0"},{"$f":"TRIM(Data!O472)","v":"0"},{"$f":"TRIM(Data!P472)","v":"0"},null,{"$f":"TRIM(Data!Q472)","v":"0"},null,null,{"$f":"TRIM(Data!R472)","v":"0"},{"$f":"TRIM(Data!S472)","v":"0"},{"$f":"TRIM(Data!T472)","v":"0"},null,null,null,{"$f":"TRIM(Data!U472)","v":"0"},null,{"$f":"TRIM(Data!V472)","v":"0"},{"$f":"TRIM(Data!W472)","v":"0"},{"$f":"TRIM(Data!X472)","v":"0"},{"$f":"TRIM(Data!Y472)","v":"0"},{"$f":"TRIM(Data!Z472)","v":"0"},{"$f":"TRIM(Data!AA472)","v":"0"},697,"1 Dec 2024 to 31 Dec 2024","DISTRICT HEALTH CENTRE-TUEN MUN (ELCHK)","DHC-TUEN MUN-CC","DHC","6303033042","ADR","3","Local System","Local System","2","0","0","0","2","","0","0","0","0","0","0","0","0","0","0","0","0","","2","1","0","0","0","0","0","0","0","0"]
["1 Dec 2024 to 31 Dec 20242308765964IMMU","1 Dec 2024 to 31 Dec 2024","DR SUM NAM CHU'S CLINIC","DR SUM NAM CHU'S CLINIC","SOLO",2308765964,"IMMU",3,"Local System","Local System",12,0,0,4,8,null,0,0,0,0,0,0,0,0,0,0,0,0,null,8,0.66666666666666663,0,0,0,0,0,0,0,0,"","","Y","1 Dec 2024 to 31 Dec 20247218241485EPIS",{"$f":"Data!A474","v":"2024-12-01"},{"$f":"TRIM(Data!B474)","v":"DISTRICT HEALTH CENTRE-YUEN LONG (POH)"},null,{"$f":"TRIM(Data!C474)","v":"DHC"},{"$f":"TRIM(Data!D474)","v":"7218241485"},{"$f":"TRIM(Data!E474)","v":"EPIS"},{"$f":"TRIM(Data!F474)","v":"1"},{"$f":"TRIM(Data!G474)","v":"DHCCMS"},{"$f":"TRIM(Data!H474)","v":"Local System"},{"$f":"TRIM(Data!I474)","v":"10110"},{"$f":"TRIM(Data!J474)","v":"0"},{"$f":"TRIM(Data!K474)","v":"10110"},{"$f":"TRIM(Data!L474)","v":"0"},{"$f":"TRIM(Data!M474)","v":"0"},null,null,null,{"$f":"TRIM(Data!N474)","v":"0"},{"$f":"TRIM(Data!O474)","v":"0"},{"$f":"TRIM(Data!P474)","v":"0"},null,{"$f":"TRIM(Data!Q474)","v":"0"},null,null,{"$f":"TRIM(Data!R474)","v":"0"},{"$f":"TRIM(Data!S474)","v":"0"},{"$f":"TRIM(Data!T474)","v":"0"},null,null,null,{"$f":"TRIM(Data!U474)","v":"0"},null,{"$f":"TRIM(Data!V474)","v":"0"},{"$f":"TRIM(Data!W474)","v":"0"},{"$f":"TRIM(Data!X474)","v":"0"},{"$f":"TRIM(Data!Y474)","v":"0"},{"$f":"TRIM(Data!Z474)","v":"0"},{"$f":"TRIM(Data!AA474)","v":"0"},744,"1 Dec 2024 to 31 Dec 2024","DISTRICT HEALTH CENTRE-YUEN LONG (POH)","DHC-YUEN LONG","DHC","7218241485","EPIS","1","Local System","Local System","10110","0","10110","0","0","","0","0","0","0","0","0","0","0","0","0","0","0","","0","0","0","0","0","0","0","0","0","0"]
["1 Dec 2024 to 31 Dec 20242308765964RXO","1 Dec 2024 to 31 Dec 2024","DR SUM NAM CHU'S CLINIC","DR SUM NAM CHU'S CLINIC","SOLO",2308765964,"RXO",3,"Local System","Local System",125,0,0,20,105,null,0,0,0,0,0,0,0,0,0,0,0,0,null,105,0.84,0,0,0,0,0,0,0,0,"","","Y","1 Dec 2024 to 31 Dec 20244437392776ENCTR",{"$f":"Data!A477","v":"2024-12-01"},{"$f":"TRIM(Data!B477)","v":"DISTRICT HEALTH CENTRE-WONG TAI SIN (HKSKHWCL)"},null,{"$f":"TRIM(Data!C477)","v":"DHC"},{"$f":"TRIM(Data!D477)","v":"4437392776"},{"$f":"TRIM(Data!E477)","v":"ENCTR"},{"$f":"TRIM(Data!F477)","v":"3"},{"$f":"TRIM(Data!G477)","v":"DHCCMS"},{"$f":"TRIM(Data!H477)","v":"Local System"},{"$f":"TRIM(Data!I477)","v":"18772"},{"$f":"TRIM(Data!J477)","v":"0"},{"$f":"TRIM(Data!K477)","v":"0"},{"$f":"TRIM(Data!L477)","v":"0"},{"$f":"TRIM(Data!M477)","v":"18772"},null,null,null,{"$f":"TRIM(Data!N477)","v":"0"},{"$f":"TRIM(Data!O477)","v":"0"},{"$f":"TRIM(Data!P477)","v":"0"},null,{"$f":"TRIM(Data!Q477)","v":"0"},null,null,{"$f":"TRIM(Data!R477)","v":"0"},{"$f":"TRIM(Data!S477)","v":"0"},{"$f":"TRIM(Data!T477)","v":"0"},null,null,null,{"$f":"TRIM(Data!U477)","v":"0"},null,{"$f":"TRIM(Data!V477)","v":"0"},{"$f":"TRIM(Data!W477)","v":"0"},{"$f":"TRIM(Data!X477)","v":"0"},{"$f":"TRIM(Data!Y477)","v":"0"},{"$f":"TRIM(Data!Z477)","v":"0"},{"$f":"TRIM(Data!AA477)","v":"0"},595,"1 Dec 2024 to 31 Dec 2024","DISTRICT HEALTH CENTRE-WONG TAI SIN (HKSKHWCL)","DHC-WONG TAI SIN","DHC","4437392776","ENCTR","3","Local System","Local System","18772","0","0","0","18772","","0","0","0","0","0","0","0","0","0","0","0","0","","18772","1","0","0","0","0","0","0","0","0"]
["1 Dec 2024 to 31 Dec 20242310917092EPIS","1 Dec 2024 to 31 Dec 2024","DR. YEE YUK KEI","DR. YK YEE","SOLO",2310917092,"EPIS",1,"Local System","Local System",199,0,199,0,0,null,0,0,0,0,0,0,0,0,0,0,0,0,null,0,0,0,0,0,0,0,0,0,0,"","","Y","1 Dec 2024 to 31 Dec 20244437392776ADR",{"$f":"Data!A480","v":"2024-12-01"},{"$f":"TRIM(Data!B480)","v":"DISTRICT HEALTH CENTRE-WONG TAI SIN (HKSKHWCL)"},null,{"$f":"TRIM(Data!C480)","v":"DHC"},{"$f":"TRIM(Data!D480)","v":"4437392776"},{"$f":"TRIM(Data!E480)","v":"ADR"},{"$f":"TRIM(Data!F480)","v":"3"},{"$f":"TRIM(Data!G480)","v":"DHCCMS"},{"$f":"TRIM(Data!H480)","v":"Local System"},{"$f":"TRIM(Data!I480)","v":"1"},{"$f":"TRIM(Data!J480)","v":"0"},{"$f":"TRIM(Data!K480)","v":"0"},{"$f":"TRIM(Data!L480)","v":"0"},{"$f":"TRIM(Data!M480)","v":"1"},null,null,null,{"$f":"TRIM(Data!N480)","v":"0"},{"$f":"TRIM(Data!O480)","v":"0"},{"$f":"TRIM(Data!P480)","v":"0"},null,{"$f":"TRIM(Data!Q480)","v":"0"},null,null,{"$f":"TRIM(Data!R480)","v":"0"},{"$f":"TRIM(Data!S480)","v":"0"},{"$f":"TRIM(Data!T480)","v":"0"},null,null,null,{"$f":"TRIM(Data!U480)","v":"0"},null,{"$f":"TRIM(Data!V480)","v":"0"},{"$f":"TRIM(Data!W480)","v":"0"},{"$f":"TRIM(Data!X480)","v":"0"},{"$f":"TRIM(Data!Y480)","v":"0"},{"$f":"TRIM(Data!Z480)","v":"0"},{"$f":"TRIM(Data!AA480)","v":"0"},593,"1 Dec 2024 to 31 Dec 2024","DISTRICT HEALTH CENTRE-WONG TAI SIN (HKSKHWCL)","DHC-WONG TAI SIN","DHC","4437392776","ADR","3","Local System","Local System","1","0","0","0","1","","0","0","0","0","0","0","0","0","0","0","0","0","","1","1","0","0","0","0","0","0","0","0"]
["1 Dec 2024 to 31 Dec 20242310917092IMMU","1 Dec 2024 to 31 Dec 2024","DR. YEE YUK KEI","DR. YK YEE","SOLO",2310917092,"IMMU",3,"Local System","Local System",12,0,0,11,1,null,0,0,0,0,0,0,0,0,0,0,0,0,null,1,8.3333333333333329E-2,0,0,0,0,0,0,0,0,"","","Y","1 Dec 2024 to 31 Dec 20248900325933ENCTR",{"$f":"Data!A481","v":"2024-12-01"},{"$f":"TRIM(Data!B481)","v":"DISTRICT HEALTH CENTRE-SOUTHERN (AKA)"},null,{"$f":"TRIM(Data!C481)","v":"DHC"},{"$f":"TRIM(Data!D481)","v":"8900325933"},{"$f":"TRIM(Data!E481)","v":"ENCTR"},{"$f":"TRIM(Data!F481)","v":"3"},{"$f":"TRIM(Data!G481)","v":"DHCCMS"},{"$f":"TRIM(Data!H481)","v":"Local System"},{"$f":"TRIM(Data!I481)","v":"21974"},{"$f":"TRIM(Data!J481)","v":"0"},{"$f":"TRIM(Data!K481)","v":"0"},{"$f":"TRIM(Data!L481)","v":"0"},{"$f":"TRIM(Data!M481)","v":"21974"},null,null,null,{"$f":"TRIM(Data!N481)","v":"0"},{"$f":"TRIM(Data!O481)","v":"0"},{"$f":"TRIM(Data!P481)","v":"0"},null,{"$f":"TRIM(Data!Q481)","v":"0"},null,null,{"$f":"TRIM(Data!R481)","v":"0"},{"$f":"TRIM(Data!S481)","v":"0"},{"$f":"TRIM(Data!T481)","v":"0"},null,null,null,{"$f":"TRIM(Data!U481)","v":"0"},null,{"$f":"TRIM(Data!V481)","v":"0"},{"$f":"TRIM(Data!W481)","v":"0"},{"$f":"TRIM(Data!X481)","v":"0"},{"$f":"TRIM(Data!Y481)","v":"0"},{"$f":"TRIM(Data!Z481)","v":"0"},{"$f":"TRIM(Data!AA481)","v":"0"},809,"1 Dec 2024 to 31 Dec 2024","DISTRICT HEALTH CENTRE-SOUTHERN (AKA)","DHC-SOUTHERN","DHC","8900325933","ENCTR","3","Local System","Local System","21974","0","0","0","21974","","0","0","0","0","0","0","0","0","0","0","0","0","","21974","1","0","0","0","0","0","0","0","0"]
["1 Dec 2024 to 31 Dec 20242310917092RXO","1 Dec 2024 to 31 Dec 2024","DR. YEE YUK KEI","DR. YK YEE","SOLO",2310917092,"RXO",3,"Local System","Local System",384,0,0,299,85,null,0,0,0,0,0,0,0,0,0,0,0,0,null,85,0.22135416666666666,0,0,0,0,0,0,0,0,"","","","1 Dec 2024 to 31 Dec 20244773496701PROB",{"$f":"Data!A485","v":"2024-12-01"},{"$f":"TRIM(Data!B485)","v":"HKSH MEDICAL GROUP LIMITED"},null,{"$f":"TRIM(Data!C485)","v":"PH"},{"$f":"TRIM(Data!D485)","v":"4773496701"},{"$f":"TRIM(Data!E485)","v":"PROB"},{"$f":"TRIM(Data!F485)","v":"3"},{"$f":"TRIM(Data!G485)","v":"HKSH e-HR gateway"},{"$f":"TRIM(Data!H485)","v":"Local System"},{"$f":"TRIM(Data!I485)","v":"4880"},{"$f":"TRIM(Data!J485)","v":"0"},{"$f":"TRIM(Data!K485)","v":"0"},{"$f":"TRIM(Data!L485)","v":"0"},{"$f":"TRIM(Data!M485)","v":"4880"},null,null,null,{"$f":"TRIM(Data!N485)","v":"0"},{"$f":"TRIM(Data!O485)","v":"0"},{"$f":"TRIM(Data!P485)","v":"0"},null,{"$f":"TRIM(Data!Q485)","v":"0"},null,null,{"$f":"TRIM(Data!R485)","v":"0"},{"$f":"TRIM(Data!S485)","v":"0"},{"$f":"TRIM(Data!T485)","v":"0"},null,null,null,{"$f":"TRIM(Data!U485)","v":"0"},null,{"$f":"TRIM(Data!V485)","v":"0"},{"$f":"TRIM(Data!W485)","v":"0"},{"$f":"TRIM(Data!X485)","v":"0"},{"$f":"TRIM(Data!Y485)","v":"0"},{"$f":"TRIM(Data!Z485)","v":"0"},{"$f":"TRIM(Data!AA485)","v":"0"},619,"1 Dec 2024 to 31 Dec 2024","HKSH Medical Group Limited","HKSH MEDICAL FROUP","PH","4773496701","PROB","3","HKSH e-HR gateway","Local System","4880","0","0","0","4880","","0","0","0","0","0","0","0","0","0","0","0","0","","4880","1","0","0","0","0","0","0","0","0"]
["1 Dec 2024 to 31 Dec 20242342444283RAD","1 Dec 2024 to 31 Dec 2024","MORDERN ASCENT LIMITED","MORDERN ASCENT LIMITED","SOLO",2342444283,"RAD",3,"RHI2","Local System",682,0,0,60,622,null,0,0,0,0,0,0,0,0,0,0,0,0,null,622,0.91202346041055715,60,8.797653958944282E-2,0,0,0,0,60,0,"","","Y","1 Dec 2024 to 31 Dec 20244773496701RAD",{"$f":"Data!A486","v":"2024-12-01"},{"$f":"TRIM(Data!B486)","v":"HKSH MEDICAL GROUP LIMITED"},null,{"$f":"TRIM(Data!C486)","v":"PH"},{"$f":"TRIM(Data!D486)","v":"4773496701"},{"$f":"TRIM(Data!E486)","v":"RAD"},{"$f":"TRIM(Data!F486)","v":"3,2"},{"$f":"TRIM(Data!G486)","v":"HKSH e-HR gateway"},{"$f":"TRIM(Data!H486)","v":"Local System"},{"$f":"TRIM(Data!I486)","v":"3702"},{"$f":"TRIM(Data!J486)","v":"0"},{"$f":"TRIM(Data!K486)","v":"0"},{"$f":"TRIM(Data!L486)","v":"0"},{"$f":"TRIM(Data!M486)","v":"3702"},null,null,null,{"$f":"TRIM(Data!N486)","v":"0"},{"$f":"TRIM(Data!O486)","v":"0"},{"$f":"TRIM(Data!P486)","v":"0"},null,{"$f":"TRIM(Data!Q486)","v":"0"},null,null,{"$f":"TRIM(Data!R486)","v":"0"},{"$f":"TRIM(Data!S486)","v":"0"},{"$f":"TRIM(Data!T486)","v":"0"},null,null,null,{"$f":"TRIM(Data!U486)","v":"0"},null,{"$f":"TRIM(Data!V486)","v":"0"},{"$f":"TRIM(Data!W486)","v":"0"},{"$f":"TRIM(Data!X486)","v":"0"},{"$f":"TRIM(Data!Y486)","v":"0"},{"$f":"TRIM(Data!Z486)","v":"0"},{"$f":"TRIM(Data!AA486)","v":"0"},621,"1 Dec 2024 to 31 Dec 2024","HKSH Medical Group Limited","HKSH MEDICAL FROUP","PH","4773496701","RAD","3","HKSH e-HR gateway","Local System","3702","0","0","0","3702","","0","0","0","0","0","0","0","0","0","0","0","0","","3702","1","0","0","0","0","0","0","0","0"]
["1 Dec 2024 to 31 Dec 20242438744730AL1","1 Dec 2024 to 31 Dec 2024","DEPARTMENT OF HEALTH","DH","DH",2438744730,"AL1",3,"CIMS2","Local System",1199,0,0,276,923,null,0,0,0,0,257,0.21434528773978315,257,0,0,257,0,0,null,923,0.76980817347789821,0,0,0,0,0,0,0,0,"","","","1 Dec 2024 to 31 Dec 20244773496701LABAP",{"$f":"Data!A489","v":"2024-12-01"},{"$f":"TRIM(Data!B489)","v":"HKSH MEDICAL GROUP LIMITED"},null,{"$f":"TRIM(Data!C489)","v":"PH"},{"$f":"TRIM(Data!D489)","v":"4773496701"},{"$f":"TRIM(Data!E489)","v":"LABAP"},{"$f":"TRIM(Data!F489)","v":"1"},{"$f":"TRIM(Data!G489)","v":"HKSH e-HR gateway"},{"$f":"TRIM(Data!H489)","v":"Local System"},{"$f":"TRIM(Data!I489)","v":"760"},{"$f":"TRIM(Data!J489)","v":"0"},{"$f":"TRIM(Data!K489)","v":"760"},{"$f":"TRIM(Data!L489)","v":"0"},{"$f":"TRIM(Data!M489)","v":"0"},null,null,null,{"$f":"TRIM(Data!N489)","v":"0"},{"$f":"TRIM(Data!O489)","v":"0"},{"$f":"TRIM(Data!P489)","v":"0"},null,{"$f":"TRIM(Data!Q489)","v":"0"},null,null,{"$f":"TRIM(Data!R489)","v":"0"},{"$f":"TRIM(Data!S489)","v":"0"},{"$f":"TRIM(Data!T489)","v":"0"},null,null,null,{"$f":"TRIM(Data!U489)","v":"0"},null,{"$f":"TRIM(Data!V489)","v":"0"},{"$f":"TRIM(Data!W489)","v":"0"},{"$f":"TRIM(Data!X489)","v":"0"},{"$f":"TRIM(Data!Y489)","v":"0"},{"$f":"TRIM(Data!Z489)","v":"0"},{"$f":"TRIM(Data!AA489)","v":"0"},616,"1 Dec 2024 to 31 Dec 2024","HKSH Medical Group Limited","HKSH MEDICAL FROUP","PH","4773496701","LABAP","1","HKSH e-HR gateway","Local System","760","0","760","0","0","","0","0","0","0","0","0","0","0","0","0","0","0","","0","0","0","0","0","0","0","0","0","0"]
["1 Dec 2024 to 31 Dec 20242438744730ENCTR","1 Dec 2024 to 31 Dec 2024","DEPARTMENT OF HEALTH","DH","DH",2438744730,"ENCTR",3,"CIMS2","Local System",447747,0,0,0,447747,null,0,0,0,0,0,0,0,0,0,0,0,0,null,447747,1,0,0,0,0,0,0,0,0,"","","","1 Dec 2024 to 31 Dec 20244773496701AL1",{"$f":"Data!A490","v":"2024-12-01"},{"$f":"TRIM(Data!B490)","v":"HKSH MEDICAL GROUP LIMITED"},null,{"$f":"TRIM(Data!C490)","v":"PH"},{"$f":"TRIM(Data!D490)","v":"4773496701"},{"$f":"TRIM(Data!E490)","v":"AL1"},{"$f":"TRIM(Data!F490)","v":"3"},{"$f":"TRIM(Data!G490)","v":"HKSH e-HR gateway"},{"$f":"TRIM(Data!H490)","v":"Local System"},{"$f":"TRIM(Data!I490)","v":"637"},{"$f":"TRIM(Data!J490)","v":"0"},{"$f":"TRIM(Data!K490)","v":"0"},{"$f":"TRIM(Data!L490)","v":"306"},{"$f":"TRIM(Data!M490)","v":"331"},null,null,null,{"$f":"TRIM(Data!N490)","v":"0"},{"$f":"TRIM(Data!O490)","v":"0"},{"$f":"TRIM(Data!P490)","v":"234"},null,{"$f":"TRIM(Data!Q490)","v":"234"},null,null,{"$f":"TRIM(Data!R490)","v":"234"},{"$f":"TRIM(Data!S490)","v":"0"},{"$f":"TRIM(Data!T490)","v":"0"},null,null,null,{"$f":"TRIM(Data!U490)","v":"0"},null,{"$f":"TRIM(Data!V490)","v":"0"},{"$f":"TRIM(Data!W490)","v":"0"},{"$f":"TRIM(Data!X490)","v":"0"},{"$f":"TRIM(Data!Y490)","v":"0"},{"$f":"TRIM(Data!Z490)","v":"0"},{"$f":"TRIM(Data!AA490)","v":"0"},613,"1 Dec 2024 to 31 Dec 2024","HKSH Medical Group Limited","HKSH MEDICAL FROUP","PH","4773496701","AL1","3","HKSH e-HR gateway","Local System","637","0","0","306","331","","0","0","0","0","234","0.36734693877551","234","0","0","234","0","0","","331","0.519623233908948","0","0","0","0","0","0","0","0"]
["1 Dec 2024 to 31 Dec 20242438744730LABMB","1 Dec 2024 to 31 Dec 2024","DEPARTMENT OF HEALTH","DH","DH",2438744730,"LABMB",1,"CIMS2","Local System",16521,0,16521,0,0,null,0,0,0,0,0,0,0,0,0,0,0,0,null,0,0,0,0,0,0,0,0,0,0,"","","Y","1 Dec 2024 to 31 Dec 20243040418583ENCTR",{"$f":"Data!A494","v":"2024-12-01"},{"$f":"TRIM(Data!B494)","v":"DISTRICT HEALTH CENTRE-KWAI TSING (KTSCHCA)"},null,{"$f":"TRIM(Data!C494)","v":"DHC"},{"$f":"TRIM(Data!D494)","v":"3040418583"},{"$f":"TRIM(Data!E494)","v":"ENCTR"},{"$f":"TRIM(Data!F494)","v":"3"},{"$f":"TRIM(Data!G494)","v":"DHCCMS"},{"$f":"TRIM(Data!H494)","v":"Local System"},{"$f":"TRIM(Data!I494)","v":"18442"},{"$f":"TRIM(Data!J494)","v":"0"},{"$f":"TRIM(Data!K494)","v":"0"},{"$f":"TRIM(Data!L494)","v":"0"},{"$f":"TRIM(Data!M494)","v":"18442"},null,null,null,{"$f":"TRIM(Data!N494)","v":"0"},{"$f":"TRIM(Data!O494)","v":"0"},{"$f":"TRIM(Data!P494)","v":"0"},null,{"$f":"TRIM(Data!Q494)","v":"0"},null,null,{"$f":"TRIM(Data!R494)","v":"0"},{"$f":"TRIM(Data!S494)","v":"0"},{"$f":"TRIM(Data!T494)","v":"0"},null,null,null,{"$f":"TRIM(Data!U494)","v":"0"},null,{"$f":"TRIM(Data!V494)","v":"0"},{"$f":"TRIM(Data!W494)","v":"0"},{"$f":"TRIM(Data!X494)","v":"0"},{"$f":"TRIM(Data!Y494)","v":"0"},{"$f":"TRIM(Data!Z494)","v":"0"},{"$f":"TRIM(Data!AA494)","v":"0"},520,"1 Dec 2024 to 31 Dec 2024","DISTRICT HEALTH CENTRE-KWAI TSING (KTSCHCA)","DHC-KWAI TSING","DHC","3040418583","ENCTR","3","Local System","Local System","18442","0","0","0","18442","","0","0","0","0","0","0","0","0","0","0","0","0","","18442","1","0","0","0","0","0","0","0","0"]
["1 Dec 2024 to 31 Dec 20242438744730OBS","1 Dec 2024 to 31 Dec 2024","DEPARTMENT OF HEALTH","DH","DH",2438744730,"OBS",3,"CIMS2","Local System",7045,0,0,0,7045,null,0,0,0,0,0,0,0,0,0,0,0,0,null,7045,1,0,0,0,0,0,0,0,0,"","","Y","1 Dec 2024 to 31 Dec 20243040418583EPIS",{"$f":"Data!A495","v":"2024-12-01"},{"$f":"TRIM(Data!B495)","v":"DISTRICT HEALTH CENTRE-KWAI TSING (KTSCHCA)"},null,{"$f":"TRIM(Data!C495)","v":"DHC"},{"$f":"TRIM(Data!D495)","v":"3040418583"},{"$f":"TRIM(Data!E495)","v":"EPIS"},{"$f":"TRIM(Data!F495)","v":"1"},{"$f":"TRIM(Data!G495)","v":"DHCCMS"},{"$f":"TRIM(Data!H495)","v":"Local System"},{"$f":"TRIM(Data!I495)","v":"3116"},{"$f":"TRIM(Data!J495)","v":"0"},{"$f":"TRIM(Data!K495)","v":"3116"},{"$f":"TRIM(Data!L495)","v":"0"},{"$f":"TRIM(Data!M495)","v":"0"},null,null,null,{"$f":"TRIM(Data!N495)","v":"0"},{"$f":"TRIM(Data!O495)","v":"0"},{"$f":"TRIM(Data!P495)","v":"0"},null,{"$f":"TRIM(Data!Q495)","v":"0"},null,null,{"$f":"TRIM(Data!R495)","v":"0"},{"$f":"TRIM(Data!S495)","v":"0"},{"$f":"TRIM(Data!T495)","v":"0"},null,null,null,{"$f":"TRIM(Data!U495)","v":"0"},null,{"$f":"TRIM(Data!V495)","v":"0"},{"$f":"TRIM(Data!W495)","v":"0"},{"$f":"TRIM(Data!X495)","v":"0"},{"$f":"TRIM(Data!Y495)","v":"0"},{"$f":"TRIM(Data!Z495)","v":"0"},{"$f":"TRIM(Data!AA495)","v":"0"},521,"1 Dec 2024 to 31 Dec 2024","DISTRICT HEALTH CENTRE-KWAI TSING (KTSCHCA)","DHC-KWAI TSING","DHC","3040418583","EPIS","1","Local System","Local System","3116","0","3116","0","0","","0","0","0","0","0","0","0","0","0","0","0","0","","0","0","0","0","0","0","0","0","0","0"]
["1 Dec 2024 to 31 Dec 20242438744730RAD","1 Dec 2024 to 31 Dec 2024","DEPARTMENT OF HEALTH","DH","DH",2438744730,"RAD",3,"CIMS2","Local System",21343,0,0,0,21343,null,0,0,0,0,0,0,0,0,0,0,0,0,null,21343,1,0,0,0,0,0,0,0,0,"","","","1 Dec 2024 to 31 Dec 20243650324540LABMB",{"$f":"Data!A498","v":"2024-12-01"},{"$f":"TRIM(Data!B498)","v":"HONG KONG BAPTIST HOSPITAL"},null,{"$f":"TRIM(Data!C498)","v":"PH"},{"$f":"TRIM(Data!D498)","v":"3650324540"},{"$f":"TRIM(Data!E498)","v":"LABMB"},{"$f":"TRIM(Data!F498)","v":"1"},{"$f":"TRIM(Data!G498)","v":"Trakcare"},{"$f":"TRIM(Data!H498)","v":"Local System"},{"$f":"TRIM(Data!I498)","v":"2833"},{"$f":"TRIM(Data!J498)","v":"0"},{"$f":"TRIM(Data!K498)","v":"2833"},{"$f":"TRIM(Data!L498)","v":"0"},{"$f":"TRIM(Data!M498)","v":"0"},null,null,null,{"$f":"TRIM(Data!N498)","v":"0"},{"$f":"TRIM(Data!O498)","v":"0"},{"$f":"TRIM(Data!P498)","v":"0"},null,{"$f":"TRIM(Data!Q498)","v":"0"},null,null,{"$f":"TRIM(Data!R498)","v":"0"},{"$f":"TRIM(Data!S498)","v":"0"},{"$f":"TRIM(Data!T498)","v":"0"},null,null,null,{"$f":"TRIM(Data!U498)","v":"0"},null,{"$f":"TRIM(Data!V498)","v":"0"},{"$f":"TRIM(Data!W498)","v":"0"},{"$f":"TRIM(Data!X498)","v":"0"},{"$f":"TRIM(Data!Y498)","v":"0"},{"$f":"TRIM(Data!Z498)","v":"0"},{"$f":"TRIM(Data!AA498)","v":"0"},573,"1 Dec 2024 to 31 Dec 2024","HONG KONG BAPTIST HOSPITAL","HK BAPTIST HOSPITAL","PH","3650324540","LABMB","1","Trakcare","Local System","2833","0","2833","0","0","","0","0","0","0","0","0","0","0","0","0","0","0","","0","0","0","0","0","0","0","0","0","0"]
["1 Dec 2024 to 31 Dec 20242438744730RXO","1 Dec 2024 to 31 Dec 2024","DEPARTMENT OF HEALTH","DH","DH",2438744730,"RXO",3,"CIMS2","Local System",157838,0,0,54100,103738,null,0,0,0,0,54228,0.34356745523891585,54228,0,0,54228,0,0,null,103738,0.6572435028320176,5,3.1678049645839405E-5,0,0,0,5,0,0,"","","Y","1 Dec 2024 to 31 Dec 20244480228848RXD",{"$f":"Data!A501","v":"2024-12-01"},{"$f":"TRIM(Data!B501)","v":"HONG KONG BAPTIST HOSPITAL"},null,{"$f":"TRIM(Data!C501)","v":"PH"},{"$f":"TRIM(Data!D501)","v":"4480228848"},{"$f":"TRIM(Data!E501)","v":"RXD"},{"$f":"TRIM(Data!F501)","v":"3,2"},{"$f":"TRIM(Data!G501)","v":"CMS On-ramp"},{"$f":"TRIM(Data!H501)","v":"CMS On-ramp"},{"$f":"TRIM(Data!I501)","v":"657"},{"$f":"TRIM(Data!J501)","v":"0"},{"$f":"TRIM(Data!K501)","v":"0"},{"$f":"TRIM(Data!L501)","v":"54"},{"$f":"TRIM(Data!M501)","v":"603"},null,null,null,{"$f":"TRIM(Data!N501)","v":"0"},{"$f":"TRIM(Data!O501)","v":"0"},{"$f":"TRIM(Data!P501)","v":"0"},null,{"$f":"TRIM(Data!Q501)","v":"0"},null,null,{"$f":"TRIM(Data!R501)","v":"0"},{"$f":"TRIM(Data!S501)","v":"0"},{"$f":"TRIM(Data!T501)","v":"0"},null,null,null,{"$f":"TRIM(Data!U501)","v":"0"},null,{"$f":"TRIM(Data!V501)","v":"0"},{"$f":"TRIM(Data!W501)","v":"0"},{"$f":"TRIM(Data!X501)","v":"0"},{"$f":"TRIM(Data!Y501)","v":"0"},{"$f":"TRIM(Data!Z501)","v":"0"},{"$f":"TRIM(Data!AA501)","v":"0"},601,"1 Dec 2024 to 31 Dec 2024","HONG KONG BAPTIST HOSPITAL (COMMUNITY CLINIC)","HK BAPTIST HOSPITAL","PH","4480228848","RXD","3","Onramp","Local System","657","0","0","54","603","","0","0","0","0","0","0","0","0","0","0","0","0","","603","0.917808219178082","0","0","0","0","0","0","0","0"]
["1 Dec 2024 to 31 Dec 20242548616569EPIS","1 Dec 2024 to 31 Dec 2024","DHC EXPRESS-KOWLOON CITY (LOKSINTONG)","DHC EXPRESS-KC-CC","DHC",2548616569,"EPIS",1,"DHCCMS","Local System",1947,0,1947,0,0,null,0,0,0,0,0,0,0,0,0,0,0,0,null,0,0,0,0,0,0,0,0,0,0,"","","Y","1 Dec 2024 to 31 Dec 20244480228848PROB",{"$f":"Data!A503","v":"2024-12-01"},{"$f":"TRIM(Data!B503)","v":"HONG KONG BAPTIST HOSPITAL"},null,{"$f":"TRIM(Data!C503)","v":"PH"},{"$f":"TRIM(Data!D503)","v":"4480228848"},{"$f":"TRIM(Data!E503)","v":"PROB"},{"$f":"TRIM(Data!F503)","v":"3,2"},{"$f":"TRIM(Data!G503)","v":"CMS On-ramp"},{"$f":"TRIM(Data!H503)","v":"CMS On-ramp"},{"$f":"TRIM(Data!I503)","v":"181"},{"$f":"TRIM(Data!J503)","v":"0"},{"$f":"TRIM(Data!K503)","v":"0"},{"$f":"TRIM(Data!L503)","v":"10"},{"$f":"TRIM(Data!M503)","v":"171"},null,null,null,{"$f":"TRIM(Data!N503)","v":"0"},{"$f":"TRIM(Data!O503)","v":"0"},{"$f":"TRIM(Data!P503)","v":"0"},null,{"$f":"TRIM(Data!Q503)","v":"0"},null,null,{"$f":"TRIM(Data!R503)","v":"0"},{"$f":"TRIM(Data!S503)","v":"0"},{"$f":"TRIM(Data!T503)","v":"0"},null,null,null,{"$f":"TRIM(Data!U503)","v":"0"},null,{"$f":"TRIM(Data!V503)","v":"0"},{"$f":"TRIM(Data!W503)","v":"0"},{"$f":"TRIM(Data!X503)","v":"0"},{"$f":"TRIM(Data!Y503)","v":"0"},{"$f":"TRIM(Data!Z503)","v":"0"},{"$f":"TRIM(Data!AA503)","v":"0"},600,"1 Dec 2024 to 31 Dec 2024","HONG KONG BAPTIST HOSPITAL (COMMUNITY CLINIC)","HK BAPTIST HOSPITAL","PH","4480228848","PROB","3","Onramp","Local System","181","0","0","10","171","","0","0","0","0","0","0","0","0","0","0","0","0","","171","0.94475138121547","0","0","0","0","0","0","0","0"]
["1 Dec 2024 to 31 Dec 20242732778448RAD","1 Dec 2024 to 31 Dec 2024","CONCORDE DIAGNOSTICS LIMITED","CONCORDE DIAGNOSTICS LTD","SOLO",2732778448,"RAD",3,"RHI2","Local System",8,4,0,0,4,null,4,0.5,4,0,0,0,0,0,0,0,0,0,null,4,0.5,0,0,0,0,0,0,0,0,"","","Y","1 Dec 2024 to 31 Dec 20244480228848ENCTR",{"$f":"Data!A504","v":"2024-12-01"},{"$f":"TRIM(Data!B504)","v":"HONG KONG BAPTIST HOSPITAL"},null,{"$f":"TRIM(Data!C504)","v":"PH"},{"$f":"TRIM(Data!D504)","v":"4480228848"},{"$f":"TRIM(Data!E504)","v":"ENCTR"},{"$f":"TRIM(Data!F504)","v":"3"},{"$f":"TRIM(Data!G504)","v":"CMS On-ramp"},{"$f":"TRIM(Data!H504)","v":"CMS On-ramp"},{"$f":"TRIM(Data!I504)","v":"149"},{"$f":"TRIM(Data!J504)","v":"0"},{"$f":"TRIM(Data!K504)","v":"0"},{"$f":"TRIM(Data!L504)","v":"0"},{"$f":"TRIM(Data!M504)","v":"149"},null,null,null,{"$f":"TRIM(Data!N504)","v":"0"},{"$f":"TRIM(Data!O504)","v":"0"},{"$f":"TRIM(Data!P504)","v":"0"},null,{"$f":"TRIM(Data!Q504)","v":"0"},null,null,{"$f":"TRIM(Data!R504)","v":"0"},{"$f":"TRIM(Data!S504)","v":"0"},{"$f":"TRIM(Data!T504)","v":"0"},null,null,null,{"$f":"TRIM(Data!U504)","v":"0"},null,{"$f":"TRIM(Data!V504)","v":"0"},{"$f":"TRIM(Data!W504)","v":"0"},{"$f":"TRIM(Data!X504)","v":"0"},{"$f":"TRIM(Data!Y504)","v":"0"},{"$f":"TRIM(Data!Z504)","v":"0"},{"$f":"TRIM(Data!AA504)","v":"0"},598,"1 Dec 2024 to 31 Dec 2024","HONG KONG BAPTIST HOSPITAL (COMMUNITY CLINIC)","HK BAPTIST HOSPITAL","PH","4480228848","ENCTR","3","Onramp","Local System","149","0","0","0","149","","0","0","0","0","0","0","0","0","0","0","0","0","","149","1","0","0","0","0","0","0","0","0"]
["1 Dec 2024 to 31 Dec 20242825508730RXD","1 Dec 2024 to 31 Dec 2024","DR LEUNG KAM FUNG","DR LEUNG KAM FUNG","SOLO",2825508730,"RXD",2,"ClinicSolution","Local System",22,0,0,22,0,null,0,0,0,0,0,0,0,0,0,0,0,0,null,0,0,0,0,0,0,0,0,0,0,"","","Y","1 Dec 2024 to 31 Dec 20249043776781EPIS",{"$f":"Data!A507","v":"2024-12-01"},{"$f":"TRIM(Data!B507)","v":"DISTRICT HEALTH CENTRE-TSUEN WAN (YCHB)"},null,{"$f":"TRIM(Data!C507)","v":"DHC"},{"$f":"TRIM(Data!D507)","v":"9043776781"},{"$f":"TRIM(Data!E507)","v":"EPIS"},{"$f":"TRIM(Data!F507)","v":"1"},{"$f":"TRIM(Data!G507)","v":"DHCCMS"},{"$f":"TRIM(Data!H507)","v":"Local System"},{"$f":"TRIM(Data!I507)","v":"7911"},{"$f":"TRIM(Data!J507)","v":"0"},{"$f":"TRIM(Data!K507)","v":"7911"},{"$f":"TRIM(Data!L507)","v":"0"},{"$f":"TRIM(Data!M507)","v":"0"},null,null,null,{"$f":"TRIM(Data!N507)","v":"0"},{"$f":"TRIM(Data!O507)","v":"0"},{"$f":"TRIM(Data!P507)","v":"0"},null,{"$f":"TRIM(Data!Q507)","v":"0"},null,null,{"$f":"TRIM(Data!R507)","v":"0"},{"$f":"TRIM(Data!S507)","v":"0"},{"$f":"TRIM(Data!T507)","v":"0"},null,null,null,{"$f":"TRIM(Data!U507)","v":"0"},null,{"$f":"TRIM(Data!V507)","v":"0"},{"$f":"TRIM(Data!W507)","v":"0"},{"$f":"TRIM(Data!X507)","v":"0"},{"$f":"TRIM(Data!Y507)","v":"0"},{"$f":"TRIM(Data!Z507)","v":"0"},{"$f":"TRIM(Data!AA507)","v":"0"},827,"1 Dec 2024 to 31 Dec 2024","DISTRICT HEALTH CENTRE-TSUEN WAN (YCHB)","DHC-TSUEN WAN","DHC","9043776781","EPIS","1","Local System","Local System","7911","0","7911","0","0","","0","0","0","0","0","0","0","0","0","0","0","0","","0","0","0","0","0","0","0","0","0","0"]
["1 Dec 2024 to 31 Dec 20242825508730RXO","1 Dec 2024 to 31 Dec 2024","DR LEUNG KAM FUNG","DR LEUNG KAM FUNG","SOLO",2825508730,"RXO",2,"ClinicSolution","Local System",22,0,0,22,0,null,0,0,0,0,0,0,0,0,0,0,0,0,null,0,0,0,0,0,0,0,0,0,0,"","","Y","1 Dec 2024 to 31 Dec 20247969980015RXD",{"$f":"Data!A508","v":"2024-12-01"},{"$f":"TRIM(Data!B508)","v":"ST. TERESA'S HOSPITAL"},null,{"$f":"TRIM(Data!C508)","v":"PH"},{"$f":"TRIM(Data!D508)","v":"7969980015"},{"$f":"TRIM(Data!E508)","v":"RXD"},{"$f":"TRIM(Data!F508)","v":"3"},{"$f":"TRIM(Data!G508)","v":"STH HIS"},{"$f":"TRIM(Data!H508)","v":"Local System"},{"$f":"TRIM(Data!I508)","v":"12986"},{"$f":"TRIM(Data!J508)","v":"18"},{"$f":"TRIM(Data!K508)","v":"0"},{"$f":"TRIM(Data!L508)","v":"454"},{"$f":"TRIM(Data!M508)","v":"12514"},null,null,null,{"$f":"TRIM(Data!N508)","v":"9"},{"$f":"TRIM(Data!O508)","v":"9"},{"$f":"TRIM(Data!P508)","v":"454"},null,{"$f":"TRIM(Data!Q508)","v":"454"},null,null,{"$f":"TRIM(Data!R508)","v":"454"},{"$f":"TRIM(Data!S508)","v":"0"},{"$f":"TRIM(Data!T508)","v":"0"},null,null,null,{"$f":"TRIM(Data!U508)","v":"0"},null,{"$f":"TRIM(Data!V508)","v":"0"},{"$f":"TRIM(Data!W508)","v":"0"},{"$f":"TRIM(Data!X508)","v":"0"},{"$f":"TRIM(Data!Y508)","v":"0"},{"$f":"TRIM(Data!Z508)","v":"0"},{"$f":"TRIM(Data!AA508)","v":"0"},770,"1 Dec 2024 to 31 Dec 2024","ST.TERESA's HOSPITAL","STH","PH","7969980015","RXD","3","STH HIS","Local System","12977","9","0","454","12514","","9","0.00069353471526547","9","0","454","0.0349849734145026","454","0","0","454","0","0","","12514","0.964321491870232","0","0","0","0","0","0","0","0"]
["1 Dec 2024 to 31 Dec 20242971417573ENCTR","1 Dec 2024 to 31 Dec 2024","18 Chinese Medicine Clinic cum Traing and Research Centre (Yan Oi Tong)","18CMCTRs (YOT)","NGO",2971417573,"ENCTR",3,"Local System","Local System",573,0,0,0,573,null,0,0,0,0,0,0,0,0,0,0,0,0,null,573,1,0,0,0,0,0,0,0,0,"","","Y","1 Dec 2024 to 31 Dec 20247969980015AL1",{"$f":"Data!A512","v":"2024-12-01"},{"$f":"TRIM(Data!B512)","v":"ST. TERESA'S HOSPITAL"},null,{"$f":"TRIM(Data!C512)","v":"PH"},{"$f":"TRIM(Data!D512)","v":"7969980015"},{"$f":"TRIM(Data!E512)","v":"AL1"},{"$f":"TRIM(Data!F512)","v":"3"},{"$f":"TRIM(Data!G512)","v":"STH HIS"},{"$f":"TRIM(Data!H512)","v":"Local System"},{"$f":"TRIM(Data!I512)","v":"350"},{"$f":"TRIM(Data!J512)","v":"0"},{"$f":"TRIM(Data!K512)","v":"0"},{"$f":"TRIM(Data!L512)","v":"113"},{"$f":"TRIM(Data!M512)","v":"237"},null,null,null,{"$f":"TRIM(Data!N512)","v":"0"},{"$f":"TRIM(Data!O512)","v":"0"},{"$f":"TRIM(Data!P512)","v":"106"},null,{"$f":"TRIM(Data!Q512)","v":"106"},null,null,{"$f":"TRIM(Data!R512)","v":"106"},{"$f":"TRIM(Data!S512)","v":"0"},{"$f":"TRIM(Data!T512)","v":"0"},null,null,null,{"$f":"TRIM(Data!U512)","v":"0"},null,{"$f":"TRIM(Data!V512)","v":"0"},{"$f":"TRIM(Data!W512)","v":"0"},{"$f":"TRIM(Data!X512)","v":"0"},{"$f":"TRIM(Data!Y512)","v":"0"},{"$f":"TRIM(Data!Z512)","v":"0"},{"$f":"TRIM(Data!AA512)","v":"0"},765,"1 Dec 2024 to 31 Dec 2024","ST.TERESA's HOSPITAL","STH","PH","7969980015","AL1","3","STH HIS","Local System","350","0","0","113","237","","0","0","0","0","106","0.302857142857143","106","0","0","106","0","0","","237","0.677142857142857","0","0","0","0","0","0","0","0"]
["1 Dec 2024 to 31 Dec 20243040418583ENCTR","1 Dec 2024 to 31 Dec 2024","DISTRICT HEALTH CENTRE-KWAI TSING (KTSCHCA)","DHC-KWAI TSING","DHC",3040418583,"ENCTR",3,"Local System","Local System",18442,0,0,0,18442,null,0,0,0,0,0,0,0,0,0,0,0,0,null,18442,1,0,0,0,0,0,0,0,0,"","","Y","1 Dec 2024 to 31 Dec 20247969980015ADR",{"$f":"Data!A513","v":"2024-12-01"},{"$f":"TRIM(Data!B513)","v":"ST. TERESA'S HOSPITAL"},null,{"$f":"TRIM(Data!C513)","v":"PH"},{"$f":"TRIM(Data!D513)","v":"7969980015"},{"$f":"TRIM(Data!E513)","v":"ADR"},{"$f":"TRIM(Data!F513)","v":"3"},{"$f":"TRIM(Data!G513)","v":"STH HIS"},{"$f":"TRIM(Data!H513)","v":"Local System"},{"$f":"TRIM(Data!I513)","v":"17"},{"$f":"TRIM(Data!J513)","v":"0"},{"$f":"TRIM(Data!K513)","v":"0"},{"$f":"TRIM(Data!L513)","v":"2"},{"$f":"TRIM(Data!M513)","v":"15"},null,null,null,{"$f":"TRIM(Data!N513)","v":"0"},{"$f":"TRIM(Data!O513)","v":"0"},{"$f":"TRIM(Data!P513)","v":"3"},null,{"$f":"TRIM(Data!Q513)","v":"3"},null,null,{"$f":"TRIM(Data!R513)","v":"3"},{"$f":"TRIM(Data!S513)","v":"0"},{"$f":"TRIM(Data!T513)","v":"0"},null,null,null,{"$f":"TRIM(Data!U513)","v":"0"},null,{"$f":"TRIM(Data!V513)","v":"0"},{"$f":"TRIM(Data!W513)","v":"0"},{"$f":"TRIM(Data!X513)","v":"0"},{"$f":"TRIM(Data!Y513)","v":"0"},{"$f":"TRIM(Data!Z513)","v":"0"},{"$f":"TRIM(Data!AA513)","v":"0"},764,"1 Dec 2024 to 31 Dec 2024","ST.TERESA's HOSPITAL","STH","PH","7969980015","ADR","3","STH HIS","Local System","17","0","0","2","15","","0","0","0","0","3","0.176470588235294","3","0","0","3","0","0","","15","0.882352941176471","0","0","0","0","0","0","0","0"]
["1 Dec 2024 to 31 Dec 20243098159131ADR","1 Dec 2024 to 31 Dec 2024","HOSPITAL AUTHORITY","HA","HA",3098159131,"ADR",3,"Enterprise Application Integration (EAI)","Local System",4583,0,0,298,4285,null,0,0,0,0,291,6.3495526947414352E-2,291,0,0,291,0,0,null,4285,0.93497708924285405,0,0,0,0,0,0,0,0,"","","","1 Dec 2024 to 31 Dec 20245963779130RAD",{"$f":"Data!A516","v":"2024-12-01"},{"$f":"TRIM(Data!B516)","v":"CUHK MEDICAL CENTRE LIMITED"},null,{"$f":"TRIM(Data!C516)","v":"PH"},{"$f":"TRIM(Data!D516)","v":"5963779130"},{"$f":"TRIM(Data!E516)","v":"RAD"},{"$f":"TRIM(Data!F516)","v":"3"},{"$f":"TRIM(Data!G516)","v":"HIS"},{"$f":"TRIM(Data!H516)","v":"Local System"},{"$f":"TRIM(Data!I516)","v":"4086"},{"$f":"TRIM(Data!J516)","v":"0"},{"$f":"TRIM(Data!K516)","v":"0"},{"$f":"TRIM(Data!L516)","v":"0"},{"$f":"TRIM(Data!M516)","v":"4086"},null,null,null,{"$f":"TRIM(Data!N516)","v":"0"},{"$f":"TRIM(Data!O516)","v":"0"},{"$f":"TRIM(Data!P516)","v":"0"},null,{"$f":"TRIM(Data!Q516)","v":"0"},null,null,{"$f":"TRIM(Data!R516)","v":"0"},{"$f":"TRIM(Data!S516)","v":"0"},{"$f":"TRIM(Data!T516)","v":"0"},null,null,null,{"$f":"TRIM(Data!U516)","v":"0"},null,{"$f":"TRIM(Data!V516)","v":"0"},{"$f":"TRIM(Data!W516)","v":"0"},{"$f":"TRIM(Data!X516)","v":"0"},{"$f":"TRIM(Data!Y516)","v":"0"},{"$f":"TRIM(Data!Z516)","v":"0"},{"$f":"TRIM(Data!AA516)","v":"0"},684,"1 Dec 2024 to 31 Dec 2024","CUHK MEDICAL CENTRE LIMITED","CUHK MEDICAL CENTRE","PH","5963779130","RAD","3","HIS","Local System","4086","0","0","0","4086","","0","0","0","0","0","0","0","0","0","0","0","0","","4086","1","0","0","0","0","0","0","0","0"]
["1 Dec 2024 to 31 Dec 20243098159131ENCTR","1 Dec 2024 to 31 Dec 2024","HOSPITAL AUTHORITY","HA","HA",3098159131,"ENCTR",3,"Enterprise Application Integration (EAI)","Local System",11398752,0,0,0,11398752,null,0,0,0,0,0,0,0,0,0,0,0,0,null,11398752,1,0,0,0,0,0,0,0,0,"","","","1 Dec 2024 to 31 Dec 20245963779130INVR",{"$f":"Data!A519","v":"2024-12-01"},{"$f":"TRIM(Data!B519)","v":"CUHK MEDICAL CENTRE LIMITED"},null,{"$f":"TRIM(Data!C519)","v":"PH"},{"$f":"TRIM(Data!D519)","v":"5963779130"},{"$f":"TRIM(Data!E519)","v":"INVR"},{"$f":"TRIM(Data!F519)","v":"1"},{"$f":"TRIM(Data!G519)","v":"HIS"},{"$f":"TRIM(Data!H519)","v":"Local System"},{"$f":"TRIM(Data!I519)","v":"600"},{"$f":"TRIM(Data!J519)","v":"0"},{"$f":"TRIM(Data!K519)","v":"600"},{"$f":"TRIM(Data!L519)","v":"0"},{"$f":"TRIM(Data!M519)","v":"0"},null,null,null,{"$f":"TRIM(Data!N519)","v":"0"},{"$f":"TRIM(Data!O519)","v":"0"},{"$f":"TRIM(Data!P519)","v":"0"},null,{"$f":"TRIM(Data!Q519)","v":"0"},null,null,{"$f":"TRIM(Data!R519)","v":"0"},{"$f":"TRIM(Data!S519)","v":"0"},{"$f":"TRIM(Data!T519)","v":"0"},null,null,null,{"$f":"TRIM(Data!U519)","v":"0"},null,{"$f":"TRIM(Data!V519)","v":"0"},{"$f":"TRIM(Data!W519)","v":"0"},{"$f":"TRIM(Data!X519)","v":"0"},{"$f":"TRIM(Data!Y519)","v":"0"},{"$f":"TRIM(Data!Z519)","v":"0"},{"$f":"TRIM(Data!AA519)","v":"0"},680,"1 Dec 2024 to 31 Dec 2024","CUHK MEDICAL CENTRE LIMITED","CUHK MEDICAL CENTRE","PH","5963779130","INVR","1","HIS","Local System","600","0","600","0","0","","0","0","0","0","0","0","0","0","0","0","0","0","","0","0","0","0","0","0","0","0","0","0"]
["1 Dec 2024 to 31 Dec 20243098159131IMMU","1 Dec 2024 to 31 Dec 2024","HOSPITAL AUTHORITY","HA","HA",3098159131,"IMMU",3,"Enterprise Application Integration (EAI)","Local System",133096,0,0,11162,121934,null,0,0,0,0,10874,8.1700426759632142E-2,10874,0,0,10874,0,0,null,121934,0.91613572158442025,296,2.223958646390575E-3,0,296,0,0,0,0,"","","","1 Dec 2024 to 31 Dec 20245156724947RAD",{"$f":"Data!A521","v":"2024-12-01"},{"$f":"TRIM(Data!B521)","v":"ST. PAUL'S HOSPITAL"},null,{"$f":"TRIM(Data!C521)","v":"PH"},{"$f":"TRIM(Data!D521)","v":"5156724947"},{"$f":"TRIM(Data!E521)","v":"RAD"},{"$f":"TRIM(Data!F521)","v":"3"},{"$f":"TRIM(Data!G521)","v":"SPH HIS"},{"$f":"TRIM(Data!H521)","v":"Local System"},{"$f":"TRIM(Data!I521)","v":"3142"},{"$f":"TRIM(Data!J521)","v":"0"},{"$f":"TRIM(Data!K521)","v":"0"},{"$f":"TRIM(Data!L521)","v":"0"},{"$f":"TRIM(Data!M521)","v":"3142"},null,null,null,{"$f":"TRIM(Data!N521)","v":"0"},{"$f":"TRIM(Data!O521)","v":"0"},{"$f":"TRIM(Data!P521)","v":"0"},null,{"$f":"TRIM(Data!Q521)","v":"0"},null,null,{"$f":"TRIM(Data!R521)","v":"0"},{"$f":"TRIM(Data!S521)","v":"0"},{"$f":"TRIM(Data!T521)","v":"0"},null,null,null,{"$f":"TRIM(Data!U521)","v":"0"},null,{"$f":"TRIM(Data!V521)","v":"0"},{"$f":"TRIM(Data!W521)","v":"0"},{"$f":"TRIM(Data!X521)","v":"0"},{"$f":"TRIM(Data!Y521)","v":"0"},{"$f":"TRIM(Data!Z521)","v":"0"},{"$f":"TRIM(Data!AA521)","v":"0"},628,"1 Dec 2024 to 31 Dec 2024","ST. PAUL'S HOSPITAL","SPH","PH","5156724947","RAD","3","SPH HIS","Local System","3142","0","0","0","3142","","0","0","0","0","0","0","0","0","0","0","0","0","","3142","1","0","0","0","0","0","0","0","0"]
["1 Dec 2024 to 31 Dec 20243098159131INVR","1 Dec 2024 to 31 Dec 2024","HOSPITAL AUTHORITY","HA","HA",3098159131,"INVR",1,"Enterprise Application Integration (EAI)","Local System",31914,28,31886,0,0,null,28,8.7735789935451528E-4,28,0,0,0,0,0,0,0,0,0,null,0,0,0,0,0,0,0,0,0,0,"","","","1 Dec 2024 to 31 Dec 20245156724947EPIS",{"$f":"Data!A522","v":"2024-12-01"},{"$f":"TRIM(Data!B522)","v":"ST. PAUL'S HOSPITAL"},null,{"$f":"TRIM(Data!C522)","v":"PH"},{"$f":"TRIM(Data!D522)","v":"5156724947"},{"$f":"TRIM(Data!E522)","v":"EPIS"},{"$f":"TRIM(Data!F522)","v":"1"},{"$f":"TRIM(Data!G522)","v":"SPH HIS"},{"$f":"TRIM(Data!H522)","v":"Local System"},{"$f":"TRIM(Data!I522)","v":"692"},{"$f":"TRIM(Data!J522)","v":"0"},{"$f":"TRIM(Data!K522)","v":"692"},{"$f":"TRIM(Data!L522)","v":"0"},{"$f":"TRIM(Data!M522)","v":"0"},null,null,null,{"$f":"TRIM(Data!N522)","v":"0"},{"$f":"TRIM(Data!O522)","v":"0"},{"$f":"TRIM(Data!P522)","v":"0"},null,{"$f":"TRIM(Data!Q522)","v":"0"},null,null,{"$f":"TRIM(Data!R522)","v":"0"},{"$f":"TRIM(Data!S522)","v":"0"},{"$f":"TRIM(Data!T522)","v":"0"},null,null,null,{"$f":"TRIM(Data!U522)","v":"0"},null,{"$f":"TRIM(Data!V522)","v":"0"},{"$f":"TRIM(Data!W522)","v":"0"},{"$f":"TRIM(Data!X522)","v":"0"},{"$f":"TRIM(Data!Y522)","v":"0"},{"$f":"TRIM(Data!Z522)","v":"0"},{"$f":"TRIM(Data!AA522)","v":"0"},627,"1 Dec 2024 to 31 Dec 2024","ST. PAUL'S HOSPITAL","SPH","PH","5156724947","EPIS","1","SPH HIS","Local System","692","0","692","0","0","","0","0","0","0","0","0","0","0","0","0","0","0","","0","0","0","0","0","0","0","0","0","0"]
["1 Dec 2024 to 31 Dec 20243098159131LABGEN","1 Dec 2024 to 31 Dec 2024","HOSPITAL AUTHORITY","HA","HA",3098159131,"LABGEN",3,"Enterprise Application Integration (EAI)","Local System",4200986,77,1915,70702,4128292,null,77,1.8329030375250001E-5,21,56,75467,1.7964116043233658E-2,75440,0,27,73552,1915,0,null,4128292,0.98269596708963092,0,0,0,0,0,0,0,0,"","","Y","1 Dec 2024 to 31 Dec 20245156724947ADR",{"$f":"Data!A524","v":"2024-12-01"},{"$f":"TRIM(Data!B524)","v":"ST. PAUL'S HOSPITAL"},null,{"$f":"TRIM(Data!C524)","v":"PH"},{"$f":"TRIM(Data!D524)","v":"5156724947"},{"$f":"TRIM(Data!E524)","v":"ADR"},{"$f":"TRIM(Data!F524)","v":"3"},{"$f":"TRIM(Data!G524)","v":"SPH HIS"},{"$f":"TRIM(Data!H524)","v":"Adaptation"},{"$f":"TRIM(Data!I524)","v":"25"},{"$f":"TRIM(Data!J524)","v":"0"},{"$f":"TRIM(Data!K524)","v":"0"},{"$f":"TRIM(Data!L524)","v":"2"},{"$f":"TRIM(Data!M524)","v":"23"},null,null,null,{"$f":"TRIM(Data!N524)","v":"0"},{"$f":"TRIM(Data!O524)","v":"0"},{"$f":"TRIM(Data!P524)","v":"2"},null,{"$f":"TRIM(Data!Q524)","v":"2"},null,null,{"$f":"TRIM(Data!R524)","v":"2"},{"$f":"TRIM(Data!S524)","v":"0"},{"$f":"TRIM(Data!T524)","v":"0"},null,null,null,{"$f":"TRIM(Data!U524)","v":"0"},null,{"$f":"TRIM(Data!V524)","v":"0"},{"$f":"TRIM(Data!W524)","v":"0"},{"$f":"TRIM(Data!X524)","v":"0"},{"$f":"TRIM(Data!Y524)","v":"0"},{"$f":"TRIM(Data!Z524)","v":"0"},{"$f":"TRIM(Data!AA524)","v":"0"},625,"1 Dec 2024 to 31 Dec 2024","ST. PAUL'S HOSPITAL","SPH","PH","5156724947","ADR","3","SPH HIS","Local System","25","0","0","2","23","","0","0","0","0","2","0.08","2","0","0","2","0","0","","23","0.92","0","0","0","0","0","0","0","0"]
["1 Dec 2024 to 31 Dec 20243098159131OBS","1 Dec 2024 to 31 Dec 2024","HOSPITAL AUTHORITY","HA","HA",3098159131,"OBS",3,"Enterprise Application Integration (EAI)","Local System",42709,28,0,0,42681,null,28,6.5559952234891942E-4,28,0,0,0,0,0,0,0,0,0,null,42681,0.99934440047765105,0,0,0,0,0,0,0,0,"","","Y","1 Dec 2024 to 31 Dec 20246758313621ENCTR",{"$f":"Data!A527","v":"2024-12-01"},{"$f":"TRIM(Data!B527)","v":"18 CHINESE MEDICINE CLINIC CUM TRAINING AND RESEARCH CENTRE (POK OI HOSPITAL)"},null,{"$f":"TRIM(Data!C527)","v":"NGO"},{"$f":"TRIM(Data!D527)","v":"6758313621"},{"$f":"TRIM(Data!E527)","v":"ENCTR"},{"$f":"TRIM(Data!F527)","v":"3"},{"$f":"TRIM(Data!G527)","v":"HA CMIS"},{"$f":"TRIM(Data!H527)","v":"Local System"},{"$f":"TRIM(Data!I527)","v":"2520"},{"$f":"TRIM(Data!J527)","v":"0"},{"$f":"TRIM(Data!K527)","v":"0"},{"$f":"TRIM(Data!L527)","v":"0"},{"$f":"TRIM(Data!M527)","v":"2520"},null,null,null,{"$f":"TRIM(Data!N527)","v":"0"},{"$f":"TRIM(Data!O527)","v":"0"},{"$f":"TRIM(Data!P527)","v":"0"},null,{"$f":"TRIM(Data!Q527)","v":"0"},null,null,{"$f":"TRIM(Data!R527)","v":"0"},{"$f":"TRIM(Data!S527)","v":"0"},{"$f":"TRIM(Data!T527)","v":"0"},null,null,null,{"$f":"TRIM(Data!U527)","v":"0"},null,{"$f":"TRIM(Data!V527)","v":"0"},{"$f":"TRIM(Data!W527)","v":"0"},{"$f":"TRIM(Data!X527)","v":"0"},{"$f":"TRIM(Data!Y527)","v":"0"},{"$f":"TRIM(Data!Z527)","v":"0"},{"$f":"TRIM(Data!AA527)","v":"0"},723,"1 Dec 2024 to 31 Dec 2024","18 Chinese Medicine Clinic cum Traing and Research Centre (Pok Oi Hospital)","18CMCTRs (POH)","NGO","6758313621","ENCTR","3","Local System","Local System","2520","0","0","0","2520","","0","0","0","0","0","0","0","0","0","0","0","0","","2520","1","0","0","0","0","0","0","0","0"]
["1 Dec 2024 to 31 Dec 20243098159131RAD","1 Dec 2024 to 31 Dec 2024","HOSPITAL AUTHORITY","HA","HA",3098159131,"RAD",3,"Enterprise Application Integration (EAI)","Local System",745535,0,0,0,745535,null,0,0,0,0,0,0,0,0,0,0,0,0,null,745535,1,0,0,0,0,0,0,0,0,"","","Y","1 Dec 2024 to 31 Dec 20249421690548ENCTR",{"$f":"Data!A530","v":"2024-12-01"},{"$f":"TRIM(Data!B530)","v":"DHC EXPRESS-WAN CHAI (MC)"},null,{"$f":"TRIM(Data!C530)","v":"DHC"},{"$f":"TRIM(Data!D530)","v":"9421690548"},{"$f":"TRIM(Data!E530)","v":"ENCTR"},{"$f":"TRIM(Data!F530)","v":"3"},{"$f":"TRIM(Data!G530)","v":"DHCCMS"},{"$f":"TRIM(Data!H530)","v":"Local System"},{"$f":"TRIM(Data!I530)","v":"5024"},{"$f":"TRIM(Data!J530)","v":"0"},{"$f":"TRIM(Data!K530)","v":"0"},{"$f":"TRIM(Data!L530)","v":"0"},{"$f":"TRIM(Data!M530)","v":"5024"},null,null,null,{"$f":"TRIM(Data!N530)","v":"0"},{"$f":"TRIM(Data!O530)","v":"0"},{"$f":"TRIM(Data!P530)","v":"0"},null,{"$f":"TRIM(Data!Q530)","v":"0"},null,null,{"$f":"TRIM(Data!R530)","v":"0"},{"$f":"TRIM(Data!S530)","v":"0"},{"$f":"TRIM(Data!T530)","v":"0"},null,null,null,{"$f":"TRIM(Data!U530)","v":"0"},null,{"$f":"TRIM(Data!V530)","v":"0"},{"$f":"TRIM(Data!W530)","v":"0"},{"$f":"TRIM(Data!X530)","v":"0"},{"$f":"TRIM(Data!Y530)","v":"0"},{"$f":"TRIM(Data!Z530)","v":"0"},{"$f":"TRIM(Data!AA530)","v":"0"},857,"1 Dec 2024 to 31 Dec 2024","DHC EXPRESS-WAN CHAI (MC)","DHC EXPRESS-WAN CHAI-CC","DHC","9421690548","ENCTR","3","Local System","Local System","5024","0","0","0","5024","","0","0","0","0","0","0","0","0","0","0","0","0","","5024","1","0","0","0","0","0","0","0","0"]
["1 Dec 2024 to 31 Dec 20243098159131REF","1 Dec 2024 to 31 Dec 2024","HOSPITAL AUTHORITY","HA","HA",3098159131,"REF",1,"Enterprise Application Integration (EAI)","Local System",173041,158,172883,0,0,null,158,9.1307840338416906E-4,158,0,0,0,0,0,0,0,0,0,null,0,0,0,0,0,0,0,0,0,0,"","","Y","1 Dec 2024 to 31 Dec 20249421690548EPIS",{"$f":"Data!A531","v":"2024-12-01"},{"$f":"TRIM(Data!B531)","v":"DHC EXPRESS-WAN CHAI (MC)"},null,{"$f":"TRIM(Data!C531)","v":"DHC"},{"$f":"TRIM(Data!D531)","v":"9421690548"},{"$f":"TRIM(Data!E531)","v":"EPIS"},{"$f":"TRIM(Data!F531)","v":"1"},{"$f":"TRIM(Data!G531)","v":"DHCCMS"},{"$f":"TRIM(Data!H531)","v":"Local System"},{"$f":"TRIM(Data!I531)","v":"1348"},{"$f":"TRIM(Data!J531)","v":"0"},{"$f":"TRIM(Data!K531)","v":"1348"},{"$f":"TRIM(Data!L531)","v":"0"},{"$f":"TRIM(Data!M531)","v":"0"},null,null,null,{"$f":"TRIM(Data!N531)","v":"0"},{"$f":"TRIM(Data!O531)","v":"0"},{"$f":"TRIM(Data!P531)","v":"0"},null,{"$f":"TRIM(Data!Q531)","v":"0"},null,null,{"$f":"TRIM(Data!R531)","v":"0"},{"$f":"TRIM(Data!S531)","v":"0"},{"$f":"TRIM(Data!T531)","v":"0"},null,null,null,{"$f":"TRIM(Data!U531)","v":"0"},null,{"$f":"TRIM(Data!V531)","v":"0"},{"$f":"TRIM(Data!W531)","v":"0"},{"$f":"TRIM(Data!X531)","v":"0"},{"$f":"TRIM(Data!Y531)","v":"0"},{"$f":"TRIM(Data!Z531)","v":"0"},{"$f":"TRIM(Data!AA531)","v":"0"},858,"1 Dec 2024 to 31 Dec 2024","DHC EXPRESS-WAN CHAI (MC)","DHC EXPRESS-WAN CHAI-CC","DHC","9421690548","EPIS","1","Local System","Local System","1348","0","1348","0","0","","0","0","0","0","0","0","0","0","0","0","0","0","","0","0","0","0","0","0","0","0","0","0"]
["1 Dec 2024 to 31 Dec 20243150524068LABGEN","1 Dec 2024 to 31 Dec 2024","KingMed Diagnostics (Hong Kong) Limited","KINGMED DIAGNOSTICS (HK)","GROUP",3150524068,"LABGEN",3,"Pathways Laboratory Information System","Local System",8336,0,1005,6811,520,null,0,0,0,0,6815,0.8175383877159309,6815,0,0,6811,4,0,null,520,6.2380038387715928E-2,0,0,0,0,0,0,0,0,"","","Y","1 Dec 2024 to 31 Dec 20245249502353ENCTR",{"$f":"Data!A534","v":"2024-12-01"},{"$f":"TRIM(Data!B534)","v":"18 CHINESE MEDICINE CLINIC CUM TRAINING AND RESEARCH CENTRE (TUNG WAH GROUP OF HOSPITALS)"},null,{"$f":"TRIM(Data!C534)","v":"NGO"},{"$f":"TRIM(Data!D534)","v":"5249502353"},{"$f":"TRIM(Data!E534)","v":"ENCTR"},{"$f":"TRIM(Data!F534)","v":"3"},{"$f":"TRIM(Data!G534)","v":"HA CMIS"},{"$f":"TRIM(Data!H534)","v":"Local System"},{"$f":"TRIM(Data!I534)","v":"2163"},{"$f":"TRIM(Data!J534)","v":"0"},{"$f":"TRIM(Data!K534)","v":"0"},{"$f":"TRIM(Data!L534)","v":"0"},{"$f":"TRIM(Data!M534)","v":"2163"},null,null,null,{"$f":"TRIM(Data!N534)","v":"0"},{"$f":"TRIM(Data!O534)","v":"0"},{"$f":"TRIM(Data!P534)","v":"0"},null,{"$f":"TRIM(Data!Q534)","v":"0"},null,null,{"$f":"TRIM(Data!R534)","v":"0"},{"$f":"TRIM(Data!S534)","v":"0"},{"$f":"TRIM(Data!T534)","v":"0"},null,null,null,{"$f":"TRIM(Data!U534)","v":"0"},null,{"$f":"TRIM(Data!V534)","v":"0"},{"$f":"TRIM(Data!W534)","v":"0"},{"$f":"TRIM(Data!X534)","v":"0"},{"$f":"TRIM(Data!Y534)","v":"0"},{"$f":"TRIM(Data!Z534)","v":"0"},{"$f":"TRIM(Data!AA534)","v":"0"},639,"1 Dec 2024 to 31 Dec 2024","18 Chinese Medicine Clinic cum Traing and Research Centre (Tung Wah Group of Hospital)","18CMCTRs(TWGHS)","NGO","5249502353","ENCTR","3","Local System","Local System","2163","0","0","0","2163","","0","0","0","0","0","0","0","0","0","0","0","0","","2163","1","0","0","0","0","0","0","0","0"]
["1 Dec 2024 to 31 Dec 20243226804803ENCTR","1 Dec 2024 to 31 Dec 2024","DR. LEUNG KIN KAY","DR. LEUNG KIN KAY","SOLO",3226804803,"ENCTR",3,"Local System","Local System",138,0,0,0,138,null,0,0,0,0,0,0,0,0,0,0,0,0,null,138,1,0,0,0,0,0,0,0,0,"","","Y","1 Dec 2024 to 31 Dec 20245249502353CMPX",{"$f":"Data!A536","v":"2024-12-01"},{"$f":"TRIM(Data!B536)","v":"18 CHINESE MEDICINE CLINIC CUM TRAINING AND RESEARCH CENTRE (TUNG WAH GROUP OF HOSPITALS)"},null,{"$f":"TRIM(Data!C536)","v":"NGO"},{"$f":"TRIM(Data!D536)","v":"5249502353"},{"$f":"TRIM(Data!E536)","v":"CMPX"},{"$f":"TRIM(Data!F536)","v":"3"},{"$f":"TRIM(Data!G536)","v":"HA CMIS"},{"$f":"TRIM(Data!H536)","v":"Local System"},{"$f":"TRIM(Data!I536)","v":"626"},{"$f":"TRIM(Data!J536)","v":"0"},{"$f":"TRIM(Data!K536)","v":"0"},{"$f":"TRIM(Data!L536)","v":"0"},{"$f":"TRIM(Data!M536)","v":"626"},null,null,null,{"$f":"TRIM(Data!N536)","v":"0"},{"$f":"TRIM(Data!O536)","v":"0"},{"$f":"TRIM(Data!P536)","v":"0"},null,{"$f":"TRIM(Data!Q536)","v":"0"},null,null,{"$f":"TRIM(Data!R536)","v":"0"},{"$f":"TRIM(Data!S536)","v":"0"},{"$f":"TRIM(Data!T536)","v":"0"},null,null,null,{"$f":"TRIM(Data!U536)","v":"0"},null,{"$f":"TRIM(Data!V536)","v":"0"},{"$f":"TRIM(Data!W536)","v":"0"},{"$f":"TRIM(Data!X536)","v":"0"},{"$f":"TRIM(Data!Y536)","v":"0"},{"$f":"TRIM(Data!Z536)","v":"0"},{"$f":"TRIM(Data!AA536)","v":"0"},637,"1 Dec 2024 to 31 Dec 2024","18 Chinese Medicine Clinic cum Traing and Research Centre (Tung Wah Group of Hospital)","18CMCTRs(TWGHS)","NGO","5249502353","CMPX","3","Local System","EC Connect","626","0","0","0","626","","0","0","0","0","0","0","0","0","0","0","0","0","","626","1","0","0","0","0","0","0","0","0"]
["1 Dec 2024 to 31 Dec 20243226804803RXD","1 Dec 2024 to 31 Dec 2024","DR. LEUNG KIN KAY","DR. LEUNG KIN KAY","SOLO",3226804803,"RXD",3,"Local System","Local System",98,0,0,21,77,null,0,0,0,0,0,0,0,0,0,0,0,0,null,77,0.7857142857142857,21,0.21428571428571427,0,0,0,21,0,0,"","","Y","1 Dec 2024 to 31 Dec 20243628187450ADR",{"$f":"Data!A539","v":"2024-12-01"},{"$f":"TRIM(Data!B539)","v":"DHC EXPRESS-SHA TIN (HKSR)"},null,{"$f":"TRIM(Data!C539)","v":"DHC"},{"$f":"TRIM(Data!D539)","v":"3628187450"},{"$f":"TRIM(Data!E539)","v":"ADR"},{"$f":"TRIM(Data!F539)","v":"3"},{"$f":"TRIM(Data!G539)","v":"DHCCMS"},{"$f":"TRIM(Data!H539)","v":"Local System"},{"$f":"TRIM(Data!I539)","v":"1"},{"$f":"TRIM(Data!J539)","v":"0"},{"$f":"TRIM(Data!K539)","v":"0"},{"$f":"TRIM(Data!L539)","v":"0"},{"$f":"TRIM(Data!M539)","v":"1"},null,null,null,{"$f":"TRIM(Data!N539)","v":"0"},{"$f":"TRIM(Data!O539)","v":"0"},{"$f":"TRIM(Data!P539)","v":"0"},null,{"$f":"TRIM(Data!Q539)","v":"0"},null,null,{"$f":"TRIM(Data!R539)","v":"0"},{"$f":"TRIM(Data!S539)","v":"0"},{"$f":"TRIM(Data!T539)","v":"0"},null,null,null,{"$f":"TRIM(Data!U539)","v":"0"},null,{"$f":"TRIM(Data!V539)","v":"0"},{"$f":"TRIM(Data!W539)","v":"0"},{"$f":"TRIM(Data!X539)","v":"0"},{"$f":"TRIM(Data!Y539)","v":"0"},{"$f":"TRIM(Data!Z539)","v":"0"},{"$f":"TRIM(Data!AA539)","v":"0"},567,"1 Dec 2024 to 31 Dec 2024","DHC EXPRESS-SHA TIN (HKSR)","DHC EXPRESS-SHA TIN-CC","DHC","3628187450","ADR","3","Local System","Local System","1","0","0","0","1","","0","0","0","0","0","0","0","0","0","0","0","0","","1","1","0","0","0","0","0","0","0","0"]
["1 Dec 2024 to 31 Dec 20243226804803RXO","1 Dec 2024 to 31 Dec 2024","DR. LEUNG KIN KAY","DR. LEUNG KIN KAY","SOLO",3226804803,"RXO",3,"Local System","Local System",105,0,0,22,83,null,0,0,0,0,0,0,0,0,0,0,0,0,null,83,0.79047619047619044,22,0.20952380952380953,0,0,0,22,0,0,"","","Y","1 Dec 2024 to 31 Dec 20243237753992ENCTR",{"$f":"Data!A540","v":"2024-12-01"},{"$f":"TRIM(Data!B540)","v":"18 CHINESE MEDICINE CLINIC CUM TRAINING AND RESEARCH CENTRE (HAVEN OF HOPE)"},null,{"$f":"TRIM(Data!C540)","v":"NGO"},{"$f":"TRIM(Data!D540)","v":"3237753992"},{"$f":"TRIM(Data!E540)","v":"ENCTR"},{"$f":"TRIM(Data!F540)","v":"3"},{"$f":"TRIM(Data!G540)","v":"HA CMIS"},{"$f":"TRIM(Data!H540)","v":"Local System"},{"$f":"TRIM(Data!I540)","v":"2178"},{"$f":"TRIM(Data!J540)","v":"0"},{"$f":"TRIM(Data!K540)","v":"0"},{"$f":"TRIM(Data!L540)","v":"0"},{"$f":"TRIM(Data!M540)","v":"2178"},null,null,null,{"$f":"TRIM(Data!N540)","v":"0"},{"$f":"TRIM(Data!O540)","v":"0"},{"$f":"TRIM(Data!P540)","v":"0"},null,{"$f":"TRIM(Data!Q540)","v":"0"},null,null,{"$f":"TRIM(Data!R540)","v":"0"},{"$f":"TRIM(Data!S540)","v":"0"},{"$f":"TRIM(Data!T540)","v":"0"},null,null,null,{"$f":"TRIM(Data!U540)","v":"0"},null,{"$f":"TRIM(Data!V540)","v":"0"},{"$f":"TRIM(Data!W540)","v":"0"},{"$f":"TRIM(Data!X540)","v":"0"},{"$f":"TRIM(Data!Y540)","v":"0"},{"$f":"TRIM(Data!Z540)","v":"0"},{"$f":"TRIM(Data!AA540)","v":"0"},551,"1 Dec 2024 to 31 Dec 2024","18 Chinese Medicine Clinic cum Traing and Research Centre (Haven of Hope)","18CMCTRs(HOHCS)","NGO","3237753992","ENCTR","3","Local System","Local System","2178","0","0","0","2178","","0","0","0","0","0","0","0","0","0","0","0","0","","2178","1","0","0","0","0","0","0","0","0"]
["1 Dec 2024 to 31 Dec 20243237753992CMPX","1 Dec 2024 to 31 Dec 2024","18 Chinese Medicine Clinic cum Traing and Research Centre (Haven of Hope)","18CMCTRs(HOHCS)","NGO",3237753992,"CMPX",3,"Local System","EC Connect",286,0,0,0,286,null,0,0,0,0,0,0,0,0,0,0,0,0,null,286,1,0,0,0,0,0,0,0,0,"","","Y","1 Dec 2024 to 31 Dec 20243237753992CMRXO",{"$f":"Data!A542","v":"2024-12-01"},{"$f":"TRIM(Data!B542)","v":"18 CHINESE MEDICINE CLINIC CUM TRAINING AND RESEARCH CENTRE (HAVEN OF HOPE)"},null,{"$f":"TRIM(Data!C542)","v":"NGO"},{"$f":"TRIM(Data!D542)","v":"3237753992"},{"$f":"TRIM(Data!E542)","v":"CMRXO"},{"$f":"TRIM(Data!F542)","v":"3"},{"$f":"TRIM(Data!G542)","v":"HA CMIS"},{"$f":"TRIM(Data!H542)","v":"Local System"},{"$f":"TRIM(Data!I542)","v":"1106"},{"$f":"TRIM(Data!J542)","v":"0"},{"$f":"TRIM(Data!K542)","v":"0"},{"$f":"TRIM(Data!L542)","v":"293"},{"$f":"TRIM(Data!M542)","v":"813"},null,null,null,{"$f":"TRIM(Data!N542)","v":"0"},{"$f":"TRIM(Data!O542)","v":"0"},{"$f":"TRIM(Data!P542)","v":"293"},null,{"$f":"TRIM(Data!Q542)","v":"293"},null,null,{"$f":"TRIM(Data!R542)","v":"293"},{"$f":"TRIM(Data!S542)","v":"0"},{"$f":"TRIM(Data!T542)","v":"0"},null,null,null,{"$f":"TRIM(Data!U542)","v":"0"},null,{"$f":"TRIM(Data!V542)","v":"0"},{"$f":"TRIM(Data!W542)","v":"0"},{"$f":"TRIM(Data!X542)","v":"0"},{"$f":"TRIM(Data!Y542)","v":"0"},{"$f":"TRIM(Data!Z542)","v":"0"},{"$f":"TRIM(Data!AA542)","v":"0"},550,"1 Dec 2024 to 31 Dec 2024","18 Chinese Medicine Clinic cum Traing and Research Centre (Haven of Hope)","18CMCTRs(HOHCS)","NGO","3237753992","CMRXO","3","Local System","EC Connect","1106","0","0","293","813","","0","0","0","0","293","0.264918625678119","293","0","0","293","0","0","","813","0.735081374321881","0","0","0","0","0","0","0","0"]
["1 Dec 2024 to 31 Dec 20243425265108ENCTR","1 Dec 2024 to 31 Dec 2024","Choi Ying Medical Centre LTD","CHOI YING MEDICAL CTR LTD","SOLO",3425265108,"ENCTR",3,"ClinicSolution","Local System",145,0,0,0,145,null,0,0,0,0,0,0,0,0,0,0,0,0,null,145,1,0,0,0,0,0,0,0,0,"","","Y","1 Dec 2024 to 31 Dec 20243740691088ENCTR",{"$f":"Data!A545","v":"2024-12-01"},{"$f":"TRIM(Data!B545)","v":"18 CHINESE MEDICINE CLINIC CUM TRAINING AND RESEARCH CENTRE (UNITED CHRISTIAN NETHERSOLE COMMUNITY HEALTH SERVICE)"},null,{"$f":"TRIM(Data!C545)","v":"NGO"},{"$f":"TRIM(Data!D545)","v":"3740691088"},{"$f":"TRIM(Data!E545)","v":"ENCTR"},{"$f":"TRIM(Data!F545)","v":"3"},{"$f":"TRIM(Data!G545)","v":"HA CMIS"},{"$f":"TRIM(Data!H545)","v":"Local System"},{"$f":"TRIM(Data!I545)","v":"1850"},{"$f":"TRIM(Data!J545)","v":"0"},{"$f":"TRIM(Data!K545)","v":"0"},{"$f":"TRIM(Data!L545)","v":"0"},{"$f":"TRIM(Data!M545)","v":"1850"},null,null,null,{"$f":"TRIM(Data!N545)","v":"0"},{"$f":"TRIM(Data!O545)","v":"0"},{"$f":"TRIM(Data!P545)","v":"0"},null,{"$f":"TRIM(Data!Q545)","v":"0"},null,null,{"$f":"TRIM(Data!R545)","v":"0"},{"$f":"TRIM(Data!S545)","v":"0"},{"$f":"TRIM(Data!T545)","v":"0"},null,null,null,{"$f":"TRIM(Data!U545)","v":"0"},null,{"$f":"TRIM(Data!V545)","v":"0"},{"$f":"TRIM(Data!W545)","v":"0"},{"$f":"TRIM(Data!X545)","v":"0"},{"$f":"TRIM(Data!Y545)","v":"0"},{"$f":"TRIM(Data!Z545)","v":"0"},{"$f":"TRIM(Data!AA545)","v":"0"},580,"1 Dec 2024 to 31 Dec 2024","18 Chinese Medicine Clinic cum Traing and Research Centre (United Christian Nethersole Community Health Service)","18CMCTRs (UCN)","NGO","3740691088","ENCTR","3","Local System","Local System","1850","0","0","0","1850","","0","0","0","0","0","0","0","0","0","0","0","0","","1850","1","0","0","0","0","0","0","0","0"]
["1 Dec 2024 to 31 Dec 20243425265108RXO","1 Dec 2024 to 31 Dec 2024","Choi Ying Medical Centre LTD","CHOI YING MEDICAL CTR LTD","SOLO",3425265108,"RXO",2,"ClinicSolution","Local System",638,0,0,638,0,null,0,0,0,0,0,0,0,0,0,0,0,0,null,0,0,0,0,0,0,0,0,0,0,"","","","1 Dec 2024 to 31 Dec 20245712620300RAD",{"$f":"Data!A548","v":"2024-12-01"},{"$f":"TRIM(Data!B548)","v":"UNION HOSPITAL"},null,{"$f":"TRIM(Data!C548)","v":"PH"},{"$f":"TRIM(Data!D548)","v":"5712620300"},{"$f":"TRIM(Data!E548)","v":"RAD"},{"$f":"TRIM(Data!F548)","v":"3"},{"$f":"TRIM(Data!G548)","v":"UHLAAM"},{"$f":"TRIM(Data!H548)","v":"Local System"},{"$f":"TRIM(Data!I548)","v":"3392"},{"$f":"TRIM(Data!J548)","v":"0"},{"$f":"TRIM(Data!K548)","v":"0"},{"$f":"TRIM(Data!L548)","v":"0"},{"$f":"TRIM(Data!M548)","v":"3392"},null,null,null,{"$f":"TRIM(Data!N548)","v":"0"},{"$f":"TRIM(Data!O548)","v":"0"},{"$f":"TRIM(Data!P548)","v":"0"},null,{"$f":"TRIM(Data!Q548)","v":"0"},null,null,{"$f":"TRIM(Data!R548)","v":"0"},{"$f":"TRIM(Data!S548)","v":"0"},{"$f":"TRIM(Data!T548)","v":"0"},null,null,null,{"$f":"TRIM(Data!U548)","v":"0"},null,{"$f":"TRIM(Data!V548)","v":"0"},{"$f":"TRIM(Data!W548)","v":"0"},{"$f":"TRIM(Data!X548)","v":"0"},{"$f":"TRIM(Data!Y548)","v":"0"},{"$f":"TRIM(Data!Z548)","v":"0"},{"$f":"TRIM(Data!AA548)","v":"0"},666,"1 Dec 2024 to 31 Dec 2024","UNION HOSPITAL","UNION HOSPITAL","PH","5712620300","RAD","3","UHLAAM","Local System","3392","0","0","0","3392","","0","0","0","0","0","0","0","0","0","0","0","0","","3392","1","0","0","0","0","0","0","0","0"]
["1 Dec 2024 to 31 Dec 20243426117536RAD","1 Dec 2024 to 31 Dec 2024","INSTA MELAB MRI CENTRE LIMITED","INSTA MELAB MRI CTR LTD","GROUP",3426117536,"RAD",3,"RIS(LAAM for Insta MedLab PRD)","Local System",66,0,0,0,66,null,0,0,0,0,0,0,0,0,0,0,0,0,null,66,1,0,0,0,0,0,0,0,0,"","","Y","1 Dec 2024 to 31 Dec 20245712620300AL1",{"$f":"Data!A549","v":"2024-12-01"},{"$f":"TRIM(Data!B549)","v":"UNION HOSPITAL"},null,{"$f":"TRIM(Data!C549)","v":"PH"},{"$f":"TRIM(Data!D549)","v":"5712620300"},{"$f":"TRIM(Data!E549)","v":"AL1"},{"$f":"TRIM(Data!F549)","v":"3"},{"$f":"TRIM(Data!G549)","v":"UHLAAM"},{"$f":"TRIM(Data!H549)","v":"Adaptation"},{"$f":"TRIM(Data!I549)","v":"1265"},{"$f":"TRIM(Data!J549)","v":"0"},{"$f":"TRIM(Data!K549)","v":"0"},{"$f":"TRIM(Data!L549)","v":"278"},{"$f":"TRIM(Data!M549)","v":"987"},null,null,null,{"$f":"TRIM(Data!N549)","v":"0"},{"$f":"TRIM(Data!O549)","v":"0"},{"$f":"TRIM(Data!P549)","v":"265"},null,{"$f":"TRIM(Data!Q549)","v":"265"},null,null,{"$f":"TRIM(Data!R549)","v":"265"},{"$f":"TRIM(Data!S549)","v":"0"},{"$f":"TRIM(Data!T549)","v":"0"},null,null,null,{"$f":"TRIM(Data!U549)","v":"0"},null,{"$f":"TRIM(Data!V549)","v":"0"},{"$f":"TRIM(Data!W549)","v":"0"},{"$f":"TRIM(Data!X549)","v":"0"},{"$f":"TRIM(Data!Y549)","v":"0"},{"$f":"TRIM(Data!Z549)","v":"0"},{"$f":"TRIM(Data!AA549)","v":"0"},662,"1 Dec 2024 to 31 Dec 2024","UNION HOSPITAL","UNION HOSPITAL","PH","5712620300","AL1","3","UHLAAM","Local System","1265","0","0","278","987","","0","0","0","0","265","0.209486166007905","265","0","0","265","0","0","","987","0.780237154150198","0","0","0","0","0","0","0","0"]
["1 Dec 2024 to 31 Dec 20243499048393PROB","1 Dec 2024 to 31 Dec 2024","208 Medical Centre","208 MEDICAL CENTRE","SOLO",3499048393,"PROB",3,"ClinicSolution","Local System",317,22,0,295,0,null,22,6.9400630914826497E-2,22,0,295,0.93059936908517349,295,0,0,295,0,0,null,0,0,0,0,0,0,0,0,0,0,"","","Y","1 Dec 2024 to 31 Dec 20245712620300ADR",{"$f":"Data!A552","v":"2024-12-01"},{"$f":"TRIM(Data!B552)","v":"UNION HOSPITAL"},null,{"$f":"TRIM(Data!C552)","v":"PH"},{"$f":"TRIM(Data!D552)","v":"5712620300"},{"$f":"TRIM(Data!E552)","v":"ADR"},{"$f":"TRIM(Data!F552)","v":"3"},{"$f":"TRIM(Data!G552)","v":"UHLAAM"},{"$f":"TRIM(Data!H552)","v":"Adaptation"},{"$f":"TRIM(Data!I552)","v":"39"},{"$f":"TRIM(Data!J552)","v":"0"},{"$f":"TRIM(Data!K552)","v":"0"},{"$f":"TRIM(Data!L552)","v":"6"},{"$f":"TRIM(Data!M552)","v":"33"},null,null,null,{"$f":"TRIM(Data!N552)","v":"0"},{"$f":"TRIM(Data!O552)","v":"0"},{"$f":"TRIM(Data!P552)","v":"6"},null,{"$f":"TRIM(Data!Q552)","v":"6"},null,null,{"$f":"TRIM(Data!R552)","v":"6"},{"$f":"TRIM(Data!S552)","v":"0"},{"$f":"TRIM(Data!T552)","v":"0"},null,null,null,{"$f":"TRIM(Data!U552)","v":"0"},null,{"$f":"TRIM(Data!V552)","v":"0"},{"$f":"TRIM(Data!W552)","v":"0"},{"$f":"TRIM(Data!X552)","v":"0"},{"$f":"TRIM(Data!Y552)","v":"0"},{"$f":"TRIM(Data!Z552)","v":"0"},{"$f":"TRIM(Data!AA552)","v":"0"},661,"1 Dec 2024 to 31 Dec 2024","UNION HOSPITAL","UNION HOSPITAL","PH","5712620300","ADR","3","UHLAAM","Local System","39","0","0","6","33","","0","0","0","0","6","0.153846153846154","6","0","0","6","0","0","","33","0.846153846153846","0","0","0","0","0","0","0","0"]
["1 Dec 2024 to 31 Dec 20243499048393RXO","1 Dec 2024 to 31 Dec 2024","208 Medical Centre","208 MEDICAL CENTRE","SOLO",3499048393,"RXO",2,"ClinicSolution","Local System",567,0,0,567,0,null,0,0,0,0,0,0,0,0,0,0,0,0,null,0,0,0,0,0,0,0,0,0,0,"","","","1 Dec 2024 to 31 Dec 20242548616569ENCTR",{"$f":"Data!A554","v":"2024-12-01"},{"$f":"TRIM(Data!B554)","v":"DHC EXPRESS-KOWLOON CITY (LOKSINTONG)"},null,{"$f":"TRIM(Data!C554)","v":"DHC"},{"$f":"TRIM(Data!D554)","v":"2548616569"},{"$f":"TRIM(Data!E554)","v":"ENCTR"},{"$f":"TRIM(Data!F554)","v":"3"},{"$f":"TRIM(Data!G554)","v":"DHCCMS"},{"$f":"TRIM(Data!H554)","v":"Local System"},{"$f":"TRIM(Data!I554)","v":"3178"},{"$f":"TRIM(Data!J554)","v":"0"},{"$f":"TRIM(Data!K554)","v":"0"},{"$f":"TRIM(Data!L554)","v":"0"},{"$f":"TRIM(Data!M554)","v":"3178"},null,null,null,{"$f":"TRIM(Data!N554)","v":"0"},{"$f":"TRIM(Data!O554)","v":"0"},{"$f":"TRIM(Data!P554)","v":"0"},null,{"$f":"TRIM(Data!Q554)","v":"0"},null,null,{"$f":"TRIM(Data!R554)","v":"0"},{"$f":"TRIM(Data!S554)","v":"0"},{"$f":"TRIM(Data!T554)","v":"0"},null,null,null,{"$f":"TRIM(Data!U554)","v":"0"},null,{"$f":"TRIM(Data!V554)","v":"0"},{"$f":"TRIM(Data!W554)","v":"0"},{"$f":"TRIM(Data!X554)","v":"0"},{"$f":"TRIM(Data!Y554)","v":"0"},{"$f":"TRIM(Data!Z554)","v":"0"},{"$f":"TRIM(Data!AA554)","v":"0"},509,"1 Dec 2024 to 31 Dec 2024","DHC EXPRESS-KOWLOON CITY (LOKSINTONG)","DHC EXPRESS-KC-CC","DHC","2548616569","ENCTR","3","DHCCMS","Local System","3178","0","0","0","3178","","0","0","0","0","0","0","0","0","0","0","0","0","","3178","1","0","0","0","0","0","0","0","0"]
["1 Dec 2024 to 31 Dec 20243545073904RXD","1 Dec 2024 to 31 Dec 2024","CLEARBRIDGE MEDICAL CENTER","CLEARBRIDGE MEDICAL","SOLO",3545073904,"RXD",2,"ClinicSolution","Local System",25,0,0,25,0,null,0,0,0,0,0,0,0,0,0,0,0,0,null,0,0,0,0,0,0,0,0,0,0,"","","","1 Dec 2024 to 31 Dec 20242206285885RAD",{"$f":"Data!A557","v":"2024-12-01"},{"$f":"TRIM(Data!B557)","v":"EVANGEL HOSPITAL"},null,{"$f":"TRIM(Data!C557)","v":"PH"},{"$f":"TRIM(Data!D557)","v":"2206285885"},{"$f":"TRIM(Data!E557)","v":"RAD"},{"$f":"TRIM(Data!F557)","v":"3"},{"$f":"TRIM(Data!G557)","v":"HMS"},{"$f":"TRIM(Data!H557)","v":"Local System"},{"$f":"TRIM(Data!I557)","v":"549"},{"$f":"TRIM(Data!J557)","v":"0"},{"$f":"TRIM(Data!K557)","v":"0"},{"$f":"TRIM(Data!L557)","v":"0"},{"$f":"TRIM(Data!M557)","v":"549"},null,null,null,{"$f":"TRIM(Data!N557)","v":"0"},{"$f":"TRIM(Data!O557)","v":"0"},{"$f":"TRIM(Data!P557)","v":"0"},null,{"$f":"TRIM(Data!Q557)","v":"0"},null,null,{"$f":"TRIM(Data!R557)","v":"0"},{"$f":"TRIM(Data!S557)","v":"0"},{"$f":"TRIM(Data!T557)","v":"0"},null,null,null,{"$f":"TRIM(Data!U557)","v":"0"},null,{"$f":"TRIM(Data!V557)","v":"0"},{"$f":"TRIM(Data!W557)","v":"0"},{"$f":"TRIM(Data!X557)","v":"0"},{"$f":"TRIM(Data!Y557)","v":"0"},{"$f":"TRIM(Data!Z557)","v":"0"},{"$f":"TRIM(Data!AA557)","v":"0"},473,"1 Dec 2024 to 31 Dec 2024","EVANGEL HOSPITAL","EVANGEL HOSPITAL","PH","2206285885","RAD","3","HMS","Local System","549","0","0","0","549","","0","0","0","0","0","0","0","0","0","0","0","0","","549","1","0","0","0","0","0","0","0","0"]
["1 Dec 2024 to 31 Dec 20243545073904RXO","1 Dec 2024 to 31 Dec 2024","CLEARBRIDGE MEDICAL CENTER","CLEARBRIDGE MEDICAL","SOLO",3545073904,"RXO",2,"ClinicSolution","Local System",25,0,0,25,0,null,0,0,0,0,0,0,0,0,0,0,0,0,null,0,0,0,0,0,0,0,0,0,0,"","","","1 Dec 2024 to 31 Dec 20242206285885AL1",{"$f":"Data!A558","v":"2024-12-01"},{"$f":"TRIM(Data!B558)","v":"EVANGEL HOSPITAL"},null,{"$f":"TRIM(Data!C558)","v":"PH"},{"$f":"TRIM(Data!D558)","v":"2206285885"},{"$f":"TRIM(Data!E558)","v":"AL1"},{"$f":"TRIM(Data!F558)","v":"3"},{"$f":"TRIM(Data!G558)","v":"HMS"},{"$f":"TRIM(Data!H558)","v":"Local System"},{"$f":"TRIM(Data!I558)","v":"157"},{"$f":"TRIM(Data!J558)","v":"0"},{"$f":"TRIM(Data!K558)","v":"0"},{"$f":"TRIM(Data!L558)","v":"79"},{"$f":"TRIM(Data!M558)","v":"78"},null,null,null,{"$f":"TRIM(Data!N558)","v":"0"},{"$f":"TRIM(Data!O558)","v":"0"},{"$f":"TRIM(Data!P558)","v":"79"},null,{"$f":"TRIM(Data!Q558)","v":"79"},null,null,{"$f":"TRIM(Data!R558)","v":"79"},{"$f":"TRIM(Data!S558)","v":"0"},{"$f":"TRIM(Data!T558)","v":"0"},null,null,null,{"$f":"TRIM(Data!U558)","v":"0"},null,{"$f":"TRIM(Data!V558)","v":"0"},{"$f":"TRIM(Data!W558)","v":"0"},{"$f":"TRIM(Data!X558)","v":"0"},{"$f":"TRIM(Data!Y558)","v":"0"},{"$f":"TRIM(Data!Z558)","v":"0"},{"$f":"TRIM(Data!AA558)","v":"0"},471,"1 Dec 2024 to 31 Dec 2024","EVANGEL HOSPITAL","EVANGEL HOSPITAL","PH","2206285885","AL1","3","HMS","Local System","157","0","0","79","78","","0","0","0","0","79","0.503184713375796","79","0","0","79","0","0","","78","0.496815286624204","0","0","0","0","0","0","0","0"]
["1 Dec 2024 to 31 Dec 20243628187450ADR","1 Dec 2024 to 31 Dec 2024","DHC EXPRESS-SHA TIN (HKSR)","DHC EXPRESS-SHA TIN-CC","DHC",3628187450,"ADR",3,"Local System","Local System",1,0,0,0,1,null,0,0,0,0,0,0,0,0,0,0,0,0,null,1,1,0,0,0,0,0,0,0,0,"","","","1 Dec 2024 to 31 Dec 20245189883789RAD",{"$f":"Data!A560","v":"2024-12-01"},{"$f":"TRIM(Data!B560)","v":"GLENEAGLES HONG KONG HOSPITAL"},null,{"$f":"TRIM(Data!C560)","v":"PH"},{"$f":"TRIM(Data!D560)","v":"5189883789"},{"$f":"TRIM(Data!E560)","v":"RAD"},{"$f":"TRIM(Data!F560)","v":"3"},{"$f":"TRIM(Data!G560)","v":"HMS"},{"$f":"TRIM(Data!H560)","v":"Local System"},{"$f":"TRIM(Data!I560)","v":"3237"},{"$f":"TRIM(Data!J560)","v":"0"},{"$f":"TRIM(Data!K560)","v":"0"},{"$f":"TRIM(Data!L560)","v":"0"},{"$f":"TRIM(Data!M560)","v":"3237"},null,null,null,{"$f":"TRIM(Data!N560)","v":"0"},{"$f":"TRIM(Data!O560)","v":"0"},{"$f":"TRIM(Data!P560)","v":"0"},null,{"$f":"TRIM(Data!Q560)","v":"0"},null,null,{"$f":"TRIM(Data!R560)","v":"0"},{"$f":"TRIM(Data!S560)","v":"0"},{"$f":"TRIM(Data!T560)","v":"0"},null,null,null,{"$f":"TRIM(Data!U560)","v":"0"},null,{"$f":"TRIM(Data!V560)","v":"0"},{"$f":"TRIM(Data!W560)","v":"0"},{"$f":"TRIM(Data!X560)","v":"0"},{"$f":"TRIM(Data!Y560)","v":"0"},{"$f":"TRIM(Data!Z560)","v":"0"},{"$f":"TRIM(Data!AA560)","v":"0"},631,"1 Dec 2024 to 31 Dec 2024","Gleneagles Hong Kong Hospital","GHK HOSPITAL LIMITED","PH","5189883789","RAD","3","HMS","Local System","3237","0","0","0","3237","","0","0","0","0","0","0","0","0","0","0","0","0","","3237","1","0","0","0","0","0","0","0","0"]
["1 Dec 2024 to 31 Dec 20243650324540AL1","1 Dec 2024 to 31 Dec 2024","HONG KONG BAPTIST HOSPITAL","HK BAPTIST HOSPITAL","PH",3650324540,"AL1",3,"Trakcare","Local System",1804,1,0,1123,680,null,1,5.5432372505543237E-4,1,0,1108,0.61419068736141902,1108,0,0,1108,0,0,null,680,0.37694013303769403,0,0,0,0,0,0,0,0,"","","Y","1 Dec 2024 to 31 Dec 20246678116401EPIS",{"$f":"Data!A563","v":"2024-12-01"},{"$f":"TRIM(Data!B563)","v":"DHC EXPRESS-NORTH (YWCA)"},null,{"$f":"TRIM(Data!C563)","v":"DHC"},{"$f":"TRIM(Data!D563)","v":"6678116401"},{"$f":"TRIM(Data!E563)","v":"EPIS"},{"$f":"TRIM(Data!F563)","v":"1"},{"$f":"TRIM(Data!G563)","v":"DHCCMS"},{"$f":"TRIM(Data!H563)","v":"Local System"},{"$f":"TRIM(Data!I563)","v":"1288"},{"$f":"TRIM(Data!J563)","v":"0"},{"$f":"TRIM(Data!K563)","v":"1288"},{"$f":"TRIM(Data!L563)","v":"0"},{"$f":"TRIM(Data!M563)","v":"0"},null,null,null,{"$f":"TRIM(Data!N563)","v":"0"},{"$f":"TRIM(Data!O563)","v":"0"},{"$f":"TRIM(Data!P563)","v":"0"},null,{"$f":"TRIM(Data!Q563)","v":"0"},null,null,{"$f":"TRIM(Data!R563)","v":"0"},{"$f":"TRIM(Data!S563)","v":"0"},{"$f":"TRIM(Data!T563)","v":"0"},null,null,null,{"$f":"TRIM(Data!U563)","v":"0"},null,{"$f":"TRIM(Data!V563)","v":"0"},{"$f":"TRIM(Data!W563)","v":"0"},{"$f":"TRIM(Data!X563)","v":"0"},{"$f":"TRIM(Data!Y563)","v":"0"},{"$f":"TRIM(Data!Z563)","v":"0"},{"$f":"TRIM(Data!AA563)","v":"0"},714,"1 Dec 2024 to 31 Dec 2024","DHC EXPRESS-NORTH (HKSR)","DHC EXPRESS-NORTH-CC","DHC","6678116401","EPIS","1","Local System","Local System","1288","0","1288","0","0","","0","0","0","0","0","0","0","0","0","0","0","0","","0","0","0","0","0","0","0","0","0","0"]
["1 Dec 2024 to 31 Dec 20243650324540LABMB","1 Dec 2024 to 31 Dec 2024","HONG KONG BAPTIST HOSPITAL","HK BAPTIST HOSPITAL","PH",3650324540,"LABMB",1,"Trakcare","Local System",2833,0,2833,0,0,null,0,0,0,0,0,0,0,0,0,0,0,0,null,0,0,0,0,0,0,0,0,0,0,"","","Y","1 Dec 2024 to 31 Dec 20246542377532ENCTR",{"$f":"Data!A566","v":"2024-12-01"},{"$f":"TRIM(Data!B566)","v":"DHC EXPRESS-EASTERN (HKSR)"},null,{"$f":"TRIM(Data!C566)","v":"DHC"},{"$f":"TRIM(Data!D566)","v":"6542377532"},{"$f":"TRIM(Data!E566)","v":"ENCTR"},{"$f":"TRIM(Data!F566)","v":"3"},{"$f":"TRIM(Data!G566)","v":"DHCCMS"},{"$f":"TRIM(Data!H566)","v":"Local System"},{"$f":"TRIM(Data!I566)","v":"2272"},{"$f":"TRIM(Data!J566)","v":"0"},{"$f":"TRIM(Data!K566)","v":"0"},{"$f":"TRIM(Data!L566)","v":"0"},{"$f":"TRIM(Data!M566)","v":"2272"},null,null,null,{"$f":"TRIM(Data!N566)","v":"0"},{"$f":"TRIM(Data!O566)","v":"0"},{"$f":"TRIM(Data!P566)","v":"0"},null,{"$f":"TRIM(Data!Q566)","v":"0"},null,null,{"$f":"TRIM(Data!R566)","v":"0"},{"$f":"TRIM(Data!S566)","v":"0"},{"$f":"TRIM(Data!T566)","v":"0"},null,null,null,{"$f":"TRIM(Data!U566)","v":"0"},null,{"$f":"TRIM(Data!V566)","v":"0"},{"$f":"TRIM(Data!W566)","v":"0"},{"$f":"TRIM(Data!X566)","v":"0"},{"$f":"TRIM(Data!Y566)","v":"0"},{"$f":"TRIM(Data!Z566)","v":"0"},{"$f":"TRIM(Data!AA566)","v":"0"},708,"1 Dec 2024 to 31 Dec 2024","DHC EXPRESS-EASTERN (HKSR)","DHC EXPRESS-EASTERN-CC","DHC","6542377532","ENCTR","3","Local System","Local System","2272","0","0","0","2272","","0","0","0","0","0","0","0","0","0","0","0","0","","2272","1","0","0","0","0","0","0","0","0"]
["1 Dec 2024 to 31 Dec 20243681219587IMMU","1 Dec 2024 to 31 Dec 2024","Department of Health COVID-19 Vaccination Programme","DH COVID-19 VACCINE PROG.","DH",3681219587,"IMMU",3,"Local System","Local System",40192,0,0,0,40192,null,0,0,0,0,0,0,0,0,0,0,0,0,null,40192,1,0,0,0,0,0,0,0,0,"","","Y","1 Dec 2024 to 31 Dec 20245832575528ENCTR",{"$f":"Data!A568","v":"2024-12-01"},{"$f":"TRIM(Data!B568)","v":"DHC EXPRESS-YAU TSIM MONG (LOKSINTONG)"},null,{"$f":"TRIM(Data!C568)","v":"DHC"},{"$f":"TRIM(Data!D568)","v":"5832575528"},{"$f":"TRIM(Data!E568)","v":"ENCTR"},{"$f":"TRIM(Data!F568)","v":"3"},{"$f":"TRIM(Data!G568)","v":"DHCCMS"},{"$f":"TRIM(Data!H568)","v":"Local System"},{"$f":"TRIM(Data!I568)","v":"2065"},{"$f":"TRIM(Data!J568)","v":"0"},{"$f":"TRIM(Data!K568)","v":"0"},{"$f":"TRIM(Data!L568)","v":"0"},{"$f":"TRIM(Data!M568)","v":"2065"},null,null,null,{"$f":"TRIM(Data!N568)","v":"0"},{"$f":"TRIM(Data!O568)","v":"0"},{"$f":"TRIM(Data!P568)","v":"0"},null,{"$f":"TRIM(Data!Q568)","v":"0"},null,null,{"$f":"TRIM(Data!R568)","v":"0"},{"$f":"TRIM(Data!S568)","v":"0"},{"$f":"TRIM(Data!T568)","v":"0"},null,null,null,{"$f":"TRIM(Data!U568)","v":"0"},null,{"$f":"TRIM(Data!V568)","v":"0"},{"$f":"TRIM(Data!W568)","v":"0"},{"$f":"TRIM(Data!X568)","v":"0"},{"$f":"TRIM(Data!Y568)","v":"0"},{"$f":"TRIM(Data!Z568)","v":"0"},{"$f":"TRIM(Data!AA568)","v":"0"},675,"1 Dec 2024 to 31 Dec 2024","DHC EXPRESS-YAU TSIM MONG (LOKSINTONG)","DHC EXPRESS-YTM-CC","DHC","5832575528","ENCTR","3","Local System","Local System","2065","0","0","0","2065","","0","0","0","0","0","0","0","0","0","0","0","0","","2065","1","0","0","0","0","0","0","0","0"]
["1 Dec 2024 to 31 Dec 20243740691088CMPX","1 Dec 2024 to 31 Dec 2024","18 Chinese Medicine Clinic cum Traing and Research Centre (United Christian Nethersole Community Health Service)","18CMCTRs (UCN)","NGO",3740691088,"CMPX",3,"Local System","EC Connect",449,0,0,0,449,null,0,0,0,0,0,0,0,0,0,0,0,0,null,449,1,0,0,0,0,0,0,0,0,"","","Y","1 Dec 2024 to 31 Dec 20247334960147EPIS",{"$f":"Data!A571","v":"2024-12-01"},{"$f":"TRIM(Data!B571)","v":"DHC EXPRESS-KWUN TONG (UCMS)"},null,{"$f":"TRIM(Data!C571)","v":"DHC"},{"$f":"TRIM(Data!D571)","v":"7334960147"},{"$f":"TRIM(Data!E571)","v":"EPIS"},{"$f":"TRIM(Data!F571)","v":"1"},{"$f":"TRIM(Data!G571)","v":"DHCCMS"},{"$f":"TRIM(Data!H571)","v":"Local System"},{"$f":"TRIM(Data!I571)","v":"1149"},{"$f":"TRIM(Data!J571)","v":"0"},{"$f":"TRIM(Data!K571)","v":"1149"},{"$f":"TRIM(Data!L571)","v":"0"},{"$f":"TRIM(Data!M571)","v":"0"},null,null,null,{"$f":"TRIM(Data!N571)","v":"0"},{"$f":"TRIM(Data!O571)","v":"0"},{"$f":"TRIM(Data!P571)","v":"0"},null,{"$f":"TRIM(Data!Q571)","v":"0"},null,null,{"$f":"TRIM(Data!R571)","v":"0"},{"$f":"TRIM(Data!S571)","v":"0"},{"$f":"TRIM(Data!T571)","v":"0"},null,null,null,{"$f":"TRIM(Data!U571)","v":"0"},null,{"$f":"TRIM(Data!V571)","v":"0"},{"$f":"TRIM(Data!W571)","v":"0"},{"$f":"TRIM(Data!X571)","v":"0"},{"$f":"TRIM(Data!Y571)","v":"0"},{"$f":"TRIM(Data!Z571)","v":"0"},{"$f":"TRIM(Data!AA571)","v":"0"},752,"1 Dec 2024 to 31 Dec 2024","DHC EXPRESS-KWUN TONG (UCMS)","DHC EXPRESS-KWUN TONG-CC","DHC","7334960147","EPIS","1","Local System","Local System","1149","0","1149","0","0","","0","0","0","0","0","0","0","0","0","0","0","0","","0","0","0","0","0","0","0","0","0","0"]
["1 Dec 2024 to 31 Dec 20243740691088CMRXO","1 Dec 2024 to 31 Dec 2024","18 Chinese Medicine Clinic cum Traing and Research Centre (United Christian Nethersole Community Health Service)","18CMCTRs (UCN)","NGO",3740691088,"CMRXO",3,"Local System","EC Connect",1168,0,0,394,774,null,0,0,0,0,394,0.33732876712328769,394,0,0,394,0,0,null,774,0.66267123287671237,0,0,0,0,0,0,0,0,"","","Y","1 Dec 2024 to 31 Dec 20246142872901ENCTR",{"$f":"Data!A572","v":"2024-12-01"},{"$f":"TRIM(Data!B572)","v":"DHC EXPRESS-ISLANDS (NAAC)"},null,{"$f":"TRIM(Data!C572)","v":"DHC"},{"$f":"TRIM(Data!D572)","v":"6142872901"},{"$f":"TRIM(Data!E572)","v":"ENCTR"},{"$f":"TRIM(Data!F572)","v":"3"},{"$f":"TRIM(Data!G572)","v":"DHCCMS"},{"$f":"TRIM(Data!H572)","v":"Local System"},{"$f":"TRIM(Data!I572)","v":"2390"},{"$f":"TRIM(Data!J572)","v":"0"},{"$f":"TRIM(Data!K572)","v":"0"},{"$f":"TRIM(Data!L572)","v":"0"},{"$f":"TRIM(Data!M572)","v":"2390"},null,null,null,{"$f":"TRIM(Data!N572)","v":"0"},{"$f":"TRIM(Data!O572)","v":"0"},{"$f":"TRIM(Data!P572)","v":"0"},null,{"$f":"TRIM(Data!Q572)","v":"0"},null,null,{"$f":"TRIM(Data!R572)","v":"0"},{"$f":"TRIM(Data!S572)","v":"0"},{"$f":"TRIM(Data!T572)","v":"0"},null,null,null,{"$f":"TRIM(Data!U572)","v":"0"},null,{"$f":"TRIM(Data!V572)","v":"0"},{"$f":"TRIM(Data!W572)","v":"0"},{"$f":"TRIM(Data!X572)","v":"0"},{"$f":"TRIM(Data!Y572)","v":"0"},{"$f":"TRIM(Data!Z572)","v":"0"},{"$f":"TRIM(Data!AA572)","v":"0"},688,"1 Dec 2024 to 31 Dec 2024","DHC EXPRESS-ISLANDS (NAAC)","DHC EXPRESS-ISLANDS-CC","DHC","6142872901","ENCTR","3","Local System","Local System","2390","0","0","0","2390","","0","0","0","0","0","0","0","0","0","0","0","0","","2390","1","0","0","0","0","0","0","0","0"]
["1 Dec 2024 to 31 Dec 20243747982882PX","1 Dec 2024 to 31 Dec 2024","VMC Healthcare Group Limited","VMC HEALTHCARE GROUP","SOLO",3747982882,"PX",3,"ClinicSolution","Local System",33,10,0,23,0,null,10,0.30303030303030304,10,0,23,0.69696969696969702,23,0,0,23,0,0,null,0,0,0,0,0,0,0,0,0,0,"","","Y","1 Dec 2024 to 31 Dec 20245528991274RXD",{"$f":"Data!A575","v":"2024-12-01"},{"$f":"TRIM(Data!B575)","v":"DR WONG CHUN POR"},null,{"$f":"TRIM(Data!C575)","v":"SOLO"},{"$f":"TRIM(Data!D575)","v":"5528991274"},{"$f":"TRIM(Data!E575)","v":"RXD"},{"$f":"TRIM(Data!F575)","v":"3,2"},{"$f":"TRIM(Data!G575)","v":"CMS On-ramp"},{"$f":"TRIM(Data!H575)","v":"CMS On-ramp"},{"$f":"TRIM(Data!I575)","v":"868"},{"$f":"TRIM(Data!J575)","v":"0"},{"$f":"TRIM(Data!K575)","v":"0"},{"$f":"TRIM(Data!L575)","v":"96"},{"$f":"TRIM(Data!M575)","v":"772"},null,null,null,{"$f":"TRIM(Data!N575)","v":"0"},{"$f":"TRIM(Data!O575)","v":"0"},{"$f":"TRIM(Data!P575)","v":"0"},null,{"$f":"TRIM(Data!Q575)","v":"0"},null,null,{"$f":"TRIM(Data!R575)","v":"0"},{"$f":"TRIM(Data!S575)","v":"0"},{"$f":"TRIM(Data!T575)","v":"0"},null,null,null,{"$f":"TRIM(Data!U575)","v":"0"},null,{"$f":"TRIM(Data!V575)","v":"0"},{"$f":"TRIM(Data!W575)","v":"0"},{"$f":"TRIM(Data!X575)","v":"0"},{"$f":"TRIM(Data!Y575)","v":"0"},{"$f":"TRIM(Data!Z575)","v":"0"},{"$f":"TRIM(Data!AA575)","v":"0"},656,"1 Dec 2024 to 31 Dec 2024","DR WONG CHUN POR","DR CP WONG CLINIC","SOLO","5528991274","RXD","3","Local System","Local System","868","0","0","96","772","","0","0","0","0","0","0","0","0","0","0","0","0","","772","0.889400921658986","0","0","0","0","0","0","0","0"]
["1 Dec 2024 to 31 Dec 20243923060878ENCTR","1 Dec 2024 to 31 Dec 2024","Confidence Medical Centre Limited","CONFIDENCE MEDICAL CTR","SOLO",3923060878,"ENCTR",3,"ClinicSolution","Local System",19,0,0,0,19,null,0,0,0,0,0,0,0,0,0,0,0,0,null,19,1,0,0,0,0,0,0,0,0,"","","Y","1 Dec 2024 to 31 Dec 20245528991274ENCTR",{"$f":"Data!A576","v":"2024-12-01"},{"$f":"TRIM(Data!B576)","v":"DR WONG CHUN POR"},null,{"$f":"TRIM(Data!C576)","v":"SOLO"},{"$f":"TRIM(Data!D576)","v":"5528991274"},{"$f":"TRIM(Data!E576)","v":"ENCTR"},{"$f":"TRIM(Data!F576)","v":"3"},{"$f":"TRIM(Data!G576)","v":"CMS On-ramp"},{"$f":"TRIM(Data!H576)","v":"CMS On-ramp"},{"$f":"TRIM(Data!I576)","v":"687"},{"$f":"TRIM(Data!J576)","v":"0"},{"$f":"TRIM(Data!K576)","v":"0"},{"$f":"TRIM(Data!L576)","v":"0"},{"$f":"TRIM(Data!M576)","v":"687"},null,null,null,{"$f":"TRIM(Data!N576)","v":"0"},{"$f":"TRIM(Data!O576)","v":"0"},{"$f":"TRIM(Data!P576)","v":"0"},null,{"$f":"TRIM(Data!Q576)","v":"0"},null,null,{"$f":"TRIM(Data!R576)","v":"0"},{"$f":"TRIM(Data!S576)","v":"0"},{"$f":"TRIM(Data!T576)","v":"0"},null,null,null,{"$f":"TRIM(Data!U576)","v":"0"},null,{"$f":"TRIM(Data!V576)","v":"0"},{"$f":"TRIM(Data!W576)","v":"0"},{"$f":"TRIM(Data!X576)","v":"0"},{"$f":"TRIM(Data!Y576)","v":"0"},{"$f":"TRIM(Data!Z576)","v":"0"},{"$f":"TRIM(Data!AA576)","v":"0"},653,"1 Dec 2024 to 31 Dec 2024","DR WONG CHUN POR","DR CP WONG CLINIC","SOLO","5528991274","ENCTR","3","Local System","Local System","687","0","0","0","687","","0","0","0","0","0","0","0","0","0","0","0","0","","687","1","0","0","0","0","0","0","0","0"]
["1 Dec 2024 to 31 Dec 20243955467232RXD","1 Dec 2024 to 31 Dec 2024","CHOW KAI LAI","CKL","SOLO",3955467232,"RXD",2,"ClinicSolution","Local System",20,0,0,20,0,null,0,0,0,0,0,0,0,0,0,0,0,0,null,0,0,0,0,0,0,0,0,0,0,"","","Y","1 Dec 2024 to 31 Dec 20245528991274AL1",{"$f":"Data!A580","v":"2024-12-01"},{"$f":"TRIM(Data!B580)","v":"DR WONG CHUN POR"},null,{"$f":"TRIM(Data!C580)","v":"SOLO"},{"$f":"TRIM(Data!D580)","v":"5528991274"},{"$f":"TRIM(Data!E580)","v":"AL1"},{"$f":"TRIM(Data!F580)","v":"3,2"},{"$f":"TRIM(Data!G580)","v":"CMS On-ramp"},{"$f":"TRIM(Data!H580)","v":"CMS On-ramp"},{"$f":"TRIM(Data!I580)","v":"1"},{"$f":"TRIM(Data!J580)","v":"0"},{"$f":"TRIM(Data!K580)","v":"0"},{"$f":"TRIM(Data!L580)","v":"0"},{"$f":"TRIM(Data!M580)","v":"1"},null,null,null,{"$f":"TRIM(Data!N580)","v":"0"},{"$f":"TRIM(Data!O580)","v":"0"},{"$f":"TRIM(Data!P580)","v":"0"},null,{"$f":"TRIM(Data!Q580)","v":"0"},null,null,{"$f":"TRIM(Data!R580)","v":"0"},{"$f":"TRIM(Data!S580)","v":"0"},{"$f":"TRIM(Data!T580)","v":"0"},null,null,null,{"$f":"TRIM(Data!U580)","v":"0"},null,{"$f":"TRIM(Data!V580)","v":"0"},{"$f":"TRIM(Data!W580)","v":"0"},{"$f":"TRIM(Data!X580)","v":"0"},{"$f":"TRIM(Data!Y580)","v":"0"},{"$f":"TRIM(Data!Z580)","v":"0"},{"$f":"TRIM(Data!AA580)","v":"0"},652,"1 Dec 2024 to 31 Dec 2024","DR WONG CHUN POR","DR CP WONG CLINIC","SOLO","5528991274","AL1","3","Local System","Local System","1","0","0","0","1","","0","0","0","0","0","0","0","0","0","0","0","0","","1","1","0","0","0","0","0","0","0","0"]
["1 Dec 2024 to 31 Dec 20243955467232RXO","1 Dec 2024 to 31 Dec 2024","CHOW KAI LAI","CKL","SOLO",3955467232,"RXO",2,"ClinicSolution","Local System",20,0,0,20,0,null,0,0,0,0,0,0,0,0,0,0,0,0,null,0,0,0,0,0,0,0,0,0,0,"","","Y","1 Dec 2024 to 31 Dec 20246255376532CMPROB",{"$f":"Data!A581","v":"2024-12-01"},{"$f":"TRIM(Data!B581)","v":"18 CHINESE MEDICINE CLINIC CUM TRAINING AND RESEARCH CENTRE (YAN CHAI HOSPITAL)"},null,{"$f":"TRIM(Data!C581)","v":"NGO"},{"$f":"TRIM(Data!D581)","v":"6255376532"},{"$f":"TRIM(Data!E581)","v":"CMPROB"},{"$f":"TRIM(Data!F581)","v":"3"},{"$f":"TRIM(Data!G581)","v":"HA CMIS"},{"$f":"TRIM(Data!H581)","v":"Local System"},{"$f":"TRIM(Data!I581)","v":"1194"},{"$f":"TRIM(Data!J581)","v":"0"},{"$f":"TRIM(Data!K581)","v":"0"},{"$f":"TRIM(Data!L581)","v":"261"},{"$f":"TRIM(Data!M581)","v":"933"},null,null,null,{"$f":"TRIM(Data!N581)","v":"0"},{"$f":"TRIM(Data!O581)","v":"0"},{"$f":"TRIM(Data!P581)","v":"145"},null,{"$f":"TRIM(Data!Q581)","v":"145"},null,null,{"$f":"TRIM(Data!R581)","v":"145"},{"$f":"TRIM(Data!S581)","v":"0"},{"$f":"TRIM(Data!T581)","v":"0"},null,null,null,{"$f":"TRIM(Data!U581)","v":"0"},null,{"$f":"TRIM(Data!V581)","v":"0"},{"$f":"TRIM(Data!W581)","v":"0"},{"$f":"TRIM(Data!X581)","v":"0"},{"$f":"TRIM(Data!Y581)","v":"0"},{"$f":"TRIM(Data!Z581)","v":"0"},{"$f":"TRIM(Data!AA581)","v":"0"},690,"1 Dec 2024 to 31 Dec 2024","18 Chinese Medicine Clinic cum Traing and Research Centre (Yan Chai Hospital)","18CMCTRs (YCH)","NGO","6255376532","CMPROB","3","Local System","EC Connect","1194","0","0","261","933","","0","0","0","0","145","0.1214405360134","145","0","0","145","0","0","","933","0.781407035175879","0","0","0","0","0","0","0","0"]
["1 Dec 2024 to 31 Dec 20244178262222LABAP","1 Dec 2024 to 31 Dec 2024","IPATH LABORATORY LIMITED","IPATH LABORATORY LIMITED","GROUP",4178262222,"LABAP",1,"Local System","Local System",132,0,132,0,0,null,0,0,0,0,0,0,0,0,0,0,0,0,null,0,0,0,0,0,0,0,0,0,0,"","","Y","1 Dec 2024 to 31 Dec 20246255376532CMPX",{"$f":"Data!A584","v":"2024-12-01"},{"$f":"TRIM(Data!B584)","v":"18 CHINESE MEDICINE CLINIC CUM TRAINING AND RESEARCH CENTRE (YAN CHAI HOSPITAL)"},null,{"$f":"TRIM(Data!C584)","v":"NGO"},{"$f":"TRIM(Data!D584)","v":"6255376532"},{"$f":"TRIM(Data!E584)","v":"CMPX"},{"$f":"TRIM(Data!F584)","v":"3"},{"$f":"TRIM(Data!G584)","v":"HA CMIS"},{"$f":"TRIM(Data!H584)","v":"Local System"},{"$f":"TRIM(Data!I584)","v":"149"},{"$f":"TRIM(Data!J584)","v":"0"},{"$f":"TRIM(Data!K584)","v":"0"},{"$f":"TRIM(Data!L584)","v":"0"},{"$f":"TRIM(Data!M584)","v":"149"},null,null,null,{"$f":"TRIM(Data!N584)","v":"0"},{"$f":"TRIM(Data!O584)","v":"0"},{"$f":"TRIM(Data!P584)","v":"0"},null,{"$f":"TRIM(Data!Q584)","v":"0"},null,null,{"$f":"TRIM(Data!R584)","v":"0"},{"$f":"TRIM(Data!S584)","v":"0"},{"$f":"TRIM(Data!T584)","v":"0"},null,null,null,{"$f":"TRIM(Data!U584)","v":"0"},null,{"$f":"TRIM(Data!V584)","v":"0"},{"$f":"TRIM(Data!W584)","v":"0"},{"$f":"TRIM(Data!X584)","v":"0"},{"$f":"TRIM(Data!Y584)","v":"0"},{"$f":"TRIM(Data!Z584)","v":"0"},{"$f":"TRIM(Data!AA584)","v":"0"},691,"1 Dec 2024 to 31 Dec 2024","18 Chinese Medicine Clinic cum Traing and Research Centre (Yan Chai Hospital)","18CMCTRs (YCH)","NGO","6255376532","CMPX","3","Local System","EC Connect","149","0","0","0","149","","0","0","0","0","0","0","0","0","0","0","0","0","","149","1","0","0","0","0","0","0","0","0"]
["1 Dec 2024 to 31 Dec 20244437392776ADR","1 Dec 2024 to 31 Dec 2024","DISTRICT HEALTH CENTRE-WONG TAI SIN (HKSKHWCL)","DHC-WONG TAI SIN","DHC",4437392776,"ADR",3,"Local System","Local System",1,0,0,0,1,null,0,0,0,0,0,0,0,0,0,0,0,0,null,1,1,0,0,0,0,0,0,0,0,"","","Y","1 Dec 2024 to 31 Dec 20247444819250EPIS",{"$f":"Data!A586","v":"2024-12-01"},{"$f":"TRIM(Data!B586)","v":"DHC EXPRESS-TAI PO (UCMS)"},null,{"$f":"TRIM(Data!C586)","v":"DHC"},{"$f":"TRIM(Data!D586)","v":"7444819250"},{"$f":"TRIM(Data!E586)","v":"EPIS"},{"$f":"TRIM(Data!F586)","v":"1"},{"$f":"TRIM(Data!G586)","v":"DHCCMS"},{"$f":"TRIM(Data!H586)","v":"Local System"},{"$f":"TRIM(Data!I586)","v":"1189"},{"$f":"TRIM(Data!J586)","v":"0"},{"$f":"TRIM(Data!K586)","v":"1189"},{"$f":"TRIM(Data!L586)","v":"0"},{"$f":"TRIM(Data!M586)","v":"0"},null,null,null,{"$f":"TRIM(Data!N586)","v":"0"},{"$f":"TRIM(Data!O586)","v":"0"},{"$f":"TRIM(Data!P586)","v":"0"},null,{"$f":"TRIM(Data!Q586)","v":"0"},null,null,{"$f":"TRIM(Data!R586)","v":"0"},{"$f":"TRIM(Data!S586)","v":"0"},{"$f":"TRIM(Data!T586)","v":"0"},null,null,null,{"$f":"TRIM(Data!U586)","v":"0"},null,{"$f":"TRIM(Data!V586)","v":"0"},{"$f":"TRIM(Data!W586)","v":"0"},{"$f":"TRIM(Data!X586)","v":"0"},{"$f":"TRIM(Data!Y586)","v":"0"},{"$f":"TRIM(Data!Z586)","v":"0"},{"$f":"TRIM(Data!AA586)","v":"0"},755,"1 Dec 2024 to 31 Dec 2024","DHC EXPRESS-TAI PO (UCMS)","DHC EXPRESS-TAI PO-CC","DHC","7444819250","EPIS","1","Local System","Local System","1189","0","1189","0","0","","0","0","0","0","0","0","0","0","0","0","0","0","","0","0","0","0","0","0","0","0","0","0"]
["1 Dec 2024 to 31 Dec 20244437392776EPIS","1 Dec 2024 to 31 Dec 2024","DISTRICT HEALTH CENTRE-WONG TAI SIN (HKSKHWCL)","DHC-WONG TAI SIN","DHC",4437392776,"EPIS",1,"Local System","Local System",8336,0,8336,0,0,null,0,0,0,0,0,0,0,0,0,0,0,0,null,0,0,0,0,0,0,0,0,0,0,"","","","1 Dec 2024 to 31 Dec 20247029571085RXD",{"$f":"Data!A589","v":"2024-12-01"},{"$f":"TRIM(Data!B589)","v":"HONG KONG ADVENTIST HOSPITAL - STUBBS ROAD"},null,{"$f":"TRIM(Data!C589)","v":"PH"},{"$f":"TRIM(Data!D589)","v":"7029571085"},{"$f":"TRIM(Data!E589)","v":"RXD"},{"$f":"TRIM(Data!F589)","v":"2"},{"$f":"TRIM(Data!G589)","v":"HKAHLAAM"},{"$f":"TRIM(Data!H589)","v":"Local System"},{"$f":"TRIM(Data!I589)","v":"734"},{"$f":"TRIM(Data!J589)","v":"0"},{"$f":"TRIM(Data!K589)","v":"0"},{"$f":"TRIM(Data!L589)","v":"734"},{"$f":"TRIM(Data!M589)","v":"0"},null,null,null,{"$f":"TRIM(Data!N589)","v":"0"},{"$f":"TRIM(Data!O589)","v":"0"},{"$f":"TRIM(Data!P589)","v":"0"},null,{"$f":"TRIM(Data!Q589)","v":"0"},null,null,{"$f":"TRIM(Data!R589)","v":"0"},{"$f":"TRIM(Data!S589)","v":"0"},{"$f":"TRIM(Data!T589)","v":"0"},null,null,null,{"$f":"TRIM(Data!U589)","v":"0"},null,{"$f":"TRIM(Data!V589)","v":"0"},{"$f":"TRIM(Data!W589)","v":"0"},{"$f":"TRIM(Data!X589)","v":"0"},{"$f":"TRIM(Data!Y589)","v":"0"},{"$f":"TRIM(Data!Z589)","v":"0"},{"$f":"TRIM(Data!AA589)","v":"0"},734,"1 Dec 2024 to 31 Dec 2024","HONG KONG ADVENTIST HOSPITAL - STUBBS ROAD","HK ADVENTIST - SR","PH","7029571085","RXD","2","HKAHLAAM","Local System","734","0","0","734","0","","0","0","0","0","0","0","0","0","0","0","0","0","","0","0","0","0","0","0","0","0","0","0"]
["1 Dec 2024 to 31 Dec 20244471430786RAD","1 Dec 2024 to 31 Dec 2024","TUNG WAH GROUP OF HOSPITALS","TUNG WAH GROUP. OF HOSPITALS","NGO",4471430786,"RAD",3,"TWBHCT-LAAM","Local System",622,0,0,0,622,null,0,0,0,0,0,0,0,0,0,0,0,0,null,622,1,0,0,0,0,0,0,0,0,"","","","1 Dec 2024 to 31 Dec 20247029571085ENCTR",{"$f":"Data!A590","v":"2024-12-01"},{"$f":"TRIM(Data!B590)","v":"HONG KONG ADVENTIST HOSPITAL - STUBBS ROAD"},null,{"$f":"TRIM(Data!C590)","v":"PH"},{"$f":"TRIM(Data!D590)","v":"7029571085"},{"$f":"TRIM(Data!E590)","v":"ENCTR"},{"$f":"TRIM(Data!F590)","v":"3"},{"$f":"TRIM(Data!G590)","v":"HKAHLAAM"},{"$f":"TRIM(Data!H590)","v":"Local System"},{"$f":"TRIM(Data!I590)","v":"651"},{"$f":"TRIM(Data!J590)","v":"0"},{"$f":"TRIM(Data!K590)","v":"0"},{"$f":"TRIM(Data!L590)","v":"0"},{"$f":"TRIM(Data!M590)","v":"651"},null,null,null,{"$f":"TRIM(Data!N590)","v":"0"},{"$f":"TRIM(Data!O590)","v":"0"},{"$f":"TRIM(Data!P590)","v":"0"},null,{"$f":"TRIM(Data!Q590)","v":"0"},null,null,{"$f":"TRIM(Data!R590)","v":"0"},{"$f":"TRIM(Data!S590)","v":"0"},{"$f":"TRIM(Data!T590)","v":"0"},null,null,null,{"$f":"TRIM(Data!U590)","v":"0"},null,{"$f":"TRIM(Data!V590)","v":"0"},{"$f":"TRIM(Data!W590)","v":"0"},{"$f":"TRIM(Data!X590)","v":"0"},{"$f":"TRIM(Data!Y590)","v":"0"},{"$f":"TRIM(Data!Z590)","v":"0"},{"$f":"TRIM(Data!AA590)","v":"0"},730,"1 Dec 2024 to 31 Dec 2024","HONG KONG ADVENTIST HOSPITAL - STUBBS ROAD","HK ADVENTIST - SR","PH","7029571085","ENCTR","3","HKAHLAAM","Local System","651","0","0","0","651","","0","0","0","0","0","0","0","0","0","0","0","0","","651","1","0","0","0","0","0","0","0","0"]
["1 Dec 2024 to 31 Dec 20244480228848PROB","1 Dec 2024 to 31 Dec 2024","HONG KONG BAPTIST HOSPITAL (COMMUNITY CLINIC)","HK  BAPTIST HOSPITAL","PH",4480228848,"PROB",3,"Onramp","Local System",181,0,0,10,171,null,0,0,0,0,0,0,0,0,0,0,0,0,null,171,0.94475138121546964,0,0,0,0,0,0,0,0,"","","","1 Dec 2024 to 31 Dec 20247029571085LABAP",{"$f":"Data!A593","v":"2024-12-01"},{"$f":"TRIM(Data!B593)","v":"HONG KONG ADVENTIST HOSPITAL - STUBBS ROAD"},null,{"$f":"TRIM(Data!C593)","v":"PH"},{"$f":"TRIM(Data!D593)","v":"7029571085"},{"$f":"TRIM(Data!E593)","v":"LABAP"},{"$f":"TRIM(Data!F593)","v":"1"},{"$f":"TRIM(Data!G593)","v":"HKAHLAAM"},{"$f":"TRIM(Data!H593)","v":"Local System"},{"$f":"TRIM(Data!I593)","v":"28"},{"$f":"TRIM(Data!J593)","v":"0"},{"$f":"TRIM(Data!K593)","v":"28"},{"$f":"TRIM(Data!L593)","v":"0"},{"$f":"TRIM(Data!M593)","v":"0"},null,null,null,{"$f":"TRIM(Data!N593)","v":"0"},{"$f":"TRIM(Data!O593)","v":"0"},{"$f":"TRIM(Data!P593)","v":"0"},null,{"$f":"TRIM(Data!Q593)","v":"0"},null,null,{"$f":"TRIM(Data!R593)","v":"0"},{"$f":"TRIM(Data!S593)","v":"0"},{"$f":"TRIM(Data!T593)","v":"0"},null,null,null,{"$f":"TRIM(Data!U593)","v":"0"},null,{"$f":"TRIM(Data!V593)","v":"0"},{"$f":"TRIM(Data!W593)","v":"0"},{"$f":"TRIM(Data!X593)","v":"0"},{"$f":"TRIM(Data!Y593)","v":"0"},{"$f":"TRIM(Data!Z593)","v":"0"},{"$f":"TRIM(Data!AA593)","v":"0"},731,"1 Dec 2024 to 31 Dec 2024","HONG KONG ADVENTIST HOSPITAL - STUBBS ROAD","HK ADVENTIST - SR","PH","7029571085","LABAP","1","HKAHLAAM","Local System","28","0","28","0","0","","0","0","0","0","0","0","0","0","0","0","0","0","","0","0","0","0","0","0","0","0","0","0"]
["1 Dec 2024 to 31 Dec 20244480228848RXD","1 Dec 2024 to 31 Dec 2024","HONG KONG BAPTIST HOSPITAL (COMMUNITY CLINIC)","HK  BAPTIST HOSPITAL","PH",4480228848,"RXD",3,"Onramp","Local System",657,0,0,54,603,null,0,0,0,0,0,0,0,0,0,0,0,0,null,603,0.9178082191780822,0,0,0,0,0,0,0,0,"","","","1 Dec 2024 to 31 Dec 20247029571085AL1",{"$f":"Data!A594","v":"2024-12-01"},{"$f":"TRIM(Data!B594)","v":"HONG KONG ADVENTIST HOSPITAL - STUBBS ROAD"},null,{"$f":"TRIM(Data!C594)","v":"PH"},{"$f":"TRIM(Data!D594)","v":"7029571085"},{"$f":"TRIM(Data!E594)","v":"AL1"},{"$f":"TRIM(Data!F594)","v":"3"},{"$f":"TRIM(Data!G594)","v":"HKAHLAAM"},{"$f":"TRIM(Data!H594)","v":"Local System"},{"$f":"TRIM(Data!I594)","v":"13"},{"$f":"TRIM(Data!J594)","v":"0"},{"$f":"TRIM(Data!K594)","v":"0"},{"$f":"TRIM(Data!L594)","v":"6"},{"$f":"TRIM(Data!M594)","v":"7"},null,null,null,{"$f":"TRIM(Data!N594)","v":"0"},{"$f":"TRIM(Data!O594)","v":"0"},{"$f":"TRIM(Data!P594)","v":"6"},null,{"$f":"TRIM(Data!Q594)","v":"6"},null,null,{"$f":"TRIM(Data!R594)","v":"6"},{"$f":"TRIM(Data!S594)","v":"0"},{"$f":"TRIM(Data!T594)","v":"0"},null,null,null,{"$f":"TRIM(Data!U594)","v":"0"},null,{"$f":"TRIM(Data!V594)","v":"0"},{"$f":"TRIM(Data!W594)","v":"0"},{"$f":"TRIM(Data!X594)","v":"0"},{"$f":"TRIM(Data!Y594)","v":"0"},{"$f":"TRIM(Data!Z594)","v":"0"},{"$f":"TRIM(Data!AA594)","v":"0"},729,"1 Dec 2024 to 31 Dec 2024","HONG KONG ADVENTIST HOSPITAL - STUBBS ROAD","HK ADVENTIST - SR","PH","7029571085","AL1","3","HKAHLAAM","Local System","13","0","0","6","7","","0","0","0","0","6","0.461538461538462","6","0","0","6","0","0","","7","0.538461538461538","0","0","0","0","0","0","0","0"]
["1 Dec 2024 to 31 Dec 20244578805814IMMU","1 Dec 2024 to 31 Dec 2024","THE HONG KONG POLYTECHNIC UNIVERSITY","POLYU","HCAI",4578805814,"IMMU",3,"ClinicMaster Information System","Local System",18,0,0,0,18,null,0,0,0,0,0,0,0,0,0,0,0,0,null,18,1,0,0,0,0,0,0,0,0,"","","","1 Dec 2024 to 31 Dec 20243499048393RXO",{"$f":"Data!A598","v":"2024-12-01"},{"$f":"TRIM(Data!B598)","v":"208 MEDICAL CENTRE"},null,{"$f":"TRIM(Data!C598)","v":"SOLO"},{"$f":"TRIM(Data!D598)","v":"3499048393"},{"$f":"TRIM(Data!E598)","v":"RXO"},{"$f":"TRIM(Data!F598)","v":"2"},{"$f":"TRIM(Data!G598)","v":"ClinicSolution"},{"$f":"TRIM(Data!H598)","v":"Local System"},{"$f":"TRIM(Data!I598)","v":"567"},{"$f":"TRIM(Data!J598)","v":"0"},{"$f":"TRIM(Data!K598)","v":"0"},{"$f":"TRIM(Data!L598)","v":"567"},{"$f":"TRIM(Data!M598)","v":"0"},null,null,null,{"$f":"TRIM(Data!N598)","v":"0"},{"$f":"TRIM(Data!O598)","v":"0"},{"$f":"TRIM(Data!P598)","v":"0"},null,{"$f":"TRIM(Data!Q598)","v":"0"},null,null,{"$f":"TRIM(Data!R598)","v":"0"},{"$f":"TRIM(Data!S598)","v":"0"},{"$f":"TRIM(Data!T598)","v":"0"},null,null,null,{"$f":"TRIM(Data!U598)","v":"0"},null,{"$f":"TRIM(Data!V598)","v":"0"},{"$f":"TRIM(Data!W598)","v":"0"},{"$f":"TRIM(Data!X598)","v":"0"},{"$f":"TRIM(Data!Y598)","v":"0"},{"$f":"TRIM(Data!Z598)","v":"0"},{"$f":"TRIM(Data!AA598)","v":"0"},561,"1 Dec 2024 to 31 Dec 2024","208 Medical Centre","208 MEDICAL CENTRE","SOLO","3499048393","RXO","2","ClinicSolution","Local System","567","0","0","567","0","","0","0","0","0","0","0","0","0","0","0","0","0","","0","0","0","0","0","0","0","0","0","0"]
["1 Dec 2024 to 31 Dec 20244578805814PROB","1 Dec 2024 to 31 Dec 2024","THE HONG KONG POLYTECHNIC UNIVERSITY","POLYU","HCAI",4578805814,"PROB",3,"ClinicMaster Information System","Local System",6082,0,0,0,6082,null,0,0,0,0,0,0,0,0,0,0,0,0,null,6082,1,0,0,0,0,0,0,0,0,"Y","","","1 Dec 2024 to 31 Dec 20243499048393ENCTR",{"$f":"Data!A599","v":"2024-12-01"},{"$f":"TRIM(Data!B599)","v":"208 MEDICAL CENTRE"},null,{"$f":"TRIM(Data!C599)","v":"SOLO"},{"$f":"TRIM(Data!D599)","v":"3499048393"},{"$f":"TRIM(Data!E599)","v":"ENCTR"},{"$f":"TRIM(Data!F599)","v":"3"},{"$f":"TRIM(Data!G599)","v":"ClinicSolution"},{"$f":"TRIM(Data!H599)","v":"Local System"},{"$f":"TRIM(Data!I599)","v":"369"},{"$f":"TRIM(Data!J599)","v":"0"},{"$f":"TRIM(Data!K599)","v":"0"},{"$f":"TRIM(Data!L599)","v":"0"},{"$f":"TRIM(Data!M599)","v":"369"},null,null,null,{"$f":"TRIM(Data!N599)","v":"0"},{"$f":"TRIM(Data!O599)","v":"0"},{"$f":"TRIM(Data!P599)","v":"0"},null,{"$f":"TRIM(Data!Q599)","v":"0"},null,null,{"$f":"TRIM(Data!R599)","v":"0"},{"$f":"TRIM(Data!S599)","v":"0"},{"$f":"TRIM(Data!T599)","v":"0"},null,null,null,{"$f":"TRIM(Data!U599)","v":"0"},null,{"$f":"TRIM(Data!V599)","v":"0"},{"$f":"TRIM(Data!W599)","v":"0"},{"$f":"TRIM(Data!X599)","v":"0"},{"$f":"TRIM(Data!Y599)","v":"0"},{"$f":"TRIM(Data!Z599)","v":"0"},{"$f":"TRIM(Data!AA599)","v":"0"},558,"1 Dec 2024 to 31 Dec 2024","208 Medical Centre","208 MEDICAL CENTRE","SOLO","3499048393","ENCTR","3","ClinicSolution","Local System","369","0","0","0","369","","0","0","0","0","0","0","0","0","0","0","0","0","","369","1","0","0","0","0","0","0","0","0"]
["1 Dec 2024 to 31 Dec 20244746565267CMPX","1 Dec 2024 to 31 Dec 2024","18 Chinese Medicine Clinic cum Traing and Research Centre (HKFTU Worker's Medical Clinics)","18CMCTRs(HKFTU)","NGO",4746565267,"CMPX",3,"Local System","EC Connect",88,0,0,0,88,null,0,0,0,0,0,0,0,0,0,0,0,0,null,88,1,0,0,0,0,0,0,0,0,"","","","1 Dec 2024 to 31 Dec 20247002059678ENCTR",{"$f":"Data!A602","v":"2024-12-01"},{"$f":"TRIM(Data!B602)","v":"PRECIOUS BLOOD HOSPITAL (CARITAS)"},null,{"$f":"TRIM(Data!C602)","v":"PH"},{"$f":"TRIM(Data!D602)","v":"7002059678"},{"$f":"TRIM(Data!E602)","v":"ENCTR"},{"$f":"TRIM(Data!F602)","v":"3"},{"$f":"TRIM(Data!G602)","v":"PBHIS"},{"$f":"TRIM(Data!H602)","v":"Local System"},{"$f":"TRIM(Data!I602)","v":"775"},{"$f":"TRIM(Data!J602)","v":"0"},{"$f":"TRIM(Data!K602)","v":"0"},{"$f":"TRIM(Data!L602)","v":"0"},{"$f":"TRIM(Data!M602)","v":"775"},null,null,null,{"$f":"TRIM(Data!N602)","v":"0"},{"$f":"TRIM(Data!O602)","v":"0"},{"$f":"TRIM(Data!P602)","v":"0"},null,{"$f":"TRIM(Data!Q602)","v":"0"},null,null,{"$f":"TRIM(Data!R602)","v":"0"},{"$f":"TRIM(Data!S602)","v":"0"},{"$f":"TRIM(Data!T602)","v":"0"},null,null,null,{"$f":"TRIM(Data!U602)","v":"0"},null,{"$f":"TRIM(Data!V602)","v":"0"},{"$f":"TRIM(Data!W602)","v":"0"},{"$f":"TRIM(Data!X602)","v":"0"},{"$f":"TRIM(Data!Y602)","v":"0"},{"$f":"TRIM(Data!Z602)","v":"0"},{"$f":"TRIM(Data!AA602)","v":"0"},726,"1 Dec 2024 to 31 Dec 2024","PRECIOUS BLOOD HOSPITAL (CARITAS)","PRECIOUS BLOOD HOSPITAL","PH","7002059678","ENCTR","3","PBHIS","Local System","775","0","0","0","775","","0","0","0","0","0","0","0","0","0","0","0","0","","775","1","0","0","0","0","0","0","0","0"]
["1 Dec 2024 to 31 Dec 20244746565267ENCTR","1 Dec 2024 to 31 Dec 2024","18 Chinese Medicine Clinic cum Traing and Research Centre (HKFTU Worker's Medical Clinics)","18CMCTRs(HKFTU)","NGO",4746565267,"ENCTR",3,"Local System","Local System",369,0,0,0,369,null,0,0,0,0,0,0,0,0,0,0,0,0,null,369,1,0,0,0,0,0,0,0,0,"","","","1 Dec 2024 to 31 Dec 20247002059678RAD",{"$f":"Data!A604","v":"2024-12-01"},{"$f":"TRIM(Data!B604)","v":"PRECIOUS BLOOD HOSPITAL (CARITAS)"},null,{"$f":"TRIM(Data!C604)","v":"PH"},{"$f":"TRIM(Data!D604)","v":"7002059678"},{"$f":"TRIM(Data!E604)","v":"RAD"},{"$f":"TRIM(Data!F604)","v":"3"},{"$f":"TRIM(Data!G604)","v":"PBHIS"},{"$f":"TRIM(Data!H604)","v":"Local System"},{"$f":"TRIM(Data!I604)","v":"389"},{"$f":"TRIM(Data!J604)","v":"0"},{"$f":"TRIM(Data!K604)","v":"0"},{"$f":"TRIM(Data!L604)","v":"0"},{"$f":"TRIM(Data!M604)","v":"389"},null,null,null,{"$f":"TRIM(Data!N604)","v":"0"},{"$f":"TRIM(Data!O604)","v":"0"},{"$f":"TRIM(Data!P604)","v":"0"},null,{"$f":"TRIM(Data!Q604)","v":"0"},null,null,{"$f":"TRIM(Data!R604)","v":"0"},{"$f":"TRIM(Data!S604)","v":"0"},{"$f":"TRIM(Data!T604)","v":"0"},null,null,null,{"$f":"TRIM(Data!U604)","v":"0"},null,{"$f":"TRIM(Data!V604)","v":"0"},{"$f":"TRIM(Data!W604)","v":"0"},{"$f":"TRIM(Data!X604)","v":"0"},{"$f":"TRIM(Data!Y604)","v":"0"},{"$f":"TRIM(Data!Z604)","v":"0"},{"$f":"TRIM(Data!AA604)","v":"0"},727,"1 Dec 2024 to 31 Dec 2024","PRECIOUS BLOOD HOSPITAL (CARITAS)","PRECIOUS BLOOD HOSPITAL","PH","7002059678","RAD","3","PBHIS","Local System","389","0","0","0","389","","0","0","0","0","0","0","0","0","0","0","0","0","","389","1","0","0","0","0","0","0","0","0"]
["1 Dec 2024 to 31 Dec 20244773496701BIRTH","1 Dec 2024 to 31 Dec 2024","HKSH Medical Group Limited","HKSH MEDICAL FROUP","PH",4773496701,"BIRTH",3,"HKSH e-HR gateway","Local System",5,0,0,0,5,null,0,0,0,0,0,0,0,0,0,0,0,0,null,5,1,0,0,0,0,0,0,0,0,"","","Y","1 Dec 2024 to 31 Dec 20242310917092RXD",{"$f":"Data!A607","v":"2024-12-01"},{"$f":"TRIM(Data!B607)","v":"DR. YEE YUK KEI"},null,{"$f":"TRIM(Data!C607)","v":"SOLO"},{"$f":"TRIM(Data!D607)","v":"2310917092"},{"$f":"TRIM(Data!E607)","v":"RXD"},{"$f":"TRIM(Data!F607)","v":"3"},{"$f":"TRIM(Data!G607)","v":"CMS On-ramp"},{"$f":"TRIM(Data!H607)","v":"CMS On-ramp"},{"$f":"TRIM(Data!I607)","v":"381"},{"$f":"TRIM(Data!J607)","v":"0"},{"$f":"TRIM(Data!K607)","v":"0"},{"$f":"TRIM(Data!L607)","v":"297"},{"$f":"TRIM(Data!M607)","v":"84"},null,null,null,{"$f":"TRIM(Data!N607)","v":"0"},{"$f":"TRIM(Data!O607)","v":"0"},{"$f":"TRIM(Data!P607)","v":"0"},null,{"$f":"TRIM(Data!Q607)","v":"0"},null,null,{"$f":"TRIM(Data!R607)","v":"0"},{"$f":"TRIM(Data!S607)","v":"0"},{"$f":"TRIM(Data!T607)","v":"0"},null,null,null,{"$f":"TRIM(Data!U607)","v":"0"},null,{"$f":"TRIM(Data!V607)","v":"0"},{"$f":"TRIM(Data!W607)","v":"0"},{"$f":"TRIM(Data!X607)","v":"0"},{"$f":"TRIM(Data!Y607)","v":"0"},{"$f":"TRIM(Data!Z607)","v":"0"},{"$f":"TRIM(Data!AA607)","v":"0"},491,"1 Dec 2024 to 31 Dec 2024","DR. YEE YUK KEI","DR. YK YEE","SOLO","2310917092","RXD","3","Local System","Local System","381","0","0","297","84","","0","0","0","0","0","0","0","0","0","0","0","0","","84","0.220472440944882","0","0","0","0","0","0","0","0"]
["1 Dec 2024 to 31 Dec 20244773496701EPIS","1 Dec 2024 to 31 Dec 2024","HKSH Medical Group Limited","HKSH MEDICAL FROUP","PH",4773496701,"EPIS",1,"HKSH e-HR gateway","Local System",836,0,836,0,0,null,0,0,0,0,0,0,0,0,0,0,0,0,null,0,0,0,0,0,0,0,0,0,0,"","","Y","1 Dec 2024 to 31 Dec 20242310917092PROB",{"$f":"Data!A608","v":"2024-12-01"},{"$f":"TRIM(Data!B608)","v":"DR. YEE YUK KEI"},null,{"$f":"TRIM(Data!C608)","v":"SOLO"},{"$f":"TRIM(Data!D608)","v":"2310917092"},{"$f":"TRIM(Data!E608)","v":"PROB"},{"$f":"TRIM(Data!F608)","v":"3"},{"$f":"TRIM(Data!G608)","v":"CMS On-ramp"},{"$f":"TRIM(Data!H608)","v":"CMS On-ramp"},{"$f":"TRIM(Data!I608)","v":"358"},{"$f":"TRIM(Data!J608)","v":"0"},{"$f":"TRIM(Data!K608)","v":"0"},{"$f":"TRIM(Data!L608)","v":"12"},{"$f":"TRIM(Data!M608)","v":"346"},null,null,null,{"$f":"TRIM(Data!N608)","v":"0"},{"$f":"TRIM(Data!O608)","v":"0"},{"$f":"TRIM(Data!P608)","v":"0"},null,{"$f":"TRIM(Data!Q608)","v":"0"},null,null,{"$f":"TRIM(Data!R608)","v":"0"},{"$f":"TRIM(Data!S608)","v":"0"},{"$f":"TRIM(Data!T608)","v":"0"},null,null,null,{"$f":"TRIM(Data!U608)","v":"0"},null,{"$f":"TRIM(Data!V608)","v":"0"},{"$f":"TRIM(Data!W608)","v":"0"},{"$f":"TRIM(Data!X608)","v":"0"},{"$f":"TRIM(Data!Y608)","v":"0"},{"$f":"TRIM(Data!Z608)","v":"0"},{"$f":"TRIM(Data!AA608)","v":"0"},489,"1 Dec 2024 to 31 Dec 2024","DR. YEE YUK KEI","DR. YK YEE","SOLO","2310917092","PROB","3","Local System","Local System","358","0","0","12","346","","0","0","0","0","0","0","0","0","0","0","0","0","","346","0.966480446927374","0","0","0","0","0","0","0","0"]
["1 Dec 2024 to 31 Dec 20244773496701PROB","1 Dec 2024 to 31 Dec 2024","HKSH Medical Group Limited","HKSH MEDICAL FROUP","PH",4773496701,"PROB",3,"HKSH e-HR gateway","Local System",4880,0,0,0,4880,null,0,0,0,0,0,0,0,0,0,0,0,0,null,4880,1,0,0,0,0,0,0,0,0,"","","Y","1 Dec 2024 to 31 Dec 20242310917092IMMU",{"$f":"Data!A612","v":"2024-12-01"},{"$f":"TRIM(Data!B612)","v":"DR. YEE YUK KEI"},null,{"$f":"TRIM(Data!C612)","v":"SOLO"},{"$f":"TRIM(Data!D612)","v":"2310917092"},{"$f":"TRIM(Data!E612)","v":"IMMU"},{"$f":"TRIM(Data!F612)","v":"3"},{"$f":"TRIM(Data!G612)","v":"CMS On-ramp"},{"$f":"TRIM(Data!H612)","v":"CMS On-ramp"},{"$f":"TRIM(Data!I612)","v":"12"},{"$f":"TRIM(Data!J612)","v":"0"},{"$f":"TRIM(Data!K612)","v":"0"},{"$f":"TRIM(Data!L612)","v":"11"},{"$f":"TRIM(Data!M612)","v":"1"},null,null,null,{"$f":"TRIM(Data!N612)","v":"0"},{"$f":"TRIM(Data!O612)","v":"0"},{"$f":"TRIM(Data!P612)","v":"0"},null,{"$f":"TRIM(Data!Q612)","v":"0"},null,null,{"$f":"TRIM(Data!R612)","v":"0"},{"$f":"TRIM(Data!S612)","v":"0"},{"$f":"TRIM(Data!T612)","v":"0"},null,null,null,{"$f":"TRIM(Data!U612)","v":"0"},null,{"$f":"TRIM(Data!V612)","v":"0"},{"$f":"TRIM(Data!W612)","v":"0"},{"$f":"TRIM(Data!X612)","v":"0"},{"$f":"TRIM(Data!Y612)","v":"0"},{"$f":"TRIM(Data!Z612)","v":"0"},{"$f":"TRIM(Data!AA612)","v":"0"},488,"1 Dec 2024 to 31 Dec 2024","DR. YEE YUK KEI","DR. YK YEE","SOLO","2310917092","IMMU","3","Local System","Local System","12","0","0","11","1","","0","0","0","0","0","0","0","0","0","0","0","0","","1","0.0833333333333333","0","0","0","0","0","0","0","0"]
["1 Dec 2024 to 31 Dec 20244773496701PX","1 Dec 2024 to 31 Dec 2024","HKSH Medical Group Limited","HKSH MEDICAL FROUP","PH",4773496701,"PX",3,"HKSH e-HR gateway","Local System",141,0,0,0,141,null,0,0,0,0,0,0,0,0,0,0,0,0,null,141,1,0,0,0,0,0,0,0,0,"","","Y","1 Dec 2024 to 31 Dec 20242310917092AL1",{"$f":"Data!A613","v":"2024-12-01"},{"$f":"TRIM(Data!B613)","v":"DR. YEE YUK KEI"},null,{"$f":"TRIM(Data!C613)","v":"SOLO"},{"$f":"TRIM(Data!D613)","v":"2310917092"},{"$f":"TRIM(Data!E613)","v":"AL1"},{"$f":"TRIM(Data!F613)","v":"3"},{"$f":"TRIM(Data!G613)","v":"CMS On-ramp"},{"$f":"TRIM(Data!H613)","v":"CMS On-ramp"},{"$f":"TRIM(Data!I613)","v":"3"},{"$f":"TRIM(Data!J613)","v":"0"},{"$f":"TRIM(Data!K613)","v":"0"},{"$f":"TRIM(Data!L613)","v":"0"},{"$f":"TRIM(Data!M613)","v":"3"},null,null,null,{"$f":"TRIM(Data!N613)","v":"0"},{"$f":"TRIM(Data!O613)","v":"0"},{"$f":"TRIM(Data!P613)","v":"0"},null,{"$f":"TRIM(Data!Q613)","v":"0"},null,null,{"$f":"TRIM(Data!R613)","v":"0"},{"$f":"TRIM(Data!S613)","v":"0"},{"$f":"TRIM(Data!T613)","v":"0"},null,null,null,{"$f":"TRIM(Data!U613)","v":"0"},null,{"$f":"TRIM(Data!V613)","v":"0"},{"$f":"TRIM(Data!W613)","v":"0"},{"$f":"TRIM(Data!X613)","v":"0"},{"$f":"TRIM(Data!Y613)","v":"0"},{"$f":"TRIM(Data!Z613)","v":"0"},{"$f":"TRIM(Data!AA613)","v":"0"},485,"1 Dec 2024 to 31 Dec 2024","DR. YEE YUK KEI","DR. YK YEE","SOLO","2310917092","AL1","3","Local System","Local System","3","0","0","0","3","","0","0","0","0","0","0","0","0","0","0","0","0","","3","1","0","0","0","0","0","0","0","0"]
["1 Dec 2024 to 31 Dec 20244830743861RXD","1 Dec 2024 to 31 Dec 2024","DR CHAN YUEN SANG","DR CHAN YUEN SANG","SOLO",4830743861,"RXD",2,"ClinicSolution","Local System",57,0,0,57,0,null,0,0,0,0,0,0,0,0,0,0,0,0,null,0,0,0,0,0,0,0,0,0,0,"","","","1 Dec 2024 to 31 Dec 20243425265108ENCTR",{"$f":"Data!A616","v":"2024-12-01"},{"$f":"TRIM(Data!B616)","v":"CHOI YING MEDICAL CENTRE LTD"},null,{"$f":"TRIM(Data!C616)","v":"SOLO"},{"$f":"TRIM(Data!D616)","v":"3425265108"},{"$f":"TRIM(Data!E616)","v":"ENCTR"},{"$f":"TRIM(Data!F616)","v":"3"},{"$f":"TRIM(Data!G616)","v":"ClinicSolution"},{"$f":"TRIM(Data!H616)","v":"Local System"},{"$f":"TRIM(Data!I616)","v":"145"},{"$f":"TRIM(Data!J616)","v":"0"},{"$f":"TRIM(Data!K616)","v":"0"},{"$f":"TRIM(Data!L616)","v":"0"},{"$f":"TRIM(Data!M616)","v":"145"},null,null,null,{"$f":"TRIM(Data!N616)","v":"0"},{"$f":"TRIM(Data!O616)","v":"0"},{"$f":"TRIM(Data!P616)","v":"0"},null,{"$f":"TRIM(Data!Q616)","v":"0"},null,null,{"$f":"TRIM(Data!R616)","v":"0"},{"$f":"TRIM(Data!S616)","v":"0"},{"$f":"TRIM(Data!T616)","v":"0"},null,null,null,{"$f":"TRIM(Data!U616)","v":"0"},null,{"$f":"TRIM(Data!V616)","v":"0"},{"$f":"TRIM(Data!W616)","v":"0"},{"$f":"TRIM(Data!X616)","v":"0"},{"$f":"TRIM(Data!Y616)","v":"0"},{"$f":"TRIM(Data!Z616)","v":"0"},{"$f":"TRIM(Data!AA616)","v":"0"},552,"1 Dec 2024 to 31 Dec 2024","Choi Ying Medical Centre LTD","CHOI YING MEDICAL CTR LTD","SOLO","3425265108","ENCTR","3","ClinicSolution","Local System","145","0","0","0","145","","0","0","0","0","0","0","0","0","0","0","0","0","","145","1","0","0","0","0","0","0","0","0"]
["1 Dec 2024 to 31 Dec 20244830743861RXO","1 Dec 2024 to 31 Dec 2024","DR CHAN YUEN SANG","DR CHAN YUEN SANG","SOLO",4830743861,"RXO",2,"ClinicSolution","Local System",57,0,0,57,0,null,0,0,0,0,0,0,0,0,0,0,0,0,null,0,0,0,0,0,0,0,0,0,0,"","","","1 Dec 2024 to 31 Dec 20243425265108PROB",{"$f":"Data!A617","v":"2024-12-01"},{"$f":"TRIM(Data!B617)","v":"CHOI YING MEDICAL CENTRE LTD"},null,{"$f":"TRIM(Data!C617)","v":"SOLO"},{"$f":"TRIM(Data!D617)","v":"3425265108"},{"$f":"TRIM(Data!E617)","v":"PROB"},{"$f":"TRIM(Data!F617)","v":"3"},{"$f":"TRIM(Data!G617)","v":"ClinicSolution"},{"$f":"TRIM(Data!H617)","v":"Local System"},{"$f":"TRIM(Data!I617)","v":"140"},{"$f":"TRIM(Data!J617)","v":"2"},{"$f":"TRIM(Data!K617)","v":"0"},{"$f":"TRIM(Data!L617)","v":"138"},{"$f":"TRIM(Data!M617)","v":"0"},null,null,null,{"$f":"TRIM(Data!N617)","v":"2"},{"$f":"TRIM(Data!O617)","v":"0"},{"$f":"TRIM(Data!P617)","v":"138"},null,{"$f":"TRIM(Data!Q617)","v":"138"},null,null,{"$f":"TRIM(Data!R617)","v":"138"},{"$f":"TRIM(Data!S617)","v":"0"},{"$f":"TRIM(Data!T617)","v":"0"},null,null,null,{"$f":"TRIM(Data!U617)","v":"0"},null,{"$f":"TRIM(Data!V617)","v":"0"},{"$f":"TRIM(Data!W617)","v":"0"},{"$f":"TRIM(Data!X617)","v":"0"},{"$f":"TRIM(Data!Y617)","v":"0"},{"$f":"TRIM(Data!Z617)","v":"0"},{"$f":"TRIM(Data!AA617)","v":"0"},553,"1 Dec 2024 to 31 Dec 2024","Choi Ying Medical Centre LTD","CHOI YING MEDICAL CTR LTD","SOLO","3425265108","PROB","3","ClinicSolution","Local System","140","2","0","138","0","","2","0.0142857142857143","2","0","138","0.985714285714286","138","0","0","138","0","0","","0","0","0","0","0","0","0","0","0","0"]
["1 Dec 2024 to 31 Dec 20245156724947EPIS","1 Dec 2024 to 31 Dec 2024","ST. PAUL'S HOSPITAL","SPH","PH",5156724947,"EPIS",1,"SPH HIS","Local System",692,0,692,0,0,null,0,0,0,0,0,0,0,0,0,0,0,0,null,0,0,0,0,0,0,0,0,0,0,"","","Y","1 Dec 2024 to 31 Dec 20242231879813CMRXO",{"$f":"Data!A620","v":"2024-12-01"},{"$f":"TRIM(Data!B620)","v":"18 CHINESE MEDICINE CLINIC CUM TRAINING AND RESEARCH CENTRE (THE HONG KONG TUBERCULOSIS ASSOCIATION)"},null,{"$f":"TRIM(Data!C620)","v":"NGO"},{"$f":"TRIM(Data!D620)","v":"2231879813"},{"$f":"TRIM(Data!E620)","v":"CMRXO"},{"$f":"TRIM(Data!F620)","v":"3"},{"$f":"TRIM(Data!G620)","v":"HA CMIS"},{"$f":"TRIM(Data!H620)","v":"Local System"},{"$f":"TRIM(Data!I620)","v":"279"},{"$f":"TRIM(Data!J620)","v":"0"},{"$f":"TRIM(Data!K620)","v":"0"},{"$f":"TRIM(Data!L620)","v":"57"},{"$f":"TRIM(Data!M620)","v":"222"},null,null,null,{"$f":"TRIM(Data!N620)","v":"0"},{"$f":"TRIM(Data!O620)","v":"0"},{"$f":"TRIM(Data!P620)","v":"57"},null,{"$f":"TRIM(Data!Q620)","v":"57"},null,null,{"$f":"TRIM(Data!R620)","v":"57"},{"$f":"TRIM(Data!S620)","v":"0"},{"$f":"TRIM(Data!T620)","v":"0"},null,null,null,{"$f":"TRIM(Data!U620)","v":"0"},null,{"$f":"TRIM(Data!V620)","v":"0"},{"$f":"TRIM(Data!W620)","v":"0"},{"$f":"TRIM(Data!X620)","v":"0"},{"$f":"TRIM(Data!Y620)","v":"0"},{"$f":"TRIM(Data!Z620)","v":"0"},{"$f":"TRIM(Data!AA620)","v":"0"},476,"1 Dec 2024 to 31 Dec 2024","18 Chinese Medicine Clinic cum Traing and Research Centre (The Hong Kong Tuberculosis Association)","18CMCTRs(HKTBA)","NGO","2231879813","CMRXO","3","Local System","EC Connect","279","0","0","57","222","","0","0","0","0","57","0.204301075268817","57","0","0","57","0","0","","222","0.795698924731183","0","0","0","0","0","0","0","0"]
["1 Dec 2024 to 31 Dec 20245156724947RXD","1 Dec 2024 to 31 Dec 2024","ST. PAUL'S HOSPITAL","SPH","PH",5156724947,"RXD",3,"SPH HIS","Local System",5489,0,0,678,4811,null,0,0,0,0,678,0.12351976680633996,678,0,0,678,0,0,null,4811,0.87648023319366009,0,0,0,0,0,0,0,0,"","","Y","1 Dec 2024 to 31 Dec 20242971417573ENCTR",{"$f":"Data!A622","v":"2024-12-01"},{"$f":"TRIM(Data!B622)","v":"18 CHINESE MEDICINE CLINIC CUM TRAINING AND RESEARCH CENTRE (YAN OI TONG)"},null,{"$f":"TRIM(Data!C622)","v":"NGO"},{"$f":"TRIM(Data!D622)","v":"2971417573"},{"$f":"TRIM(Data!E622)","v":"ENCTR"},{"$f":"TRIM(Data!F622)","v":"3"},{"$f":"TRIM(Data!G622)","v":"HA CMIS"},{"$f":"TRIM(Data!H622)","v":"Local System"},{"$f":"TRIM(Data!I622)","v":"573"},{"$f":"TRIM(Data!J622)","v":"0"},{"$f":"TRIM(Data!K622)","v":"0"},{"$f":"TRIM(Data!L622)","v":"0"},{"$f":"TRIM(Data!M622)","v":"573"},null,null,null,{"$f":"TRIM(Data!N622)","v":"0"},{"$f":"TRIM(Data!O622)","v":"0"},{"$f":"TRIM(Data!P622)","v":"0"},null,{"$f":"TRIM(Data!Q622)","v":"0"},null,null,{"$f":"TRIM(Data!R622)","v":"0"},{"$f":"TRIM(Data!S622)","v":"0"},{"$f":"TRIM(Data!T622)","v":"0"},null,null,null,{"$f":"TRIM(Data!U622)","v":"0"},null,{"$f":"TRIM(Data!V622)","v":"0"},{"$f":"TRIM(Data!W622)","v":"0"},{"$f":"TRIM(Data!X622)","v":"0"},{"$f":"TRIM(Data!Y622)","v":"0"},{"$f":"TRIM(Data!Z622)","v":"0"},{"$f":"TRIM(Data!AA622)","v":"0"},519,"1 Dec 2024 to 31 Dec 2024","18 Chinese Medicine Clinic cum Traing and Research Centre (Yan Oi Tong)","18CMCTRs (YOT)","NGO","2971417573","ENCTR","3","Local System","Local System","573","0","0","0","573","","0","0","0","0","0","0","0","0","0","0","0","0","","573","1","0","0","0","0","0","0","0","0"]
["1 Dec 2024 to 31 Dec 20245197855501ENCTR","1 Dec 2024 to 31 Dec 2024","BETHEL MEDICAL LIMITED","BETHEL MEDICAL LIMITED","SOLO",5197855501,"ENCTR",3,"ClinicSolution","Local System",15,0,0,0,15,null,0,0,0,0,0,0,0,0,0,0,0,0,null,15,1,0,0,0,0,0,0,0,0,"","","Y","1 Dec 2024 to 31 Dec 20242971417573CMPX",{"$f":"Data!A625","v":"2024-12-01"},{"$f":"TRIM(Data!B625)","v":"18 CHINESE MEDICINE CLINIC CUM TRAINING AND RESEARCH CENTRE (YAN OI TONG)"},null,{"$f":"TRIM(Data!C625)","v":"NGO"},{"$f":"TRIM(Data!D625)","v":"2971417573"},{"$f":"TRIM(Data!E625)","v":"CMPX"},{"$f":"TRIM(Data!F625)","v":"3"},{"$f":"TRIM(Data!G625)","v":"HA CMIS"},{"$f":"TRIM(Data!H625)","v":"Local System"},{"$f":"TRIM(Data!I625)","v":"122"},{"$f":"TRIM(Data!J625)","v":"0"},{"$f":"TRIM(Data!K625)","v":"0"},{"$f":"TRIM(Data!L625)","v":"0"},{"$f":"TRIM(Data!M625)","v":"122"},null,null,null,{"$f":"TRIM(Data!N625)","v":"0"},{"$f":"TRIM(Data!O625)","v":"0"},{"$f":"TRIM(Data!P625)","v":"0"},null,{"$f":"TRIM(Data!Q625)","v":"0"},null,null,{"$f":"TRIM(Data!R625)","v":"0"},{"$f":"TRIM(Data!S625)","v":"0"},{"$f":"TRIM(Data!T625)","v":"0"},null,null,null,{"$f":"TRIM(Data!U625)","v":"0"},null,{"$f":"TRIM(Data!V625)","v":"0"},{"$f":"TRIM(Data!W625)","v":"0"},{"$f":"TRIM(Data!X625)","v":"0"},{"$f":"TRIM(Data!Y625)","v":"0"},{"$f":"TRIM(Data!Z625)","v":"0"},{"$f":"TRIM(Data!AA625)","v":"0"},517,"1 Dec 2024 to 31 Dec 2024","18 Chinese Medicine Clinic cum Traing and Research Centre (Yan Oi Tong)","18CMCTRs (YOT)","NGO","2971417573","CMPX","3","Local System","EC Connect","122","0","0","0","122","","0","0","0","0","0","0","0","0","0","0","0","0","","122","1","0","0","0","0","0","0","0","0"]
["1 Dec 2024 to 31 Dec 20245197855501PROB","1 Dec 2024 to 31 Dec 2024","BETHEL MEDICAL LIMITED","BETHEL MEDICAL LIMITED","SOLO",5197855501,"PROB",3,"ClinicSolution","Local System",9,0,0,9,0,null,0,0,0,0,9,1,9,0,0,9,0,0,null,0,0,0,0,0,0,0,0,0,0,"","","","1 Dec 2024 to 31 Dec 20248962900949ENCTR",{"$f":"Data!A626","v":"2024-12-01"},{"$f":"TRIM(Data!B626)","v":"DR. LAM SEE YUI JOSEPH"},null,{"$f":"TRIM(Data!C626)","v":"SOLO"},{"$f":"TRIM(Data!D626)","v":"8962900949"},{"$f":"TRIM(Data!E626)","v":"ENCTR"},{"$f":"TRIM(Data!F626)","v":"3"},{"$f":"TRIM(Data!G626)","v":"ClinicSolution"},{"$f":"TRIM(Data!H626)","v":"Local System"},{"$f":"TRIM(Data!I626)","v":"1224"},{"$f":"TRIM(Data!J626)","v":"0"},{"$f":"TRIM(Data!K626)","v":"0"},{"$f":"TRIM(Data!L626)","v":"0"},{"$f":"TRIM(Data!M626)","v":"1224"},null,null,null,{"$f":"TRIM(Data!N626)","v":"0"},{"$f":"TRIM(Data!O626)","v":"0"},{"$f":"TRIM(Data!P626)","v":"0"},null,{"$f":"TRIM(Data!Q626)","v":"0"},null,null,{"$f":"TRIM(Data!R626)","v":"0"},{"$f":"TRIM(Data!S626)","v":"0"},{"$f":"TRIM(Data!T626)","v":"0"},null,null,null,{"$f":"TRIM(Data!U626)","v":"0"},null,{"$f":"TRIM(Data!V626)","v":"0"},{"$f":"TRIM(Data!W626)","v":"0"},{"$f":"TRIM(Data!X626)","v":"0"},{"$f":"TRIM(Data!Y626)","v":"0"},{"$f":"TRIM(Data!Z626)","v":"0"},{"$f":"TRIM(Data!AA626)","v":"0"},822,"1 Dec 2024 to 31 Dec 2024","DR. LAM SEE YUI JOSEPH","DR. S.Y. LAM","SOLO","8962900949","ENCTR","3","ClinicSolution","Local System","1224","0","0","0","1224","","0","0","0","0","0","0","0","0","0","0","0","0","","1224","1","0","0","0","0","0","0","0","0"]
["1 Dec 2024 to 31 Dec 20245249502353CMPX","1 Dec 2024 to 31 Dec 2024","18 Chinese Medicine Clinic cum Traing and Research Centre (Tung Wah Group of Hospital)","18CMCTRs(TWGHS)","NGO",5249502353,"CMPX",3,"Local System","EC Connect",626,0,0,0,626,null,0,0,0,0,0,0,0,0,0,0,0,0,null,626,1,0,0,0,0,0,0,0,0,"","","","1 Dec 2024 to 31 Dec 20248962900949AL1",{"$f":"Data!A630","v":"2024-12-01"},{"$f":"TRIM(Data!B630)","v":"DR. LAM SEE YUI JOSEPH"},null,{"$f":"TRIM(Data!C630)","v":"SOLO"},{"$f":"TRIM(Data!D630)","v":"8962900949"},{"$f":"TRIM(Data!E630)","v":"AL1"},{"$f":"TRIM(Data!F630)","v":"2"},{"$f":"TRIM(Data!G630)","v":"ClinicSolution"},{"$f":"TRIM(Data!H630)","v":"Local System"},{"$f":"TRIM(Data!I630)","v":"2"},{"$f":"TRIM(Data!J630)","v":"1"},{"$f":"TRIM(Data!K630)","v":"0"},{"$f":"TRIM(Data!L630)","v":"1"},{"$f":"TRIM(Data!M630)","v":"0"},null,null,null,{"$f":"TRIM(Data!N630)","v":"1"},{"$f":"TRIM(Data!O630)","v":"0"},{"$f":"TRIM(Data!P630)","v":"0"},null,{"$f":"TRIM(Data!Q630)","v":"0"},null,null,{"$f":"TRIM(Data!R630)","v":"0"},{"$f":"TRIM(Data!S630)","v":"0"},{"$f":"TRIM(Data!T630)","v":"0"},null,null,null,{"$f":"TRIM(Data!U630)","v":"0"},null,{"$f":"TRIM(Data!V630)","v":"0"},{"$f":"TRIM(Data!W630)","v":"0"},{"$f":"TRIM(Data!X630)","v":"0"},{"$f":"TRIM(Data!Y630)","v":"0"},{"$f":"TRIM(Data!Z630)","v":"0"},{"$f":"TRIM(Data!AA630)","v":"0"},821,"1 Dec 2024 to 31 Dec 2024","DR. LAM SEE YUI JOSEPH","DR. S.Y. LAM","SOLO","8962900949","AL1","2","ClinicSolution","Local System","2","1","0","1","0","","1","0.5","1","0","0","0","0","0","0","0","0","0","","0","0","0","0","0","0","0","0","0","0"]
["1 Dec 2024 to 31 Dec 20245249502353CMRXO","1 Dec 2024 to 31 Dec 2024","18 Chinese Medicine Clinic cum Traing and Research Centre (Tung Wah Group of Hospital)","18CMCTRs(TWGHS)","NGO",5249502353,"CMRXO",3,"Local System","EC Connect",1016,0,0,257,759,null,0,0,0,0,257,0.25295275590551181,257,0,0,257,0,0,null,759,0.74704724409448819,0,0,0,0,0,0,0,0,"","","Y","1 Dec 2024 to 31 Dec 20249056383716RXO",{"$f":"Data!A631","v":"2024-12-01"},{"$f":"TRIM(Data!B631)","v":"HK MERCY MEDICAL LIMITED"},null,{"$f":"TRIM(Data!C631)","v":"SOLO"},{"$f":"TRIM(Data!D631)","v":"9056383716"},{"$f":"TRIM(Data!E631)","v":"RXO"},{"$f":"TRIM(Data!F631)","v":"3,2"},{"$f":"TRIM(Data!G631)","v":"CMS On-ramp"},{"$f":"TRIM(Data!H631)","v":"CMS On-ramp"},{"$f":"TRIM(Data!I631)","v":"492"},{"$f":"TRIM(Data!J631)","v":"0"},{"$f":"TRIM(Data!K631)","v":"0"},{"$f":"TRIM(Data!L631)","v":"179"},{"$f":"TRIM(Data!M631)","v":"313"},null,null,null,{"$f":"TRIM(Data!N631)","v":"0"},{"$f":"TRIM(Data!O631)","v":"0"},{"$f":"TRIM(Data!P631)","v":"0"},null,{"$f":"TRIM(Data!Q631)","v":"0"},null,null,{"$f":"TRIM(Data!R631)","v":"0"},{"$f":"TRIM(Data!S631)","v":"0"},{"$f":"TRIM(Data!T631)","v":"0"},null,null,null,{"$f":"TRIM(Data!U631)","v":"0"},null,{"$f":"TRIM(Data!V631)","v":"0"},{"$f":"TRIM(Data!W631)","v":"0"},{"$f":"TRIM(Data!X631)","v":"0"},{"$f":"TRIM(Data!Y631)","v":"0"},{"$f":"TRIM(Data!Z631)","v":"0"},{"$f":"TRIM(Data!AA631)","v":"0"},831,"1 Dec 2024 to 31 Dec 2024","HK MERCY MEDICAL LIMITED","HK MERCY MEDICAL LIMITED","SOLO","9056383716","RXO","3","Local System","Local System","492","0","0","179","313","","0","0","0","0","0","0","0","0","0","0","0","0","","313","0.636178861788618","0","0","0","0","0","0","0","0"]
["1 Dec 2024 to 31 Dec 20245251825990PROB","1 Dec 2024 to 31 Dec 2024","L & C CLINICAL PRACTICE","L & C CLINICAL PRACTICE","GROUP",5251825990,"PROB",3,"ClinicSolution","Local System",3,0,0,3,0,null,0,0,0,0,3,1,3,0,0,3,0,0,null,0,0,0,0,0,0,0,0,0,0,"","","Y","1 Dec 2024 to 31 Dec 20249056383716ENCTR",{"$f":"Data!A634","v":"2024-12-01"},{"$f":"TRIM(Data!B634)","v":"HK MERCY MEDICAL LIMITED"},null,{"$f":"TRIM(Data!C634)","v":"SOLO"},{"$f":"TRIM(Data!D634)","v":"9056383716"},{"$f":"TRIM(Data!E634)","v":"ENCTR"},{"$f":"TRIM(Data!F634)","v":"3"},{"$f":"TRIM(Data!G634)","v":"CMS On-ramp"},{"$f":"TRIM(Data!H634)","v":"CMS On-ramp"},{"$f":"TRIM(Data!I634)","v":"169"},{"$f":"TRIM(Data!J634)","v":"0"},{"$f":"TRIM(Data!K634)","v":"0"},{"$f":"TRIM(Data!L634)","v":"0"},{"$f":"TRIM(Data!M634)","v":"169"},null,null,null,{"$f":"TRIM(Data!N634)","v":"0"},{"$f":"TRIM(Data!O634)","v":"0"},{"$f":"TRIM(Data!P634)","v":"0"},null,{"$f":"TRIM(Data!Q634)","v":"0"},null,null,{"$f":"TRIM(Data!R634)","v":"0"},{"$f":"TRIM(Data!S634)","v":"0"},{"$f":"TRIM(Data!T634)","v":"0"},null,null,null,{"$f":"TRIM(Data!U634)","v":"0"},null,{"$f":"TRIM(Data!V634)","v":"0"},{"$f":"TRIM(Data!W634)","v":"0"},{"$f":"TRIM(Data!X634)","v":"0"},{"$f":"TRIM(Data!Y634)","v":"0"},{"$f":"TRIM(Data!Z634)","v":"0"},{"$f":"TRIM(Data!AA634)","v":"0"},828,"1 Dec 2024 to 31 Dec 2024","HK MERCY MEDICAL LIMITED","HK MERCY MEDICAL LIMITED","SOLO","9056383716","ENCTR","3","Local System","Local System","169","0","0","0","169","","0","0","0","0","0","0","0","0","0","0","0","0","","169","1","0","0","0","0","0","0","0","0"]
["1 Dec 2024 to 31 Dec 20245251825990RXD","1 Dec 2024 to 31 Dec 2024","L & C CLINICAL PRACTICE","L & C CLINICAL PRACTICE","GROUP",5251825990,"RXD",2,"ClinicSolution","Local System",13,0,0,13,0,null,0,0,0,0,0,0,0,0,0,0,0,0,null,0,0,0,0,0,0,0,0,0,0,"","","Y","1 Dec 2024 to 31 Dec 20249805671910CMPROB",{"$f":"Data!A635","v":"2024-12-01"},{"$f":"TRIM(Data!B635)","v":"18 CHINESE MEDICINE CLINIC CUM TRAINING AND RESEARCH CENTRE (CHRISTIAN FAMILY SERVICE CENTRE)"},null,{"$f":"TRIM(Data!C635)","v":"NGO"},{"$f":"TRIM(Data!D635)","v":"9805671910"},{"$f":"TRIM(Data!E635)","v":"CMPROB"},{"$f":"TRIM(Data!F635)","v":"3"},{"$f":"TRIM(Data!G635)","v":"HA CMIS"},{"$f":"TRIM(Data!H635)","v":"Local System"},{"$f":"TRIM(Data!I635)","v":"576"},{"$f":"TRIM(Data!J635)","v":"0"},{"$f":"TRIM(Data!K635)","v":"0"},{"$f":"TRIM(Data!L635)","v":"171"},{"$f":"TRIM(Data!M635)","v":"405"},null,null,null,{"$f":"TRIM(Data!N635)","v":"0"},{"$f":"TRIM(Data!O635)","v":"0"},{"$f":"TRIM(Data!P635)","v":"70"},null,{"$f":"TRIM(Data!Q635)","v":"70"},null,null,{"$f":"TRIM(Data!R635)","v":"70"},{"$f":"TRIM(Data!S635)","v":"0"},{"$f":"TRIM(Data!T635)","v":"0"},null,null,null,{"$f":"TRIM(Data!U635)","v":"0"},null,{"$f":"TRIM(Data!V635)","v":"0"},{"$f":"TRIM(Data!W635)","v":"0"},{"$f":"TRIM(Data!X635)","v":"0"},{"$f":"TRIM(Data!Y635)","v":"0"},{"$f":"TRIM(Data!Z635)","v":"0"},{"$f":"TRIM(Data!AA635)","v":"0"},870,"1 Dec 2024 to 31 Dec 2024","18 Chinese Medicine Clinic cum Traing and Research Centre (Christiam Family Service Centre)","18CMCTRs (CFSC)","NGO","9805671910","CMPROB","3","Local System","EC Connect","576","0","0","171","405","","0","0","0","0","70","0.121527777777778","70","0","0","70","0","0","","405","0.703125","0","0","0","0","0","0","0","0"]
["1 Dec 2024 to 31 Dec 20245368445357ENCTR","1 Dec 2024 to 31 Dec 2024","HEALTH INTEGRATED LIMITED","HEALTH INTEGRATED LIMITED","OTH",5368445357,"ENCTR",3,"ClinicSolution","Local System",13,0,0,0,13,null,0,0,0,0,0,0,0,0,0,0,0,0,null,13,1,0,0,0,0,0,0,0,0,"","","Y","1 Dec 2024 to 31 Dec 20249805671910CMPX",{"$f":"Data!A638","v":"2024-12-01"},{"$f":"TRIM(Data!B638)","v":"18 CHINESE MEDICINE CLINIC CUM TRAINING AND RESEARCH CENTRE (CHRISTIAN FAMILY SERVICE CENTRE)"},null,{"$f":"TRIM(Data!C638)","v":"NGO"},{"$f":"TRIM(Data!D638)","v":"9805671910"},{"$f":"TRIM(Data!E638)","v":"CMPX"},{"$f":"TRIM(Data!F638)","v":"3"},{"$f":"TRIM(Data!G638)","v":"HA CMIS"},{"$f":"TRIM(Data!H638)","v":"Local System"},{"$f":"TRIM(Data!I638)","v":"112"},{"$f":"TRIM(Data!J638)","v":"0"},{"$f":"TRIM(Data!K638)","v":"0"},{"$f":"TRIM(Data!L638)","v":"0"},{"$f":"TRIM(Data!M638)","v":"112"},null,null,null,{"$f":"TRIM(Data!N638)","v":"0"},{"$f":"TRIM(Data!O638)","v":"0"},{"$f":"TRIM(Data!P638)","v":"0"},null,{"$f":"TRIM(Data!Q638)","v":"0"},null,null,{"$f":"TRIM(Data!R638)","v":"0"},{"$f":"TRIM(Data!S638)","v":"0"},{"$f":"TRIM(Data!T638)","v":"0"},null,null,null,{"$f":"TRIM(Data!U638)","v":"0"},null,{"$f":"TRIM(Data!V638)","v":"0"},{"$f":"TRIM(Data!W638)","v":"0"},{"$f":"TRIM(Data!X638)","v":"0"},{"$f":"TRIM(Data!Y638)","v":"0"},{"$f":"TRIM(Data!Z638)","v":"0"},{"$f":"TRIM(Data!AA638)","v":"0"},871,"1 Dec 2024 to 31 Dec 2024","18 Chinese Medicine Clinic cum Traing and Research Centre (Christiam Family Service Centre)","18CMCTRs (CFSC)","NGO","9805671910","CMPX","3","Local System","EC Connect","112","0","0","0","112","","0","0","0","0","0","0","0","0","0","0","0","0","","112","1","0","0","0","0","0","0","0","0"]
["1 Dec 2024 to 31 Dec 20245368445357RXD","1 Dec 2024 to 31 Dec 2024","HEALTH INTEGRATED LIMITED","HEALTH INTEGRATED LIMITED","OTH",5368445357,"RXD",2,"ClinicSolution","Local System",61,0,0,61,0,null,0,0,0,0,0,0,0,0,0,0,0,0,null,0,0,0,0,0,0,0,0,0,0,"","","","1 Dec 2024 to 31 Dec 20248154807797RXD",{"$f":"Data!A640","v":"2024-12-01"},{"$f":"TRIM(Data!B640)","v":"CELESTIAL HEALTHCARE"},null,{"$f":"TRIM(Data!C640)","v":"SOLO"},{"$f":"TRIM(Data!D640)","v":"8154807797"},{"$f":"TRIM(Data!E640)","v":"RXD"},{"$f":"TRIM(Data!F640)","v":"2"},{"$f":"TRIM(Data!G640)","v":"ClinicSolution"},{"$f":"TRIM(Data!H640)","v":"Local System"},{"$f":"TRIM(Data!I640)","v":"362"},{"$f":"TRIM(Data!J640)","v":"0"},{"$f":"TRIM(Data!K640)","v":"0"},{"$f":"TRIM(Data!L640)","v":"362"},{"$f":"TRIM(Data!M640)","v":"0"},null,null,null,{"$f":"TRIM(Data!N640)","v":"0"},{"$f":"TRIM(Data!O640)","v":"0"},{"$f":"TRIM(Data!P640)","v":"0"},null,{"$f":"TRIM(Data!Q640)","v":"0"},null,null,{"$f":"TRIM(Data!R640)","v":"0"},{"$f":"TRIM(Data!S640)","v":"0"},{"$f":"TRIM(Data!T640)","v":"0"},null,null,null,{"$f":"TRIM(Data!U640)","v":"0"},null,{"$f":"TRIM(Data!V640)","v":"0"},{"$f":"TRIM(Data!W640)","v":"0"},{"$f":"TRIM(Data!X640)","v":"0"},{"$f":"TRIM(Data!Y640)","v":"0"},{"$f":"TRIM(Data!Z640)","v":"0"},{"$f":"TRIM(Data!AA640)","v":"0"},780,"1 Dec 2024 to 31 Dec 2024","CELESTIAL HEALTHCARE","DR. LIM CHAW NAM","SOLO","8154807797","RXD","2","ClinicSolution","Local System","362","0","0","362","0","","0","0","0","0","0","0","0","0","0","0","0","0","","0","0","0","0","0","0","0","0","0","0"]
["1 Dec 2024 to 31 Dec 20245453649547RAD","1 Dec 2024 to 31 Dec 2024","Trinity Medical Imaging Centre Limited","TRINITY MEDICAL IMG","SOLO",5453649547,"RAD",3,"RIS (LAAM)","Local System",1231,0,0,0,1231,null,0,0,0,0,0,0,0,0,0,0,0,0,null,1231,1,0,0,0,0,0,0,0,0,"","","","1 Dec 2024 to 31 Dec 20248154807797PROB",{"$f":"Data!A643","v":"2024-12-01"},{"$f":"TRIM(Data!B643)","v":"CELESTIAL HEALTHCARE"},null,{"$f":"TRIM(Data!C643)","v":"SOLO"},{"$f":"TRIM(Data!D643)","v":"8154807797"},{"$f":"TRIM(Data!E643)","v":"PROB"},{"$f":"TRIM(Data!F643)","v":"3"},{"$f":"TRIM(Data!G643)","v":"ClinicSolution"},{"$f":"TRIM(Data!H643)","v":"Local System"},{"$f":"TRIM(Data!I643)","v":"81"},{"$f":"TRIM(Data!J643)","v":"0"},{"$f":"TRIM(Data!K643)","v":"0"},{"$f":"TRIM(Data!L643)","v":"81"},{"$f":"TRIM(Data!M643)","v":"0"},null,null,null,{"$f":"TRIM(Data!N643)","v":"0"},{"$f":"TRIM(Data!O643)","v":"0"},{"$f":"TRIM(Data!P643)","v":"81"},null,{"$f":"TRIM(Data!Q643)","v":"81"},null,null,{"$f":"TRIM(Data!R643)","v":"81"},{"$f":"TRIM(Data!S643)","v":"0"},{"$f":"TRIM(Data!T643)","v":"0"},null,null,null,{"$f":"TRIM(Data!U643)","v":"0"},null,{"$f":"TRIM(Data!V643)","v":"0"},{"$f":"TRIM(Data!W643)","v":"0"},{"$f":"TRIM(Data!X643)","v":"0"},{"$f":"TRIM(Data!Y643)","v":"0"},{"$f":"TRIM(Data!Z643)","v":"0"},{"$f":"TRIM(Data!AA643)","v":"0"},778,"1 Dec 2024 to 31 Dec 2024","CELESTIAL HEALTHCARE","DR. LIM CHAW NAM","SOLO","8154807797","PROB","3","ClinicSolution","Local System","81","0","0","81","0","","0","0","0","0","81","1","81","0","0","81","0","0","","0","0","0","0","0","0","0","0","0","0"]
["1 Dec 2024 to 31 Dec 20245528991274ADR","1 Dec 2024 to 31 Dec 2024","DR WONG CHUN POR","DR CP WONG CLINIC","SOLO",5528991274,"ADR",3,"Local System","Local System",1,0,0,0,1,null,0,0,0,0,0,0,0,0,0,0,0,0,null,1,1,0,0,0,0,0,0,0,0,"","","","1 Dec 2024 to 31 Dec 20248154807797PX",{"$f":"Data!A644","v":"2024-12-01"},{"$f":"TRIM(Data!B644)","v":"CELESTIAL HEALTHCARE"},null,{"$f":"TRIM(Data!C644)","v":"SOLO"},{"$f":"TRIM(Data!D644)","v":"8154807797"},{"$f":"TRIM(Data!E644)","v":"PX"},{"$f":"TRIM(Data!F644)","v":"3"},{"$f":"TRIM(Data!G644)","v":"ClinicSolution"},{"$f":"TRIM(Data!H644)","v":"Local System"},{"$f":"TRIM(Data!I644)","v":"9"},{"$f":"TRIM(Data!J644)","v":"1"},{"$f":"TRIM(Data!K644)","v":"0"},{"$f":"TRIM(Data!L644)","v":"8"},{"$f":"TRIM(Data!M644)","v":"0"},null,null,null,{"$f":"TRIM(Data!N644)","v":"1"},{"$f":"TRIM(Data!O644)","v":"0"},{"$f":"TRIM(Data!P644)","v":"8"},null,{"$f":"TRIM(Data!Q644)","v":"8"},null,null,{"$f":"TRIM(Data!R644)","v":"8"},{"$f":"TRIM(Data!S644)","v":"0"},{"$f":"TRIM(Data!T644)","v":"0"},null,null,null,{"$f":"TRIM(Data!U644)","v":"0"},null,{"$f":"TRIM(Data!V644)","v":"0"},{"$f":"TRIM(Data!W644)","v":"0"},{"$f":"TRIM(Data!X644)","v":"0"},{"$f":"TRIM(Data!Y644)","v":"0"},{"$f":"TRIM(Data!Z644)","v":"0"},{"$f":"TRIM(Data!AA644)","v":"0"},779,"1 Dec 2024 to 31 Dec 2024","CELESTIAL HEALTHCARE","DR. LIM CHAW NAM","SOLO","8154807797","PX","3","ClinicSolution","Local System","9","1","0","8","0","","1","0.111111111111111","1","0","8","0.888888888888889","8","0","0","8","0","0","","0","0","0","0","0","0","0","0","0","0"]
["1 Dec 2024 to 31 Dec 20245528991274PROB","1 Dec 2024 to 31 Dec 2024","DR WONG CHUN POR","DR CP WONG CLINIC","SOLO",5528991274,"PROB",3,"Local System","Local System",678,0,0,18,660,null,0,0,0,0,0,0,0,0,0,0,0,0,null,660,0.97345132743362828,0,0,0,0,0,0,0,0,"","","Y","1 Dec 2024 to 31 Dec 20248895790679PROB",{"$f":"Data!A648","v":"2024-12-01"},{"$f":"TRIM(Data!B648)","v":"DR. CHAN KIT YAN SELINA"},null,{"$f":"TRIM(Data!C648)","v":"SOLO"},{"$f":"TRIM(Data!D648)","v":"8895790679"},{"$f":"TRIM(Data!E648)","v":"PROB"},{"$f":"TRIM(Data!F648)","v":"3,2"},{"$f":"TRIM(Data!G648)","v":"CMS On-ramp"},{"$f":"TRIM(Data!H648)","v":"CMS On-ramp"},{"$f":"TRIM(Data!I648)","v":"206"},{"$f":"TRIM(Data!J648)","v":"0"},{"$f":"TRIM(Data!K648)","v":"0"},{"$f":"TRIM(Data!L648)","v":"40"},{"$f":"TRIM(Data!M648)","v":"166"},null,null,null,{"$f":"TRIM(Data!N648)","v":"0"},{"$f":"TRIM(Data!O648)","v":"0"},{"$f":"TRIM(Data!P648)","v":"0"},null,{"$f":"TRIM(Data!Q648)","v":"0"},null,null,{"$f":"TRIM(Data!R648)","v":"0"},{"$f":"TRIM(Data!S648)","v":"0"},{"$f":"TRIM(Data!T648)","v":"0"},null,null,null,{"$f":"TRIM(Data!U648)","v":"0"},null,{"$f":"TRIM(Data!V648)","v":"0"},{"$f":"TRIM(Data!W648)","v":"0"},{"$f":"TRIM(Data!X648)","v":"0"},{"$f":"TRIM(Data!Y648)","v":"0"},{"$f":"TRIM(Data!Z648)","v":"0"},{"$f":"TRIM(Data!AA648)","v":"0"},805,"1 Dec 2024 to 31 Dec 2024","DR. CHAN KIT YAN SELINA","DR. CHAN KIT YAN SELINA","SOLO","8895790679","PROB","3","Local System","Local System","206","0","0","40","166","","0","0","0","0","0","0","0","0","0","0","0","0","","166","0.805825242718447","0","0","0","0","0","0","0","0"]
["1 Dec 2024 to 31 Dec 20245528991274RXD","1 Dec 2024 to 31 Dec 2024","DR WONG CHUN POR","DR CP WONG CLINIC","SOLO",5528991274,"RXD",3,"Local System","Local System",868,0,0,96,772,null,0,0,0,0,0,0,0,0,0,0,0,0,null,772,0.88940092165898621,0,0,0,0,0,0,0,0,"","","Y","1 Dec 2024 to 31 Dec 20248895790679IMMU",{"$f":"Data!A649","v":"2024-12-01"},{"$f":"TRIM(Data!B649)","v":"DR. CHAN KIT YAN SELINA"},null,{"$f":"TRIM(Data!C649)","v":"SOLO"},{"$f":"TRIM(Data!D649)","v":"8895790679"},{"$f":"TRIM(Data!E649)","v":"IMMU"},{"$f":"TRIM(Data!F649)","v":"3,2"},{"$f":"TRIM(Data!G649)","v":"CMS On-ramp"},{"$f":"TRIM(Data!H649)","v":"CMS On-ramp"},{"$f":"TRIM(Data!I649)","v":"8"},{"$f":"TRIM(Data!J649)","v":"0"},{"$f":"TRIM(Data!K649)","v":"0"},{"$f":"TRIM(Data!L649)","v":"0"},{"$f":"TRIM(Data!M649)","v":"8"},null,null,null,{"$f":"TRIM(Data!N649)","v":"0"},{"$f":"TRIM(Data!O649)","v":"0"},{"$f":"TRIM(Data!P649)","v":"0"},null,{"$f":"TRIM(Data!Q649)","v":"0"},null,null,{"$f":"TRIM(Data!R649)","v":"0"},{"$f":"TRIM(Data!S649)","v":"0"},{"$f":"TRIM(Data!T649)","v":"0"},null,null,null,{"$f":"TRIM(Data!U649)","v":"0"},null,{"$f":"TRIM(Data!V649)","v":"0"},{"$f":"TRIM(Data!W649)","v":"0"},{"$f":"TRIM(Data!X649)","v":"0"},{"$f":"TRIM(Data!Y649)","v":"0"},{"$f":"TRIM(Data!Z649)","v":"0"},{"$f":"TRIM(Data!AA649)","v":"0"},804,"1 Dec 2024 to 31 Dec 2024","DR. CHAN KIT YAN SELINA","DR. CHAN KIT YAN SELINA","SOLO","8895790679","IMMU","3","Local System","Local System","8","0","0","0","8","","0","0","0","0","0","0","0","0","0","0","0","0","","8","1","0","0","0","0","0","0","0","0"]
["1 Dec 2024 to 31 Dec 20245634981022EPIS","1 Dec 2024 to 31 Dec 2024","HUMAN HEALTH MEDICAL CENTRE.","HUMAN  HEALTH","GROUP",5634981022,"EPIS",1,"RCMS_LAAM","Local System",161,0,161,0,0,null,0,0,0,0,0,0,0,0,0,0,0,0,null,0,0,0,0,0,0,0,0,0,0,"","","Y","1 Dec 2024 to 31 Dec 20244746565267ENCTR",{"$f":"Data!A652","v":"2024-12-01"},{"$f":"TRIM(Data!B652)","v":"18 CHINESE MEDICINE CLINIC CUM TRAINING AND RESEARCH CENTRE (HKFTU WORKERS' MEDICAL CLINICS)"},null,{"$f":"TRIM(Data!C652)","v":"NGO"},{"$f":"TRIM(Data!D652)","v":"4746565267"},{"$f":"TRIM(Data!E652)","v":"ENCTR"},{"$f":"TRIM(Data!F652)","v":"3"},{"$f":"TRIM(Data!G652)","v":"HA CMIS"},{"$f":"TRIM(Data!H652)","v":"Local System"},{"$f":"TRIM(Data!I652)","v":"369"},{"$f":"TRIM(Data!J652)","v":"0"},{"$f":"TRIM(Data!K652)","v":"0"},{"$f":"TRIM(Data!L652)","v":"0"},{"$f":"TRIM(Data!M652)","v":"369"},null,null,null,{"$f":"TRIM(Data!N652)","v":"0"},{"$f":"TRIM(Data!O652)","v":"0"},{"$f":"TRIM(Data!P652)","v":"0"},null,{"$f":"TRIM(Data!Q652)","v":"0"},null,null,{"$f":"TRIM(Data!R652)","v":"0"},{"$f":"TRIM(Data!S652)","v":"0"},{"$f":"TRIM(Data!T652)","v":"0"},null,null,null,{"$f":"TRIM(Data!U652)","v":"0"},null,{"$f":"TRIM(Data!V652)","v":"0"},{"$f":"TRIM(Data!W652)","v":"0"},{"$f":"TRIM(Data!X652)","v":"0"},{"$f":"TRIM(Data!Y652)","v":"0"},{"$f":"TRIM(Data!Z652)","v":"0"},{"$f":"TRIM(Data!AA652)","v":"0"},611,"1 Dec 2024 to 31 Dec 2024","18 Chinese Medicine Clinic cum Traing and Research Centre (HKFTU Worker's Medical Clinics)","18CMCTRs(HKFTU)","NGO","4746565267","ENCTR","3","Local System","Local System","369","0","0","0","369","","0","0","0","0","0","0","0","0","0","0","0","0","","369","1","0","0","0","0","0","0","0","0"]
["1 Dec 2024 to 31 Dec 20245712620300ADR","1 Dec 2024 to 31 Dec 2024","UNION HOSPITAL","UNION HOSPITAL","PH",5712620300,"ADR",3,"UHLAAM","Local System",39,0,0,6,33,null,0,0,0,0,6,0.15384615384615385,6,0,0,6,0,0,null,33,0.84615384615384615,0,0,0,0,0,0,0,0,"","","Y","1 Dec 2024 to 31 Dec 20244746565267CMPX",{"$f":"Data!A654","v":"2024-12-01"},{"$f":"TRIM(Data!B654)","v":"18 CHINESE MEDICINE CLINIC CUM TRAINING AND RESEARCH CENTRE (HKFTU WORKERS' MEDICAL CLINICS)"},null,{"$f":"TRIM(Data!C654)","v":"NGO"},{"$f":"TRIM(Data!D654)","v":"4746565267"},{"$f":"TRIM(Data!E654)","v":"CMPX"},{"$f":"TRIM(Data!F654)","v":"3"},{"$f":"TRIM(Data!G654)","v":"HA CMIS"},{"$f":"TRIM(Data!H654)","v":"Local System"},{"$f":"TRIM(Data!I654)","v":"88"},{"$f":"TRIM(Data!J654)","v":"0"},{"$f":"TRIM(Data!K654)","v":"0"},{"$f":"TRIM(Data!L654)","v":"0"},{"$f":"TRIM(Data!M654)","v":"88"},null,null,null,{"$f":"TRIM(Data!N654)","v":"0"},{"$f":"TRIM(Data!O654)","v":"0"},{"$f":"TRIM(Data!P654)","v":"0"},null,{"$f":"TRIM(Data!Q654)","v":"0"},null,null,{"$f":"TRIM(Data!R654)","v":"0"},{"$f":"TRIM(Data!S654)","v":"0"},{"$f":"TRIM(Data!T654)","v":"0"},null,null,null,{"$f":"TRIM(Data!U654)","v":"0"},null,{"$f":"TRIM(Data!V654)","v":"0"},{"$f":"TRIM(Data!W654)","v":"0"},{"$f":"TRIM(Data!X654)","v":"0"},{"$f":"TRIM(Data!Y654)","v":"0"},{"$f":"TRIM(Data!Z654)","v":"0"},{"$f":"TRIM(Data!AA654)","v":"0"},609,"1 Dec 2024 to 31 Dec 2024","18 Chinese Medicine Clinic cum Traing and Research Centre (HKFTU Worker's Medical Clinics)","18CMCTRs(HKFTU)","NGO","4746565267","CMPX","3","Local System","EC Connect","88","0","0","0","88","","0","0","0","0","0","0","0","0","0","0","0","0","","88","1","0","0","0","0","0","0","0","0"]
["1 Dec 2024 to 31 Dec 20245712620300EPIS","1 Dec 2024 to 31 Dec 2024","UNION HOSPITAL","UNION HOSPITAL","PH",5712620300,"EPIS",1,"UHLAAM","Local System",447,0,447,0,0,null,0,0,0,0,0,0,0,0,0,0,0,0,null,0,0,0,0,0,0,0,0,0,0,"","","Y","1 Dec 2024 to 31 Dec 20247889756707RXO",{"$f":"Data!A657","v":"2024-12-01"},{"$f":"TRIM(Data!B657)","v":"DR HO CHUNG PING"},null,{"$f":"TRIM(Data!C657)","v":"SOLO"},{"$f":"TRIM(Data!D657)","v":"7889756707"},{"$f":"TRIM(Data!E657)","v":"RXO"},{"$f":"TRIM(Data!F657)","v":"3,2"},{"$f":"TRIM(Data!G657)","v":"CMSEHR"},{"$f":"TRIM(Data!H657)","v":"Local System"},{"$f":"TRIM(Data!I657)","v":"320"},{"$f":"TRIM(Data!J657)","v":"0"},{"$f":"TRIM(Data!K657)","v":"0"},{"$f":"TRIM(Data!L657)","v":"36"},{"$f":"TRIM(Data!M657)","v":"284"},null,null,null,{"$f":"TRIM(Data!N657)","v":"0"},{"$f":"TRIM(Data!O657)","v":"0"},{"$f":"TRIM(Data!P657)","v":"0"},null,{"$f":"TRIM(Data!Q657)","v":"0"},null,null,{"$f":"TRIM(Data!R657)","v":"0"},{"$f":"TRIM(Data!S657)","v":"0"},{"$f":"TRIM(Data!T657)","v":"0"},null,null,null,{"$f":"TRIM(Data!U657)","v":"0"},null,{"$f":"TRIM(Data!V657)","v":"0"},{"$f":"TRIM(Data!W657)","v":"0"},{"$f":"TRIM(Data!X657)","v":"0"},{"$f":"TRIM(Data!Y657)","v":"0"},{"$f":"TRIM(Data!Z657)","v":"0"},{"$f":"TRIM(Data!AA657)","v":"0"},763,"1 Dec 2024 to 31 Dec 2024","DR HO CHUNG PING","C.P. HO","SOLO","7889756707","RXO","3","Local System","Local System","320","0","0","36","284","","0","0","0","0","0","0","0","0","0","0","0","0","","284","0.8875","0","0","0","0","0","0","0","0"]
["1 Dec 2024 to 31 Dec 20245712620300IMMU","1 Dec 2024 to 31 Dec 2024","UNION HOSPITAL","UNION HOSPITAL","PH",5712620300,"IMMU",2,"UHLAAM","Local System",161,0,0,161,0,null,0,0,0,0,0,0,0,0,0,0,0,0,null,0,0,0,0,0,0,0,0,0,0,"","","Y","1 Dec 2024 to 31 Dec 20247889756707RXD",{"$f":"Data!A658","v":"2024-12-01"},{"$f":"TRIM(Data!B658)","v":"DR HO CHUNG PING"},null,{"$f":"TRIM(Data!C658)","v":"SOLO"},{"$f":"TRIM(Data!D658)","v":"7889756707"},{"$f":"TRIM(Data!E658)","v":"RXD"},{"$f":"TRIM(Data!F658)","v":"3,2"},{"$f":"TRIM(Data!G658)","v":"CMSEHR"},{"$f":"TRIM(Data!H658)","v":"Local System"},{"$f":"TRIM(Data!I658)","v":"316"},{"$f":"TRIM(Data!J658)","v":"0"},{"$f":"TRIM(Data!K658)","v":"0"},{"$f":"TRIM(Data!L658)","v":"36"},{"$f":"TRIM(Data!M658)","v":"280"},null,null,null,{"$f":"TRIM(Data!N658)","v":"0"},{"$f":"TRIM(Data!O658)","v":"0"},{"$f":"TRIM(Data!P658)","v":"0"},null,{"$f":"TRIM(Data!Q658)","v":"0"},null,null,{"$f":"TRIM(Data!R658)","v":"0"},{"$f":"TRIM(Data!S658)","v":"0"},{"$f":"TRIM(Data!T658)","v":"0"},null,null,null,{"$f":"TRIM(Data!U658)","v":"0"},null,{"$f":"TRIM(Data!V658)","v":"0"},{"$f":"TRIM(Data!W658)","v":"0"},{"$f":"TRIM(Data!X658)","v":"0"},{"$f":"TRIM(Data!Y658)","v":"0"},{"$f":"TRIM(Data!Z658)","v":"0"},{"$f":"TRIM(Data!AA658)","v":"0"},762,"1 Dec 2024 to 31 Dec 2024","DR HO CHUNG PING","C.P. HO","SOLO","7889756707","RXD","3","Local System","Local System","316","0","0","36","280","","0","0","0","0","0","0","0","0","0","0","0","0","","280","0.886075949367089","0","0","0","0","0","0","0","0"]
["1 Dec 2024 to 31 Dec 20245772944231PROB","1 Dec 2024 to 31 Dec 2024","PASSION MEDICAL LIMITED","PASSION MEDICAL","SOLO",5772944231,"PROB",3,"ClinicSolution","Local System",5,0,0,5,0,null,0,0,0,0,5,1,5,0,0,5,0,0,null,0,0,0,0,0,0,0,0,0,0,"","","Y","1 Dec 2024 to 31 Dec 20247889756707EPIS",{"$f":"Data!A661","v":"2024-12-01"},{"$f":"TRIM(Data!B661)","v":"DR HO CHUNG PING"},null,{"$f":"TRIM(Data!C661)","v":"SOLO"},{"$f":"TRIM(Data!D661)","v":"7889756707"},{"$f":"TRIM(Data!E661)","v":"EPIS"},{"$f":"TRIM(Data!F661)","v":"1"},{"$f":"TRIM(Data!G661)","v":"CMSEHR"},{"$f":"TRIM(Data!H661)","v":"Local System"},{"$f":"TRIM(Data!I661)","v":"122"},{"$f":"TRIM(Data!J661)","v":"0"},{"$f":"TRIM(Data!K661)","v":"122"},{"$f":"TRIM(Data!L661)","v":"0"},{"$f":"TRIM(Data!M661)","v":"0"},null,null,null,{"$f":"TRIM(Data!N661)","v":"0"},{"$f":"TRIM(Data!O661)","v":"0"},{"$f":"TRIM(Data!P661)","v":"0"},null,{"$f":"TRIM(Data!Q661)","v":"0"},null,null,{"$f":"TRIM(Data!R661)","v":"0"},{"$f":"TRIM(Data!S661)","v":"0"},{"$f":"TRIM(Data!T661)","v":"0"},null,null,null,{"$f":"TRIM(Data!U661)","v":"0"},null,{"$f":"TRIM(Data!V661)","v":"0"},{"$f":"TRIM(Data!W661)","v":"0"},{"$f":"TRIM(Data!X661)","v":"0"},{"$f":"TRIM(Data!Y661)","v":"0"},{"$f":"TRIM(Data!Z661)","v":"0"},{"$f":"TRIM(Data!AA661)","v":"0"},759,"1 Dec 2024 to 31 Dec 2024","DR HO CHUNG PING","C.P. HO","SOLO","7889756707","EPIS","1","Local System","Local System","122","0","122","0","0","","0","0","0","0","0","0","0","0","0","0","0","0","","0","0","0","0","0","0","0","0","0","0"]
["1 Dec 2024 to 31 Dec 20245826741564ENCTR","1 Dec 2024 to 31 Dec 2024","Primehealth Medical Centre Limited","PMC","SOLO",5826741564,"ENCTR",3,"ClinicSolution","Local System",2,0,0,0,2,null,0,0,0,0,0,0,0,0,0,0,0,0,null,2,1,0,0,0,0,0,0,0,0,"","","Y","1 Dec 2024 to 31 Dec 20244578805814ENCTR",{"$f":"Data!A664","v":"2024-12-01"},{"$f":"TRIM(Data!B664)","v":"THE HONG KONG POLYTECHNIC UNIVERSITY"},null,{"$f":"TRIM(Data!C664)","v":"ACAD"},{"$f":"TRIM(Data!D664)","v":"4578805814"},{"$f":"TRIM(Data!E664)","v":"ENCTR"},{"$f":"TRIM(Data!F664)","v":"3"},{"$f":"TRIM(Data!G664)","v":"ClinicMaster Information System"},{"$f":"TRIM(Data!H664)","v":"Local System"},{"$f":"TRIM(Data!I664)","v":"397"},{"$f":"TRIM(Data!J664)","v":"0"},{"$f":"TRIM(Data!K664)","v":"0"},{"$f":"TRIM(Data!L664)","v":"0"},{"$f":"TRIM(Data!M664)","v":"397"},null,null,null,{"$f":"TRIM(Data!N664)","v":"0"},{"$f":"TRIM(Data!O664)","v":"0"},{"$f":"TRIM(Data!P664)","v":"0"},null,{"$f":"TRIM(Data!Q664)","v":"0"},null,null,{"$f":"TRIM(Data!R664)","v":"0"},{"$f":"TRIM(Data!S664)","v":"0"},{"$f":"TRIM(Data!T664)","v":"0"},null,null,null,{"$f":"TRIM(Data!U664)","v":"0"},null,{"$f":"TRIM(Data!V664)","v":"0"},{"$f":"TRIM(Data!W664)","v":"0"},{"$f":"TRIM(Data!X664)","v":"0"},{"$f":"TRIM(Data!Y664)","v":"0"},{"$f":"TRIM(Data!Z664)","v":"0"},{"$f":"TRIM(Data!AA664)","v":"0"},604,"1 Dec 2024 to 31 Dec 2024","THE HONG KONG POLYTECHNIC UNIVERSITY","POLYU","HCAI","4578805814","ENCTR","3","ClinicMaster Information System","Local System","397","0","0","0","397","","0","0","0","0","0","0","0","0","0","0","0","0","","397","1","0","0","0","0","0","0","0","0"]
["1 Dec 2024 to 31 Dec 20245826741564RXD","1 Dec 2024 to 31 Dec 2024","Primehealth Medical Centre Limited","PMC","SOLO",5826741564,"RXD",2,"ClinicSolution","Local System",5,0,0,5,0,null,0,0,0,0,0,0,0,0,0,0,0,0,null,0,0,0,0,0,0,0,0,0,0,"","","Y","1 Dec 2024 to 31 Dec 20244578805814AL1",{"$f":"Data!A666","v":"2024-12-01"},{"$f":"TRIM(Data!B666)","v":"THE HONG KONG POLYTECHNIC UNIVERSITY"},null,{"$f":"TRIM(Data!C666)","v":"ACAD"},{"$f":"TRIM(Data!D666)","v":"4578805814"},{"$f":"TRIM(Data!E666)","v":"AL1"},{"$f":"TRIM(Data!F666)","v":"3"},{"$f":"TRIM(Data!G666)","v":"ClinicMaster Information System"},{"$f":"TRIM(Data!H666)","v":"Local System"},{"$f":"TRIM(Data!I666)","v":"1"},{"$f":"TRIM(Data!J666)","v":"0"},{"$f":"TRIM(Data!K666)","v":"0"},{"$f":"TRIM(Data!L666)","v":"1"},{"$f":"TRIM(Data!M666)","v":"0"},null,null,null,{"$f":"TRIM(Data!N666)","v":"0"},{"$f":"TRIM(Data!O666)","v":"0"},{"$f":"TRIM(Data!P666)","v":"1"},null,{"$f":"TRIM(Data!Q666)","v":"1"},null,null,{"$f":"TRIM(Data!R666)","v":"1"},{"$f":"TRIM(Data!S666)","v":"0"},{"$f":"TRIM(Data!T666)","v":"0"},null,null,null,{"$f":"TRIM(Data!U666)","v":"0"},null,{"$f":"TRIM(Data!V666)","v":"0"},{"$f":"TRIM(Data!W666)","v":"0"},{"$f":"TRIM(Data!X666)","v":"0"},{"$f":"TRIM(Data!Y666)","v":"0"},{"$f":"TRIM(Data!Z666)","v":"0"},{"$f":"TRIM(Data!AA666)","v":"0"},603,"1 Dec 2024 to 31 Dec 2024","THE HONG KONG POLYTECHNIC UNIVERSITY","POLYU","HCAI","4578805814","AL1","3","ClinicMaster Information System","Local System","1","0","0","1","0","","0","0","0","0","1","1","1","0","0","1","0","0","","0","0","0","0","0","0","0","0","0","0"]
["1 Dec 2024 to 31 Dec 20245826741564RXO","1 Dec 2024 to 31 Dec 2024","Primehealth Medical Centre Limited","PMC","SOLO",5826741564,"RXO",2,"ClinicSolution","Local System",5,0,0,5,0,null,0,0,0,0,0,0,0,0,0,0,0,0,null,0,0,0,0,0,0,0,0,0,0,"","","Y","1 Dec 2024 to 31 Dec 20246691242811RAD",{"$f":"Data!A667","v":"2024-12-01"},{"$f":"TRIM(Data!B667)","v":"HONG KONG INTEGRATED ONCOLOGY CENTRE"},null,{"$f":"TRIM(Data!C667)","v":"GRP"},{"$f":"TRIM(Data!D667)","v":"6691242811"},{"$f":"TRIM(Data!E667)","v":"RAD"},{"$f":"TRIM(Data!F667)","v":"3"},{"$f":"TRIM(Data!G667)","v":"RHI2"},{"$f":"TRIM(Data!H667)","v":"Local System"},{"$f":"TRIM(Data!I667)","v":"836"},{"$f":"TRIM(Data!J667)","v":"0"},{"$f":"TRIM(Data!K667)","v":"0"},{"$f":"TRIM(Data!L667)","v":"0"},{"$f":"TRIM(Data!M667)","v":"836"},null,null,null,{"$f":"TRIM(Data!N667)","v":"0"},{"$f":"TRIM(Data!O667)","v":"0"},{"$f":"TRIM(Data!P667)","v":"0"},null,{"$f":"TRIM(Data!Q667)","v":"0"},null,null,{"$f":"TRIM(Data!R667)","v":"0"},{"$f":"TRIM(Data!S667)","v":"0"},{"$f":"TRIM(Data!T667)","v":"0"},null,null,null,{"$f":"TRIM(Data!U667)","v":"0"},null,{"$f":"TRIM(Data!V667)","v":"0"},{"$f":"TRIM(Data!W667)","v":"0"},{"$f":"TRIM(Data!X667)","v":"0"},{"$f":"TRIM(Data!Y667)","v":"0"},{"$f":"TRIM(Data!Z667)","v":"0"},{"$f":"TRIM(Data!AA667)","v":"0"},715,"1 Dec 2024 to 31 Dec 2024","HONG KONG INTEGRATED IMAGING AND ENDOSCOPY DIANOSTIC CENTRE","HKIDIC","GROUP","6691242811","RAD","3","Local System","Local System","836","0","0","0","836","","0","0","0","0","0","0","0","0","0","0","0","0","","836","1","0","0","0","0","0","0","0","0"]
["1 Dec 2024 to 31 Dec 20245833341375RAD","1 Dec 2024 to 31 Dec 2024","Mongkok MRI Centre Limited","MONGKOK MRI CENTRE LTD","GROUP",5833341375,"RAD",3,"RHI2","Local System",291,0,0,0,291,null,0,0,0,0,0,0,0,0,0,0,0,0,null,291,1,0,0,0,0,0,0,0,0,"","","Y","1 Dec 2024 to 31 Dec 20248296860643CMRXO",{"$f":"Data!A670","v":"2024-12-01"},{"$f":"TRIM(Data!B670)","v":"18 CHINESE MEDICINE CLINIC CUM TRAINING AND RESEARCH CENTRE (THE HONG KONG BUDDHIST ASSOCIATION)"},null,{"$f":"TRIM(Data!C670)","v":"NGO"},{"$f":"TRIM(Data!D670)","v":"8296860643"},{"$f":"TRIM(Data!E670)","v":"CMRXO"},{"$f":"TRIM(Data!F670)","v":"3"},{"$f":"TRIM(Data!G670)","v":"HA CMIS"},{"$f":"TRIM(Data!H670)","v":"Local System"},{"$f":"TRIM(Data!I670)","v":"160"},{"$f":"TRIM(Data!J670)","v":"0"},{"$f":"TRIM(Data!K670)","v":"0"},{"$f":"TRIM(Data!L670)","v":"21"},{"$f":"TRIM(Data!M670)","v":"139"},null,null,null,{"$f":"TRIM(Data!N670)","v":"0"},{"$f":"TRIM(Data!O670)","v":"0"},{"$f":"TRIM(Data!P670)","v":"21"},null,{"$f":"TRIM(Data!Q670)","v":"21"},null,null,{"$f":"TRIM(Data!R670)","v":"21"},{"$f":"TRIM(Data!S670)","v":"0"},{"$f":"TRIM(Data!T670)","v":"0"},null,null,null,{"$f":"TRIM(Data!U670)","v":"0"},null,{"$f":"TRIM(Data!V670)","v":"0"},{"$f":"TRIM(Data!W670)","v":"0"},{"$f":"TRIM(Data!X670)","v":"0"},{"$f":"TRIM(Data!Y670)","v":"0"},{"$f":"TRIM(Data!Z670)","v":"0"},{"$f":"TRIM(Data!AA670)","v":"0"},788,"1 Dec 2024 to 31 Dec 2024","18 Chinese Medicine Clinic cum Traing and Research Centre (The Hong Kong Buddist Association)","18CMCTRs (HKBA)","NGO","8296860643","CMRXO","3","Local System","EC Connect","160","0","0","21","139","","0","0","0","0","21","0.13125","21","0","0","21","0","0","","139","0.86875","0","0","0","0","0","0","0","0"]
["1 Dec 2024 to 31 Dec 20245849557920PROB","1 Dec 2024 to 31 Dec 2024","DR. CHOI KAM YEE SAMUEL","DR. CHOI KAM YEE SAMUEL","SOLO",5849557920,"PROB",3,"ClinicSolution","Local System",2,0,0,2,0,null,0,0,0,0,2,1,2,0,0,2,0,0,null,0,0,0,0,0,0,0,0,0,0,"","","Y","1 Dec 2024 to 31 Dec 20242381250555LABGEN",{"$f":"Data!A672","v":"2024-12-01"},{"$f":"TRIM(Data!B672)","v":"PATHLAB MEDICAL LABORATORIES LIMITED"},null,{"$f":"TRIM(Data!C672)","v":"GRP"},{"$f":"TRIM(Data!D672)","v":"2381250555"},{"$f":"TRIM(Data!E672)","v":"LABGEN"},{"$f":"TRIM(Data!F672)","v":"3"},{"$f":"TRIM(Data!G672)","v":"PLDMS"},{"$f":"TRIM(Data!H672)","v":"Local System"},{"$f":"TRIM(Data!I672)","v":"793"},{"$f":"TRIM(Data!J672)","v":"0"},{"$f":"TRIM(Data!K672)","v":"30"},{"$f":"TRIM(Data!L672)","v":"1"},{"$f":"TRIM(Data!M672)","v":"762"},null,null,null,{"$f":"TRIM(Data!N672)","v":"0"},{"$f":"TRIM(Data!O672)","v":"0"},{"$f":"TRIM(Data!P672)","v":"28"},null,{"$f":"TRIM(Data!Q672)","v":"28"},null,null,{"$f":"TRIM(Data!R672)","v":"0"},{"$f":"TRIM(Data!S672)","v":"28"},{"$f":"TRIM(Data!T672)","v":"0"},null,null,null,{"$f":"TRIM(Data!U672)","v":"1"},null,{"$f":"TRIM(Data!V672)","v":"0"},{"$f":"TRIM(Data!W672)","v":"0"},{"$f":"TRIM(Data!X672)","v":"0"},{"$f":"TRIM(Data!Y672)","v":"0"},{"$f":"TRIM(Data!Z672)","v":"0"},{"$f":"TRIM(Data!AA672)","v":"2"},494,"1 Dec 2024 to 31 Dec 2024","Pathlab Medical Laboratories Limited","PATHLAB MED LAB LTD","GROUP","2381250555","LABGEN","3","Local System","Local System","793","0","30","1","762","","0","0","0","0","28","0.0353089533417402","28","0","0","0","28","0","","762","0.960907944514502","1","0.00126103404791929","0","0","0","0","0","2"]
["1 Dec 2024 to 31 Dec 20245963779130LABGEN","1 Dec 2024 to 31 Dec 2024","CUHK MEDICAL CENTRE LIMITED","CUHK MEDICAL CENTRE","PH",5963779130,"LABGEN",1,"HIS","Local System",7395,0,7395,0,0,null,0,0,0,0,0,0,0,0,0,0,0,0,null,0,0,0,0,0,0,0,0,0,0,"","","","1 Dec 2024 to 31 Dec 20244471430786RAD",{"$f":"Data!A675","v":"2024-12-01"},{"$f":"TRIM(Data!B675)","v":"TUNG WAH GROUP OF HOSPITALS"},null,{"$f":"TRIM(Data!C675)","v":"NGO"},{"$f":"TRIM(Data!D675)","v":"4471430786"},{"$f":"TRIM(Data!E675)","v":"RAD"},{"$f":"TRIM(Data!F675)","v":"3"},{"$f":"TRIM(Data!G675)","v":"TWBHCT-LAAM"},{"$f":"TRIM(Data!H675)","v":"Local System"},{"$f":"TRIM(Data!I675)","v":"622"},{"$f":"TRIM(Data!J675)","v":"0"},{"$f":"TRIM(Data!K675)","v":"0"},{"$f":"TRIM(Data!L675)","v":"0"},{"$f":"TRIM(Data!M675)","v":"622"},null,null,null,{"$f":"TRIM(Data!N675)","v":"0"},{"$f":"TRIM(Data!O675)","v":"0"},{"$f":"TRIM(Data!P675)","v":"0"},null,{"$f":"TRIM(Data!Q675)","v":"0"},null,null,{"$f":"TRIM(Data!R675)","v":"0"},{"$f":"TRIM(Data!S675)","v":"0"},{"$f":"TRIM(Data!T675)","v":"0"},null,null,null,{"$f":"TRIM(Data!U675)","v":"0"},null,{"$f":"TRIM(Data!V675)","v":"0"},{"$f":"TRIM(Data!W675)","v":"0"},{"$f":"TRIM(Data!X675)","v":"0"},{"$f":"TRIM(Data!Y675)","v":"0"},{"$f":"TRIM(Data!Z675)","v":"0"},{"$f":"TRIM(Data!AA675)","v":"0"},597,"1 Dec 2024 to 31 Dec 2024","TUNG WAH GROUP OF HOSPITALS","TUNG WAH GROUP. OF HOSPITALS","NGO","4471430786","RAD","3","TWBHCT-LAAM","Local System","622","0","0","0","622","","0","0","0","0","0","0","0","0","0","0","0","0","","622","1","0","0","0","0","0","0","0","0"]
["1 Dec 2024 to 31 Dec 20245963779130LABMB","1 Dec 2024 to 31 Dec 2024","CUHK MEDICAL CENTRE LIMITED","CUHK MEDICAL CENTRE","PH",5963779130,"LABMB",1,"HIS","Local System",1602,0,1602,0,0,null,0,0,0,0,0,0,0,0,0,0,0,0,null,0,0,0,0,0,0,0,0,0,0,"","","","1 Dec 2024 to 31 Dec 20244427383241ENCTR",{"$f":"Data!A676","v":"2024-12-01"},{"$f":"TRIM(Data!B676)","v":"LEUNG MAN CHIT CLINIC"},null,{"$f":"TRIM(Data!C676)","v":"SOLO"},{"$f":"TRIM(Data!D676)","v":"4427383241"},{"$f":"TRIM(Data!E676)","v":"ENCTR"},{"$f":"TRIM(Data!F676)","v":"3"},{"$f":"TRIM(Data!G676)","v":"ClinicSolution"},{"$f":"TRIM(Data!H676)","v":"Local System"},{"$f":"TRIM(Data!I676)","v":"620"},{"$f":"TRIM(Data!J676)","v":"0"},{"$f":"TRIM(Data!K676)","v":"0"},{"$f":"TRIM(Data!L676)","v":"0"},{"$f":"TRIM(Data!M676)","v":"620"},null,null,null,{"$f":"TRIM(Data!N676)","v":"0"},{"$f":"TRIM(Data!O676)","v":"0"},{"$f":"TRIM(Data!P676)","v":"0"},null,{"$f":"TRIM(Data!Q676)","v":"0"},null,null,{"$f":"TRIM(Data!R676)","v":"0"},{"$f":"TRIM(Data!S676)","v":"0"},{"$f":"TRIM(Data!T676)","v":"0"},null,null,null,{"$f":"TRIM(Data!U676)","v":"0"},null,{"$f":"TRIM(Data!V676)","v":"0"},{"$f":"TRIM(Data!W676)","v":"0"},{"$f":"TRIM(Data!X676)","v":"0"},{"$f":"TRIM(Data!Y676)","v":"0"},{"$f":"TRIM(Data!Z676)","v":"0"},{"$f":"TRIM(Data!AA676)","v":"0"},592,"1 Dec 2024 to 31 Dec 2024","LEUNG MAN CHIT CLINIC","LEUNG MAN CHIT CLINIC","SOLO","4427383241","ENCTR","3","ClinicSolution","Local System","620","0","0","0","620","","0","0","0","0","0","0","0","0","0","0","0","0","","620","1","0","0","0","0","0","0","0","0"]
["1 Dec 2024 to 31 Dec 20245977831183RXD","1 Dec 2024 to 31 Dec 2024","PENG CHAU MEDICAL CENTRE","PENG CHAU MEDICAL CENTRE","SOLO",5977831183,"RXD",3,"Local System","Local System",10,0,0,1,9,null,0,0,0,0,1,0.1,1,0,0,1,0,0,null,9,0.9,0,0,0,0,0,0,0,0,"Y","","Y","1 Dec 2024 to 31 Dec 20241728942726ENCTR",{"$f":"Data!A679","v":"2024-12-01"},{"$f":"TRIM(Data!B679)","v":"ST. TERESA'S HOSPITAL - CHINESE MEDICINE CENTRE"},null,{"$f":"TRIM(Data!C679)","v":"PH"},{"$f":"TRIM(Data!D679)","v":"1728942726"},{"$f":"TRIM(Data!E679)","v":"ENCTR"},{"$f":"TRIM(Data!F679)","v":"3"},{"$f":"TRIM(Data!G679)","v":"STH HIS"},{"$f":"TRIM(Data!H679)","v":"EC Connect"},{"$f":"TRIM(Data!I679)","v":"149"},{"$f":"TRIM(Data!J679)","v":"0"},{"$f":"TRIM(Data!K679)","v":"0"},{"$f":"TRIM(Data!L679)","v":"0"},{"$f":"TRIM(Data!M679)","v":"149"},null,null,null,{"$f":"TRIM(Data!N679)","v":"0"},{"$f":"TRIM(Data!O679)","v":"0"},{"$f":"TRIM(Data!P679)","v":"0"},null,{"$f":"TRIM(Data!Q679)","v":"0"},null,null,{"$f":"TRIM(Data!R679)","v":"0"},{"$f":"TRIM(Data!S679)","v":"0"},{"$f":"TRIM(Data!T679)","v":"0"},null,null,null,{"$f":"TRIM(Data!U679)","v":"0"},null,{"$f":"TRIM(Data!V679)","v":"0"},{"$f":"TRIM(Data!W679)","v":"0"},{"$f":"TRIM(Data!X679)","v":"0"},{"$f":"TRIM(Data!Y679)","v":"0"},{"$f":"TRIM(Data!Z679)","v":"0"},{"$f":"TRIM(Data!AA679)","v":"0"},463,"1 Dec 2024 to 31 Dec 2024","St. Teresa's Hospital - Chinese Medicine Centre","STH-CMC","PH","1728942726","ENCTR","3","STH HIS","Local System","149","0","0","0","149","","0","0","0","0","0","0","0","0","0","0","0","0","","149","1","0","0","0","0","0","0","0","0"]
["1 Dec 2024 to 31 Dec 20246142872901EPIS","1 Dec 2024 to 31 Dec 2024","DHC EXPRESS-ISLANDS (NAAC)","DHC EXPRESS-ISLANDS-CC","DHC",6142872901,"EPIS",1,"Local System","Local System",795,0,795,0,0,null,0,0,0,0,0,0,0,0,0,0,0,0,null,0,0,0,0,0,0,0,0,0,0,"","","","1 Dec 2024 to 31 Dec 20241728942726CMPX",{"$f":"Data!A682","v":"2024-12-01"},{"$f":"TRIM(Data!B682)","v":"ST. TERESA'S HOSPITAL - CHINESE MEDICINE CENTRE"},null,{"$f":"TRIM(Data!C682)","v":"PH"},{"$f":"TRIM(Data!D682)","v":"1728942726"},{"$f":"TRIM(Data!E682)","v":"CMPX"},{"$f":"TRIM(Data!F682)","v":"3"},{"$f":"TRIM(Data!G682)","v":"STH HIS"},{"$f":"TRIM(Data!H682)","v":"EC Connect"},{"$f":"TRIM(Data!I682)","v":"25"},{"$f":"TRIM(Data!J682)","v":"0"},{"$f":"TRIM(Data!K682)","v":"0"},{"$f":"TRIM(Data!L682)","v":"1"},{"$f":"TRIM(Data!M682)","v":"24"},null,null,null,{"$f":"TRIM(Data!N682)","v":"0"},{"$f":"TRIM(Data!O682)","v":"0"},{"$f":"TRIM(Data!P682)","v":"0"},null,{"$f":"TRIM(Data!Q682)","v":"0"},null,null,{"$f":"TRIM(Data!R682)","v":"0"},{"$f":"TRIM(Data!S682)","v":"0"},{"$f":"TRIM(Data!T682)","v":"0"},null,null,null,{"$f":"TRIM(Data!U682)","v":"0"},null,{"$f":"TRIM(Data!V682)","v":"0"},{"$f":"TRIM(Data!W682)","v":"0"},{"$f":"TRIM(Data!X682)","v":"0"},{"$f":"TRIM(Data!Y682)","v":"0"},{"$f":"TRIM(Data!Z682)","v":"0"},{"$f":"TRIM(Data!AA682)","v":"0"},460,"1 Dec 2024 to 31 Dec 2024","St. Teresa's Hospital - Chinese Medicine Centre","STH-CMC","PH","1728942726","CMPX","3","STH HIS","EC Connect","25","0","0","1","24","","0","0","0","0","0","0","0","0","0","0","0","0","","24","0.96","0","0","0","0","0","0","0","0"]
["1 Dec 2024 to 31 Dec 20246255376532CMPX","1 Dec 2024 to 31 Dec 2024","18 Chinese Medicine Clinic cum Traing and Research Centre (Yan Chai Hospital)","18CMCTRs (YCH)","NGO",6255376532,"CMPX",3,"Local System","EC Connect",149,0,0,0,149,null,0,0,0,0,0,0,0,0,0,0,0,0,null,149,1,0,0,0,0,0,0,0,0,"","","Y","1 Dec 2024 to 31 Dec 20249179355867RXD",{"$f":"Data!A684","v":"2024-12-01"},{"$f":"TRIM(Data!B684)","v":"HONG KONG CHRISTIAN SERVICE"},null,{"$f":"TRIM(Data!C684)","v":"NGO"},{"$f":"TRIM(Data!D684)","v":"9179355867"},{"$f":"TRIM(Data!E684)","v":"RXD"},{"$f":"TRIM(Data!F684)","v":"3,2"},{"$f":"TRIM(Data!G684)","v":"CMS On-ramp"},{"$f":"TRIM(Data!H684)","v":"CMS On-ramp"},{"$f":"TRIM(Data!I684)","v":"193"},{"$f":"TRIM(Data!J684)","v":"0"},{"$f":"TRIM(Data!K684)","v":"0"},{"$f":"TRIM(Data!L684)","v":"100"},{"$f":"TRIM(Data!M684)","v":"93"},null,null,null,{"$f":"TRIM(Data!N684)","v":"0"},{"$f":"TRIM(Data!O684)","v":"0"},{"$f":"TRIM(Data!P684)","v":"0"},null,{"$f":"TRIM(Data!Q684)","v":"0"},null,null,{"$f":"TRIM(Data!R684)","v":"0"},{"$f":"TRIM(Data!S684)","v":"0"},{"$f":"TRIM(Data!T684)","v":"0"},null,null,null,{"$f":"TRIM(Data!U684)","v":"0"},null,{"$f":"TRIM(Data!V684)","v":"0"},{"$f":"TRIM(Data!W684)","v":"0"},{"$f":"TRIM(Data!X684)","v":"0"},{"$f":"TRIM(Data!Y684)","v":"0"},{"$f":"TRIM(Data!Z684)","v":"0"},{"$f":"TRIM(Data!AA684)","v":"0"},841,"1 Dec 2024 to 31 Dec 2024","Hong Kong Christian Service","HKCS","GROUP","9179355867","RXD","3","Local System","Local System","193","0","0","100","93","","0","0","0","0","0","0","0","0","0","0","0","0","","93","0.481865284974093","0","0","0","0","0","0","0","0"]
["1 Dec 2024 to 31 Dec 20246255376532CMRXO","1 Dec 2024 to 31 Dec 2024","18 Chinese Medicine Clinic cum Traing and Research Centre (Yan Chai Hospital)","18CMCTRs (YCH)","NGO",6255376532,"CMRXO",3,"Local System","EC Connect",638,0,0,272,366,null,0,0,0,0,272,0.42633228840125392,272,0,0,272,0,0,null,366,0.57366771159874608,0,0,0,0,0,0,0,0,"","","Y","1 Dec 2024 to 31 Dec 20249179355867ENCTR",{"$f":"Data!A685","v":"2024-12-01"},{"$f":"TRIM(Data!B685)","v":"HONG KONG CHRISTIAN SERVICE"},null,{"$f":"TRIM(Data!C685)","v":"NGO"},{"$f":"TRIM(Data!D685)","v":"9179355867"},{"$f":"TRIM(Data!E685)","v":"ENCTR"},{"$f":"TRIM(Data!F685)","v":"3"},{"$f":"TRIM(Data!G685)","v":"CMS On-ramp"},{"$f":"TRIM(Data!H685)","v":"CMS On-ramp"},{"$f":"TRIM(Data!I685)","v":"78"},{"$f":"TRIM(Data!J685)","v":"0"},{"$f":"TRIM(Data!K685)","v":"0"},{"$f":"TRIM(Data!L685)","v":"0"},{"$f":"TRIM(Data!M685)","v":"78"},null,null,null,{"$f":"TRIM(Data!N685)","v":"0"},{"$f":"TRIM(Data!O685)","v":"0"},{"$f":"TRIM(Data!P685)","v":"0"},null,{"$f":"TRIM(Data!Q685)","v":"0"},null,null,{"$f":"TRIM(Data!R685)","v":"0"},{"$f":"TRIM(Data!S685)","v":"0"},{"$f":"TRIM(Data!T685)","v":"0"},null,null,null,{"$f":"TRIM(Data!U685)","v":"0"},null,{"$f":"TRIM(Data!V685)","v":"0"},{"$f":"TRIM(Data!W685)","v":"0"},{"$f":"TRIM(Data!X685)","v":"0"},{"$f":"TRIM(Data!Y685)","v":"0"},{"$f":"TRIM(Data!Z685)","v":"0"},{"$f":"TRIM(Data!AA685)","v":"0"},839,"1 Dec 2024 to 31 Dec 2024","Hong Kong Christian Service","HKCS","GROUP","9179355867","ENCTR","3","Local System","Local System","78","0","0","0","78","","0","0","0","0","0","0","0","0","0","0","0","0","","78","1","0","0","0","0","0","0","0","0"]
["1 Dec 2024 to 31 Dec 20246256774535ENCTR","1 Dec 2024 to 31 Dec 2024","DR. WONG MAN HUNG","DR. WONG MAN HUNG","SOLO",6256774535,"ENCTR",3,"ClinicSolution","Local System",19,0,0,0,19,null,0,0,0,0,0,0,0,0,0,0,0,0,null,19,1,0,0,0,0,0,0,0,0,"","","Y","1 Dec 2024 to 31 Dec 20249179355867AL1",{"$f":"Data!A687","v":"2024-12-01"},{"$f":"TRIM(Data!B687)","v":"HONG KONG CHRISTIAN SERVICE"},null,{"$f":"TRIM(Data!C687)","v":"NGO"},{"$f":"TRIM(Data!D687)","v":"9179355867"},{"$f":"TRIM(Data!E687)","v":"AL1"},{"$f":"TRIM(Data!F687)","v":"3,2"},{"$f":"TRIM(Data!G687)","v":"CMS On-ramp"},{"$f":"TRIM(Data!H687)","v":"CMS On-ramp"},{"$f":"TRIM(Data!I687)","v":"3"},{"$f":"TRIM(Data!J687)","v":"0"},{"$f":"TRIM(Data!K687)","v":"0"},{"$f":"TRIM(Data!L687)","v":"1"},{"$f":"TRIM(Data!M687)","v":"2"},null,null,null,{"$f":"TRIM(Data!N687)","v":"0"},{"$f":"TRIM(Data!O687)","v":"0"},{"$f":"TRIM(Data!P687)","v":"1"},null,{"$f":"TRIM(Data!Q687)","v":"1"},null,null,{"$f":"TRIM(Data!R687)","v":"1"},{"$f":"TRIM(Data!S687)","v":"0"},{"$f":"TRIM(Data!T687)","v":"0"},null,null,null,{"$f":"TRIM(Data!U687)","v":"0"},null,{"$f":"TRIM(Data!V687)","v":"0"},{"$f":"TRIM(Data!W687)","v":"0"},{"$f":"TRIM(Data!X687)","v":"0"},{"$f":"TRIM(Data!Y687)","v":"0"},{"$f":"TRIM(Data!Z687)","v":"0"},{"$f":"TRIM(Data!AA687)","v":"0"},838,"1 Dec 2024 to 31 Dec 2024","Hong Kong Christian Service","HKCS","GROUP","9179355867","AL1","3","Local System","Local System","3","0","0","1","2","","0","0","0","0","1","0.333333333333333","1","0","0","1","0","0","","2","0.666666666666667","0","0","0","0","0","0","0","0"]
["1 Dec 2024 to 31 Dec 20246303033042ADR","1 Dec 2024 to 31 Dec 2024","DISTRICT HEALTH CENTRE-TUEN MUN (ELCHK)","DHC-TUEN MUN-CC","DHC",6303033042,"ADR",3,"Local System","Local System",2,0,0,0,2,null,0,0,0,0,0,0,0,0,0,0,0,0,null,2,1,0,0,0,0,0,0,0,0,"","","Y","1 Dec 2024 to 31 Dec 20243226804803ENCTR",{"$f":"Data!A690","v":"2024-12-01"},{"$f":"TRIM(Data!B690)","v":"DR. LEUNG KIN KAY"},null,{"$f":"TRIM(Data!C690)","v":"SOLO"},{"$f":"TRIM(Data!D690)","v":"3226804803"},{"$f":"TRIM(Data!E690)","v":"ENCTR"},{"$f":"TRIM(Data!F690)","v":"3"},{"$f":"TRIM(Data!G690)","v":"CMS On-ramp"},{"$f":"TRIM(Data!H690)","v":"CMS On-ramp"},{"$f":"TRIM(Data!I690)","v":"138"},{"$f":"TRIM(Data!J690)","v":"0"},{"$f":"TRIM(Data!K690)","v":"0"},{"$f":"TRIM(Data!L690)","v":"0"},{"$f":"TRIM(Data!M690)","v":"138"},null,null,null,{"$f":"TRIM(Data!N690)","v":"0"},{"$f":"TRIM(Data!O690)","v":"0"},{"$f":"TRIM(Data!P690)","v":"0"},null,{"$f":"TRIM(Data!Q690)","v":"0"},null,null,{"$f":"TRIM(Data!R690)","v":"0"},{"$f":"TRIM(Data!S690)","v":"0"},{"$f":"TRIM(Data!T690)","v":"0"},null,null,null,{"$f":"TRIM(Data!U690)","v":"0"},null,{"$f":"TRIM(Data!V690)","v":"0"},{"$f":"TRIM(Data!W690)","v":"0"},{"$f":"TRIM(Data!X690)","v":"0"},{"$f":"TRIM(Data!Y690)","v":"0"},{"$f":"TRIM(Data!Z690)","v":"0"},{"$f":"TRIM(Data!AA690)","v":"0"},543,"1 Dec 2024 to 31 Dec 2024","DR. LEUNG KIN KAY","DR. LEUNG KIN KAY","SOLO","3226804803","ENCTR","3","Local System","Local System","138","0","0","0","138","","0","0","0","0","0","0","0","0","0","0","0","0","","138","1","0","0","0","0","0","0","0","0"]
["1 Dec 2024 to 31 Dec 20246303033042EPIS","1 Dec 2024 to 31 Dec 2024","DISTRICT HEALTH CENTRE-TUEN MUN (ELCHK)","DHC-TUEN MUN-CC","DHC",6303033042,"EPIS",1,"Local System","Local System",7770,0,7770,0,0,null,0,0,0,0,0,0,0,0,0,0,0,0,null,0,0,0,0,0,0,0,0,0,0,"","","Y","1 Dec 2024 to 31 Dec 20243226804803PROB",{"$f":"Data!A693","v":"2024-12-01"},{"$f":"TRIM(Data!B693)","v":"DR. LEUNG KIN KAY"},null,{"$f":"TRIM(Data!C693)","v":"SOLO"},{"$f":"TRIM(Data!D693)","v":"3226804803"},{"$f":"TRIM(Data!E693)","v":"PROB"},{"$f":"TRIM(Data!F693)","v":"3,2"},{"$f":"TRIM(Data!G693)","v":"CMS On-ramp"},{"$f":"TRIM(Data!H693)","v":"CMS On-ramp"},{"$f":"TRIM(Data!I693)","v":"79"},{"$f":"TRIM(Data!J693)","v":"0"},{"$f":"TRIM(Data!K693)","v":"0"},{"$f":"TRIM(Data!L693)","v":"6"},{"$f":"TRIM(Data!M693)","v":"73"},null,null,null,{"$f":"TRIM(Data!N693)","v":"0"},{"$f":"TRIM(Data!O693)","v":"0"},{"$f":"TRIM(Data!P693)","v":"0"},null,{"$f":"TRIM(Data!Q693)","v":"0"},null,null,{"$f":"TRIM(Data!R693)","v":"0"},{"$f":"TRIM(Data!S693)","v":"0"},{"$f":"TRIM(Data!T693)","v":"0"},null,null,null,{"$f":"TRIM(Data!U693)","v":"0"},null,{"$f":"TRIM(Data!V693)","v":"0"},{"$f":"TRIM(Data!W693)","v":"0"},{"$f":"TRIM(Data!X693)","v":"0"},{"$f":"TRIM(Data!Y693)","v":"0"},{"$f":"TRIM(Data!Z693)","v":"0"},{"$f":"TRIM(Data!AA693)","v":"0"},545,"1 Dec 2024 to 31 Dec 2024","DR. LEUNG KIN KAY","DR. LEUNG KIN KAY","SOLO","3226804803","PROB","3","Local System","Local System","79","0","0","6","73","","0","0","0","0","0","0","0","0","0","0","0","0","","73","0.924050632911392","0","0","0","0","0","0","0","0"]
["1 Dec 2024 to 31 Dec 20246402782674ENCTR","1 Dec 2024 to 31 Dec 2024","DHC EXPRESS-SAI KUNG (HOHCS)","DHC EXPRESS-SAI KUNG-CC","DHC",6402782674,"ENCTR",3,"Local System","Local System",3059,0,0,0,3059,null,0,0,0,0,0,0,0,0,0,0,0,0,null,3059,1,0,0,0,0,0,0,0,0,"","","Y","1 Dec 2024 to 31 Dec 20243226804803IMMU",{"$f":"Data!A694","v":"2024-12-01"},{"$f":"TRIM(Data!B694)","v":"DR. LEUNG KIN KAY"},null,{"$f":"TRIM(Data!C694)","v":"SOLO"},{"$f":"TRIM(Data!D694)","v":"3226804803"},{"$f":"TRIM(Data!E694)","v":"IMMU"},{"$f":"TRIM(Data!F694)","v":"3,2"},{"$f":"TRIM(Data!G694)","v":"CMS On-ramp"},{"$f":"TRIM(Data!H694)","v":"CMS On-ramp"},{"$f":"TRIM(Data!I694)","v":"2"},{"$f":"TRIM(Data!J694)","v":"0"},{"$f":"TRIM(Data!K694)","v":"0"},{"$f":"TRIM(Data!L694)","v":"0"},{"$f":"TRIM(Data!M694)","v":"2"},null,null,null,{"$f":"TRIM(Data!N694)","v":"0"},{"$f":"TRIM(Data!O694)","v":"0"},{"$f":"TRIM(Data!P694)","v":"0"},null,{"$f":"TRIM(Data!Q694)","v":"0"},null,null,{"$f":"TRIM(Data!R694)","v":"0"},{"$f":"TRIM(Data!S694)","v":"0"},{"$f":"TRIM(Data!T694)","v":"0"},null,null,null,{"$f":"TRIM(Data!U694)","v":"0"},null,{"$f":"TRIM(Data!V694)","v":"0"},{"$f":"TRIM(Data!W694)","v":"0"},{"$f":"TRIM(Data!X694)","v":"0"},{"$f":"TRIM(Data!Y694)","v":"0"},{"$f":"TRIM(Data!Z694)","v":"0"},{"$f":"TRIM(Data!AA694)","v":"0"},544,"1 Dec 2024 to 31 Dec 2024","DR. LEUNG KIN KAY","DR. LEUNG KIN KAY","SOLO","3226804803","IMMU","3","Local System","Local System","2","0","0","0","2","","0","0","0","0","0","0","0","0","0","0","0","0","","2","1","0","0","0","0","0","0","0","0"]
["1 Dec 2024 to 31 Dec 20246467582028PROB","1 Dec 2024 to 31 Dec 2024","CITY SURGICAL CENTER LIMITED","CITY SURGICAL CENTER","GROUP",6467582028,"PROB",3,"ClinicSolution","Local System",94,5,0,89,0,null,5,5.3191489361702128E-2,5,0,89,0.94680851063829785,89,0,0,89,0,0,null,0,0,0,0,0,0,0,0,0,0,"","","Y","1 Dec 2024 to 31 Dec 20242308765964PROB",{"$f":"Data!A698","v":"2024-12-01"},{"$f":"TRIM(Data!B698)","v":"DR SHUM NAM CHU'S CLINIC"},null,{"$f":"TRIM(Data!C698)","v":"SOLO"},{"$f":"TRIM(Data!D698)","v":"2308765964"},{"$f":"TRIM(Data!E698)","v":"PROB"},{"$f":"TRIM(Data!F698)","v":"3"},{"$f":"TRIM(Data!G698)","v":"CMS On-ramp"},{"$f":"TRIM(Data!H698)","v":"CMS On-ramp"},{"$f":"TRIM(Data!I698)","v":"73"},{"$f":"TRIM(Data!J698)","v":"0"},{"$f":"TRIM(Data!K698)","v":"0"},{"$f":"TRIM(Data!L698)","v":"3"},{"$f":"TRIM(Data!M698)","v":"70"},null,null,null,{"$f":"TRIM(Data!N698)","v":"0"},{"$f":"TRIM(Data!O698)","v":"0"},{"$f":"TRIM(Data!P698)","v":"0"},null,{"$f":"TRIM(Data!Q698)","v":"0"},null,null,{"$f":"TRIM(Data!R698)","v":"0"},{"$f":"TRIM(Data!S698)","v":"0"},{"$f":"TRIM(Data!T698)","v":"0"},null,null,null,{"$f":"TRIM(Data!U698)","v":"0"},null,{"$f":"TRIM(Data!V698)","v":"0"},{"$f":"TRIM(Data!W698)","v":"0"},{"$f":"TRIM(Data!X698)","v":"0"},{"$f":"TRIM(Data!Y698)","v":"0"},{"$f":"TRIM(Data!Z698)","v":"0"},{"$f":"TRIM(Data!AA698)","v":"0"},482,"1 Dec 2024 to 31 Dec 2024","DR SUM NAM CHU'S CLINIC","DR SUM NAM CHU'S CLINIC","SOLO","2308765964","PROB","3","Local System","Local System","73","0","0","3","70","","0","0","0","0","0","0","0","0","0","0","0","0","","70","0.958904109589041","0","0","0","0","0","0","0","0"]
["1 Dec 2024 to 31 Dec 20246467582028RXD","1 Dec 2024 to 31 Dec 2024","CITY SURGICAL CENTER LIMITED","CITY SURGICAL CENTER","GROUP",6467582028,"RXD",2,"ClinicSolution","Local System",20,0,0,20,0,null,0,0,0,0,0,0,0,0,0,0,0,0,null,0,0,0,0,0,0,0,0,0,0,"","","Y","1 Dec 2024 to 31 Dec 20242308765964ENCTR",{"$f":"Data!A699","v":"2024-12-01"},{"$f":"TRIM(Data!B699)","v":"DR SHUM NAM CHU'S CLINIC"},null,{"$f":"TRIM(Data!C699)","v":"SOLO"},{"$f":"TRIM(Data!D699)","v":"2308765964"},{"$f":"TRIM(Data!E699)","v":"ENCTR"},{"$f":"TRIM(Data!F699)","v":"3"},{"$f":"TRIM(Data!G699)","v":"CMS On-ramp"},{"$f":"TRIM(Data!H699)","v":"CMS On-ramp"},{"$f":"TRIM(Data!I699)","v":"62"},{"$f":"TRIM(Data!J699)","v":"0"},{"$f":"TRIM(Data!K699)","v":"0"},{"$f":"TRIM(Data!L699)","v":"0"},{"$f":"TRIM(Data!M699)","v":"62"},null,null,null,{"$f":"TRIM(Data!N699)","v":"0"},{"$f":"TRIM(Data!O699)","v":"0"},{"$f":"TRIM(Data!P699)","v":"0"},null,{"$f":"TRIM(Data!Q699)","v":"0"},null,null,{"$f":"TRIM(Data!R699)","v":"0"},{"$f":"TRIM(Data!S699)","v":"0"},{"$f":"TRIM(Data!T699)","v":"0"},null,null,null,{"$f":"TRIM(Data!U699)","v":"0"},null,{"$f":"TRIM(Data!V699)","v":"0"},{"$f":"TRIM(Data!W699)","v":"0"},{"$f":"TRIM(Data!X699)","v":"0"},{"$f":"TRIM(Data!Y699)","v":"0"},{"$f":"TRIM(Data!Z699)","v":"0"},{"$f":"TRIM(Data!AA699)","v":"0"},480,"1 Dec 2024 to 31 Dec 2024","DR SUM NAM CHU'S CLINIC","DR SUM NAM CHU'S CLINIC","SOLO","2308765964","ENCTR","3","Local System","Local System","62","0","0","0","62","","0","0","0","0","0","0","0","0","0","0","0","0","","62","1","0","0","0","0","0","0","0","0"]
["1 Dec 2024 to 31 Dec 20246542377532EPIS","1 Dec 2024 to 31 Dec 2024","DHC EXPRESS-EASTERN (HKSR)","DHC EXPRESS-EASTERN-CC","DHC",6542377532,"EPIS",1,"Local System","Local System",1154,0,1154,0,0,null,0,0,0,0,0,0,0,0,0,0,0,0,null,0,0,0,0,0,0,0,0,0,0,"","","Y","1 Dec 2024 to 31 Dec 20243726405388RAD",{"$f":"Data!A702","v":"2024-12-01"},{"$f":"TRIM(Data!B702)","v":"THE UNIVERSITY OF HONG KONG"},null,{"$f":"TRIM(Data!C702)","v":"ACAD"},{"$f":"TRIM(Data!D702)","v":"3726405388"},{"$f":"TRIM(Data!E702)","v":"RAD"},{"$f":"TRIM(Data!F702)","v":"3"},{"$f":"TRIM(Data!G702)","v":"RHI2"},{"$f":"TRIM(Data!H702)","v":"Local System"},{"$f":"TRIM(Data!I702)","v":"359"},{"$f":"TRIM(Data!J702)","v":"0"},{"$f":"TRIM(Data!K702)","v":"0"},{"$f":"TRIM(Data!L702)","v":"0"},{"$f":"TRIM(Data!M702)","v":"359"},null,null,null,{"$f":"TRIM(Data!N702)","v":"0"},{"$f":"TRIM(Data!O702)","v":"0"},{"$f":"TRIM(Data!P702)","v":"0"},null,{"$f":"TRIM(Data!Q702)","v":"0"},null,null,{"$f":"TRIM(Data!R702)","v":"0"},{"$f":"TRIM(Data!S702)","v":"0"},{"$f":"TRIM(Data!T702)","v":"0"},null,null,null,{"$f":"TRIM(Data!U702)","v":"0"},null,{"$f":"TRIM(Data!V702)","v":"0"},{"$f":"TRIM(Data!W702)","v":"0"},{"$f":"TRIM(Data!X702)","v":"0"},{"$f":"TRIM(Data!Y702)","v":"0"},{"$f":"TRIM(Data!Z702)","v":"0"},{"$f":"TRIM(Data!AA702)","v":"0"},576,"1 Dec 2024 to 31 Dec 2024","The University of Hong Kong","HKU","HCAI","3726405388","RAD","3","Local System","Local System","359","0","0","0","359","","0","0","0","0","0","0","0","0","0","0","0","0","","359","1","0","0","0","0","0","0","0","0"]
["1 Dec 2024 to 31 Dec 20246609847497RAD","1 Dec 2024 to 31 Dec 2024","IRAD MEDICAL HOLDING LIMITED","IRAD MEDICAL","GROUP",6609847497,"RAD",3,"RHI2","Local System",2253,4,0,0,2249,null,4,1.7754105636928539E-3,0,4,0,0,0,0,0,0,0,0,null,2249,0.9982245894363071,0,0,0,0,0,0,0,0,"","","Y","1 Dec 2024 to 31 Dec 20249713227452ENCTR",{"$f":"Data!A703","v":"2024-12-01"},{"$f":"TRIM(Data!B703)","v":"ANCHOR ONCOLOGY AND HEMATOLOGY CENTRE LIMITED"},null,{"$f":"TRIM(Data!C703)","v":"GRP"},{"$f":"TRIM(Data!D703)","v":"9713227452"},{"$f":"TRIM(Data!E703)","v":"ENCTR"},{"$f":"TRIM(Data!F703)","v":"3"},{"$f":"TRIM(Data!G703)","v":"ClinicSolution"},{"$f":"TRIM(Data!H703)","v":"Local System"},{"$f":"TRIM(Data!I703)","v":"236"},{"$f":"TRIM(Data!J703)","v":"0"},{"$f":"TRIM(Data!K703)","v":"0"},{"$f":"TRIM(Data!L703)","v":"0"},{"$f":"TRIM(Data!M703)","v":"236"},null,null,null,{"$f":"TRIM(Data!N703)","v":"0"},{"$f":"TRIM(Data!O703)","v":"0"},{"$f":"TRIM(Data!P703)","v":"0"},null,{"$f":"TRIM(Data!Q703)","v":"0"},null,null,{"$f":"TRIM(Data!R703)","v":"0"},{"$f":"TRIM(Data!S703)","v":"0"},{"$f":"TRIM(Data!T703)","v":"0"},null,null,null,{"$f":"TRIM(Data!U703)","v":"0"},null,{"$f":"TRIM(Data!V703)","v":"0"},{"$f":"TRIM(Data!W703)","v":"0"},{"$f":"TRIM(Data!X703)","v":"0"},{"$f":"TRIM(Data!Y703)","v":"0"},{"$f":"TRIM(Data!Z703)","v":"0"},{"$f":"TRIM(Data!AA703)","v":"0"},866,"1 Dec 2024 to 31 Dec 2024","ANCHOR ONCOLOGY AND HEMATOLOGY CENTRE LIMITED","AOHC","GROUP","9713227452","ENCTR","3","ClinicSolution","Local System","236","0","0","0","236","","0","0","0","0","0","0","0","0","0","0","0","0","","236","1","0","0","0","0","0","0","0","0"]
["1 Dec 2024 to 31 Dec 20246645809992EPIS","1 Dec 2024 to 31 Dec 2024","DHC EXPRESS-CENTRAL AND WESTERN (HKSR)","DHC EXPRESS-C&W-CC","DHC",6645809992,"EPIS",1,"Local System","Local System",704,0,704,0,0,null,0,0,0,0,0,0,0,0,0,0,0,0,null,0,0,0,0,0,0,0,0,0,0,"","","Y","1 Dec 2024 to 31 Dec 20249713227452RXO",{"$f":"Data!A705","v":"2024-12-01"},{"$f":"TRIM(Data!B705)","v":"ANCHOR ONCOLOGY AND HEMATOLOGY CENTRE LIMITED"},null,{"$f":"TRIM(Data!C705)","v":"GRP"},{"$f":"TRIM(Data!D705)","v":"9713227452"},{"$f":"TRIM(Data!E705)","v":"RXO"},{"$f":"TRIM(Data!F705)","v":"2"},{"$f":"TRIM(Data!G705)","v":"ClinicSolution"},{"$f":"TRIM(Data!H705)","v":"Local System"},{"$f":"TRIM(Data!I705)","v":"57"},{"$f":"TRIM(Data!J705)","v":"0"},{"$f":"TRIM(Data!K705)","v":"0"},{"$f":"TRIM(Data!L705)","v":"57"},{"$f":"TRIM(Data!M705)","v":"0"},null,null,null,{"$f":"TRIM(Data!N705)","v":"0"},{"$f":"TRIM(Data!O705)","v":"0"},{"$f":"TRIM(Data!P705)","v":"0"},null,{"$f":"TRIM(Data!Q705)","v":"0"},null,null,{"$f":"TRIM(Data!R705)","v":"0"},{"$f":"TRIM(Data!S705)","v":"0"},{"$f":"TRIM(Data!T705)","v":"0"},null,null,null,{"$f":"TRIM(Data!U705)","v":"0"},null,{"$f":"TRIM(Data!V705)","v":"0"},{"$f":"TRIM(Data!W705)","v":"0"},{"$f":"TRIM(Data!X705)","v":"0"},{"$f":"TRIM(Data!Y705)","v":"0"},{"$f":"TRIM(Data!Z705)","v":"0"},{"$f":"TRIM(Data!AA705)","v":"0"},868,"1 Dec 2024 to 31 Dec 2024","ANCHOR ONCOLOGY AND HEMATOLOGY CENTRE LIMITED","AOHC","GROUP","9713227452","RXO","2","ClinicSolution","Local System","57","0","0","57","0","","0","0","0","0","0","0","0","0","0","0","0","0","","0","0","0","0","0","0","0","0","0","0"]
["1 Dec 2024 to 31 Dec 20246691242811RAD","1 Dec 2024 to 31 Dec 2024","HONG KONG INTEGRATED IMAGING AND ENDOSCOPY DIANOSTIC CENTRE","HKIDIC","GROUP",6691242811,"RAD",3,"Local System","Local System",836,0,0,0,836,null,0,0,0,0,0,0,0,0,0,0,0,0,null,836,1,0,0,0,0,0,0,0,0,"","","Y","1 Dec 2024 to 31 Dec 20246467582028RXD",{"$f":"Data!A708","v":"2024-12-01"},{"$f":"TRIM(Data!B708)","v":"CITY SURGICAL CENTER LIMITED"},null,{"$f":"TRIM(Data!C708)","v":"GRP"},{"$f":"TRIM(Data!D708)","v":"6467582028"},{"$f":"TRIM(Data!E708)","v":"RXD"},{"$f":"TRIM(Data!F708)","v":"2"},{"$f":"TRIM(Data!G708)","v":"ClinicSolution"},{"$f":"TRIM(Data!H708)","v":"Local System"},{"$f":"TRIM(Data!I708)","v":"20"},{"$f":"TRIM(Data!J708)","v":"0"},{"$f":"TRIM(Data!K708)","v":"0"},{"$f":"TRIM(Data!L708)","v":"20"},{"$f":"TRIM(Data!M708)","v":"0"},null,null,null,{"$f":"TRIM(Data!N708)","v":"0"},{"$f":"TRIM(Data!O708)","v":"0"},{"$f":"TRIM(Data!P708)","v":"0"},null,{"$f":"TRIM(Data!Q708)","v":"0"},null,null,{"$f":"TRIM(Data!R708)","v":"0"},{"$f":"TRIM(Data!S708)","v":"0"},{"$f":"TRIM(Data!T708)","v":"0"},null,null,null,{"$f":"TRIM(Data!U708)","v":"0"},null,{"$f":"TRIM(Data!V708)","v":"0"},{"$f":"TRIM(Data!W708)","v":"0"},{"$f":"TRIM(Data!X708)","v":"0"},{"$f":"TRIM(Data!Y708)","v":"0"},{"$f":"TRIM(Data!Z708)","v":"0"},{"$f":"TRIM(Data!AA708)","v":"0"},706,"1 Dec 2024 to 31 Dec 2024","CITY SURGICAL CENTER LIMITED","CITY SURGICAL CENTER","GROUP","6467582028","RXD","2","ClinicSolution","Local System","20","0","0","20","0","","0","0","0","0","0","0","0","0","0","0","0","0","","0","0","0","0","0","0","0","0","0","0"]
["1 Dec 2024 to 31 Dec 20246738094014CMRXO","1 Dec 2024 to 31 Dec 2024","Dagon Corporation Holdings Limited","DRAGON CORPORATION","GROUP",6738094014,"CMRXO",3,"Local System","EC Connect",1,0,0,0,1,null,0,0,0,0,0,0,0,0,0,0,0,0,null,1,1,0,0,0,0,0,0,0,0,"Y","","Y","1 Dec 2024 to 31 Dec 20245833341375RAD",{"$f":"Data!A711","v":"2024-12-01"},{"$f":"TRIM(Data!B711)","v":"MONGKOK MRI CENTRE LIMITED"},null,{"$f":"TRIM(Data!C711)","v":"GRP"},{"$f":"TRIM(Data!D711)","v":"5833341375"},{"$f":"TRIM(Data!E711)","v":"RAD"},{"$f":"TRIM(Data!F711)","v":"3"},{"$f":"TRIM(Data!G711)","v":"RHI2"},{"$f":"TRIM(Data!H711)","v":"Local System"},{"$f":"TRIM(Data!I711)","v":"291"},{"$f":"TRIM(Data!J711)","v":"0"},{"$f":"TRIM(Data!K711)","v":"0"},{"$f":"TRIM(Data!L711)","v":"0"},{"$f":"TRIM(Data!M711)","v":"291"},null,null,null,{"$f":"TRIM(Data!N711)","v":"0"},{"$f":"TRIM(Data!O711)","v":"0"},{"$f":"TRIM(Data!P711)","v":"0"},null,{"$f":"TRIM(Data!Q711)","v":"0"},null,null,{"$f":"TRIM(Data!R711)","v":"0"},{"$f":"TRIM(Data!S711)","v":"0"},{"$f":"TRIM(Data!T711)","v":"0"},null,null,null,{"$f":"TRIM(Data!U711)","v":"0"},null,{"$f":"TRIM(Data!V711)","v":"0"},{"$f":"TRIM(Data!W711)","v":"0"},{"$f":"TRIM(Data!X711)","v":"0"},{"$f":"TRIM(Data!Y711)","v":"0"},{"$f":"TRIM(Data!Z711)","v":"0"},{"$f":"TRIM(Data!AA711)","v":"0"},677,"1 Dec 2024 to 31 Dec 2024","Mongkok MRI Centre Limited","MONGKOK MRI CENTRE LTD","GROUP","5833341375","RAD","3","RHI2","Local System","291","0","0","0","291","","0","0","0","0","0","0","0","0","0","0","0","0","","291","1","0","0","0","0","0","0","0","0"]
["1 Dec 2024 to 31 Dec 20246738094014ENCTR","1 Dec 2024 to 31 Dec 2024","Dagon Corporation Holdings Limited","DRAGON CORPORATION","GROUP",6738094014,"ENCTR",3,"Local System","Local System",3,0,0,0,3,null,0,0,0,0,0,0,0,0,0,0,0,0,null,3,1,0,0,0,0,0,0,0,0,"Y","","Y","1 Dec 2024 to 31 Dec 20245634981022EPIS",{"$f":"Data!A712","v":"2024-12-01"},{"$f":"TRIM(Data!B712)","v":"HUMAN HEALTH MEDICAL CENTRE."},null,{"$f":"TRIM(Data!C712)","v":"GRP"},{"$f":"TRIM(Data!D712)","v":"5634981022"},{"$f":"TRIM(Data!E712)","v":"EPIS"},{"$f":"TRIM(Data!F712)","v":"1"},{"$f":"TRIM(Data!G712)","v":"RCMS_LAAM"},{"$f":"TRIM(Data!H712)","v":"Local System"},{"$f":"TRIM(Data!I712)","v":"161"},{"$f":"TRIM(Data!J712)","v":"0"},{"$f":"TRIM(Data!K712)","v":"161"},{"$f":"TRIM(Data!L712)","v":"0"},{"$f":"TRIM(Data!M712)","v":"0"},null,null,null,{"$f":"TRIM(Data!N712)","v":"0"},{"$f":"TRIM(Data!O712)","v":"0"},{"$f":"TRIM(Data!P712)","v":"0"},null,{"$f":"TRIM(Data!Q712)","v":"0"},null,null,{"$f":"TRIM(Data!R712)","v":"0"},{"$f":"TRIM(Data!S712)","v":"0"},{"$f":"TRIM(Data!T712)","v":"0"},null,null,null,{"$f":"TRIM(Data!U712)","v":"0"},null,{"$f":"TRIM(Data!V712)","v":"0"},{"$f":"TRIM(Data!W712)","v":"0"},{"$f":"TRIM(Data!X712)","v":"0"},{"$f":"TRIM(Data!Y712)","v":"0"},{"$f":"TRIM(Data!Z712)","v":"0"},{"$f":"TRIM(Data!AA712)","v":"0"},659,"1 Dec 2024 to 31 Dec 2024","HUMAN HEALTH MEDICAL CENTRE.","HUMAN HEALTH","GROUP","5634981022","EPIS","1","RCMS_LAAM","Local System","161","0","161","0","0","","0","0","0","0","0","0","0","0","0","0","0","0","","0","0","0","0","0","0","0","0","0","0"]
["1 Dec 2024 to 31 Dec 20246758313621ENCTR","1 Dec 2024 to 31 Dec 2024","18 Chinese Medicine Clinic cum Traing and Research Centre (Pok Oi Hospital)","18CMCTRs (POH)","NGO",6758313621,"ENCTR",3,"Local System","Local System",2520,0,0,0,2520,null,0,0,0,0,0,0,0,0,0,0,0,0,null,2520,1,0,0,0,0,0,0,0,0,"","","","1 Dec 2024 to 31 Dec 20248558761107RXD",{"$f":"Data!A716","v":"2024-12-01"},{"$f":"TRIM(Data!B716)","v":"DY EYE CONSULTANT LIMITED"},null,{"$f":"TRIM(Data!C716)","v":"SOLO"},{"$f":"TRIM(Data!D716)","v":"8558761107"},{"$f":"TRIM(Data!E716)","v":"RXD"},{"$f":"TRIM(Data!F716)","v":"2"},{"$f":"TRIM(Data!G716)","v":"ClinicSolution"},{"$f":"TRIM(Data!H716)","v":"Local System"},{"$f":"TRIM(Data!I716)","v":"33"},{"$f":"TRIM(Data!J716)","v":"0"},{"$f":"TRIM(Data!K716)","v":"0"},{"$f":"TRIM(Data!L716)","v":"33"},{"$f":"TRIM(Data!M716)","v":"0"},null,null,null,{"$f":"TRIM(Data!N716)","v":"0"},{"$f":"TRIM(Data!O716)","v":"0"},{"$f":"TRIM(Data!P716)","v":"0"},null,{"$f":"TRIM(Data!Q716)","v":"0"},null,null,{"$f":"TRIM(Data!R716)","v":"0"},{"$f":"TRIM(Data!S716)","v":"0"},{"$f":"TRIM(Data!T716)","v":"0"},null,null,null,{"$f":"TRIM(Data!U716)","v":"0"},null,{"$f":"TRIM(Data!V716)","v":"0"},{"$f":"TRIM(Data!W716)","v":"0"},{"$f":"TRIM(Data!X716)","v":"0"},{"$f":"TRIM(Data!Y716)","v":"0"},{"$f":"TRIM(Data!Z716)","v":"0"},{"$f":"TRIM(Data!AA716)","v":"0"},793,"1 Dec 2024 to 31 Dec 2024","DY EYE CONSULTANT LIMITED","DY EYE CONSULTANT LIMITED","SOLO","8558761107","RXD","2","ClinicSolution","Local System","33","0","0","33","0","","0","0","0","0","0","0","0","0","0","0","0","0","","0","0","0","0","0","0","0","0","0","0"]
["1 Dec 2024 to 31 Dec 20247002059678ADR","1 Dec 2024 to 31 Dec 2024","PRECIOUS BLOOD HOSPITAL (CARITAS)","PRECIOUS BLOOD HOSPITAL","PH",7002059678,"ADR",3,"PBHIS","Local System",109,0,0,9,100,null,0,0,0,0,9,8.2568807339449546E-2,9,0,0,9,0,0,null,100,0.91743119266055051,0,0,0,0,0,0,0,0,"","","","1 Dec 2024 to 31 Dec 20248558761107RXO",{"$f":"Data!A717","v":"2024-12-01"},{"$f":"TRIM(Data!B717)","v":"DY EYE CONSULTANT LIMITED"},null,{"$f":"TRIM(Data!C717)","v":"SOLO"},{"$f":"TRIM(Data!D717)","v":"8558761107"},{"$f":"TRIM(Data!E717)","v":"RXO"},{"$f":"TRIM(Data!F717)","v":"2"},{"$f":"TRIM(Data!G717)","v":"ClinicSolution"},{"$f":"TRIM(Data!H717)","v":"Local System"},{"$f":"TRIM(Data!I717)","v":"33"},{"$f":"TRIM(Data!J717)","v":"0"},{"$f":"TRIM(Data!K717)","v":"0"},{"$f":"TRIM(Data!L717)","v":"33"},{"$f":"TRIM(Data!M717)","v":"0"},null,null,null,{"$f":"TRIM(Data!N717)","v":"0"},{"$f":"TRIM(Data!O717)","v":"0"},{"$f":"TRIM(Data!P717)","v":"0"},null,{"$f":"TRIM(Data!Q717)","v":"0"},null,null,{"$f":"TRIM(Data!R717)","v":"0"},{"$f":"TRIM(Data!S717)","v":"0"},{"$f":"TRIM(Data!T717)","v":"0"},null,null,null,{"$f":"TRIM(Data!U717)","v":"0"},null,{"$f":"TRIM(Data!V717)","v":"0"},{"$f":"TRIM(Data!W717)","v":"0"},{"$f":"TRIM(Data!X717)","v":"0"},{"$f":"TRIM(Data!Y717)","v":"0"},{"$f":"TRIM(Data!Z717)","v":"0"},{"$f":"TRIM(Data!AA717)","v":"0"},794,"1 Dec 2024 to 31 Dec 2024","DY EYE CONSULTANT LIMITED","DY EYE CONSULTANT LIMITED","SOLO","8558761107","RXO","2","ClinicSolution","Local System","33","0","0","33","0","","0","0","0","0","0","0","0","0","0","0","0","0","","0","0","0","0","0","0","0","0","0","0"]
["1 Dec 2024 to 31 Dec 20247002059678RAD","1 Dec 2024 to 31 Dec 2024","PRECIOUS BLOOD HOSPITAL (CARITAS)","PRECIOUS BLOOD HOSPITAL","PH",7002059678,"RAD",3,"PBHIS","Local System",389,0,0,0,389,null,0,0,0,0,0,0,0,0,0,0,0,0,null,389,1,0,0,0,0,0,0,0,0,"","","Y","1 Dec 2024 to 31 Dec 20248891674942PROB",{"$f":"Data!A720","v":"2024-12-01"},{"$f":"TRIM(Data!B720)","v":"ALL WELL (ASIA) LIMITED"},null,{"$f":"TRIM(Data!C720)","v":"GRP"},{"$f":"TRIM(Data!D720)","v":"8891674942"},{"$f":"TRIM(Data!E720)","v":"PROB"},{"$f":"TRIM(Data!F720)","v":"3"},{"$f":"TRIM(Data!G720)","v":"ClinicSolution"},{"$f":"TRIM(Data!H720)","v":"Local System"},{"$f":"TRIM(Data!I720)","v":"27"},{"$f":"TRIM(Data!J720)","v":"0"},{"$f":"TRIM(Data!K720)","v":"0"},{"$f":"TRIM(Data!L720)","v":"27"},{"$f":"TRIM(Data!M720)","v":"0"},null,null,null,{"$f":"TRIM(Data!N720)","v":"0"},{"$f":"TRIM(Data!O720)","v":"0"},{"$f":"TRIM(Data!P720)","v":"27"},null,{"$f":"TRIM(Data!Q720)","v":"27"},null,null,{"$f":"TRIM(Data!R720)","v":"27"},{"$f":"TRIM(Data!S720)","v":"0"},{"$f":"TRIM(Data!T720)","v":"0"},null,null,null,{"$f":"TRIM(Data!U720)","v":"0"},null,{"$f":"TRIM(Data!V720)","v":"0"},{"$f":"TRIM(Data!W720)","v":"0"},{"$f":"TRIM(Data!X720)","v":"0"},{"$f":"TRIM(Data!Y720)","v":"0"},{"$f":"TRIM(Data!Z720)","v":"0"},{"$f":"TRIM(Data!AA720)","v":"0"},801,"1 Dec 2024 to 31 Dec 2024","ALL WELL (ASIA) LIMITED","ADVANZ PHYSIO CENTRE","GROUP","8891674942","PROB","3","ClinicSolution","Local System","27","0","0","27","0","","0","0","0","0","27","1","27","0","0","27","0","0","","0","0","0","0","0","0","0","0","0","0"]
["1 Dec 2024 to 31 Dec 20247029571085ADR","1 Dec 2024 to 31 Dec 2024","HONG KONG ADVENTIST HOSPITAL - STUBBS ROAD","HK ADVENTIST - SR","PH",7029571085,"ADR",3,"HKAHLAAM","Local System",5,0,0,0,5,null,0,0,0,0,0,0,0,0,0,0,0,0,null,5,1,0,0,0,0,0,0,0,0,"","","","1 Dec 2024 to 31 Dec 20244830743861RXD",{"$f":"Data!A721","v":"2024-12-01"},{"$f":"TRIM(Data!B721)","v":"DR CHAN YUEN SANG"},null,{"$f":"TRIM(Data!C721)","v":"SOLO"},{"$f":"TRIM(Data!D721)","v":"4830743861"},{"$f":"TRIM(Data!E721)","v":"RXD"},{"$f":"TRIM(Data!F721)","v":"2"},{"$f":"TRIM(Data!G721)","v":"ClinicSolution"},{"$f":"TRIM(Data!H721)","v":"Local System"},{"$f":"TRIM(Data!I721)","v":"57"},{"$f":"TRIM(Data!J721)","v":"0"},{"$f":"TRIM(Data!K721)","v":"0"},{"$f":"TRIM(Data!L721)","v":"57"},{"$f":"TRIM(Data!M721)","v":"0"},null,null,null,{"$f":"TRIM(Data!N721)","v":"0"},{"$f":"TRIM(Data!O721)","v":"0"},{"$f":"TRIM(Data!P721)","v":"0"},null,{"$f":"TRIM(Data!Q721)","v":"0"},null,null,{"$f":"TRIM(Data!R721)","v":"0"},{"$f":"TRIM(Data!S721)","v":"0"},{"$f":"TRIM(Data!T721)","v":"0"},null,null,null,{"$f":"TRIM(Data!U721)","v":"0"},null,{"$f":"TRIM(Data!V721)","v":"0"},{"$f":"TRIM(Data!W721)","v":"0"},{"$f":"TRIM(Data!X721)","v":"0"},{"$f":"TRIM(Data!Y721)","v":"0"},{"$f":"TRIM(Data!Z721)","v":"0"},{"$f":"TRIM(Data!AA721)","v":"0"},623,"1 Dec 2024 to 31 Dec 2024","DR CHAN YUEN SANG","DR CHAN YUEN SANG","SOLO","4830743861","RXD","2","ClinicSolution","Local System","57","0","0","57","0","","0","0","0","0","0","0","0","0","0","0","0","0","","0","0","0","0","0","0","0","0","0","0"]
["1 Dec 2024 to 31 Dec 20247029571085ENCTR","1 Dec 2024 to 31 Dec 2024","HONG KONG ADVENTIST HOSPITAL - STUBBS ROAD","HK ADVENTIST - SR","PH",7029571085,"ENCTR",3,"HKAHLAAM","Local System",651,0,0,0,651,null,0,0,0,0,0,0,0,0,0,0,0,0,null,651,1,0,0,0,0,0,0,0,0,"","","","1 Dec 2024 to 31 Dec 20244830743861PROB",{"$f":"Data!A723","v":"2024-12-01"},{"$f":"TRIM(Data!B723)","v":"DR CHAN YUEN SANG"},null,{"$f":"TRIM(Data!C723)","v":"SOLO"},{"$f":"TRIM(Data!D723)","v":"4830743861"},{"$f":"TRIM(Data!E723)","v":"PROB"},{"$f":"TRIM(Data!F723)","v":"3"},{"$f":"TRIM(Data!G723)","v":"ClinicSolution"},{"$f":"TRIM(Data!H723)","v":"Local System"},{"$f":"TRIM(Data!I723)","v":"26"},{"$f":"TRIM(Data!J723)","v":"0"},{"$f":"TRIM(Data!K723)","v":"0"},{"$f":"TRIM(Data!L723)","v":"26"},{"$f":"TRIM(Data!M723)","v":"0"},null,null,null,{"$f":"TRIM(Data!N723)","v":"0"},{"$f":"TRIM(Data!O723)","v":"0"},{"$f":"TRIM(Data!P723)","v":"26"},null,{"$f":"TRIM(Data!Q723)","v":"26"},null,null,{"$f":"TRIM(Data!R723)","v":"26"},{"$f":"TRIM(Data!S723)","v":"0"},{"$f":"TRIM(Data!T723)","v":"0"},null,null,null,{"$f":"TRIM(Data!U723)","v":"0"},null,{"$f":"TRIM(Data!V723)","v":"0"},{"$f":"TRIM(Data!W723)","v":"0"},{"$f":"TRIM(Data!X723)","v":"0"},{"$f":"TRIM(Data!Y723)","v":"0"},{"$f":"TRIM(Data!Z723)","v":"0"},{"$f":"TRIM(Data!AA723)","v":"0"},622,"1 Dec 2024 to 31 Dec 2024","DR CHAN YUEN SANG","DR CHAN YUEN SANG","SOLO","4830743861","PROB","3","ClinicSolution","Local System","26","0","0","26","0","","0","0","0","0","26","1","26","0","0","26","0","0","","0","0","0","0","0","0","0","0","0","0"]
["1 Dec 2024 to 31 Dec 20247029571085RAD","1 Dec 2024 to 31 Dec 2024","HONG KONG ADVENTIST HOSPITAL - STUBBS ROAD","HK ADVENTIST - SR","PH",7029571085,"RAD",2,"HKAHLAAM","Local System",466,0,0,0,466,null,0,0,0,0,0,0,0,0,0,0,0,0,null,466,1,0,0,0,0,0,0,0,0,"","","Y","1 Dec 2024 to 31 Dec 20245368445357ENCTR",{"$f":"Data!A726","v":"2024-12-01"},{"$f":"TRIM(Data!B726)","v":"HEALTH INTEGRATED LIMITED"},null,{"$f":"TRIM(Data!C726)","v":"SOLO"},{"$f":"TRIM(Data!D726)","v":"5368445357"},{"$f":"TRIM(Data!E726)","v":"ENCTR"},{"$f":"TRIM(Data!F726)","v":"3"},{"$f":"TRIM(Data!G726)","v":"ClinicSolution"},{"$f":"TRIM(Data!H726)","v":"Local System"},{"$f":"TRIM(Data!I726)","v":"13"},{"$f":"TRIM(Data!J726)","v":"0"},{"$f":"TRIM(Data!K726)","v":"0"},{"$f":"TRIM(Data!L726)","v":"0"},{"$f":"TRIM(Data!M726)","v":"13"},null,null,null,{"$f":"TRIM(Data!N726)","v":"0"},{"$f":"TRIM(Data!O726)","v":"0"},{"$f":"TRIM(Data!P726)","v":"0"},null,{"$f":"TRIM(Data!Q726)","v":"0"},null,null,{"$f":"TRIM(Data!R726)","v":"0"},{"$f":"TRIM(Data!S726)","v":"0"},{"$f":"TRIM(Data!T726)","v":"0"},null,null,null,{"$f":"TRIM(Data!U726)","v":"0"},null,{"$f":"TRIM(Data!V726)","v":"0"},{"$f":"TRIM(Data!W726)","v":"0"},{"$f":"TRIM(Data!X726)","v":"0"},{"$f":"TRIM(Data!Y726)","v":"0"},{"$f":"TRIM(Data!Z726)","v":"0"},{"$f":"TRIM(Data!AA726)","v":"0"},645,"1 Dec 2024 to 31 Dec 2024","HEALTH INTEGRATED LIMITED","HEALTH INTEGRATED LIMITED","OTH","5368445357","ENCTR","3","ClinicSolution","Local System","13","0","0","0","13","","0","0","0","0","0","0","0","0","0","0","0","0","","13","1","0","0","0","0","0","0","0","0"]
["1 Dec 2024 to 31 Dec 20247071207758AL1","1 Dec 2024 to 31 Dec 2024","DR. TONY CHUN KIT LEE MEDICAL PRATICE LIMITED","DR. TONY CHUN KIT LEE","SOLO",7071207758,"AL1",2,"ClinicSolution","Local System",2,0,0,2,0,null,0,0,0,0,0,0,0,0,0,0,0,0,null,0,0,0,0,0,0,0,0,0,0,"","","","1 Dec 2024 to 31 Dec 20246256774535RXD",{"$f":"Data!A729","v":"2024-12-01"},{"$f":"TRIM(Data!B729)","v":"DR. WONG MAN HUNG"},null,{"$f":"TRIM(Data!C729)","v":"SOLO"},{"$f":"TRIM(Data!D729)","v":"6256774535"},{"$f":"TRIM(Data!E729)","v":"RXD"},{"$f":"TRIM(Data!F729)","v":"2"},{"$f":"TRIM(Data!G729)","v":"ClinicSolution"},{"$f":"TRIM(Data!H729)","v":"Local System"},{"$f":"TRIM(Data!I729)","v":"52"},{"$f":"TRIM(Data!J729)","v":"0"},{"$f":"TRIM(Data!K729)","v":"0"},{"$f":"TRIM(Data!L729)","v":"52"},{"$f":"TRIM(Data!M729)","v":"0"},null,null,null,{"$f":"TRIM(Data!N729)","v":"0"},{"$f":"TRIM(Data!O729)","v":"0"},{"$f":"TRIM(Data!P729)","v":"0"},null,{"$f":"TRIM(Data!Q729)","v":"0"},null,null,{"$f":"TRIM(Data!R729)","v":"0"},{"$f":"TRIM(Data!S729)","v":"0"},{"$f":"TRIM(Data!T729)","v":"0"},null,null,null,{"$f":"TRIM(Data!U729)","v":"0"},null,{"$f":"TRIM(Data!V729)","v":"0"},{"$f":"TRIM(Data!W729)","v":"0"},{"$f":"TRIM(Data!X729)","v":"0"},{"$f":"TRIM(Data!Y729)","v":"0"},{"$f":"TRIM(Data!Z729)","v":"0"},{"$f":"TRIM(Data!AA729)","v":"0"},695,"1 Dec 2024 to 31 Dec 2024","DR. WONG MAN HUNG","DR. WONG MAN HUNG","SOLO","6256774535","RXD","2","ClinicSolution","Local System","52","0","0","52","0","","0","0","0","0","0","0","0","0","0","0","0","0","","0","0","0","0","0","0","0","0","0","0"]
["1 Dec 2024 to 31 Dec 20247071207758RXD","1 Dec 2024 to 31 Dec 2024","DR. TONY CHUN KIT LEE MEDICAL PRATICE LIMITED","DR. TONY CHUN KIT LEE","SOLO",7071207758,"RXD",2,"ClinicSolution","Local System",16,0,0,16,0,null,0,0,0,0,0,0,0,0,0,0,0,0,null,0,0,0,0,0,0,0,0,0,0,"","","","1 Dec 2024 to 31 Dec 20248832216811RXD",{"$f":"Data!A732","v":"2024-12-01"},{"$f":"TRIM(Data!B732)","v":"HEALTH & WEALTH MEDICAL CENTRE"},null,{"$f":"TRIM(Data!C732)","v":"SOLO"},{"$f":"TRIM(Data!D732)","v":"8832216811"},{"$f":"TRIM(Data!E732)","v":"RXD"},{"$f":"TRIM(Data!F732)","v":"2"},{"$f":"TRIM(Data!G732)","v":"ClinicSolution"},{"$f":"TRIM(Data!H732)","v":"Local System"},{"$f":"TRIM(Data!I732)","v":"34"},{"$f":"TRIM(Data!J732)","v":"0"},{"$f":"TRIM(Data!K732)","v":"0"},{"$f":"TRIM(Data!L732)","v":"34"},{"$f":"TRIM(Data!M732)","v":"0"},null,null,null,{"$f":"TRIM(Data!N732)","v":"0"},{"$f":"TRIM(Data!O732)","v":"0"},{"$f":"TRIM(Data!P732)","v":"0"},null,{"$f":"TRIM(Data!Q732)","v":"0"},null,null,{"$f":"TRIM(Data!R732)","v":"0"},{"$f":"TRIM(Data!S732)","v":"0"},{"$f":"TRIM(Data!T732)","v":"0"},null,null,null,{"$f":"TRIM(Data!U732)","v":"0"},null,{"$f":"TRIM(Data!V732)","v":"0"},{"$f":"TRIM(Data!W732)","v":"0"},{"$f":"TRIM(Data!X732)","v":"0"},{"$f":"TRIM(Data!Y732)","v":"0"},{"$f":"TRIM(Data!Z732)","v":"0"},{"$f":"TRIM(Data!AA732)","v":"0"},798,"1 Dec 2024 to 31 Dec 2024","HEALTH & WEALTH MEDICAL CENTRE","HWMCL","SOLO","8832216811","RXD","2","ClinicSolution","Local System","34","0","0","34","0","","0","0","0","0","0","0","0","0","0","0","0","0","","0","0","0","0","0","0","0","0","0","0"]
["1 Dec 2024 to 31 Dec 20247218241485ADR","1 Dec 2024 to 31 Dec 2024","DISTRICT HEALTH CENTRE-YUEN LONG (POH)","DHC-YUEN LONG","DHC",7218241485,"ADR",3,"Local System","Local System",1,0,0,0,1,null,0,0,0,0,0,0,0,0,0,0,0,0,null,1,1,0,0,0,0,0,0,0,0,"","","","1 Dec 2024 to 31 Dec 20248832216811ENCTR",{"$f":"Data!A734","v":"2024-12-01"},{"$f":"TRIM(Data!B734)","v":"HEALTH & WEALTH MEDICAL CENTRE"},null,{"$f":"TRIM(Data!C734)","v":"SOLO"},{"$f":"TRIM(Data!D734)","v":"8832216811"},{"$f":"TRIM(Data!E734)","v":"ENCTR"},{"$f":"TRIM(Data!F734)","v":"3"},{"$f":"TRIM(Data!G734)","v":"ClinicSolution"},{"$f":"TRIM(Data!H734)","v":"Local System"},{"$f":"TRIM(Data!I734)","v":"27"},{"$f":"TRIM(Data!J734)","v":"0"},{"$f":"TRIM(Data!K734)","v":"0"},{"$f":"TRIM(Data!L734)","v":"0"},{"$f":"TRIM(Data!M734)","v":"27"},null,null,null,{"$f":"TRIM(Data!N734)","v":"0"},{"$f":"TRIM(Data!O734)","v":"0"},{"$f":"TRIM(Data!P734)","v":"0"},null,{"$f":"TRIM(Data!Q734)","v":"0"},null,null,{"$f":"TRIM(Data!R734)","v":"0"},{"$f":"TRIM(Data!S734)","v":"0"},{"$f":"TRIM(Data!T734)","v":"0"},null,null,null,{"$f":"TRIM(Data!U734)","v":"0"},null,{"$f":"TRIM(Data!V734)","v":"0"},{"$f":"TRIM(Data!W734)","v":"0"},{"$f":"TRIM(Data!X734)","v":"0"},{"$f":"TRIM(Data!Y734)","v":"0"},{"$f":"TRIM(Data!Z734)","v":"0"},{"$f":"TRIM(Data!AA734)","v":"0"},795,"1 Dec 2024 to 31 Dec 2024","HEALTH & WEALTH MEDICAL CENTRE","HWMCL","SOLO","8832216811","ENCTR","3","ClinicSolution","Local System","27","0","0","0","27","","0","0","0","0","0","0","0","0","0","0","0","0","","27","1","0","0","0","0","0","0","0","0"]
["1 Dec 2024 to 31 Dec 20247218241485AL1","1 Dec 2024 to 31 Dec 2024","DISTRICT HEALTH CENTRE-YUEN LONG (POH)","DHC-YUEN LONG","DHC",7218241485,"AL1",3,"Local System","Local System",9,0,0,0,9,null,0,0,0,0,0,0,0,0,0,0,0,0,null,9,1,0,0,0,0,0,0,0,0,"","","","1 Dec 2024 to 31 Dec 20248832216811PROB",{"$f":"Data!A735","v":"2024-12-01"},{"$f":"TRIM(Data!B735)","v":"HEALTH & WEALTH MEDICAL CENTRE"},null,{"$f":"TRIM(Data!C735)","v":"SOLO"},{"$f":"TRIM(Data!D735)","v":"8832216811"},{"$f":"TRIM(Data!E735)","v":"PROB"},{"$f":"TRIM(Data!F735)","v":"3"},{"$f":"TRIM(Data!G735)","v":"ClinicSolution"},{"$f":"TRIM(Data!H735)","v":"Local System"},{"$f":"TRIM(Data!I735)","v":"27"},{"$f":"TRIM(Data!J735)","v":"0"},{"$f":"TRIM(Data!K735)","v":"0"},{"$f":"TRIM(Data!L735)","v":"27"},{"$f":"TRIM(Data!M735)","v":"0"},null,null,null,{"$f":"TRIM(Data!N735)","v":"0"},{"$f":"TRIM(Data!O735)","v":"0"},{"$f":"TRIM(Data!P735)","v":"27"},null,{"$f":"TRIM(Data!Q735)","v":"27"},null,null,{"$f":"TRIM(Data!R735)","v":"27"},{"$f":"TRIM(Data!S735)","v":"0"},{"$f":"TRIM(Data!T735)","v":"0"},null,null,null,{"$f":"TRIM(Data!U735)","v":"0"},null,{"$f":"TRIM(Data!V735)","v":"0"},{"$f":"TRIM(Data!W735)","v":"0"},{"$f":"TRIM(Data!X735)","v":"0"},{"$f":"TRIM(Data!Y735)","v":"0"},{"$f":"TRIM(Data!Z735)","v":"0"},{"$f":"TRIM(Data!AA735)","v":"0"},797,"1 Dec 2024 to 31 Dec 2024","HEALTH & WEALTH MEDICAL CENTRE","HWMCL","SOLO","8832216811","PROB","3","ClinicSolution","Local System","27","0","0","27","0","","0","0","0","0","27","1","27","0","0","27","0","0","","0","0","0","0","0","0","0","0","0","0"]
["1 Dec 2024 to 31 Dec 20247221331623RAD","1 Dec 2024 to 31 Dec 2024","Acton Digital PET-CT Centre Limited","ACTON DIGITAL PET-CT CTR","GROUP",7221331623,"RAD",3,"Local System","Local System",76,0,0,0,76,null,0,0,0,0,0,0,0,0,0,0,0,0,null,76,1,0,0,0,0,0,0,0,0,"","","","1 Dec 2024 to 31 Dec 20243955467232ENCTR",{"$f":"Data!A738","v":"2024-12-01"},{"$f":"TRIM(Data!B738)","v":"CHOW KAI LAI"},null,{"$f":"TRIM(Data!C738)","v":"SOLO"},{"$f":"TRIM(Data!D738)","v":"3955467232"},{"$f":"TRIM(Data!E738)","v":"ENCTR"},{"$f":"TRIM(Data!F738)","v":"3"},{"$f":"TRIM(Data!G738)","v":"ClinicSolution"},{"$f":"TRIM(Data!H738)","v":"Local System"},{"$f":"TRIM(Data!I738)","v":"24"},{"$f":"TRIM(Data!J738)","v":"0"},{"$f":"TRIM(Data!K738)","v":"0"},{"$f":"TRIM(Data!L738)","v":"0"},{"$f":"TRIM(Data!M738)","v":"24"},null,null,null,{"$f":"TRIM(Data!N738)","v":"0"},{"$f":"TRIM(Data!O738)","v":"0"},{"$f":"TRIM(Data!P738)","v":"0"},null,{"$f":"TRIM(Data!Q738)","v":"0"},null,null,{"$f":"TRIM(Data!R738)","v":"0"},{"$f":"TRIM(Data!S738)","v":"0"},{"$f":"TRIM(Data!T738)","v":"0"},null,null,null,{"$f":"TRIM(Data!U738)","v":"0"},null,{"$f":"TRIM(Data!V738)","v":"0"},{"$f":"TRIM(Data!W738)","v":"0"},{"$f":"TRIM(Data!X738)","v":"0"},{"$f":"TRIM(Data!Y738)","v":"0"},{"$f":"TRIM(Data!Z738)","v":"0"},{"$f":"TRIM(Data!AA738)","v":"0"},584,"1 Dec 2024 to 31 Dec 2024","CHOW KAI LAI","CKL","SOLO","3955467232","ENCTR","3","ClinicSolution","Local System","24","0","0","0","24","","0","0","0","0","0","0","0","0","0","0","0","0","","24","1","0","0","0","0","0","0","0","0"]
["1 Dec 2024 to 31 Dec 20247228524127CMPROB","1 Dec 2024 to 31 Dec 2024","HOLISTIC MIND LIMITED","HOLISTIC MIND","SOLO",7228524127,"CMPROB",3,"Local System","EC Connect",7,0,0,6,1,null,0,0,0,0,3,0.42857142857142855,3,0,0,3,0,0,null,1,0.14285714285714285,0,0,0,0,0,0,0,0,"Y","","","1 Dec 2024 to 31 Dec 20243955467232RXD",{"$f":"Data!A739","v":"2024-12-01"},{"$f":"TRIM(Data!B739)","v":"CHOW KAI LAI"},null,{"$f":"TRIM(Data!C739)","v":"SOLO"},{"$f":"TRIM(Data!D739)","v":"3955467232"},{"$f":"TRIM(Data!E739)","v":"RXD"},{"$f":"TRIM(Data!F739)","v":"2"},{"$f":"TRIM(Data!G739)","v":"ClinicSolution"},{"$f":"TRIM(Data!H739)","v":"Local System"},{"$f":"TRIM(Data!I739)","v":"20"},{"$f":"TRIM(Data!J739)","v":"0"},{"$f":"TRIM(Data!K739)","v":"0"},{"$f":"TRIM(Data!L739)","v":"20"},{"$f":"TRIM(Data!M739)","v":"0"},null,null,null,{"$f":"TRIM(Data!N739)","v":"0"},{"$f":"TRIM(Data!O739)","v":"0"},{"$f":"TRIM(Data!P739)","v":"0"},null,{"$f":"TRIM(Data!Q739)","v":"0"},null,null,{"$f":"TRIM(Data!R739)","v":"0"},{"$f":"TRIM(Data!S739)","v":"0"},{"$f":"TRIM(Data!T739)","v":"0"},null,null,null,{"$f":"TRIM(Data!U739)","v":"0"},null,{"$f":"TRIM(Data!V739)","v":"0"},{"$f":"TRIM(Data!W739)","v":"0"},{"$f":"TRIM(Data!X739)","v":"0"},{"$f":"TRIM(Data!Y739)","v":"0"},{"$f":"TRIM(Data!Z739)","v":"0"},{"$f":"TRIM(Data!AA739)","v":"0"},587,"1 Dec 2024 to 31 Dec 2024","CHOW KAI LAI","CKL","SOLO","3955467232","RXD","2","ClinicSolution","Local System","20","0","0","20","0","","0","0","0","0","0","0","0","0","0","0","0","0","","0","0","0","0","0","0","0","0","0","0"]
["1 Dec 2024 to 31 Dec 20247228524127ENCTR","1 Dec 2024 to 31 Dec 2024","HOLISTIC MIND LIMITED","HOLISTIC MIND","SOLO",7228524127,"ENCTR",3,"Local System","Local System",4,0,0,0,4,null,0,0,0,0,0,0,0,0,0,0,0,0,null,4,1,0,0,0,0,0,0,0,0,"Y","","Y","1 Dec 2024 to 31 Dec 20247417567584RAD",{"$f":"Data!A743","v":"2024-12-01"},{"$f":"TRIM(Data!B743)","v":"BNS MEDICAL IMAGING LIMITED"},null,{"$f":"TRIM(Data!C743)","v":"GRP"},{"$f":"TRIM(Data!D743)","v":"7417567584"},{"$f":"TRIM(Data!E743)","v":"RAD"},{"$f":"TRIM(Data!F743)","v":"3"},{"$f":"TRIM(Data!G743)","v":"RHI2"},{"$f":"TRIM(Data!H743)","v":"Local System"},{"$f":"TRIM(Data!I743)","v":"84"},{"$f":"TRIM(Data!J743)","v":"0"},{"$f":"TRIM(Data!K743)","v":"0"},{"$f":"TRIM(Data!L743)","v":"0"},{"$f":"TRIM(Data!M743)","v":"84"},null,null,null,{"$f":"TRIM(Data!N743)","v":"0"},{"$f":"TRIM(Data!O743)","v":"0"},{"$f":"TRIM(Data!P743)","v":"0"},null,{"$f":"TRIM(Data!Q743)","v":"0"},null,null,{"$f":"TRIM(Data!R743)","v":"0"},{"$f":"TRIM(Data!S743)","v":"0"},{"$f":"TRIM(Data!T743)","v":"0"},null,null,null,{"$f":"TRIM(Data!U743)","v":"0"},null,{"$f":"TRIM(Data!V743)","v":"0"},{"$f":"TRIM(Data!W743)","v":"0"},{"$f":"TRIM(Data!X743)","v":"0"},{"$f":"TRIM(Data!Y743)","v":"0"},{"$f":"TRIM(Data!Z743)","v":"0"},{"$f":"TRIM(Data!AA743)","v":"0"},753,"1 Dec 2024 to 31 Dec 2024","BNS Medical Imaging Limited","BNS MEDICAL IMAGING LTD","GROUP","7417567584","RAD","3","RHI2","Local System","84","0","0","0","84","","0","0","0","0","0","0","0","0","0","0","0","0","","84","1","0","0","0","0","0","0","0","0"]
["1 Dec 2024 to 31 Dec 20247334960147ENCTR","1 Dec 2024 to 31 Dec 2024","DHC EXPRESS-KWUN TONG (UCMS)","DHC EXPRESS-KWUN TONG-CC","DHC",7334960147,"ENCTR",3,"Local System","Local System",2136,0,0,0,2136,null,0,0,0,0,0,0,0,0,0,0,0,0,null,2136,1,0,0,0,0,0,0,0,0,"","","","1 Dec 2024 to 31 Dec 20243545073904RXD",{"$f":"Data!A744","v":"2024-12-01"},{"$f":"TRIM(Data!B744)","v":"CLEARBRIDGE MEDICAL CENTER"},null,{"$f":"TRIM(Data!C744)","v":"SOLO"},{"$f":"TRIM(Data!D744)","v":"3545073904"},{"$f":"TRIM(Data!E744)","v":"RXD"},{"$f":"TRIM(Data!F744)","v":"2"},{"$f":"TRIM(Data!G744)","v":"ClinicSolution"},{"$f":"TRIM(Data!H744)","v":"Local System"},{"$f":"TRIM(Data!I744)","v":"25"},{"$f":"TRIM(Data!J744)","v":"0"},{"$f":"TRIM(Data!K744)","v":"0"},{"$f":"TRIM(Data!L744)","v":"25"},{"$f":"TRIM(Data!M744)","v":"0"},null,null,null,{"$f":"TRIM(Data!N744)","v":"0"},{"$f":"TRIM(Data!O744)","v":"0"},{"$f":"TRIM(Data!P744)","v":"0"},null,{"$f":"TRIM(Data!Q744)","v":"0"},null,null,{"$f":"TRIM(Data!R744)","v":"0"},{"$f":"TRIM(Data!S744)","v":"0"},{"$f":"TRIM(Data!T744)","v":"0"},null,null,null,{"$f":"TRIM(Data!U744)","v":"0"},null,{"$f":"TRIM(Data!V744)","v":"0"},{"$f":"TRIM(Data!W744)","v":"0"},{"$f":"TRIM(Data!X744)","v":"0"},{"$f":"TRIM(Data!Y744)","v":"0"},{"$f":"TRIM(Data!Z744)","v":"0"},{"$f":"TRIM(Data!AA744)","v":"0"},564,"1 Dec 2024 to 31 Dec 2024","CLEARBRIDGE MEDICAL CENTER","CLEARBRIDGE MEDICAL","SOLO","3545073904","RXD","2","ClinicSolution","Local System","25","0","0","25","0","","0","0","0","0","0","0","0","0","0","0","0","0","","0","0","0","0","0","0","0","0","0","0"]
["1 Dec 2024 to 31 Dec 20247444819250ENCTR","1 Dec 2024 to 31 Dec 2024","DHC EXPRESS-TAI PO (UCMS)","DHC EXPRESS-TAI PO-CC","DHC",7444819250,"ENCTR",3,"Local System","Local System",1886,0,0,0,1886,null,0,0,0,0,0,0,0,0,0,0,0,0,null,1886,1,0,0,0,0,0,0,0,0,"","","","1 Dec 2024 to 31 Dec 20243545073904ENCTR",{"$f":"Data!A747","v":"2024-12-01"},{"$f":"TRIM(Data!B747)","v":"CLEARBRIDGE MEDICAL CENTER"},null,{"$f":"TRIM(Data!C747)","v":"SOLO"},{"$f":"TRIM(Data!D747)","v":"3545073904"},{"$f":"TRIM(Data!E747)","v":"ENCTR"},{"$f":"TRIM(Data!F747)","v":"3"},{"$f":"TRIM(Data!G747)","v":"ClinicSolution"},{"$f":"TRIM(Data!H747)","v":"Local System"},{"$f":"TRIM(Data!I747)","v":"11"},{"$f":"TRIM(Data!J747)","v":"0"},{"$f":"TRIM(Data!K747)","v":"0"},{"$f":"TRIM(Data!L747)","v":"0"},{"$f":"TRIM(Data!M747)","v":"11"},null,null,null,{"$f":"TRIM(Data!N747)","v":"0"},{"$f":"TRIM(Data!O747)","v":"0"},{"$f":"TRIM(Data!P747)","v":"0"},null,{"$f":"TRIM(Data!Q747)","v":"0"},null,null,{"$f":"TRIM(Data!R747)","v":"0"},{"$f":"TRIM(Data!S747)","v":"0"},{"$f":"TRIM(Data!T747)","v":"0"},null,null,null,{"$f":"TRIM(Data!U747)","v":"0"},null,{"$f":"TRIM(Data!V747)","v":"0"},{"$f":"TRIM(Data!W747)","v":"0"},{"$f":"TRIM(Data!X747)","v":"0"},{"$f":"TRIM(Data!Y747)","v":"0"},{"$f":"TRIM(Data!Z747)","v":"0"},{"$f":"TRIM(Data!AA747)","v":"0"},562,"1 Dec 2024 to 31 Dec 2024","CLEARBRIDGE MEDICAL CENTER","CLEARBRIDGE MEDICAL","SOLO","3545073904","ENCTR","3","ClinicSolution","Local System","11","0","0","0","11","","0","0","0","0","0","0","0","0","0","0","0","0","","11","1","0","0","0","0","0","0","0","0"]
["1 Dec 2024 to 31 Dec 20247764187800IMMU","1 Dec 2024 to 31 Dec 2024","eHealth Declaration Form","eHealth Declaration Form","DH",7764187800,"IMMU",3,"Local System","Local System",3360,0,0,0,3360,null,0,0,0,0,0,0,0,0,0,0,0,0,null,3360,1,0,0,0,0,0,0,0,0,"Y","","","1 Dec 2024 to 31 Dec 20242825508730RXD",{"$f":"Data!A750","v":"2024-12-01"},{"$f":"TRIM(Data!B750)","v":"DR LEUNG KAM FUNG"},null,{"$f":"TRIM(Data!C750)","v":"SOLO"},{"$f":"TRIM(Data!D750)","v":"2825508730"},{"$f":"TRIM(Data!E750)","v":"RXD"},{"$f":"TRIM(Data!F750)","v":"2"},{"$f":"TRIM(Data!G750)","v":"ClinicSolution"},{"$f":"TRIM(Data!H750)","v":"Local System"},{"$f":"TRIM(Data!I750)","v":"22"},{"$f":"TRIM(Data!J750)","v":"0"},{"$f":"TRIM(Data!K750)","v":"0"},{"$f":"TRIM(Data!L750)","v":"22"},{"$f":"TRIM(Data!M750)","v":"0"},null,null,null,{"$f":"TRIM(Data!N750)","v":"0"},{"$f":"TRIM(Data!O750)","v":"0"},{"$f":"TRIM(Data!P750)","v":"0"},null,{"$f":"TRIM(Data!Q750)","v":"0"},null,null,{"$f":"TRIM(Data!R750)","v":"0"},{"$f":"TRIM(Data!S750)","v":"0"},{"$f":"TRIM(Data!T750)","v":"0"},null,null,null,{"$f":"TRIM(Data!U750)","v":"0"},null,{"$f":"TRIM(Data!V750)","v":"0"},{"$f":"TRIM(Data!W750)","v":"0"},{"$f":"TRIM(Data!X750)","v":"0"},{"$f":"TRIM(Data!Y750)","v":"0"},{"$f":"TRIM(Data!Z750)","v":"0"},{"$f":"TRIM(Data!AA750)","v":"0"},514,"1 Dec 2024 to 31 Dec 2024","DR LEUNG KAM FUNG","DR LEUNG KAM FUNG","SOLO","2825508730","RXD","2","ClinicSolution","Local System","22","0","0","22","0","","0","0","0","0","0","0","0","0","0","0","0","0","","0","0","0","0","0","0","0","0","0","0"]
["1 Dec 2024 to 31 Dec 20247889756707EPIS","1 Dec 2024 to 31 Dec 2024","DR HO CHUNG PING","C.P. HO","SOLO",7889756707,"EPIS",1,"Local System","Local System",122,0,122,0,0,null,0,0,0,0,0,0,0,0,0,0,0,0,null,0,0,0,0,0,0,0,0,0,0,"","","Y","1 Dec 2024 to 31 Dec 20249407305541RXO",{"$f":"Data!A752","v":"2024-12-01"},{"$f":"TRIM(Data!B752)","v":"HONG KONG BREAST CANCER AND DISEASE CENTRE LIMITED"},null,{"$f":"TRIM(Data!C752)","v":"SOLO"},{"$f":"TRIM(Data!D752)","v":"9407305541"},{"$f":"TRIM(Data!E752)","v":"RXO"},{"$f":"TRIM(Data!F752)","v":"3,2"},{"$f":"TRIM(Data!G752)","v":"CMS On-ramp"},{"$f":"TRIM(Data!H752)","v":"CMS On-ramp"},{"$f":"TRIM(Data!I752)","v":"37"},{"$f":"TRIM(Data!J752)","v":"0"},{"$f":"TRIM(Data!K752)","v":"0"},{"$f":"TRIM(Data!L752)","v":"5"},{"$f":"TRIM(Data!M752)","v":"32"},null,null,null,{"$f":"TRIM(Data!N752)","v":"0"},{"$f":"TRIM(Data!O752)","v":"0"},{"$f":"TRIM(Data!P752)","v":"0"},null,{"$f":"TRIM(Data!Q752)","v":"0"},null,null,{"$f":"TRIM(Data!R752)","v":"0"},{"$f":"TRIM(Data!S752)","v":"0"},{"$f":"TRIM(Data!T752)","v":"0"},null,null,null,{"$f":"TRIM(Data!U752)","v":"0"},null,{"$f":"TRIM(Data!V752)","v":"0"},{"$f":"TRIM(Data!W752)","v":"0"},{"$f":"TRIM(Data!X752)","v":"0"},{"$f":"TRIM(Data!Y752)","v":"0"},{"$f":"TRIM(Data!Z752)","v":"0"},{"$f":"TRIM(Data!AA752)","v":"0"},855,"1 Dec 2024 to 31 Dec 2024","Hong Kong Breast Cancer and Disease Centre Limited","HKBCADC","SOLO","9407305541","RXO","3","Local System","Local System","37","0","0","5","32","","0","0","0","0","0","0","0","0","0","0","0","0","","32","0.864864864864865","0","0","0","0","0","0","0","0"]
["1 Dec 2024 to 31 Dec 20247889756707IMMU","1 Dec 2024 to 31 Dec 2024","DR HO CHUNG PING","C.P. HO","SOLO",7889756707,"IMMU",3,"Local System","Local System",4,0,0,0,4,null,0,0,0,0,0,0,0,0,0,0,0,0,null,4,1,0,0,0,0,0,0,0,0,"","","Y","1 Dec 2024 to 31 Dec 20249407305541RXD",{"$f":"Data!A753","v":"2024-12-01"},{"$f":"TRIM(Data!B753)","v":"HONG KONG BREAST CANCER AND DISEASE CENTRE LIMITED"},null,{"$f":"TRIM(Data!C753)","v":"SOLO"},{"$f":"TRIM(Data!D753)","v":"9407305541"},{"$f":"TRIM(Data!E753)","v":"RXD"},{"$f":"TRIM(Data!F753)","v":"3,2"},{"$f":"TRIM(Data!G753)","v":"CMS On-ramp"},{"$f":"TRIM(Data!H753)","v":"CMS On-ramp"},{"$f":"TRIM(Data!I753)","v":"33"},{"$f":"TRIM(Data!J753)","v":"0"},{"$f":"TRIM(Data!K753)","v":"0"},{"$f":"TRIM(Data!L753)","v":"1"},{"$f":"TRIM(Data!M753)","v":"32"},null,null,null,{"$f":"TRIM(Data!N753)","v":"0"},{"$f":"TRIM(Data!O753)","v":"0"},{"$f":"TRIM(Data!P753)","v":"0"},null,{"$f":"TRIM(Data!Q753)","v":"0"},null,null,{"$f":"TRIM(Data!R753)","v":"0"},{"$f":"TRIM(Data!S753)","v":"0"},{"$f":"TRIM(Data!T753)","v":"0"},null,null,null,{"$f":"TRIM(Data!U753)","v":"0"},null,{"$f":"TRIM(Data!V753)","v":"0"},{"$f":"TRIM(Data!W753)","v":"0"},{"$f":"TRIM(Data!X753)","v":"0"},{"$f":"TRIM(Data!Y753)","v":"0"},{"$f":"TRIM(Data!Z753)","v":"0"},{"$f":"TRIM(Data!AA753)","v":"0"},854,"1 Dec 2024 to 31 Dec 2024","Hong Kong Breast Cancer and Disease Centre Limited","HKBCADC","SOLO","9407305541","RXD","3","Local System","Local System","33","0","0","1","32","","0","0","0","0","0","0","0","0","0","0","0","0","","32","0.96969696969697","0","0","0","0","0","0","0","0"]
["1 Dec 2024 to 31 Dec 20247889756707RXO","1 Dec 2024 to 31 Dec 2024","DR HO CHUNG PING","C.P. HO","SOLO",7889756707,"RXO",3,"Local System","Local System",320,0,0,36,284,null,0,0,0,0,0,0,0,0,0,0,0,0,null,284,0.88749999999999996,0,0,0,0,0,0,0,0,"","","","1 Dec 2024 to 31 Dec 20243747982882PX",{"$f":"Data!A756","v":"2024-12-01"},{"$f":"TRIM(Data!B756)","v":"VMC HEALTHCARE GROUP LIMITED"},null,{"$f":"TRIM(Data!C756)","v":"SOLO"},{"$f":"TRIM(Data!D756)","v":"3747982882"},{"$f":"TRIM(Data!E756)","v":"PX"},{"$f":"TRIM(Data!F756)","v":"3"},{"$f":"TRIM(Data!G756)","v":"ClinicSolution"},{"$f":"TRIM(Data!H756)","v":"Local System"},{"$f":"TRIM(Data!I756)","v":"33"},{"$f":"TRIM(Data!J756)","v":"10"},{"$f":"TRIM(Data!K756)","v":"0"},{"$f":"TRIM(Data!L756)","v":"23"},{"$f":"TRIM(Data!M756)","v":"0"},null,null,null,{"$f":"TRIM(Data!N756)","v":"10"},{"$f":"TRIM(Data!O756)","v":"0"},{"$f":"TRIM(Data!P756)","v":"23"},null,{"$f":"TRIM(Data!Q756)","v":"23"},null,null,{"$f":"TRIM(Data!R756)","v":"23"},{"$f":"TRIM(Data!S756)","v":"0"},{"$f":"TRIM(Data!T756)","v":"0"},null,null,null,{"$f":"TRIM(Data!U756)","v":"0"},null,{"$f":"TRIM(Data!V756)","v":"0"},{"$f":"TRIM(Data!W756)","v":"0"},{"$f":"TRIM(Data!X756)","v":"0"},{"$f":"TRIM(Data!Y756)","v":"0"},{"$f":"TRIM(Data!Z756)","v":"0"},{"$f":"TRIM(Data!AA756)","v":"0"},582,"1 Dec 2024 to 31 Dec 2024","VMC Healthcare Group Limited","VMC HEALTHCARE GROUP","SOLO","3747982882","PX","3","ClinicSolution","Local System","33","10","0","23","0","","10","0.303030303030303","10","0","23","0.696969696969697","23","0","0","23","0","0","","0","0","0","0","0","0","0","0","0","0"]
["1 Dec 2024 to 31 Dec 20247969980015ADR","1 Dec 2024 to 31 Dec 2024","ST.TERESA's HOSPITAL","STH","PH",7969980015,"ADR",3,"STH HIS","Local System",17,0,0,2,15,null,0,0,0,0,3,0.17647058823529413,3,0,0,3,0,0,null,15,0.88235294117647056,0,0,0,0,0,0,0,0,"","","Y","1 Dec 2024 to 31 Dec 20243426117536RAD",{"$f":"Data!A757","v":"2024-12-01"},{"$f":"TRIM(Data!B757)","v":"INSTA MEDLAB MRI CENTRE LIMITED"},null,{"$f":"TRIM(Data!C757)","v":"GRP"},{"$f":"TRIM(Data!D757)","v":"3426117536"},{"$f":"TRIM(Data!E757)","v":"RAD"},{"$f":"TRIM(Data!F757)","v":"3"},{"$f":"TRIM(Data!G757)","v":"RIS(LAAM for Insta MedLab PRD)"},{"$f":"TRIM(Data!H757)","v":"Local System"},{"$f":"TRIM(Data!I757)","v":"66"},{"$f":"TRIM(Data!J757)","v":"0"},{"$f":"TRIM(Data!K757)","v":"0"},{"$f":"TRIM(Data!L757)","v":"0"},{"$f":"TRIM(Data!M757)","v":"66"},null,null,null,{"$f":"TRIM(Data!N757)","v":"0"},{"$f":"TRIM(Data!O757)","v":"0"},{"$f":"TRIM(Data!P757)","v":"0"},null,{"$f":"TRIM(Data!Q757)","v":"0"},null,null,{"$f":"TRIM(Data!R757)","v":"0"},{"$f":"TRIM(Data!S757)","v":"0"},{"$f":"TRIM(Data!T757)","v":"0"},null,null,null,{"$f":"TRIM(Data!U757)","v":"0"},null,{"$f":"TRIM(Data!V757)","v":"0"},{"$f":"TRIM(Data!W757)","v":"0"},{"$f":"TRIM(Data!X757)","v":"0"},{"$f":"TRIM(Data!Y757)","v":"0"},{"$f":"TRIM(Data!Z757)","v":"0"},{"$f":"TRIM(Data!AA757)","v":"0"},556,"1 Dec 2024 to 31 Dec 2024","INSTA MELAB MRI CENTRE LIMITED","INSTA MELAB MRI CTR LTD","GROUP","3426117536","RAD","3","RIS(LAAM for Insta MedLab PRD)","Local System","66","0","0","0","66","","0","0","0","0","0","0","0","0","0","0","0","0","","66","1","0","0","0","0","0","0","0","0"]
["1 Dec 2024 to 31 Dec 20247969980015LABAP","1 Dec 2024 to 31 Dec 2024","ST.TERESA's HOSPITAL","STH","PH",7969980015,"LABAP",1,"STH HIS","Local System",870,0,870,0,0,null,0,0,0,0,0,0,0,0,0,0,0,0,null,0,0,0,0,0,0,0,0,0,0,"","","Y","1 Dec 2024 to 31 Dec 20247071207758AL1",{"$f":"Data!A761","v":"2024-12-01"},{"$f":"TRIM(Data!B761)","v":"DR. TONY CHUN KIT LEE MEDICAL PRACTICE LIMITED"},null,{"$f":"TRIM(Data!C761)","v":"SOLO"},{"$f":"TRIM(Data!D761)","v":"7071207758"},{"$f":"TRIM(Data!E761)","v":"AL1"},{"$f":"TRIM(Data!F761)","v":"2"},{"$f":"TRIM(Data!G761)","v":"ClinicSolution"},{"$f":"TRIM(Data!H761)","v":"Local System"},{"$f":"TRIM(Data!I761)","v":"2"},{"$f":"TRIM(Data!J761)","v":"0"},{"$f":"TRIM(Data!K761)","v":"0"},{"$f":"TRIM(Data!L761)","v":"2"},{"$f":"TRIM(Data!M761)","v":"0"},null,null,null,{"$f":"TRIM(Data!N761)","v":"0"},{"$f":"TRIM(Data!O761)","v":"0"},{"$f":"TRIM(Data!P761)","v":"0"},null,{"$f":"TRIM(Data!Q761)","v":"0"},null,null,{"$f":"TRIM(Data!R761)","v":"0"},{"$f":"TRIM(Data!S761)","v":"0"},{"$f":"TRIM(Data!T761)","v":"0"},null,null,null,{"$f":"TRIM(Data!U761)","v":"0"},null,{"$f":"TRIM(Data!V761)","v":"0"},{"$f":"TRIM(Data!W761)","v":"0"},{"$f":"TRIM(Data!X761)","v":"0"},{"$f":"TRIM(Data!Y761)","v":"0"},{"$f":"TRIM(Data!Z761)","v":"0"},{"$f":"TRIM(Data!AA761)","v":"0"},736,"1 Dec 2024 to 31 Dec 2024","DR. TONY CHUN KIT LEE MEDICAL PRATICE LIMITED","DR. TONY CHUN KIT LEE","SOLO","7071207758","AL1","2","ClinicSolution","Local System","2","0","0","2","0","","0","0","0","0","0","0","0","0","0","0","0","0","","0","0","0","0","0","0","0","0","0","0"]
["1 Dec 2024 to 31 Dec 20247969980015RAD","1 Dec 2024 to 31 Dec 2024","ST.TERESA's HOSPITAL","STH","PH",7969980015,"RAD",3,"STH HIS","Local System",4563,0,0,0,4563,null,0,0,0,0,0,0,0,0,0,0,0,0,null,4563,1,0,0,0,0,0,0,0,0,"","","Y","1 Dec 2024 to 31 Dec 20247071207758PROB",{"$f":"Data!A762","v":"2024-12-01"},{"$f":"TRIM(Data!B762)","v":"DR. TONY CHUN KIT LEE MEDICAL PRACTICE LIMITED"},null,{"$f":"TRIM(Data!C762)","v":"SOLO"},{"$f":"TRIM(Data!D762)","v":"7071207758"},{"$f":"TRIM(Data!E762)","v":"PROB"},{"$f":"TRIM(Data!F762)","v":"3"},{"$f":"TRIM(Data!G762)","v":"ClinicSolution"},{"$f":"TRIM(Data!H762)","v":"Local System"},{"$f":"TRIM(Data!I762)","v":"2"},{"$f":"TRIM(Data!J762)","v":"0"},{"$f":"TRIM(Data!K762)","v":"0"},{"$f":"TRIM(Data!L762)","v":"2"},{"$f":"TRIM(Data!M762)","v":"0"},null,null,null,{"$f":"TRIM(Data!N762)","v":"0"},{"$f":"TRIM(Data!O762)","v":"0"},{"$f":"TRIM(Data!P762)","v":"2"},null,{"$f":"TRIM(Data!Q762)","v":"2"},null,null,{"$f":"TRIM(Data!R762)","v":"2"},{"$f":"TRIM(Data!S762)","v":"0"},{"$f":"TRIM(Data!T762)","v":"0"},null,null,null,{"$f":"TRIM(Data!U762)","v":"0"},null,{"$f":"TRIM(Data!V762)","v":"0"},{"$f":"TRIM(Data!W762)","v":"0"},{"$f":"TRIM(Data!X762)","v":"0"},{"$f":"TRIM(Data!Y762)","v":"0"},{"$f":"TRIM(Data!Z762)","v":"0"},{"$f":"TRIM(Data!AA762)","v":"0"},738,"1 Dec 2024 to 31 Dec 2024","DR. TONY CHUN KIT LEE MEDICAL PRATICE LIMITED","DR. TONY CHUN KIT LEE","SOLO","7071207758","PROB","3","ClinicSolution","Local System","2","0","0","2","0","","0","0","0","0","2","1","2","0","0","2","0","0","","0","0","0","0","0","0","0","0","0","0"]
["1 Dec 2024 to 31 Dec 20248061038543CMPROB","1 Dec 2024 to 31 Dec 2024","Shao Yao Chinese Medicine Clinic Limited","SYCMC LTD","SOLO",8061038543,"CMPROB",3,"Local System","EC Connect",1,0,0,0,1,null,0,0,0,0,0,0,0,0,0,0,0,0,null,1,1,0,0,0,0,0,0,0,0,"","","Y","1 Dec 2024 to 31 Dec 20249306084059LABGEN",{"$f":"Data!A765","v":"2024-12-01"},{"$f":"TRIM(Data!B765)","v":"ADVANCE X-RAY & MEDICAL DIAGNOSTIC CENTRE LTD"},null,{"$f":"TRIM(Data!C765)","v":"SOLO"},{"$f":"TRIM(Data!D765)","v":"9306084059"},{"$f":"TRIM(Data!E765)","v":"LABGEN"},{"$f":"TRIM(Data!F765)","v":"1"},{"$f":"TRIM(Data!G765)","v":"HKMA CMS for LAAM"},{"$f":"TRIM(Data!H765)","v":"Local System"},{"$f":"TRIM(Data!I765)","v":"21"},{"$f":"TRIM(Data!J765)","v":"0"},{"$f":"TRIM(Data!K765)","v":"21"},{"$f":"TRIM(Data!L765)","v":"0"},{"$f":"TRIM(Data!M765)","v":"0"},null,null,null,{"$f":"TRIM(Data!N765)","v":"0"},{"$f":"TRIM(Data!O765)","v":"0"},{"$f":"TRIM(Data!P765)","v":"0"},null,{"$f":"TRIM(Data!Q765)","v":"0"},null,null,{"$f":"TRIM(Data!R765)","v":"0"},{"$f":"TRIM(Data!S765)","v":"0"},{"$f":"TRIM(Data!T765)","v":"0"},null,null,null,{"$f":"TRIM(Data!U765)","v":"0"},null,{"$f":"TRIM(Data!V765)","v":"0"},{"$f":"TRIM(Data!W765)","v":"0"},{"$f":"TRIM(Data!X765)","v":"0"},{"$f":"TRIM(Data!Y765)","v":"0"},{"$f":"TRIM(Data!Z765)","v":"0"},{"$f":"TRIM(Data!AA765)","v":"0"},848,"1 Dec 2024 to 31 Dec 2024","Advance X-Ray & Medical Diagnostic Centre Ltd","AXMDCL","SOLO","9306084059","LABGEN","1","CMS5.0 (HKMA)","Local System","21","0","21","0","0","","0","0","0","0","0","0","0","0","0","0","0","0","","0","0","0","0","0","0","0","0","0","0"]
["1 Dec 2024 to 31 Dec 20248061038543CMRXO","1 Dec 2024 to 31 Dec 2024","Shao Yao Chinese Medicine Clinic Limited","SYCMC LTD","SOLO",8061038543,"CMRXO",3,"Local System","EC Connect",1,0,0,0,1,null,0,0,0,0,0,0,0,0,0,0,0,0,null,1,1,0,0,0,0,0,0,0,0,"","","","1 Dec 2024 to 31 Dec 20248252506240ADR",{"$f":"Data!A768","v":"2024-12-01"},{"$f":"TRIM(Data!B768)","v":"CANOSSA HOSPITAL (CARITAS)"},null,{"$f":"TRIM(Data!C768)","v":"PH"},{"$f":"TRIM(Data!D768)","v":"8252506240"},{"$f":"TRIM(Data!E768)","v":"ADR"},{"$f":"TRIM(Data!F768)","v":"3"},{"$f":"TRIM(Data!G768)","v":"Canossa Hospital Management System"},{"$f":"TRIM(Data!H768)","v":"Local System"},{"$f":"TRIM(Data!I768)","v":"1"},{"$f":"TRIM(Data!J768)","v":"0"},{"$f":"TRIM(Data!K768)","v":"0"},{"$f":"TRIM(Data!L768)","v":"0"},{"$f":"TRIM(Data!M768)","v":"1"},null,null,null,{"$f":"TRIM(Data!N768)","v":"0"},{"$f":"TRIM(Data!O768)","v":"0"},{"$f":"TRIM(Data!P768)","v":"0"},null,{"$f":"TRIM(Data!Q768)","v":"0"},null,null,{"$f":"TRIM(Data!R768)","v":"0"},{"$f":"TRIM(Data!S768)","v":"0"},{"$f":"TRIM(Data!T768)","v":"0"},null,null,null,{"$f":"TRIM(Data!U768)","v":"0"},null,{"$f":"TRIM(Data!V768)","v":"0"},{"$f":"TRIM(Data!W768)","v":"0"},{"$f":"TRIM(Data!X768)","v":"0"},{"$f":"TRIM(Data!Y768)","v":"0"},{"$f":"TRIM(Data!Z768)","v":"0"},{"$f":"TRIM(Data!AA768)","v":"0"},782,"1 Dec 2024 to 31 Dec 2024","CANOSSA HOSPITAL (CARITAS)","CANNOSSA HOSPITAL","PH","8252506240","ADR","3","Canossa Hospital Management System","Local System","1","0","0","0","1","","0","0","0","0","0","0","0","0","0","0","0","0","","1","1","0","0","0","0","0","0","0","0"]
[{"$f":"IF(B777<>\"\",B777&F777&G777,\"\")","v":"1 Dec 2024 to 31 Dec 20248154807797ENCTR"},"1 Dec 2024 to 31 Dec 2024","CELESTIAL HEALTHCARE                                                                                                                                                                                                                                                                                                                                                                                                                                                                                                             ","DR. LIM CHAW NAM","SOLO",8154807797,"ENCTR",3,"ClinicSolution","Local System",318,0,0,0,318,null,0,0,0,0,0,0,0,0,0,0,0,0,null,318,1,0,0,0,0,0,0,0,0,{"$f":"IFERROR(IF(SEARCH(\"total\",A777)>0,\"\",\"\"),_xlfn.IFNA(IF(A777<>\"\",IF(MATCH(A777,AQ:AQ,0)>0,\"\",\"\"),\"\"),\"Y\"))","v":""},{"$f":"IFERROR(_xlfn.IFNA(IF(AQ777<>\"\",IF(MATCH(AQ777,A:A,0)>0,\"\",\"\"),\"\"),\"Y\"),\"\")","v":""},{"$f":"IF(OR(TRIM(UPPER(AS777))<>TRIM(UPPER(CF777)),AU777<>CH777,AV777<>CI777,AW777<>CJ777,AX777<>CK777,AY777<>CL777,AZ777<>CM777,BA777<>CN777,BB777<>CO777,BC777<>CP777,BD777<>CQ777,BE777<>CR777,BI777<>CV777,BJ777<>CW777,BK777<>CX777,BM777<>CZ777,BP777<>DC777,BQ777<>DD777,BR777<>DE777,BV777<>DI777,BX777<>DK777,BY777<>DL777,BZ777<>DM777,CA777<>DN777,CB777<>DO777,CC777<>DP777),\"Y\",\"\")","v":""},{"$f":"IF(AR777<>\"\",TEXT(AR777,\"d mmm yyyy\") &\" to \" & TEXT(EOMONTH(AR777,0),\"d mmm yyyy\") & AV777 & AW777,\"\")","v":"1 Dec 2024 to 31 Dec 20249398567973ENCTR"},{"$f":"Data!A770","v":"2024-12-01"},{"$f":"TRIM(Data!B770)","v":"DR. CHUNG CHI PING SIMON"},null,{"$f":"TRIM(Data!C770)","v":"SOLO"},{"$f":"TRIM(Data!D770)","v":"9398567973"},{"$f":"TRIM(Data!E770)","v":"ENCTR"},{"$f":"TRIM(Data!F770)","v":"3"},{"$f":"TRIM(Data!G770)","v":"ClinicSolution"},{"$f":"TRIM(Data!H770)","v":"Local System"},{"$f":"TRIM(Data!I770)","v":"9"},{"$f":"TRIM(Data!J770)","v":"0"},{"$f":"TRIM(Data!K770)","v":"0"},{"$f":"TRIM(Data!L770)","v":"0"},{"$f":"TRIM(Data!M770)","v":"9"},null,null,null,{"$f":"TRIM(Data!N770)","v":"0"},{"$f":"TRIM(Data!O770)","v":"0"},{"$f":"TRIM(Data!P770)","v":"0"},null,{"$f":"TRIM(Data!Q770)","v":"0"},null,null,{"$f":"TRIM(Data!R770)","v":"0"},{"$f":"TRIM(Data!S770)","v":"0"},{"$f":"TRIM(Data!T770)","v":"0"},null,null,null,{"$f":"TRIM(Data!U770)","v":"0"},null,{"$f":"TRIM(Data!V770)","v":"0"},{"$f":"TRIM(Data!W770)","v":"0"},{"$f":"TRIM(Data!X770)","v":"0"},{"$f":"TRIM(Data!Y770)","v":"0"},{"$f":"TRIM(Data!Z770)","v":"0"},{"$f":"TRIM(Data!AA770)","v":"0"},{"$f":"MATCH(AQ777,A:A,0)","v":849},{"$f":"TRIM(INDEX(B:B,$CD777))","v":"1 Dec 2024 to 31 Dec 2024"},{"$f":"TRIM(INDEX(C:C,$CD777))","v":"DR. CHUNG CHI PING SIMON"},{"$f":"TRIM(INDEX(D:D,$CD777))","v":"DR. SIMON C.P. CHUNG"},{"$f":"TRIM(INDEX(E:E,$CD777))","v":"SOLO"},{"$f":"TRIM(INDEX(F:F,$CD777))","v":"9398567973"},{"$f":"TRIM(INDEX(G:G,$CD777))","v":"ENCTR"},{"$f":"TRIM(INDEX(H:H,$CD777))","v":"3"},{"$f":"TRIM(INDEX(I:I,$CD777))","v":"ClinicSolution"},{"$f":"TRIM(INDEX(J:J,$CD777))","v":"Local System"},{"$f":"TRIM(INDEX(K:K,$CD777))","v":"9"},{"$f":"TRIM(INDEX(L:L,$CD777))","v":"0"},{"$f":"TRIM(INDEX(M:M,$CD777))","v":"0"},{"$f":"TRIM(INDEX(N:N,$CD777))","v":"0"},{"$f":"TRIM(INDEX(O:O,$CD777))","v":"9"},{"$f":"TRIM(INDEX(P:P,$CD777))","v":""},{"$f":"TRIM(INDEX(Q:Q,$CD777))","v":"0"},{"$f":"TRIM(INDEX(R:R,$CD777))","v":"0"},{"$f":"TRIM(INDEX(S:S,$CD777))","v":"0"},{"$f":"TRIM(INDEX(T:T,$CD777))","v":"0"},{"$f":"TRIM(INDEX(U:U,$CD777))","v":"0"},{"$f":"TRIM(INDEX(V:V,$CD777))","v":"0"},{"$f":"TRIM(INDEX(W:W,$CD777))","v":"0"},{"$f":"TRIM(INDEX(X:X,$CD777))","v":"0"},{"$f":"TRIM(INDEX(Y:Y,$CD777))","v":"0"},{"$f":"TRIM(INDEX(Z:Z,$CD777))","v":"0"},{"$f":"TRIM(INDEX(AA:AA,$CD777))","v":"0"},{"$f":"TRIM(INDEX(AB:AB,$CD777))","v":"0"},{"$f":"TRIM(INDEX(AC:AC,$CD777))","v":""},{"$f":"TRIM(INDEX(AD:AD,$CD777))","v":"9"},{"$f":"TRIM(INDEX(AE:AE,$CD777))","v":"1"},{"$f":"TRIM(INDEX(AF:AF,$CD777))","v":"0"},{"$f":"TRIM(INDEX(AG:AG,$CD777))","v":"0"},{"$f":"TRIM(INDEX(AH:AH,$CD777))","v":"0"},{"$f":"TRIM(INDEX(AI:AI,$CD777))","v":"0"},{"$f":"TRIM(INDEX(AJ:AJ,$CD777))","v":"0"},{"$f":"TRIM(INDEX(AK:AK,$CD777))","v":"0"},{"$f":"TRIM(INDEX(AL:AL,$CD777))","v":"0"},{"$f":"TRIM(INDEX(AM:AM,$CD777))","v":"0"}]
["1 Dec 2024 to 31 Dec 20248154807797PROB","1 Dec 2024 to 31 Dec 2024","CELESTIAL HEALTHCARE                                                                                                                                                                                                                                                                                                                                                                                                                                                                                                             ","DR. LIM CHAW NAM","SOLO",8154807797,"PROB",3,"ClinicSolution","Local System",81,0,0,81,0,null,0,0,0,0,81,1,81,0,0,81,0,0,null,0,0,0,0,0,0,0,0,0,0,"","","","1 Dec 2024 to 31 Dec 20249398567973RXD",{"$f":"Data!A771","v":"2024-12-01"},{"$f":"TRIM(Data!B771)","v":"DR. CHUNG CHI PING SIMON"},null,{"$f":"TRIM(Data!C771)","v":"SOLO"},{"$f":"TRIM(Data!D771)","v":"9398567973"},{"$f":"TRIM(Data!E771)","v":"RXD"},{"$f":"TRIM(Data!F771)","v":"2"},{"$f":"TRIM(Data!G771)","v":"ClinicSolution"},{"$f":"TRIM(Data!H771)","v":"Local System"},{"$f":"TRIM(Data!I771)","v":"6"},{"$f":"TRIM(Data!J771)","v":"0"},{"$f":"TRIM(Data!K771)","v":"0"},{"$f":"TRIM(Data!L771)","v":"6"},{"$f":"TRIM(Data!M771)","v":"0"},null,null,null,{"$f":"TRIM(Data!N771)","v":"0"},{"$f":"TRIM(Data!O771)","v":"0"},{"$f":"TRIM(Data!P771)","v":"0"},null,{"$f":"TRIM(Data!Q771)","v":"0"},null,null,{"$f":"TRIM(Data!R771)","v":"0"},{"$f":"TRIM(Data!S771)","v":"0"},{"$f":"TRIM(Data!T771)","v":"0"},null,null,null,{"$f":"TRIM(Data!U771)","v":"0"},null,{"$f":"TRIM(Data!V771)","v":"0"},{"$f":"TRIM(Data!W771)","v":"0"},{"$f":"TRIM(Data!X771)","v":"0"},{"$f":"TRIM(Data!Y771)","v":"0"},{"$f":"TRIM(Data!Z771)","v":"0"},{"$f":"TRIM(Data!AA771)","v":"0"},851,"1 Dec 2024 to 31 Dec 2024","DR. CHUNG CHI PING SIMON","DR. SIMON C.P. CHUNG","SOLO","9398567973","RXD","2","ClinicSolution","Local System","6","0","0","6","0","","0","0","0","0","0","0","0","0","0","0","0","0","","0","0","0","0","0","0","0","0","0","0"]
["1 Dec 2024 to 31 Dec 20248154807797RXD","1 Dec 2024 to 31 Dec 2024","CELESTIAL HEALTHCARE                                                                                                                                                                                                                                                                                                                                                                                                                                                                                                             ","DR. LIM CHAW NAM","SOLO",8154807797,"RXD",2,"ClinicSolution","Local System",362,0,0,362,0,null,0,0,0,0,0,0,0,0,0,0,0,0,null,0,0,0,0,0,0,0,0,0,0,"","","","1 Dec 2024 to 31 Dec 20245772944231RXD",{"$f":"Data!A773","v":"2024-12-01"},{"$f":"TRIM(Data!B773)","v":"PASSION MEDICAL LIMITED"},null,{"$f":"TRIM(Data!C773)","v":"SOLO"},{"$f":"TRIM(Data!D773)","v":"5772944231"},{"$f":"TRIM(Data!E773)","v":"RXD"},{"$f":"TRIM(Data!F773)","v":"2"},{"$f":"TRIM(Data!G773)","v":"ClinicSolution"},{"$f":"TRIM(Data!H773)","v":"Local System"},{"$f":"TRIM(Data!I773)","v":"13"},{"$f":"TRIM(Data!J773)","v":"0"},{"$f":"TRIM(Data!K773)","v":"0"},{"$f":"TRIM(Data!L773)","v":"13"},{"$f":"TRIM(Data!M773)","v":"0"},null,null,null,{"$f":"TRIM(Data!N773)","v":"0"},{"$f":"TRIM(Data!O773)","v":"0"},{"$f":"TRIM(Data!P773)","v":"0"},null,{"$f":"TRIM(Data!Q773)","v":"0"},null,null,{"$f":"TRIM(Data!R773)","v":"0"},{"$f":"TRIM(Data!S773)","v":"0"},{"$f":"TRIM(Data!T773)","v":"0"},null,null,null,{"$f":"TRIM(Data!U773)","v":"0"},null,{"$f":"TRIM(Data!V773)","v":"0"},{"$f":"TRIM(Data!W773)","v":"0"},{"$f":"TRIM(Data!X773)","v":"0"},{"$f":"TRIM(Data!Y773)","v":"0"},{"$f":"TRIM(Data!Z773)","v":"0"},{"$f":"TRIM(Data!AA773)","v":"0"},669,"1 Dec 2024 to 31 Dec 2024","PASSION MEDICAL LIMITED","PASSION MEDICAL","SOLO","5772944231","RXD","2","ClinicSolution","Local System","13","0","0","13","0","","0","0","0","0","0","0","0","0","0","0","0","0","","0","0","0","0","0","0","0","0","0","0"]
["1 Dec 2024 to 31 Dec 20248252506240AL1","1 Dec 2024 to 31 Dec 2024","CANOSSA HOSPITAL (CARITAS)","CANNOSSA HOSPITAL","PH",8252506240,"AL1",3,"Canossa Hospital Management System","Local System",24,0,0,9,15,null,0,0,0,0,8,0.33333333333333331,8,0,0,8,0,0,null,15,0.625,0,0,0,0,0,0,0,0,"","","","1 Dec 2024 to 31 Dec 20245772944231PROB",{"$f":"Data!A776","v":"2024-12-01"},{"$f":"TRIM(Data!B776)","v":"PASSION MEDICAL LIMITED"},null,{"$f":"TRIM(Data!C776)","v":"SOLO"},{"$f":"TRIM(Data!D776)","v":"5772944231"},{"$f":"TRIM(Data!E776)","v":"PROB"},{"$f":"TRIM(Data!F776)","v":"3"},{"$f":"TRIM(Data!G776)","v":"ClinicSolution"},{"$f":"TRIM(Data!H776)","v":"Local System"},{"$f":"TRIM(Data!I776)","v":"5"},{"$f":"TRIM(Data!J776)","v":"0"},{"$f":"TRIM(Data!K776)","v":"0"},{"$f":"TRIM(Data!L776)","v":"5"},{"$f":"TRIM(Data!M776)","v":"0"},null,null,null,{"$f":"TRIM(Data!N776)","v":"0"},{"$f":"TRIM(Data!O776)","v":"0"},{"$f":"TRIM(Data!P776)","v":"5"},null,{"$f":"TRIM(Data!Q776)","v":"5"},null,null,{"$f":"TRIM(Data!R776)","v":"5"},{"$f":"TRIM(Data!S776)","v":"0"},{"$f":"TRIM(Data!T776)","v":"0"},null,null,null,{"$f":"TRIM(Data!U776)","v":"0"},null,{"$f":"TRIM(Data!V776)","v":"0"},{"$f":"TRIM(Data!W776)","v":"0"},{"$f":"TRIM(Data!X776)","v":"0"},{"$f":"TRIM(Data!Y776)","v":"0"},{"$f":"TRIM(Data!Z776)","v":"0"},{"$f":"TRIM(Data!AA776)","v":"0"},668,"1 Dec 2024 to 31 Dec 2024","PASSION MEDICAL LIMITED","PASSION MEDICAL","SOLO","5772944231","PROB","3","ClinicSolution","Local System","5","0","0","5","0","","0","0","0","0","5","1","5","0","0","5","0","0","","0","0","0","0","0","0","0","0","0","0"]
["1 Dec 2024 to 31 Dec 20248296860643CMPROB","1 Dec 2024 to 31 Dec 2024","18 Chinese Medicine Clinic cum Traing and Research Centre (The Hong Kong Buddist Association)","18CMCTRs (HKBA)","NGO",8296860643,"CMPROB",3,"Local System","EC Connect",278,0,0,55,223,null,0,0,0,0,41,0.14748201438848921,41,0,0,41,0,0,null,223,0.80215827338129497,0,0,0,0,0,0,0,0,"","","","1 Dec 2024 to 31 Dec 20245197855501PROB",{"$f":"Data!A779","v":"2024-12-01"},{"$f":"TRIM(Data!B779)","v":"BETHEL MEDICAL LIMITED"},null,{"$f":"TRIM(Data!C779)","v":"SOLO"},{"$f":"TRIM(Data!D779)","v":"5197855501"},{"$f":"TRIM(Data!E779)","v":"PROB"},{"$f":"TRIM(Data!F779)","v":"3"},{"$f":"TRIM(Data!G779)","v":"ClinicSolution"},{"$f":"TRIM(Data!H779)","v":"Local System"},{"$f":"TRIM(Data!I779)","v":"9"},{"$f":"TRIM(Data!J779)","v":"0"},{"$f":"TRIM(Data!K779)","v":"0"},{"$f":"TRIM(Data!L779)","v":"9"},{"$f":"TRIM(Data!M779)","v":"0"},null,null,null,{"$f":"TRIM(Data!N779)","v":"0"},{"$f":"TRIM(Data!O779)","v":"0"},{"$f":"TRIM(Data!P779)","v":"9"},null,{"$f":"TRIM(Data!Q779)","v":"9"},null,null,{"$f":"TRIM(Data!R779)","v":"9"},{"$f":"TRIM(Data!S779)","v":"0"},{"$f":"TRIM(Data!T779)","v":"0"},null,null,null,{"$f":"TRIM(Data!U779)","v":"0"},null,{"$f":"TRIM(Data!V779)","v":"0"},{"$f":"TRIM(Data!W779)","v":"0"},{"$f":"TRIM(Data!X779)","v":"0"},{"$f":"TRIM(Data!Y779)","v":"0"},{"$f":"TRIM(Data!Z779)","v":"0"},{"$f":"TRIM(Data!AA779)","v":"0"},633,"1 Dec 2024 to 31 Dec 2024","BETHEL MEDICAL LIMITED","BETHEL MEDICAL LIMITED","SOLO","5197855501","PROB","3","ClinicSolution","Local System","9","0","0","9","0","","0","0","0","0","9","1","9","0","0","9","0","0","","0","0","0","0","0","0","0","0","0","0"]
["1 Dec 2024 to 31 Dec 20248296860643CMPX","1 Dec 2024 to 31 Dec 2024","18 Chinese Medicine Clinic cum Traing and Research Centre (The Hong Kong Buddist Association)","18CMCTRs (HKBA)","NGO",8296860643,"CMPX",3,"Local System","EC Connect",63,0,0,0,63,null,0,0,0,0,0,0,0,0,0,0,0,0,null,63,1,0,0,0,0,0,0,0,0,"","","","1 Dec 2024 to 31 Dec 20245197855501RXD",{"$f":"Data!A780","v":"2024-12-01"},{"$f":"TRIM(Data!B780)","v":"BETHEL MEDICAL LIMITED"},null,{"$f":"TRIM(Data!C780)","v":"SOLO"},{"$f":"TRIM(Data!D780)","v":"5197855501"},{"$f":"TRIM(Data!E780)","v":"RXD"},{"$f":"TRIM(Data!F780)","v":"2"},{"$f":"TRIM(Data!G780)","v":"ClinicSolution"},{"$f":"TRIM(Data!H780)","v":"Local System"},{"$f":"TRIM(Data!I780)","v":"5"},{"$f":"TRIM(Data!J780)","v":"0"},{"$f":"TRIM(Data!K780)","v":"0"},{"$f":"TRIM(Data!L780)","v":"5"},{"$f":"TRIM(Data!M780)","v":"0"},null,null,null,{"$f":"TRIM(Data!N780)","v":"0"},{"$f":"TRIM(Data!O780)","v":"0"},{"$f":"TRIM(Data!P780)","v":"0"},null,{"$f":"TRIM(Data!Q780)","v":"0"},null,null,{"$f":"TRIM(Data!R780)","v":"0"},{"$f":"TRIM(Data!S780)","v":"0"},{"$f":"TRIM(Data!T780)","v":"0"},null,null,null,{"$f":"TRIM(Data!U780)","v":"0"},null,{"$f":"TRIM(Data!V780)","v":"0"},{"$f":"TRIM(Data!W780)","v":"0"},{"$f":"TRIM(Data!X780)","v":"0"},{"$f":"TRIM(Data!Y780)","v":"0"},{"$f":"TRIM(Data!Z780)","v":"0"},{"$f":"TRIM(Data!AA780)","v":"0"},634,"1 Dec 2024 to 31 Dec 2024","BETHEL MEDICAL LIMITED","BETHEL MEDICAL LIMITED","SOLO","5197855501","RXD","2","ClinicSolution","Local System","5","0","0","5","0","","0","0","0","0","0","0","0","0","0","0","0","0","","0","0","0","0","0","0","0","0","0","0"]
["1 Dec 2024 to 31 Dec 20248558761107ENCTR","1 Dec 2024 to 31 Dec 2024","DY EYE CONSULTANT LIMITED","DY EYE CONSULTANT LIMITED","SOLO",8558761107,"ENCTR",3,"ClinicSolution","Local System",96,0,0,0,96,null,0,0,0,0,0,0,0,0,0,0,0,0,null,96,1,0,0,0,0,0,0,0,0,"","","Y","1 Dec 2024 to 31 Dec 20245251825990RXO",{"$f":"Data!A783","v":"2024-12-01"},{"$f":"TRIM(Data!B783)","v":"L & C CLINICAL PRACTICE"},null,{"$f":"TRIM(Data!C783)","v":"GRP"},{"$f":"TRIM(Data!D783)","v":"5251825990"},{"$f":"TRIM(Data!E783)","v":"RXO"},{"$f":"TRIM(Data!F783)","v":"2"},{"$f":"TRIM(Data!G783)","v":"ClinicSolution"},{"$f":"TRIM(Data!H783)","v":"Local System"},{"$f":"TRIM(Data!I783)","v":"13"},{"$f":"TRIM(Data!J783)","v":"0"},{"$f":"TRIM(Data!K783)","v":"0"},{"$f":"TRIM(Data!L783)","v":"13"},{"$f":"TRIM(Data!M783)","v":"0"},null,null,null,{"$f":"TRIM(Data!N783)","v":"0"},{"$f":"TRIM(Data!O783)","v":"0"},{"$f":"TRIM(Data!P783)","v":"0"},null,{"$f":"TRIM(Data!Q783)","v":"0"},null,null,{"$f":"TRIM(Data!R783)","v":"0"},{"$f":"TRIM(Data!S783)","v":"0"},{"$f":"TRIM(Data!T783)","v":"0"},null,null,null,{"$f":"TRIM(Data!U783)","v":"0"},null,{"$f":"TRIM(Data!V783)","v":"0"},{"$f":"TRIM(Data!W783)","v":"0"},{"$f":"TRIM(Data!X783)","v":"0"},{"$f":"TRIM(Data!Y783)","v":"0"},{"$f":"TRIM(Data!Z783)","v":"0"},{"$f":"TRIM(Data!AA783)","v":"0"},643,"1 Dec 2024 to 31 Dec 2024","L & C CLINICAL PRACTICE","L & C CLINICAL PRACTICE","GROUP","5251825990","RXO","2","ClinicSolution","Local System","13","0","0","13","0","","0","0","0","0","0","0","0","0","0","0","0","0","","0","0","0","0","0","0","0","0","0","0"]
["1 Dec 2024 to 31 Dec 20248558761107PX","1 Dec 2024 to 31 Dec 2024","DY EYE CONSULTANT LIMITED","DY EYE CONSULTANT LIMITED","SOLO",8558761107,"PX",3,"ClinicSolution","Local System",11,0,0,11,0,null,0,0,0,0,11,1,11,0,0,11,0,0,null,0,0,0,0,0,0,0,0,0,0,"","","Y","1 Dec 2024 to 31 Dec 20245251825990PROB",{"$f":"Data!A785","v":"2024-12-01"},{"$f":"TRIM(Data!B785)","v":"L & C CLINICAL PRACTICE"},null,{"$f":"TRIM(Data!C785)","v":"GRP"},{"$f":"TRIM(Data!D785)","v":"5251825990"},{"$f":"TRIM(Data!E785)","v":"PROB"},{"$f":"TRIM(Data!F785)","v":"3"},{"$f":"TRIM(Data!G785)","v":"ClinicSolution"},{"$f":"TRIM(Data!H785)","v":"Local System"},{"$f":"TRIM(Data!I785)","v":"3"},{"$f":"TRIM(Data!J785)","v":"0"},{"$f":"TRIM(Data!K785)","v":"0"},{"$f":"TRIM(Data!L785)","v":"3"},{"$f":"TRIM(Data!M785)","v":"0"},null,null,null,{"$f":"TRIM(Data!N785)","v":"0"},{"$f":"TRIM(Data!O785)","v":"0"},{"$f":"TRIM(Data!P785)","v":"3"},null,{"$f":"TRIM(Data!Q785)","v":"3"},null,null,{"$f":"TRIM(Data!R785)","v":"3"},{"$f":"TRIM(Data!S785)","v":"0"},{"$f":"TRIM(Data!T785)","v":"0"},null,null,null,{"$f":"TRIM(Data!U785)","v":"0"},null,{"$f":"TRIM(Data!V785)","v":"0"},{"$f":"TRIM(Data!W785)","v":"0"},{"$f":"TRIM(Data!X785)","v":"0"},{"$f":"TRIM(Data!Y785)","v":"0"},{"$f":"TRIM(Data!Z785)","v":"0"},{"$f":"TRIM(Data!AA785)","v":"0"},641,"1 Dec 2024 to 31 Dec 2024","L & C CLINICAL PRACTICE","L & C CLINICAL PRACTICE","GROUP","5251825990","PROB","3","ClinicSolution","Local System","3","0","0","3","0","","0","0","0","0","3","1","3","0","0","3","0","0","","0","0","0","0","0","0","0","0","0","0"]
["1 Dec 2024 to 31 Dec 20248832216811ENCTR","1 Dec 2024 to 31 Dec 2024","HEALTH & WEALTH MEDICAL CENTRE","HWMCL","SOLO",8832216811,"ENCTR",3,"ClinicSolution","Local System",27,0,0,0,27,null,0,0,0,0,0,0,0,0,0,0,0,0,null,27,1,0,0,0,0,0,0,0,0,"","","Y","1 Dec 2024 to 31 Dec 20249165130652CMRXD",{"$f":"Data!A788","v":"2024-12-01"},{"$f":"TRIM(Data!B788)","v":"KINDNESS CHINESE MEDICAL CLINIC LIMITED"},null,{"$f":"TRIM(Data!C788)","v":"SOLO"},{"$f":"TRIM(Data!D788)","v":"9165130652"},{"$f":"TRIM(Data!E788)","v":"CMRXD"},{"$f":"TRIM(Data!F788)","v":"3"},{"$f":"TRIM(Data!G788)","v":"EC Connect"},{"$f":"TRIM(Data!H788)","v":"EC Connect"},{"$f":"TRIM(Data!I788)","v":"6"},{"$f":"TRIM(Data!J788)","v":"0"},{"$f":"TRIM(Data!K788)","v":"0"},{"$f":"TRIM(Data!L788)","v":"0"},{"$f":"TRIM(Data!M788)","v":"6"},null,null,null,{"$f":"TRIM(Data!N788)","v":"0"},{"$f":"TRIM(Data!O788)","v":"0"},{"$f":"TRIM(Data!P788)","v":"0"},null,{"$f":"TRIM(Data!Q788)","v":"0"},null,null,{"$f":"TRIM(Data!R788)","v":"0"},{"$f":"TRIM(Data!S788)","v":"0"},{"$f":"TRIM(Data!T788)","v":"0"},null,null,null,{"$f":"TRIM(Data!U788)","v":"0"},null,{"$f":"TRIM(Data!V788)","v":"0"},{"$f":"TRIM(Data!W788)","v":"0"},{"$f":"TRIM(Data!X788)","v":"0"},{"$f":"TRIM(Data!Y788)","v":"0"},{"$f":"TRIM(Data!Z788)","v":"0"},{"$f":"TRIM(Data!AA788)","v":"0"},835,"1 Dec 2024 to 31 Dec 2024","KINDNESS CHINESE MEDICAL CLINIC LIMITED","KINDNESS CHINESE MEDICAL","SOLO","9165130652","CMRXD","3","Local System","EC Connect","6","0","0","0","6","","0","0","0","0","0","0","0","0","0","0","0","0","","6","1","0","0","0","0","0","0","0","0"]
["1 Dec 2024 to 31 Dec 20248832216811IMMU","1 Dec 2024 to 31 Dec 2024","HEALTH & WEALTH MEDICAL CENTRE","HWMCL","SOLO",8832216811,"IMMU",2,"ClinicSolution","Local System",1,0,0,1,0,null,0,0,0,0,0,0,0,0,0,0,0,0,null,0,0,0,0,0,0,0,0,0,0,"","","Y","1 Dec 2024 to 31 Dec 20249165130652CMRXO",{"$f":"Data!A789","v":"2024-12-01"},{"$f":"TRIM(Data!B789)","v":"KINDNESS CHINESE MEDICAL CLINIC LIMITED"},null,{"$f":"TRIM(Data!C789)","v":"SOLO"},{"$f":"TRIM(Data!D789)","v":"9165130652"},{"$f":"TRIM(Data!E789)","v":"CMRXO"},{"$f":"TRIM(Data!F789)","v":"3"},{"$f":"TRIM(Data!G789)","v":"EC Connect"},{"$f":"TRIM(Data!H789)","v":"EC Connect"},{"$f":"TRIM(Data!I789)","v":"6"},{"$f":"TRIM(Data!J789)","v":"0"},{"$f":"TRIM(Data!K789)","v":"0"},{"$f":"TRIM(Data!L789)","v":"0"},{"$f":"TRIM(Data!M789)","v":"6"},null,null,null,{"$f":"TRIM(Data!N789)","v":"0"},{"$f":"TRIM(Data!O789)","v":"0"},{"$f":"TRIM(Data!P789)","v":"0"},null,{"$f":"TRIM(Data!Q789)","v":"0"},null,null,{"$f":"TRIM(Data!R789)","v":"0"},{"$f":"TRIM(Data!S789)","v":"0"},{"$f":"TRIM(Data!T789)","v":"0"},null,null,null,{"$f":"TRIM(Data!U789)","v":"0"},null,{"$f":"TRIM(Data!V789)","v":"0"},{"$f":"TRIM(Data!W789)","v":"0"},{"$f":"TRIM(Data!X789)","v":"0"},{"$f":"TRIM(Data!Y789)","v":"0"},{"$f":"TRIM(Data!Z789)","v":"0"},{"$f":"TRIM(Data!AA789)","v":"0"},836,"1 Dec 2024 to 31 Dec 2024","KINDNESS CHINESE MEDICAL CLINIC LIMITED","KINDNESS CHINESE MEDICAL","SOLO","9165130652","CMRXO","3","Local System","EC Connect","6","0","0","0","6","","0","0","0","0","0","0","0","0","0","0","0","0","","6","1","0","0","0","0","0","0","0","0"]
["1 Dec 2024 to 31 Dec 20248832216811RXD","1 Dec 2024 to 31 Dec 2024","HEALTH & WEALTH MEDICAL CENTRE","HWMCL","SOLO",8832216811,"RXD",2,"ClinicSolution","Local System",34,0,0,34,0,null,0,0,0,0,0,0,0,0,0,0,0,0,null,0,0,0,0,0,0,0,0,0,0,"","","","1 Dec 2024 to 31 Dec 20243973708225RAD",{"$f":"Data!A791","v":"2024-12-01"},{"$f":"TRIM(Data!B791)","v":"APOLLO MRI CENTRE LIMITED"},null,{"$f":"TRIM(Data!C791)","v":"SOLO"},{"$f":"TRIM(Data!D791)","v":"3973708225"},{"$f":"TRIM(Data!E791)","v":"RAD"},{"$f":"TRIM(Data!F791)","v":"3"},{"$f":"TRIM(Data!G791)","v":"RHI2"},{"$f":"TRIM(Data!H791)","v":"Local System"},{"$f":"TRIM(Data!I791)","v":"25"},{"$f":"TRIM(Data!J791)","v":"0"},{"$f":"TRIM(Data!K791)","v":"0"},{"$f":"TRIM(Data!L791)","v":"0"},{"$f":"TRIM(Data!M791)","v":"25"},null,null,null,{"$f":"TRIM(Data!N791)","v":"0"},{"$f":"TRIM(Data!O791)","v":"0"},{"$f":"TRIM(Data!P791)","v":"0"},null,{"$f":"TRIM(Data!Q791)","v":"0"},null,null,{"$f":"TRIM(Data!R791)","v":"0"},{"$f":"TRIM(Data!S791)","v":"0"},{"$f":"TRIM(Data!T791)","v":"0"},null,null,null,{"$f":"TRIM(Data!U791)","v":"0"},null,{"$f":"TRIM(Data!V791)","v":"0"},{"$f":"TRIM(Data!W791)","v":"0"},{"$f":"TRIM(Data!X791)","v":"0"},{"$f":"TRIM(Data!Y791)","v":"0"},{"$f":"TRIM(Data!Z791)","v":"0"},{"$f":"TRIM(Data!AA791)","v":"0"},589,"1 Dec 2024 to 31 Dec 2024","APOLLO MRI CENTRE LIMITED","APOLLO MRI CENTRE LIMITED","SOLO","3973708225","RAD","3","RHI2","Local System","25","0","0","0","25","","0","0","0","0","0","0","0","0","0","0","0","0","","25","1","0","0","0","0","0","0","0","0"]
["1 Dec 2024 to 31 Dec 20248891674942PROB","1 Dec 2024 to 31 Dec 2024","ALL WELL (ASIA) LIMITED","ADVANZ PHYSIO CENTRE","GROUP",8891674942,"PROB",3,"ClinicSolution","Local System",27,0,0,27,0,null,0,0,0,0,27,1,27,0,0,27,0,0,null,0,0,0,0,0,0,0,0,0,0,"","","Y","1 Dec 2024 to 31 Dec 20242091864776CMRXO",{"$f":"Data!A794","v":"2024-12-01"},{"$f":"TRIM(Data!B794)","v":"HAN QI CHINESE MEDICINE LIMITED"},null,{"$f":"TRIM(Data!C794)","v":"GRP"},{"$f":"TRIM(Data!D794)","v":"2091864776"},{"$f":"TRIM(Data!E794)","v":"CMRXO"},{"$f":"TRIM(Data!F794)","v":"3"},{"$f":"TRIM(Data!G794)","v":"EC Connect"},{"$f":"TRIM(Data!H794)","v":"EC Connect"},{"$f":"TRIM(Data!I794)","v":"6"},{"$f":"TRIM(Data!J794)","v":"0"},{"$f":"TRIM(Data!K794)","v":"0"},{"$f":"TRIM(Data!L794)","v":"6"},{"$f":"TRIM(Data!M794)","v":"0"},null,null,null,{"$f":"TRIM(Data!N794)","v":"0"},{"$f":"TRIM(Data!O794)","v":"0"},{"$f":"TRIM(Data!P794)","v":"0"},null,{"$f":"TRIM(Data!Q794)","v":"0"},null,null,{"$f":"TRIM(Data!R794)","v":"0"},{"$f":"TRIM(Data!S794)","v":"0"},{"$f":"TRIM(Data!T794)","v":"0"},null,null,null,{"$f":"TRIM(Data!U794)","v":"0"},null,{"$f":"TRIM(Data!V794)","v":"0"},{"$f":"TRIM(Data!W794)","v":"0"},{"$f":"TRIM(Data!X794)","v":"0"},{"$f":"TRIM(Data!Y794)","v":"0"},{"$f":"TRIM(Data!Z794)","v":"0"},{"$f":"TRIM(Data!AA794)","v":"0"},469,"1 Dec 2024 to 31 Dec 2024","Han Qi Chinese Medicine Limited","HAN QI CHINESE MEDICINE","GROUP","2091864776","CMRXO","3","Local System","EC Connect","6","0","0","6","0","","0","0","0","0","0","0","0","0","0","0","0","0","","0","0","0","0","0","0","0","0","0","0"]
["1 Dec 2024 to 31 Dec 20248895790679IMMU","1 Dec 2024 to 31 Dec 2024","DR. CHAN KIT YAN SELINA","DR. CHAN KIT YAN SELINA","SOLO",8895790679,"IMMU",3,"Local System","Local System",8,0,0,0,8,null,0,0,0,0,0,0,0,0,0,0,0,0,null,8,1,0,0,0,0,0,0,0,0,"","","Y","1 Dec 2024 to 31 Dec 20241667592556CMPROB",{"$f":"Data!A797","v":"2024-12-01"},{"$f":"TRIM(Data!B797)","v":"WELL BEING CHINESE MEDICINE CLINIC"},null,{"$f":"TRIM(Data!C797)","v":"SOLO"},{"$f":"TRIM(Data!D797)","v":"1667592556"},{"$f":"TRIM(Data!E797)","v":"CMPROB"},{"$f":"TRIM(Data!F797)","v":"3"},{"$f":"TRIM(Data!G797)","v":"EC Connect"},{"$f":"TRIM(Data!H797)","v":"EC Connect"},{"$f":"TRIM(Data!I797)","v":"6"},{"$f":"TRIM(Data!J797)","v":"0"},{"$f":"TRIM(Data!K797)","v":"0"},{"$f":"TRIM(Data!L797)","v":"3"},{"$f":"TRIM(Data!M797)","v":"3"},null,null,null,{"$f":"TRIM(Data!N797)","v":"0"},{"$f":"TRIM(Data!O797)","v":"0"},{"$f":"TRIM(Data!P797)","v":"0"},null,{"$f":"TRIM(Data!Q797)","v":"0"},null,null,{"$f":"TRIM(Data!R797)","v":"0"},{"$f":"TRIM(Data!S797)","v":"0"},{"$f":"TRIM(Data!T797)","v":"0"},null,null,null,{"$f":"TRIM(Data!U797)","v":"0"},null,{"$f":"TRIM(Data!V797)","v":"0"},{"$f":"TRIM(Data!W797)","v":"0"},{"$f":"TRIM(Data!X797)","v":"0"},{"$f":"TRIM(Data!Y797)","v":"0"},{"$f":"TRIM(Data!Z797)","v":"0"},{"$f":"TRIM(Data!AA797)","v":"0"},455,"1 Dec 2024 to 31 Dec 2024","WELL BEING CHINESE MEDICINE CLINIC","WBCMC","SOLO","1667592556","CMPROB","3","Local System","EC Connect","6","0","0","3","3","","0","0","0","0","0","0","0","0","0","0","0","0","","3","0.5","0","0","0","0","0","0","0","0"]
["1 Dec 2024 to 31 Dec 20248895790679PROB","1 Dec 2024 to 31 Dec 2024","DR. CHAN KIT YAN SELINA","DR. CHAN KIT YAN SELINA","SOLO",8895790679,"PROB",3,"Local System","Local System",206,0,0,40,166,null,0,0,0,0,0,0,0,0,0,0,0,0,null,166,0.80582524271844658,0,0,0,0,0,0,0,0,"","","Y","1 Dec 2024 to 31 Dec 20241667592556ENCTR",{"$f":"Data!A798","v":"2024-12-01"},{"$f":"TRIM(Data!B798)","v":"WELL BEING CHINESE MEDICINE CLINIC"},null,{"$f":"TRIM(Data!C798)","v":"SOLO"},{"$f":"TRIM(Data!D798)","v":"1667592556"},{"$f":"TRIM(Data!E798)","v":"ENCTR"},{"$f":"TRIM(Data!F798)","v":"3"},{"$f":"TRIM(Data!G798)","v":"EC Connect"},{"$f":"TRIM(Data!H798)","v":"EC Connect"},{"$f":"TRIM(Data!I798)","v":"5"},{"$f":"TRIM(Data!J798)","v":"0"},{"$f":"TRIM(Data!K798)","v":"0"},{"$f":"TRIM(Data!L798)","v":"0"},{"$f":"TRIM(Data!M798)","v":"5"},null,null,null,{"$f":"TRIM(Data!N798)","v":"0"},{"$f":"TRIM(Data!O798)","v":"0"},{"$f":"TRIM(Data!P798)","v":"0"},null,{"$f":"TRIM(Data!Q798)","v":"0"},null,null,{"$f":"TRIM(Data!R798)","v":"0"},{"$f":"TRIM(Data!S798)","v":"0"},{"$f":"TRIM(Data!T798)","v":"0"},null,null,null,{"$f":"TRIM(Data!U798)","v":"0"},null,{"$f":"TRIM(Data!V798)","v":"0"},{"$f":"TRIM(Data!W798)","v":"0"},{"$f":"TRIM(Data!X798)","v":"0"},{"$f":"TRIM(Data!Y798)","v":"0"},{"$f":"TRIM(Data!Z798)","v":"0"},{"$f":"TRIM(Data!AA798)","v":"0"},458,"1 Dec 2024 to 31 Dec 2024","WELL BEING CHINESE MEDICINE CLINIC","WBCMC","SOLO","1667592556","ENCTR","3","Local System","Local System","5","0","0","0","5","","0","0","0","0","0","0","0","0","0","0","0","0","","5","1","0","0","0","0","0","0","0","0"]
["1 Dec 2024 to 31 Dec 20248900325933AL1","1 Dec 2024 to 31 Dec 2024","DISTRICT HEALTH CENTRE-SOUTHERN (AKA)","DHC-SOUTHERN","DHC",8900325933,"AL1",3,"Local System","Local System",1,0,0,0,1,null,0,0,0,0,0,0,0,0,0,0,0,0,null,1,1,0,0,0,0,0,0,0,0,"","","Y","1 Dec 2024 to 31 Dec 20241960920902ENCTR",{"$f":"Data!A801","v":"2024-12-01"},{"$f":"TRIM(Data!B801)","v":"MEDIC-TECH X-RAY & LABORATORY SERVICE"},null,{"$f":"TRIM(Data!C801)","v":"SOLO"},{"$f":"TRIM(Data!D801)","v":"1960920902"},{"$f":"TRIM(Data!E801)","v":"ENCTR"},{"$f":"TRIM(Data!F801)","v":"3"},{"$f":"TRIM(Data!G801)","v":"HKMA CMS for LAAM"},{"$f":"TRIM(Data!H801)","v":"Local System"},{"$f":"TRIM(Data!I801)","v":"10"},{"$f":"TRIM(Data!J801)","v":"0"},{"$f":"TRIM(Data!K801)","v":"0"},{"$f":"TRIM(Data!L801)","v":"0"},{"$f":"TRIM(Data!M801)","v":"10"},null,null,null,{"$f":"TRIM(Data!N801)","v":"0"},{"$f":"TRIM(Data!O801)","v":"0"},{"$f":"TRIM(Data!P801)","v":"0"},null,{"$f":"TRIM(Data!Q801)","v":"0"},null,null,{"$f":"TRIM(Data!R801)","v":"0"},{"$f":"TRIM(Data!S801)","v":"0"},{"$f":"TRIM(Data!T801)","v":"0"},null,null,null,{"$f":"TRIM(Data!U801)","v":"0"},null,{"$f":"TRIM(Data!V801)","v":"0"},{"$f":"TRIM(Data!W801)","v":"0"},{"$f":"TRIM(Data!X801)","v":"0"},{"$f":"TRIM(Data!Y801)","v":"0"},{"$f":"TRIM(Data!Z801)","v":"0"},{"$f":"TRIM(Data!AA801)","v":"0"},464,"1 Dec 2024 to 31 Dec 2024","MEDIC-TECH X-RAY & LABORATORY SERVICE","MEDIC-TECH X-RAY & LAB","SOLO","1960920902","ENCTR","3","CMS5.0 (HKMA)","Local System","10","0","0","0","10","","0","0","0","0","0","0","0","0","0","0","0","0","","10","1","0","0","0","0","0","0","0","0"]
["1 Dec 2024 to 31 Dec 20248900325933EPIS","1 Dec 2024 to 31 Dec 2024","DISTRICT HEALTH CENTRE-SOUTHERN (AKA)","DHC-SOUTHERN","DHC",8900325933,"EPIS",1,"Local System","Local System",2836,0,2836,0,0,null,0,0,0,0,0,0,0,0,0,0,0,0,null,0,0,0,0,0,0,0,0,0,0,"","","","1 Dec 2024 to 31 Dec 20249585979787RXD",{"$f":"Data!A803","v":"2024-12-01"},{"$f":"TRIM(Data!B803)","v":"DR. TSANG FAN KWONG"},null,{"$f":"TRIM(Data!C803)","v":"SOLO"},{"$f":"TRIM(Data!D803)","v":"9585979787"},{"$f":"TRIM(Data!E803)","v":"RXD"},{"$f":"TRIM(Data!F803)","v":"2"},{"$f":"TRIM(Data!G803)","v":"ClinicSolution"},{"$f":"TRIM(Data!H803)","v":"Local System"},{"$f":"TRIM(Data!I803)","v":"5"},{"$f":"TRIM(Data!J803)","v":"0"},{"$f":"TRIM(Data!K803)","v":"0"},{"$f":"TRIM(Data!L803)","v":"5"},{"$f":"TRIM(Data!M803)","v":"0"},null,null,null,{"$f":"TRIM(Data!N803)","v":"0"},{"$f":"TRIM(Data!O803)","v":"0"},{"$f":"TRIM(Data!P803)","v":"0"},null,{"$f":"TRIM(Data!Q803)","v":"0"},null,null,{"$f":"TRIM(Data!R803)","v":"0"},{"$f":"TRIM(Data!S803)","v":"0"},{"$f":"TRIM(Data!T803)","v":"0"},null,null,null,{"$f":"TRIM(Data!U803)","v":"0"},null,{"$f":"TRIM(Data!V803)","v":"0"},{"$f":"TRIM(Data!W803)","v":"0"},{"$f":"TRIM(Data!X803)","v":"0"},{"$f":"TRIM(Data!Y803)","v":"0"},{"$f":"TRIM(Data!Z803)","v":"0"},{"$f":"TRIM(Data!AA803)","v":"0"},860,"1 Dec 2024 to 31 Dec 2024","DR. TSANG FAN KWONG","DR. TSANG FAN KWONG","SOLO","9585979787","RXD","2","ClinicSolution","Local System","5","0","0","5","0","","0","0","0","0","0","0","0","0","0","0","0","0","","0","0","0","0","0","0","0","0","0","0"]
["1 Dec 2024 to 31 Dec 20248909436562BIRTH","1 Dec 2024 to 31 Dec 2024","HONG KONG ADVENTIST HOSPITAL - TSUEN WAN","HK ADVENTIST - TW","PH",8909436562,"BIRTH",3,"TWAHLAAM","Local System",11,0,0,0,11,null,0,0,0,0,0,0,0,0,0,0,0,0,null,11,1,0,0,0,0,0,0,0,0,"","","","1 Dec 2024 to 31 Dec 20245826741564RXD",{"$f":"Data!A806","v":"2024-12-01"},{"$f":"TRIM(Data!B806)","v":"PRIMEHEALTH MEDICAL CENTRE LIMITED"},null,{"$f":"TRIM(Data!C806)","v":"SOLO"},{"$f":"TRIM(Data!D806)","v":"5826741564"},{"$f":"TRIM(Data!E806)","v":"RXD"},{"$f":"TRIM(Data!F806)","v":"2"},{"$f":"TRIM(Data!G806)","v":"ClinicSolution"},{"$f":"TRIM(Data!H806)","v":"Local System"},{"$f":"TRIM(Data!I806)","v":"5"},{"$f":"TRIM(Data!J806)","v":"0"},{"$f":"TRIM(Data!K806)","v":"0"},{"$f":"TRIM(Data!L806)","v":"5"},{"$f":"TRIM(Data!M806)","v":"0"},null,null,null,{"$f":"TRIM(Data!N806)","v":"0"},{"$f":"TRIM(Data!O806)","v":"0"},{"$f":"TRIM(Data!P806)","v":"0"},null,{"$f":"TRIM(Data!Q806)","v":"0"},null,null,{"$f":"TRIM(Data!R806)","v":"0"},{"$f":"TRIM(Data!S806)","v":"0"},{"$f":"TRIM(Data!T806)","v":"0"},null,null,null,{"$f":"TRIM(Data!U806)","v":"0"},null,{"$f":"TRIM(Data!V806)","v":"0"},{"$f":"TRIM(Data!W806)","v":"0"},{"$f":"TRIM(Data!X806)","v":"0"},{"$f":"TRIM(Data!Y806)","v":"0"},{"$f":"TRIM(Data!Z806)","v":"0"},{"$f":"TRIM(Data!AA806)","v":"0"},673,"1 Dec 2024 to 31 Dec 2024","Primehealth Medical Centre Limited","PMC","SOLO","5826741564","RXD","2","ClinicSolution","Local System","5","0","0","5","0","","0","0","0","0","0","0","0","0","0","0","0","0","","0","0","0","0","0","0","0","0","0","0"]
["1 Dec 2024 to 31 Dec 20248909436562ENCTR","1 Dec 2024 to 31 Dec 2024","HONG KONG ADVENTIST HOSPITAL - TSUEN WAN","HK ADVENTIST - TW","PH",8909436562,"ENCTR",3,"TWAHLAAM","Local System",7685,0,0,0,7685,null,0,0,0,0,0,0,0,0,0,0,0,0,null,7685,1,0,0,0,0,0,0,0,0,"","","","1 Dec 2024 to 31 Dec 20245826741564RXO",{"$f":"Data!A807","v":"2024-12-01"},{"$f":"TRIM(Data!B807)","v":"PRIMEHEALTH MEDICAL CENTRE LIMITED"},null,{"$f":"TRIM(Data!C807)","v":"SOLO"},{"$f":"TRIM(Data!D807)","v":"5826741564"},{"$f":"TRIM(Data!E807)","v":"RXO"},{"$f":"TRIM(Data!F807)","v":"2"},{"$f":"TRIM(Data!G807)","v":"ClinicSolution"},{"$f":"TRIM(Data!H807)","v":"Local System"},{"$f":"TRIM(Data!I807)","v":"5"},{"$f":"TRIM(Data!J807)","v":"0"},{"$f":"TRIM(Data!K807)","v":"0"},{"$f":"TRIM(Data!L807)","v":"5"},{"$f":"TRIM(Data!M807)","v":"0"},null,null,null,{"$f":"TRIM(Data!N807)","v":"0"},{"$f":"TRIM(Data!O807)","v":"0"},{"$f":"TRIM(Data!P807)","v":"0"},null,{"$f":"TRIM(Data!Q807)","v":"0"},null,null,{"$f":"TRIM(Data!R807)","v":"0"},{"$f":"TRIM(Data!S807)","v":"0"},{"$f":"TRIM(Data!T807)","v":"0"},null,null,null,{"$f":"TRIM(Data!U807)","v":"0"},null,{"$f":"TRIM(Data!V807)","v":"0"},{"$f":"TRIM(Data!W807)","v":"0"},{"$f":"TRIM(Data!X807)","v":"0"},{"$f":"TRIM(Data!Y807)","v":"0"},{"$f":"TRIM(Data!Z807)","v":"0"},{"$f":"TRIM(Data!AA807)","v":"0"},674,"1 Dec 2024 to 31 Dec 2024","Primehealth Medical Centre Limited","PMC","SOLO","5826741564","RXO","2","ClinicSolution","Local System","5","0","0","5","0","","0","0","0","0","0","0","0","0","0","0","0","0","","0","0","0","0","0","0","0","0","0","0"]
["1 Dec 2024 to 31 Dec 20248909436562RAD","1 Dec 2024 to 31 Dec 2024","HONG KONG ADVENTIST HOSPITAL - TSUEN WAN","HK ADVENTIST - TW","PH",8909436562,"RAD",2,"TWAHLAAM","Local System",3627,0,0,0,3627,null,0,0,0,0,0,0,0,0,0,0,0,0,null,3627,1,0,0,0,0,0,0,0,0,"","","","1 Dec 2024 to 31 Dec 20248256954924ENCTR",{"$f":"Data!A810","v":"2024-12-01"},{"$f":"TRIM(Data!B810)","v":"DR LAM KOON MAN CLINIC"},null,{"$f":"TRIM(Data!C810)","v":"SOLO"},{"$f":"TRIM(Data!D810)","v":"8256954924"},{"$f":"TRIM(Data!E810)","v":"ENCTR"},{"$f":"TRIM(Data!F810)","v":"3"},{"$f":"TRIM(Data!G810)","v":"ClinicSolution"},{"$f":"TRIM(Data!H810)","v":"Local System"},{"$f":"TRIM(Data!I810)","v":"11"},{"$f":"TRIM(Data!J810)","v":"0"},{"$f":"TRIM(Data!K810)","v":"0"},{"$f":"TRIM(Data!L810)","v":"0"},{"$f":"TRIM(Data!M810)","v":"11"},null,null,null,{"$f":"TRIM(Data!N810)","v":"0"},{"$f":"TRIM(Data!O810)","v":"0"},{"$f":"TRIM(Data!P810)","v":"0"},null,{"$f":"TRIM(Data!Q810)","v":"0"},null,null,{"$f":"TRIM(Data!R810)","v":"0"},{"$f":"TRIM(Data!S810)","v":"0"},{"$f":"TRIM(Data!T810)","v":"0"},null,null,null,{"$f":"TRIM(Data!U810)","v":"0"},null,{"$f":"TRIM(Data!V810)","v":"0"},{"$f":"TRIM(Data!W810)","v":"0"},{"$f":"TRIM(Data!X810)","v":"0"},{"$f":"TRIM(Data!Y810)","v":"0"},{"$f":"TRIM(Data!Z810)","v":"0"},{"$f":"TRIM(Data!AA810)","v":"0"},785,"1 Dec 2024 to 31 Dec 2024","DR LAM KOON MAN CLINIC","DR LAM KOON MAN CLINIC","SOLO","8256954924","ENCTR","3","ClinicSolution","Local System","11","0","0","0","11","","0","0","0","0","0","0","0","0","0","0","0","0","","11","1","0","0","0","0","0","0","0","0"]
["1 Dec 2024 to 31 Dec 20248909436562RXD","1 Dec 2024 to 31 Dec 2024","HONG KONG ADVENTIST HOSPITAL - TSUEN WAN","HK ADVENTIST - TW","PH",8909436562,"RXD",2,"TWAHLAAM","Local System",9863,0,0,9863,0,null,0,0,0,0,0,0,0,0,0,0,0,0,null,0,0,0,0,0,0,0,0,0,0,"","","","1 Dec 2024 to 31 Dec 20242732778448RAD",{"$f":"Data!A811","v":"2024-12-01"},{"$f":"TRIM(Data!B811)","v":"CONCORDE DIAGNOSTICS LIMITED"},null,{"$f":"TRIM(Data!C811)","v":"SOLO"},{"$f":"TRIM(Data!D811)","v":"2732778448"},{"$f":"TRIM(Data!E811)","v":"RAD"},{"$f":"TRIM(Data!F811)","v":"3"},{"$f":"TRIM(Data!G811)","v":"RHI2"},{"$f":"TRIM(Data!H811)","v":"Local System"},{"$f":"TRIM(Data!I811)","v":"8"},{"$f":"TRIM(Data!J811)","v":"4"},{"$f":"TRIM(Data!K811)","v":"0"},{"$f":"TRIM(Data!L811)","v":"0"},{"$f":"TRIM(Data!M811)","v":"4"},null,null,null,{"$f":"TRIM(Data!N811)","v":"4"},{"$f":"TRIM(Data!O811)","v":"0"},{"$f":"TRIM(Data!P811)","v":"0"},null,{"$f":"TRIM(Data!Q811)","v":"0"},null,null,{"$f":"TRIM(Data!R811)","v":"0"},{"$f":"TRIM(Data!S811)","v":"0"},{"$f":"TRIM(Data!T811)","v":"0"},null,null,null,{"$f":"TRIM(Data!U811)","v":"0"},null,{"$f":"TRIM(Data!V811)","v":"0"},{"$f":"TRIM(Data!W811)","v":"0"},{"$f":"TRIM(Data!X811)","v":"0"},{"$f":"TRIM(Data!Y811)","v":"0"},{"$f":"TRIM(Data!Z811)","v":"0"},{"$f":"TRIM(Data!AA811)","v":"0"},511,"1 Dec 2024 to 31 Dec 2024","CONCORDE DIAGNOSTICS LIMITED","CONCORDE DIAGNOSTICS LTD","SOLO","2732778448","RAD","3","RHI2","Local System","8","4","0","0","4","","4","0.5","4","0","0","0","0","0","0","0","0","0","","4","0.5","0","0","0","0","0","0","0","0"]
["1 Dec 2024 to 31 Dec 20248958425524ENCTR","1 Dec 2024 to 31 Dec 2024","DR DANIEL YIANG WU","DR DANIEL YIANG WU","SOLO",8958425524,"ENCTR",3,"ClinicSolution","Local System",3,0,0,0,3,null,0,0,0,0,0,0,0,0,0,0,0,0,null,3,1,0,0,0,0,0,0,0,0,"","","Y","1 Dec 2024 to 31 Dec 20248061038543ENCTR",{"$f":"Data!A812","v":"2024-12-01"},{"$f":"TRIM(Data!B812)","v":"SHAO YAO CHINESE MEDICINE CLINIC LIMITED"},null,{"$f":"TRIM(Data!C812)","v":"SOLO"},{"$f":"TRIM(Data!D812)","v":"8061038543"},{"$f":"TRIM(Data!E812)","v":"ENCTR"},{"$f":"TRIM(Data!F812)","v":"3"},{"$f":"TRIM(Data!G812)","v":"EC Connect"},{"$f":"TRIM(Data!H812)","v":"EC Connect"},{"$f":"TRIM(Data!I812)","v":"3"},{"$f":"TRIM(Data!J812)","v":"0"},{"$f":"TRIM(Data!K812)","v":"0"},{"$f":"TRIM(Data!L812)","v":"0"},{"$f":"TRIM(Data!M812)","v":"3"},null,null,null,{"$f":"TRIM(Data!N812)","v":"0"},{"$f":"TRIM(Data!O812)","v":"0"},{"$f":"TRIM(Data!P812)","v":"0"},null,{"$f":"TRIM(Data!Q812)","v":"0"},null,null,{"$f":"TRIM(Data!R812)","v":"0"},{"$f":"TRIM(Data!S812)","v":"0"},{"$f":"TRIM(Data!T812)","v":"0"},null,null,null,{"$f":"TRIM(Data!U812)","v":"0"},null,{"$f":"TRIM(Data!V812)","v":"0"},{"$f":"TRIM(Data!W812)","v":"0"},{"$f":"TRIM(Data!X812)","v":"0"},{"$f":"TRIM(Data!Y812)","v":"0"},{"$f":"TRIM(Data!Z812)","v":"0"},{"$f":"TRIM(Data!AA812)","v":"0"},776,"1 Dec 2024 to 31 Dec 2024","Shao Yao Chinese Medicine Clinic Limited","SYCMC LTD","SOLO","8061038543","ENCTR","3","Local System","Local System","3","0","0","0","3","","0","0","0","0","0","0","0","0","0","0","0","0","","3","1","0","0","0","0","0","0","0","0"]
["1 Dec 2024 to 31 Dec 20248958425524PROB","1 Dec 2024 to 31 Dec 2024","DR DANIEL YIANG WU","DR DANIEL YIANG WU","SOLO",8958425524,"PROB",3,"ClinicSolution","Local System",2,0,0,2,0,null,0,0,0,0,2,1,2,0,0,2,0,0,null,0,0,0,0,0,0,0,0,0,0,"","","Y","1 Dec 2024 to 31 Dec 20248061038543CMPROB",{"$f":"Data!A813","v":"2024-12-01"},{"$f":"TRIM(Data!B813)","v":"SHAO YAO CHINESE MEDICINE CLINIC LIMITED"},null,{"$f":"TRIM(Data!C813)","v":"SOLO"},{"$f":"TRIM(Data!D813)","v":"8061038543"},{"$f":"TRIM(Data!E813)","v":"CMPROB"},{"$f":"TRIM(Data!F813)","v":"3"},{"$f":"TRIM(Data!G813)","v":"EC Connect"},{"$f":"TRIM(Data!H813)","v":"EC Connect"},{"$f":"TRIM(Data!I813)","v":"1"},{"$f":"TRIM(Data!J813)","v":"0"},{"$f":"TRIM(Data!K813)","v":"0"},{"$f":"TRIM(Data!L813)","v":"0"},{"$f":"TRIM(Data!M813)","v":"1"},null,null,null,{"$f":"TRIM(Data!N813)","v":"0"},{"$f":"TRIM(Data!O813)","v":"0"},{"$f":"TRIM(Data!P813)","v":"0"},null,{"$f":"TRIM(Data!Q813)","v":"0"},null,null,{"$f":"TRIM(Data!R813)","v":"0"},{"$f":"TRIM(Data!S813)","v":"0"},{"$f":"TRIM(Data!T813)","v":"0"},null,null,null,{"$f":"TRIM(Data!U813)","v":"0"},null,{"$f":"TRIM(Data!V813)","v":"0"},{"$f":"TRIM(Data!W813)","v":"0"},{"$f":"TRIM(Data!X813)","v":"0"},{"$f":"TRIM(Data!Y813)","v":"0"},{"$f":"TRIM(Data!Z813)","v":"0"},{"$f":"TRIM(Data!AA813)","v":"0"},772,"1 Dec 2024 to 31 Dec 2024","Shao Yao Chinese Medicine Clinic Limited","SYCMC LTD","SOLO","8061038543","CMPROB","3","Local System","EC Connect","1","0","0","0","1","","0","0","0","0","0","0","0","0","0","0","0","0","","1","1","0","0","0","0","0","0","0","0"]
["1 Dec 2024 to 31 Dec 20248962900949AL1","1 Dec 2024 to 31 Dec 2024","DR. LAM SEE YUI JOSEPH","DR. S.Y. LAM                                                                                                                                                                                                                                                                                                                                                                                                                                                                                                                                                                                                                                                                                                                                                                                                                                                                                                                                                                                                                                                                           ","SOLO",8962900949,"AL1",2,"ClinicSolution","Local System",2,1,0,1,0,null,1,0.5,1,0,0,0,0,0,0,0,0,0,null,0,0,0,0,0,0,0,0,0,0,"","","Y","1 Dec 2024 to 31 Dec 20248061038543CMPX",{"$f":"Data!A814","v":"2024-12-01"},{"$f":"TRIM(Data!B814)","v":"SHAO YAO CHINESE MEDICINE CLINIC LIMITED"},null,{"$f":"TRIM(Data!C814)","v":"SOLO"},{"$f":"TRIM(Data!D814)","v":"8061038543"},{"$f":"TRIM(Data!E814)","v":"CMPX"},{"$f":"TRIM(Data!F814)","v":"3"},{"$f":"TRIM(Data!G814)","v":"EC Connect"},{"$f":"TRIM(Data!H814)","v":"EC Connect"},{"$f":"TRIM(Data!I814)","v":"1"},{"$f":"TRIM(Data!J814)","v":"0"},{"$f":"TRIM(Data!K814)","v":"0"},{"$f":"TRIM(Data!L814)","v":"0"},{"$f":"TRIM(Data!M814)","v":"1"},null,null,null,{"$f":"TRIM(Data!N814)","v":"0"},{"$f":"TRIM(Data!O814)","v":"0"},{"$f":"TRIM(Data!P814)","v":"0"},null,{"$f":"TRIM(Data!Q814)","v":"0"},null,null,{"$f":"TRIM(Data!R814)","v":"0"},{"$f":"TRIM(Data!S814)","v":"0"},{"$f":"TRIM(Data!T814)","v":"0"},null,null,null,{"$f":"TRIM(Data!U814)","v":"0"},null,{"$f":"TRIM(Data!V814)","v":"0"},{"$f":"TRIM(Data!W814)","v":"0"},{"$f":"TRIM(Data!X814)","v":"0"},{"$f":"TRIM(Data!Y814)","v":"0"},{"$f":"TRIM(Data!Z814)","v":"0"},{"$f":"TRIM(Data!AA814)","v":"0"},773,"1 Dec 2024 to 31 Dec 2024","Shao Yao Chinese Medicine Clinic Limited","SYCMC LTD","SOLO","8061038543","CMPX","3","Local System","EC Connect","1","0","0","0","1","","0","0","0","0","0","0","0","0","0","0","0","0","","1","1","0","0","0","0","0","0","0","0"]
["1 Dec 2024 to 31 Dec 20248962900949ENCTR","1 Dec 2024 to 31 Dec 2024","DR. LAM SEE YUI JOSEPH","DR. S.Y. LAM                                                                                                                                                                                                                                                                                                                                                                                                                                                                                                                                                                                                                                                                                                                                                                                                                                                                                                                                                                                                                                                                           ","SOLO",8962900949,"ENCTR",3,"ClinicSolution","Local System",1224,0,0,0,1224,null,0,0,0,0,0,0,0,0,0,0,0,0,null,1224,1,0,0,0,0,0,0,0,0,"","","Y","1 Dec 2024 to 31 Dec 20248061038543CMRXD",{"$f":"Data!A815","v":"2024-12-01"},{"$f":"TRIM(Data!B815)","v":"SHAO YAO CHINESE MEDICINE CLINIC LIMITED"},null,{"$f":"TRIM(Data!C815)","v":"SOLO"},{"$f":"TRIM(Data!D815)","v":"8061038543"},{"$f":"TRIM(Data!E815)","v":"CMRXD"},{"$f":"TRIM(Data!F815)","v":"3"},{"$f":"TRIM(Data!G815)","v":"EC Connect"},{"$f":"TRIM(Data!H815)","v":"EC Connect"},{"$f":"TRIM(Data!I815)","v":"1"},{"$f":"TRIM(Data!J815)","v":"0"},{"$f":"TRIM(Data!K815)","v":"0"},{"$f":"TRIM(Data!L815)","v":"0"},{"$f":"TRIM(Data!M815)","v":"1"},null,null,null,{"$f":"TRIM(Data!N815)","v":"0"},{"$f":"TRIM(Data!O815)","v":"0"},{"$f":"TRIM(Data!P815)","v":"0"},null,{"$f":"TRIM(Data!Q815)","v":"0"},null,null,{"$f":"TRIM(Data!R815)","v":"0"},{"$f":"TRIM(Data!S815)","v":"0"},{"$f":"TRIM(Data!T815)","v":"0"},null,null,null,{"$f":"TRIM(Data!U815)","v":"0"},null,{"$f":"TRIM(Data!V815)","v":"0"},{"$f":"TRIM(Data!W815)","v":"0"},{"$f":"TRIM(Data!X815)","v":"0"},{"$f":"TRIM(Data!Y815)","v":"0"},{"$f":"TRIM(Data!Z815)","v":"0"},{"$f":"TRIM(Data!AA815)","v":"0"},774,"1 Dec 2024 to 31 Dec 2024","Shao Yao Chinese Medicine Clinic Limited","SYCMC LTD","SOLO","8061038543","CMRXD","3","Local System","EC Connect","1","0","0","0","1","","0","0","0","0","0","0","0","0","0","0","0","0","","1","1","0","0","0","0","0","0","0","0"]
["1 Dec 2024 to 31 Dec 20248962900949PROB","1 Dec 2024 to 31 Dec 2024","DR. LAM SEE YUI JOSEPH","DR. S.Y. LAM                                                                                                                                                                                                                                                                                                                                                                                                                                                                                                                                                                                                                                                                                                                                                                                                                                                                                                                                                                                                                                                                           ","SOLO",8962900949,"PROB",3,"ClinicSolution","Local System",141,0,0,95,46,null,0,0,0,0,95,0.67375886524822692,95,0,0,95,0,0,null,46,0.32624113475177308,0,0,0,0,0,0,0,0,"","","Y","1 Dec 2024 to 31 Dec 20248061038543CMRXO",{"$f":"Data!A816","v":"2024-12-01"},{"$f":"TRIM(Data!B816)","v":"SHAO YAO CHINESE MEDICINE CLINIC LIMITED"},null,{"$f":"TRIM(Data!C816)","v":"SOLO"},{"$f":"TRIM(Data!D816)","v":"8061038543"},{"$f":"TRIM(Data!E816)","v":"CMRXO"},{"$f":"TRIM(Data!F816)","v":"3"},{"$f":"TRIM(Data!G816)","v":"EC Connect"},{"$f":"TRIM(Data!H816)","v":"EC Connect"},{"$f":"TRIM(Data!I816)","v":"1"},{"$f":"TRIM(Data!J816)","v":"0"},{"$f":"TRIM(Data!K816)","v":"0"},{"$f":"TRIM(Data!L816)","v":"0"},{"$f":"TRIM(Data!M816)","v":"1"},null,null,null,{"$f":"TRIM(Data!N816)","v":"0"},{"$f":"TRIM(Data!O816)","v":"0"},{"$f":"TRIM(Data!P816)","v":"0"},null,{"$f":"TRIM(Data!Q816)","v":"0"},null,null,{"$f":"TRIM(Data!R816)","v":"0"},{"$f":"TRIM(Data!S816)","v":"0"},{"$f":"TRIM(Data!T816)","v":"0"},null,null,null,{"$f":"TRIM(Data!U816)","v":"0"},null,{"$f":"TRIM(Data!V816)","v":"0"},{"$f":"TRIM(Data!W816)","v":"0"},{"$f":"TRIM(Data!X816)","v":"0"},{"$f":"TRIM(Data!Y816)","v":"0"},{"$f":"TRIM(Data!Z816)","v":"0"},{"$f":"TRIM(Data!AA816)","v":"0"},775,"1 Dec 2024 to 31 Dec 2024","Shao Yao Chinese Medicine Clinic Limited","SYCMC LTD","SOLO","8061038543","CMRXO","3","Local System","EC Connect","1","0","0","0","1","","0","0","0","0","0","0","0","0","0","0","0","0","","1","1","0","0","0","0","0","0","0","0"]
["1 Dec 2024 to 31 Dec 20248962900949RXD","1 Dec 2024 to 31 Dec 2024","DR. LAM SEE YUI JOSEPH","DR. S.Y. LAM                                                                                                                                                                                                                                                                                                                                                                                                                                                                                                                                                                                                                                                                                                                                                                                                                                                                                                                                                                                                                                                                           ","SOLO",8962900949,"RXD",2,"ClinicSolution","Local System",6,0,0,6,0,null,0,0,0,0,0,0,0,0,0,0,0,0,null,0,0,0,0,0,0,0,0,0,0,"","","","1 Dec 2024 to 31 Dec 20248958425524ENCTR",{"$f":"Data!A817","v":"2024-12-01"},{"$f":"TRIM(Data!B817)","v":"DR DANIEL YIANG WU"},null,{"$f":"TRIM(Data!C817)","v":"SOLO"},{"$f":"TRIM(Data!D817)","v":"8958425524"},{"$f":"TRIM(Data!E817)","v":"ENCTR"},{"$f":"TRIM(Data!F817)","v":"3"},{"$f":"TRIM(Data!G817)","v":"ClinicSolution"},{"$f":"TRIM(Data!H817)","v":"Local System"},{"$f":"TRIM(Data!I817)","v":"3"},{"$f":"TRIM(Data!J817)","v":"0"},{"$f":"TRIM(Data!K817)","v":"0"},{"$f":"TRIM(Data!L817)","v":"0"},{"$f":"TRIM(Data!M817)","v":"3"},null,null,null,{"$f":"TRIM(Data!N817)","v":"0"},{"$f":"TRIM(Data!O817)","v":"0"},{"$f":"TRIM(Data!P817)","v":"0"},null,{"$f":"TRIM(Data!Q817)","v":"0"},null,null,{"$f":"TRIM(Data!R817)","v":"0"},{"$f":"TRIM(Data!S817)","v":"0"},{"$f":"TRIM(Data!T817)","v":"0"},null,null,null,{"$f":"TRIM(Data!U817)","v":"0"},null,{"$f":"TRIM(Data!V817)","v":"0"},{"$f":"TRIM(Data!W817)","v":"0"},{"$f":"TRIM(Data!X817)","v":"0"},{"$f":"TRIM(Data!Y817)","v":"0"},{"$f":"TRIM(Data!Z817)","v":"0"},{"$f":"TRIM(Data!AA817)","v":"0"},819,"1 Dec 2024 to 31 Dec 2024","DR DANIEL YIANG WU","DR DANIEL YIANG WU","SOLO","8958425524","ENCTR","3","ClinicSolution","Local System","3","0","0","0","3","","0","0","0","0","0","0","0","0","0","0","0","0","","3","1","0","0","0","0","0","0","0","0"]
["1 Dec 2024 to 31 Dec 20248962900949RXO","1 Dec 2024 to 31 Dec 2024","DR. LAM SEE YUI JOSEPH","DR. S.Y. LAM                                                                                                                                                                                                                                                                                                                                                                                                                                                                                                                                                                                                                                                                                                                                                                                                                                                                                                                                                                                                                                                                           ","SOLO",8962900949,"RXO",2,"ClinicSolution","Local System",6,0,0,6,0,null,0,0,0,0,0,0,0,0,0,0,0,0,null,0,0,0,0,0,0,0,0,0,0,"","","","1 Dec 2024 to 31 Dec 20248958425524PROB",{"$f":"Data!A818","v":"2024-12-01"},{"$f":"TRIM(Data!B818)","v":"DR DANIEL YIANG WU"},null,{"$f":"TRIM(Data!C818)","v":"SOLO"},{"$f":"TRIM(Data!D818)","v":"8958425524"},{"$f":"TRIM(Data!E818)","v":"PROB"},{"$f":"TRIM(Data!F818)","v":"3"},{"$f":"TRIM(Data!G818)","v":"ClinicSolution"},{"$f":"TRIM(Data!H818)","v":"Local System"},{"$f":"TRIM(Data!I818)","v":"2"},{"$f":"TRIM(Data!J818)","v":"0"},{"$f":"TRIM(Data!K818)","v":"0"},{"$f":"TRIM(Data!L818)","v":"2"},{"$f":"TRIM(Data!M818)","v":"0"},null,null,null,{"$f":"TRIM(Data!N818)","v":"0"},{"$f":"TRIM(Data!O818)","v":"0"},{"$f":"TRIM(Data!P818)","v":"2"},null,{"$f":"TRIM(Data!Q818)","v":"2"},null,null,{"$f":"TRIM(Data!R818)","v":"2"},{"$f":"TRIM(Data!S818)","v":"0"},{"$f":"TRIM(Data!T818)","v":"0"},null,null,null,{"$f":"TRIM(Data!U818)","v":"0"},null,{"$f":"TRIM(Data!V818)","v":"0"},{"$f":"TRIM(Data!W818)","v":"0"},{"$f":"TRIM(Data!X818)","v":"0"},{"$f":"TRIM(Data!Y818)","v":"0"},{"$f":"TRIM(Data!Z818)","v":"0"},{"$f":"TRIM(Data!AA818)","v":"0"},820,"1 Dec 2024 to 31 Dec 2024","DR DANIEL YIANG WU","DR DANIEL YIANG WU","SOLO","8958425524","PROB","3","ClinicSolution","Local System","2","0","0","2","0","","0","0","0","0","2","1","2","0","0","2","0","0","","0","0","0","0","0","0","0","0","0","0"]
["1 Dec 2024 to 31 Dec 20249043776781ENCTR","1 Dec 2024 to 31 Dec 2024","DISTRICT HEALTH CENTRE-TSUEN WAN (YCHB)","DHC-TSUEN WAN","DHC",9043776781,"ENCTR",3,"Local System","Local System",12666,0,0,0,12666,null,0,0,0,0,0,0,0,0,0,0,0,0,null,12666,1,0,0,0,0,0,0,0,0,"","","","1 Dec 2024 to 31 Dec 20245849557920ENCTR",{"$f":"Data!A819","v":"2024-12-01"},{"$f":"TRIM(Data!B819)","v":"DR. CHOI KAM YEE SAMUEL"},null,{"$f":"TRIM(Data!C819)","v":"SOLO"},{"$f":"TRIM(Data!D819)","v":"5849557920"},{"$f":"TRIM(Data!E819)","v":"ENCTR"},{"$f":"TRIM(Data!F819)","v":"3"},{"$f":"TRIM(Data!G819)","v":"ClinicSolution"},{"$f":"TRIM(Data!H819)","v":"Local System"},{"$f":"TRIM(Data!I819)","v":"2"},{"$f":"TRIM(Data!J819)","v":"0"},{"$f":"TRIM(Data!K819)","v":"0"},{"$f":"TRIM(Data!L819)","v":"0"},{"$f":"TRIM(Data!M819)","v":"2"},null,null,null,{"$f":"TRIM(Data!N819)","v":"0"},{"$f":"TRIM(Data!O819)","v":"0"},{"$f":"TRIM(Data!P819)","v":"0"},null,{"$f":"TRIM(Data!Q819)","v":"0"},null,null,{"$f":"TRIM(Data!R819)","v":"0"},{"$f":"TRIM(Data!S819)","v":"0"},{"$f":"TRIM(Data!T819)","v":"0"},null,null,null,{"$f":"TRIM(Data!U819)","v":"0"},null,{"$f":"TRIM(Data!V819)","v":"0"},{"$f":"TRIM(Data!W819)","v":"0"},{"$f":"TRIM(Data!X819)","v":"0"},{"$f":"TRIM(Data!Y819)","v":"0"},{"$f":"TRIM(Data!Z819)","v":"0"},{"$f":"TRIM(Data!AA819)","v":"0"},678,"1 Dec 2024 to 31 Dec 2024","DR. CHOI KAM YEE SAMUEL","DR. CHOI KAM YEE SAMUEL","SOLO","5849557920","ENCTR","3","ClinicSolution","Local System","2","0","0","0","2","","0","0","0","0","0","0","0","0","0","0","0","0","","2","1","0","0","0","0","0","0","0","0"]
["1 Dec 2024 to 31 Dec 20249043776781EPIS","1 Dec 2024 to 31 Dec 2024","DISTRICT HEALTH CENTRE-TSUEN WAN (YCHB)","DHC-TSUEN WAN","DHC",9043776781,"EPIS",1,"Local System","Local System",7911,0,7911,0,0,null,0,0,0,0,0,0,0,0,0,0,0,0,null,0,0,0,0,0,0,0,0,0,0,"","","","1 Dec 2024 to 31 Dec 20245849557920PROB",{"$f":"Data!A820","v":"2024-12-01"},{"$f":"TRIM(Data!B820)","v":"DR. CHOI KAM YEE SAMUEL"},null,{"$f":"TRIM(Data!C820)","v":"SOLO"},{"$f":"TRIM(Data!D820)","v":"5849557920"},{"$f":"TRIM(Data!E820)","v":"PROB"},{"$f":"TRIM(Data!F820)","v":"3"},{"$f":"TRIM(Data!G820)","v":"ClinicSolution"},{"$f":"TRIM(Data!H820)","v":"Local System"},{"$f":"TRIM(Data!I820)","v":"2"},{"$f":"TRIM(Data!J820)","v":"0"},{"$f":"TRIM(Data!K820)","v":"0"},{"$f":"TRIM(Data!L820)","v":"2"},{"$f":"TRIM(Data!M820)","v":"0"},null,null,null,{"$f":"TRIM(Data!N820)","v":"0"},{"$f":"TRIM(Data!O820)","v":"0"},{"$f":"TRIM(Data!P820)","v":"2"},null,{"$f":"TRIM(Data!Q820)","v":"2"},null,null,{"$f":"TRIM(Data!R820)","v":"2"},{"$f":"TRIM(Data!S820)","v":"0"},{"$f":"TRIM(Data!T820)","v":"0"},null,null,null,{"$f":"TRIM(Data!U820)","v":"0"},null,{"$f":"TRIM(Data!V820)","v":"0"},{"$f":"TRIM(Data!W820)","v":"0"},{"$f":"TRIM(Data!X820)","v":"0"},{"$f":"TRIM(Data!Y820)","v":"0"},{"$f":"TRIM(Data!Z820)","v":"0"},{"$f":"TRIM(Data!AA820)","v":"0"},679,"1 Dec 2024 to 31 Dec 2024","DR. CHOI KAM YEE SAMUEL","DR. CHOI KAM YEE SAMUEL","SOLO","5849557920","PROB","3","ClinicSolution","Local System","2","0","0","2","0","","0","0","0","0","2","1","2","0","0","2","0","0","","0","0","0","0","0","0","0","0","0","0"]
["1 Dec 2024 to 31 Dec 20249056383716ENCTR","1 Dec 2024 to 31 Dec 2024","HK MERCY MEDICAL LIMITED","HK MERCY MEDICAL LIMITED","SOLO",9056383716,"ENCTR",3,"Local System","Local System",169,0,0,0,169,null,0,0,0,0,0,0,0,0,0,0,0,0,null,169,1,0,0,0,0,0,0,0,0,"","","","1 Dec 2024 to 31 Dec 20249841327550ENCTR",{"$f":"Data!A821","v":"2024-12-01"},{"$f":"TRIM(Data!B821)","v":"HEALS CLINIC LIMITED"},null,{"$f":"TRIM(Data!C821)","v":"SOLO"},{"$f":"TRIM(Data!D821)","v":"9841327550"},{"$f":"TRIM(Data!E821)","v":"ENCTR"},{"$f":"TRIM(Data!F821)","v":"3"},{"$f":"TRIM(Data!G821)","v":"ClinicSolution"},{"$f":"TRIM(Data!H821)","v":"Local System"},{"$f":"TRIM(Data!I821)","v":"2"},{"$f":"TRIM(Data!J821)","v":"0"},{"$f":"TRIM(Data!K821)","v":"0"},{"$f":"TRIM(Data!L821)","v":"0"},{"$f":"TRIM(Data!M821)","v":"2"},null,null,null,{"$f":"TRIM(Data!N821)","v":"0"},{"$f":"TRIM(Data!O821)","v":"0"},{"$f":"TRIM(Data!P821)","v":"0"},null,{"$f":"TRIM(Data!Q821)","v":"0"},null,null,{"$f":"TRIM(Data!R821)","v":"0"},{"$f":"TRIM(Data!S821)","v":"0"},{"$f":"TRIM(Data!T821)","v":"0"},null,null,null,{"$f":"TRIM(Data!U821)","v":"0"},null,{"$f":"TRIM(Data!V821)","v":"0"},{"$f":"TRIM(Data!W821)","v":"0"},{"$f":"TRIM(Data!X821)","v":"0"},{"$f":"TRIM(Data!Y821)","v":"0"},{"$f":"TRIM(Data!Z821)","v":"0"},{"$f":"TRIM(Data!AA821)","v":"0"},874,"1 Dec 2024 to 31 Dec 2024","HEALS CLINIC LIMITED","HEALS CLINIC LIMITED","SOLO","9841327550","ENCTR","3","ClinicSolution","Local System","2","0","0","0","2","","0","0","0","0","0","0","0","0","0","0","0","0","","2","1","0","0","0","0","0","0","0","0"]
["1 Dec 2024 to 31 Dec 20249056383716PROB","1 Dec 2024 to 31 Dec 2024","HK MERCY MEDICAL LIMITED","HK MERCY MEDICAL LIMITED","SOLO",9056383716,"PROB",3,"Local System","Local System",173,0,0,71,102,null,0,0,0,0,0,0,0,0,0,0,0,0,null,102,0.58959537572254339,0,0,0,0,0,0,0,0,"","","","1 Dec 2024 to 31 Dec 20249841327550RXD",{"$f":"Data!A822","v":"2024-12-01"},{"$f":"TRIM(Data!B822)","v":"HEALS CLINIC LIMITED"},null,{"$f":"TRIM(Data!C822)","v":"SOLO"},{"$f":"TRIM(Data!D822)","v":"9841327550"},{"$f":"TRIM(Data!E822)","v":"RXD"},{"$f":"TRIM(Data!F822)","v":"2"},{"$f":"TRIM(Data!G822)","v":"ClinicSolution"},{"$f":"TRIM(Data!H822)","v":"Local System"},{"$f":"TRIM(Data!I822)","v":"1"},{"$f":"TRIM(Data!J822)","v":"0"},{"$f":"TRIM(Data!K822)","v":"0"},{"$f":"TRIM(Data!L822)","v":"1"},{"$f":"TRIM(Data!M822)","v":"0"},null,null,null,{"$f":"TRIM(Data!N822)","v":"0"},{"$f":"TRIM(Data!O822)","v":"0"},{"$f":"TRIM(Data!P822)","v":"0"},null,{"$f":"TRIM(Data!Q822)","v":"0"},null,null,{"$f":"TRIM(Data!R822)","v":"0"},{"$f":"TRIM(Data!S822)","v":"0"},{"$f":"TRIM(Data!T822)","v":"0"},null,null,null,{"$f":"TRIM(Data!U822)","v":"0"},null,{"$f":"TRIM(Data!V822)","v":"0"},{"$f":"TRIM(Data!W822)","v":"0"},{"$f":"TRIM(Data!X822)","v":"0"},{"$f":"TRIM(Data!Y822)","v":"0"},{"$f":"TRIM(Data!Z822)","v":"0"},{"$f":"TRIM(Data!AA822)","v":"0"},875,"1 Dec 2024 to 31 Dec 2024","HEALS CLINIC LIMITED","HEALS CLINIC LIMITED","SOLO","9841327550","RXD","2","ClinicSolution","Local System","1","0","0","1","0","","0","0","0","0","0","0","0","0","0","0","0","0","","0","0","0","0","0","0","0","0","0","0"]
["1 Dec 2024 to 31 Dec 20249056383716RXD","1 Dec 2024 to 31 Dec 2024","HK MERCY MEDICAL LIMITED","HK MERCY MEDICAL LIMITED","SOLO",9056383716,"RXD",3,"Local System","Local System",491,0,0,178,313,null,0,0,0,0,0,0,0,0,0,0,0,0,null,313,0.63747454175152751,0,0,0,0,0,0,0,0,"","","","1 Dec 2024 to 31 Dec 20249841327550RXO",{"$f":"Data!A823","v":"2024-12-01"},{"$f":"TRIM(Data!B823)","v":"HEALS CLINIC LIMITED"},null,{"$f":"TRIM(Data!C823)","v":"SOLO"},{"$f":"TRIM(Data!D823)","v":"9841327550"},{"$f":"TRIM(Data!E823)","v":"RXO"},{"$f":"TRIM(Data!F823)","v":"2"},{"$f":"TRIM(Data!G823)","v":"ClinicSolution"},{"$f":"TRIM(Data!H823)","v":"Local System"},{"$f":"TRIM(Data!I823)","v":"1"},{"$f":"TRIM(Data!J823)","v":"0"},{"$f":"TRIM(Data!K823)","v":"0"},{"$f":"TRIM(Data!L823)","v":"1"},{"$f":"TRIM(Data!M823)","v":"0"},null,null,null,{"$f":"TRIM(Data!N823)","v":"0"},{"$f":"TRIM(Data!O823)","v":"0"},{"$f":"TRIM(Data!P823)","v":"0"},null,{"$f":"TRIM(Data!Q823)","v":"0"},null,null,{"$f":"TRIM(Data!R823)","v":"0"},{"$f":"TRIM(Data!S823)","v":"0"},{"$f":"TRIM(Data!T823)","v":"0"},null,null,null,{"$f":"TRIM(Data!U823)","v":"0"},null,{"$f":"TRIM(Data!V823)","v":"0"},{"$f":"TRIM(Data!W823)","v":"0"},{"$f":"TRIM(Data!X823)","v":"0"},{"$f":"TRIM(Data!Y823)","v":"0"},{"$f":"TRIM(Data!Z823)","v":"0"},{"$f":"TRIM(Data!AA823)","v":"0"},876,"1 Dec 2024 to 31 Dec 2024","HEALS CLINIC LIMITED","HEALS CLINIC LIMITED","SOLO","9841327550","RXO","2","ClinicSolution","Local System","1","0","0","1","0","","0","0","0","0","0","0","0","0","0","0","0","0","","0","0","0","0","0","0","0","0","0","0"]
["1 Dec 2024 to 31 Dec 20249056383716RXO","1 Dec 2024 to 31 Dec 2024","HK MERCY MEDICAL LIMITED","HK MERCY MEDICAL LIMITED","SOLO",9056383716,"RXO",3,"Local System","Local System",492,0,0,179,313,null,0,0,0,0,0,0,0,0,0,0,0,0,null,313,0.63617886178861793,0,0,0,0,0,0,0,0,"","","Y","1 Dec 2024 to 31 Dec 20242822145488ENCTR",{"$f":"Data!A824","v":"2024-12-01"},{"$f":"TRIM(Data!B824)","v":"MAN YEE (TCM) MEDICAL CLINIC LIMITED"},null,{"$f":"TRIM(Data!C824)","v":"GRP"},{"$f":"TRIM(Data!D824)","v":"2822145488"},{"$f":"TRIM(Data!E824)","v":"ENCTR"},{"$f":"TRIM(Data!F824)","v":"3"},{"$f":"TRIM(Data!G824)","v":"EC Connect"},{"$f":"TRIM(Data!H824)","v":"EC Connect"},{"$f":"TRIM(Data!I824)","v":"3"},{"$f":"TRIM(Data!J824)","v":"0"},{"$f":"TRIM(Data!K824)","v":"0"},{"$f":"TRIM(Data!L824)","v":"0"},{"$f":"TRIM(Data!M824)","v":"3"},null,null,null,{"$f":"TRIM(Data!N824)","v":"0"},{"$f":"TRIM(Data!O824)","v":"0"},{"$f":"TRIM(Data!P824)","v":"0"},null,{"$f":"TRIM(Data!Q824)","v":"0"},null,null,{"$f":"TRIM(Data!R824)","v":"0"},{"$f":"TRIM(Data!S824)","v":"0"},{"$f":"TRIM(Data!T824)","v":"0"},null,null,null,{"$f":"TRIM(Data!U824)","v":"0"},null,{"$f":"TRIM(Data!V824)","v":"0"},{"$f":"TRIM(Data!W824)","v":"0"},{"$f":"TRIM(Data!X824)","v":"0"},{"$f":"TRIM(Data!Y824)","v":"0"},{"$f":"TRIM(Data!Z824)","v":"0"},{"$f":"TRIM(Data!AA824)","v":"0"},512,"1 Dec 2024 to 31 Dec 2024","Man Yee (TCM) Medical Clinic Limited","MAN YEE (TCM)","GROUP","2822145488","ENCTR","3","Local System","Local System","3","0","0","0","3","","0","0","0","0","0","0","0","0","0","0","0","0","","3","1","0","0","0","0","0","0","0","0"]
["1 Dec 2024 to 31 Dec 20249141981346RAD","1 Dec 2024 to 31 Dec 2024","Grande Medical Scanning Centre","GMSC","SOLO",9141981346,"RAD",3,"RHI2","Local System",427,0,0,0,427,null,0,0,0,0,0,0,0,0,0,0,0,0,null,427,1,0,0,0,0,0,0,0,0,"","","","1 Dec 2024 to 31 Dec 20248033207557ENCTR",{"$f":"Data!A825","v":"2024-12-01"},{"$f":"TRIM(Data!B825)","v":"NGAN SZE YUEN"},null,{"$f":"TRIM(Data!C825)","v":"SOLO"},{"$f":"TRIM(Data!D825)","v":"8033207557"},{"$f":"TRIM(Data!E825)","v":"ENCTR"},{"$f":"TRIM(Data!F825)","v":"3"},{"$f":"TRIM(Data!G825)","v":"ClinicSolution"},{"$f":"TRIM(Data!H825)","v":"Local System"},{"$f":"TRIM(Data!I825)","v":"2"},{"$f":"TRIM(Data!J825)","v":"0"},{"$f":"TRIM(Data!K825)","v":"0"},{"$f":"TRIM(Data!L825)","v":"0"},{"$f":"TRIM(Data!M825)","v":"2"},null,null,null,{"$f":"TRIM(Data!N825)","v":"0"},{"$f":"TRIM(Data!O825)","v":"0"},{"$f":"TRIM(Data!P825)","v":"0"},null,{"$f":"TRIM(Data!Q825)","v":"0"},null,null,{"$f":"TRIM(Data!R825)","v":"0"},{"$f":"TRIM(Data!S825)","v":"0"},{"$f":"TRIM(Data!T825)","v":"0"},null,null,null,{"$f":"TRIM(Data!U825)","v":"0"},null,{"$f":"TRIM(Data!V825)","v":"0"},{"$f":"TRIM(Data!W825)","v":"0"},{"$f":"TRIM(Data!X825)","v":"0"},{"$f":"TRIM(Data!Y825)","v":"0"},{"$f":"TRIM(Data!Z825)","v":"0"},{"$f":"TRIM(Data!AA825)","v":"0"},771,"1 Dec 2024 to 31 Dec 2024","NGAN SZE YUEN","NGAN SZE YUEN","SOLO","8033207557","ENCTR","3","ClinicSolution","Local System","2","0","0","0","2","","0","0","0","0","0","0","0","0","0","0","0","0","","2","1","0","0","0","0","0","0","0","0"]
["1 Dec 2024 to 31 Dec 20249165130652CMPROB","1 Dec 2024 to 31 Dec 2024","KINDNESS CHINESE MEDICAL CLINIC LIMITED","KINDNESS CHINESE MEDICAL","SOLO",9165130652,"CMPROB",3,"Local System","EC Connect",7,0,0,3,4,null,0,0,0,0,0,0,0,0,0,0,0,0,null,4,0.5714285714285714,0,0,0,0,0,0,0,0,""]
["1 Dec 2024 to 31 Dec 20249165130652CMPX","1 Dec 2024 to 31 Dec 2024","KINDNESS CHINESE MEDICAL CLINIC LIMITED","KINDNESS CHINESE MEDICAL","SOLO",9165130652,"CMPX",3,"Local System","EC Connect",1,0,0,0,1,null,0,0,0,0,0,0,0,0,0,0,0,0,null,1,1,0,0,0,0,0,0,0,0,""]
["1 Dec 2024 to 31 Dec 20249165130652CMRXD","1 Dec 2024 to 31 Dec 2024","KINDNESS CHINESE MEDICAL CLINIC LIMITED","KINDNESS CHINESE MEDICAL","SOLO",9165130652,"CMRXD",3,"Local System","EC Connect",6,0,0,0,6,null,0,0,0,0,0,0,0,0,0,0,0,0,null,6,1,0,0,0,0,0,0,0,0,""]
["1 Dec 2024 to 31 Dec 20249165130652CMRXO","1 Dec 2024 to 31 Dec 2024","KINDNESS CHINESE MEDICAL CLINIC LIMITED","KINDNESS CHINESE MEDICAL","SOLO",9165130652,"CMRXO",3,"Local System","EC Connect",6,0,0,0,6,null,0,0,0,0,0,0,0,0,0,0,0,0,null,6,1,0,0,0,0,0,0,0,0,""]
["1 Dec 2024 to 31 Dec 20249165130652ENCTR","1 Dec 2024 to 31 Dec 2024","KINDNESS CHINESE MEDICAL CLINIC LIMITED","KINDNESS CHINESE MEDICAL","SOLO",9165130652,"ENCTR",3,"Local System","Local System",8,0,0,0,8,null,0,0,0,0,0,0,0,0,0,0,0,0,null,8,1,0,0,0,0,0,0,0,0,""]
["1 Dec 2024 to 31 Dec 20249179355867AL1","1 Dec 2024 to 31 Dec 2024","Hong Kong Christian Service","HKCS","GROUP",9179355867,"AL1",3,"Local System","Local System",3,0,0,1,2,null,0,0,0,0,1,0.33333333333333331,1,0,0,1,0,0,null,2,0.66666666666666663,0,0,0,0,0,0,0,0,""]
["1 Dec 2024 to 31 Dec 20249179355867ENCTR","1 Dec 2024 to 31 Dec 2024","Hong Kong Christian Service","HKCS","GROUP",9179355867,"ENCTR",3,"Local System","Local System",78,0,0,0,78,null,0,0,0,0,0,0,0,0,0,0,0,0,null,78,1,0,0,0,0,0,0,0,0,""]
["1 Dec 2024 to 31 Dec 20249179355867IMMU","1 Dec 2024 to 31 Dec 2024","Hong Kong Christian Service","HKCS","GROUP",9179355867,"IMMU",3,"Local System","Local System",4,0,0,2,2,null,0,0,0,0,0,0,0,0,0,0,0,0,null,2,0.5,0,0,0,0,0,0,0,0,""]
[{"$f":"IF(B841<>\"\",B841&F841&G841,\"\")","v":"1 Dec 2024 to 31 Dec 20249179355867RXD"},"1 Dec 2024 to 31 Dec 2024","Hong Kong Christian Service","HKCS","GROUP",9179355867,"RXD",3,"Local System","Local System",193,0,0,100,93,null,0,0,0,0,0,0,0,0,0,0,0,0,null,93,0.48186528497409326,0,0,0,0,0,0,0,0,{"$f":"IFERROR(IF(SEARCH(\"total\",A841)>0,\"\",\"\"),_xlfn.IFNA(IF(A841<>\"\",IF(MATCH(A841,AQ:AQ,0)>0,\"\",\"\"),\"\"),\"Y\"))","v":""}]
["1 Dec 2024 to 31 Dec 20249179355867RXO","1 Dec 2024 to 31 Dec 2024","Hong Kong Christian Service","HKCS","GROUP",9179355867,"RXO",3,"Local System","Local System",199,0,0,105,94,null,0,0,0,0,0,0,0,0,0,0,0,0,null,94,0.47236180904522612,0,0,0,0,0,0,0,0,""]
["1 Dec 2024 to 31 Dec 20249265486345AL1","1 Dec 2024 to 31 Dec 2024","QUALITY HEALTHCARE MEDICAL CENTRE LIMITED","QHMS","GROUP",9265486345,"AL1",3,"QHMS EMR","Local System",363,0,0,363,0,null,0,0,0,0,343,0.94490358126721763,343,0,0,343,0,0,null,0,0,0,0,0,0,0,0,0,0,""]
["1 Dec 2024 to 31 Dec 20249265486345ENCTR","1 Dec 2024 to 31 Dec 2024","QUALITY HEALTHCARE MEDICAL CENTRE LIMITED","QHMS","GROUP",9265486345,"ENCTR",3,"QHMS EMR","Local System",17328,0,0,0,17328,null,0,0,0,0,0,0,0,0,0,0,0,0,null,17328,1,0,0,0,0,0,0,0,0,""]
["1 Dec 2024 to 31 Dec 20249265486345IMMU","1 Dec 2024 to 31 Dec 2024","QUALITY HEALTHCARE MEDICAL CENTRE LIMITED","QHMS","GROUP",9265486345,"IMMU",2,"QHMS EMR","Local System",956,0,0,956,0,null,0,0,0,0,0,0,0,0,0,0,0,0,null,0,0,0,0,0,0,0,0,0,0,""]
["1 Dec 2024 to 31 Dec 20249265486345RXD","1 Dec 2024 to 31 Dec 2024","QUALITY HEALTHCARE MEDICAL CENTRE LIMITED","QHMS","GROUP",9265486345,"RXD",2,"QHMS EMR","Local System",33548,0,0,33548,0,null,0,0,0,0,0,0,0,0,0,0,0,0,null,0,0,0,0,0,0,0,0,0,0,""]
["1 Dec 2024 to 31 Dec 20249306084059ENCTR","1 Dec 2024 to 31 Dec 2024","Advance X-Ray & Medical Diagnostic Centre Ltd","AXMDCL","SOLO",9306084059,"ENCTR",3,"CMS5.0 (HKMA)","Local System",21,0,0,0,21,null,0,0,0,0,0,0,0,0,0,0,0,0,null,21,1,0,0,0,0,0,0,0,0,""]
["1 Dec 2024 to 31 Dec 20249306084059LABGEN","1 Dec 2024 to 31 Dec 2024","Advance X-Ray & Medical Diagnostic Centre Ltd","AXMDCL","SOLO",9306084059,"LABGEN",1,"CMS5.0 (HKMA)","Local System",21,0,21,0,0,null,0,0,0,0,0,0,0,0,0,0,0,0,null,0,0,0,0,0,0,0,0,0,0,""]
["1 Dec 2024 to 31 Dec 20249398567973ENCTR","1 Dec 2024 to 31 Dec 2024","DR. CHUNG CHI PING SIMON","DR. SIMON C.P. CHUNG","SOLO",9398567973,"ENCTR",3,"ClinicSolution","Local System",9,0,0,0,9,null,0,0,0,0,0,0,0,0,0,0,0,0,null,9,1,0,0,0,0,0,0,0,0,""]
["1 Dec 2024 to 31 Dec 20249398567973PROB","1 Dec 2024 to 31 Dec 2024","DR. CHUNG CHI PING SIMON","DR. SIMON C.P. CHUNG","SOLO",9398567973,"PROB",3,"ClinicSolution","Local System",19,0,0,19,0,null,0,0,0,0,19,1,19,0,0,19,0,0,null,0,0,0,0,0,0,0,0,0,0,""]
["1 Dec 2024 to 31 Dec 20249398567973RXD","1 Dec 2024 to 31 Dec 2024","DR. CHUNG CHI PING SIMON","DR. SIMON C.P. CHUNG","SOLO",9398567973,"RXD",2,"ClinicSolution","Local System",6,0,0,6,0,null,0,0,0,0,0,0,0,0,0,0,0,0,null,0,0,0,0,0,0,0,0,0,0,""]
["1 Dec 2024 to 31 Dec 20249398567973RXO","1 Dec 2024 to 31 Dec 2024","DR. CHUNG CHI PING SIMON","DR. SIMON C.P. CHUNG","SOLO",9398567973,"RXO",2,"ClinicSolution","Local System",6,0,0,6,0,null,0,0,0,0,0,0,0,0,0,0,0,0,null,0,0,0,0,0,0,0,0,0,0,""]
["1 Dec 2024 to 31 Dec 20249407305541AL1","1 Dec 2024 to 31 Dec 2024","Hong Kong Breast Cancer and Disease Centre Limited","HKBCADC","SOLO           ",9407305541,"AL1",3,"Local System","Local System",4,0,0,0,4,null,0,0,0,0,0,0,0,0,0,0,0,0,null,4,1,0,0,0,0,0,0,0,0,""]
["1 Dec 2024 to 31 Dec 20249407305541RXD","1 Dec 2024 to 31 Dec 2024","Hong Kong Breast Cancer and Disease Centre Limited","HKBCADC","SOLO           ",9407305541,"RXD",3,"Local System","Local System",33,0,0,1,32,null,0,0,0,0,0,0,0,0,0,0,0,0,null,32,0.96969696969696972,0,0,0,0,0,0,0,0,""]
["1 Dec 2024 to 31 Dec 20249407305541RXO","1 Dec 2024 to 31 Dec 2024","Hong Kong Breast Cancer and Disease Centre Limited","HKBCADC","SOLO           ",9407305541,"RXO",3,"Local System","Local System",37,0,0,5,32,null,0,0,0,0,0,0,0,0,0,0,0,0,null,32,0.86486486486486491,0,0,0,0,0,0,0,0,""]
["1 Dec 2024 to 31 Dec 20249421690548AL1","1 Dec 2024 to 31 Dec 2024","DHC EXPRESS-WAN CHAI (MC)","DHC EXPRESS-WAN CHAI-CC","DHC",9421690548,"AL1",3,"Local System","Local System",3,0,0,0,3,null,0,0,0,0,0,0,0,0,0,0,0,0,null,3,1,0,0,0,0,0,0,0,0,""]
["1 Dec 2024 to 31 Dec 20249421690548ENCTR","1 Dec 2024 to 31 Dec 2024","DHC EXPRESS-WAN CHAI (MC)","DHC EXPRESS-WAN CHAI-CC","DHC",9421690548,"ENCTR",3,"Local System","Local System",5024,0,0,0,5024,null,0,0,0,0,0,0,0,0,0,0,0,0,null,5024,1,0,0,0,0,0,0,0,0,""]
["1 Dec 2024 to 31 Dec 20249421690548EPIS","1 Dec 2024 to 31 Dec 2024","DHC EXPRESS-WAN CHAI (MC)","DHC EXPRESS-WAN CHAI-CC","DHC",9421690548,"EPIS",1,"Local System","Local System",1348,0,1348,0,0,null,0,0,0,0,0,0,0,0,0,0,0,0,null,0,0,0,0,0,0,0,0,0,0,""]
["1 Dec 2024 to 31 Dec 20249585979787ENCTR","1 Dec 2024 to 31 Dec 2024","DR. TSANG FAN KWONG","DR. TSANG FAN KWONG","SOLO",9585979787,"ENCTR",3,"ClinicSolution","Local System",3,0,0,0,3,null,0,0,0,0,0,0,0,0,0,0,0,0,null,3,1,0,0,0,0,0,0,0,0,""]
["1 Dec 2024 to 31 Dec 20249585979787RXD","1 Dec 2024 to 31 Dec 2024","DR. TSANG FAN KWONG","DR. TSANG FAN KWONG","SOLO",9585979787,"RXD",2,"ClinicSolution","Local System",5,0,0,5,0,null,0,0,0,0,0,0,0,0,0,0,0,0,null,0,0,0,0,0,0,0,0,0,0,""]
["1 Dec 2024 to 31 Dec 20249585979787RXO","1 Dec 2024 to 31 Dec 2024","DR. TSANG FAN KWONG","DR. TSANG FAN KWONG","SOLO",9585979787,"RXO",2,"ClinicSolution","Local System",5,0,0,5,0,null,0,0,0,0,0,0,0,0,0,0,0,0,null,0,0,0,0,0,0,0,0,0,0,""]
["1 Dec 2024 to 31 Dec 20249681600318ADR","1 Dec 2024 to 31 Dec 2024","DISTRICT HEALTH CENTRE-SHAM SHUI PO (SJS)","DHC-SHAM SHUI PO","DHC",9681600318,"ADR",3,"Local System","Local System",2,0,0,0,2,null,0,0,0,0,0,0,0,0,0,0,0,0,null,2,1,0,0,0,0,0,0,0,0,""]
["1 Dec 2024 to 31 Dec 20249681600318AL1","1 Dec 2024 to 31 Dec 2024","DISTRICT HEALTH CENTRE-SHAM SHUI PO (SJS)","DHC-SHAM SHUI PO","DHC",9681600318,"AL1",3,"Local System","Local System",10,0,0,1,9,null,0,0,0,0,1,0.1,1,0,0,1,0,0,null,9,0.9,0,0,0,0,0,0,0,0,""]
["1 Dec 2024 to 31 Dec 20249681600318ENCTR","1 Dec 2024 to 31 Dec 2024","DISTRICT HEALTH CENTRE-SHAM SHUI PO (SJS)","DHC-SHAM SHUI PO","DHC",9681600318,"ENCTR",3,"Local System","Local System",27524,0,0,0,27524,null,0,0,0,0,0,0,0,0,0,0,0,0,null,27524,1,0,0,0,0,0,0,0,0,""]
["1 Dec 2024 to 31 Dec 20249681600318EPIS","1 Dec 2024 to 31 Dec 2024","DISTRICT HEALTH CENTRE-SHAM SHUI PO (SJS)","DHC-SHAM SHUI PO","DHC",9681600318,"EPIS",1,"Local System","Local System",7400,0,7400,0,0,null,0,0,0,0,0,0,0,0,0,0,0,0,null,0,0,0,0,0,0,0,0,0,0,""]
["1 Dec 2024 to 31 Dec 20249713227452ENCTR","1 Dec 2024 to 31 Dec 2024","ANCHOR ONCOLOGY AND HEMATOLOGY CENTRE LIMITED","AOHC","GROUP",9713227452,"ENCTR",3,"ClinicSolution","Local System",236,0,0,0,236,null,0,0,0,0,0,0,0,0,0,0,0,0,null,236,1,0,0,0,0,0,0,0,0,""]
["1 Dec 2024 to 31 Dec 20249713227452RXD","1 Dec 2024 to 31 Dec 2024","ANCHOR ONCOLOGY AND HEMATOLOGY CENTRE LIMITED","AOHC","GROUP",9713227452,"RXD",2,"ClinicSolution","Local System",57,0,0,57,0,null,0,0,0,0,0,0,0,0,0,0,0,0,null,0,0,0,0,0,0,0,0,0,0,""]
["1 Dec 2024 to 31 Dec 20249713227452RXO","1 Dec 2024 to 31 Dec 2024","ANCHOR ONCOLOGY AND HEMATOLOGY CENTRE LIMITED","AOHC","GROUP",9713227452,"RXO",2,"ClinicSolution","Local System",57,0,0,57,0,null,0,0,0,0,0,0,0,0,0,0,0,0,null,0,0,0,0,0,0,0,0,0,0,""]
["1 Dec 2024 to 31 Dec 20249761710951RAD","1 Dec 2024 to 31 Dec 2024","QUALITY HEALTHCARE MEDICAL CENTRE LIMITED","QHMS","GROUP",9761710951,"RAD",3,"RHI2_QHMS","Local System",710,0,0,0,710,null,0,0,0,0,0,0,0,0,0,0,0,0,null,710,1,0,0,0,0,0,0,0,0,""]
["1 Dec 2024 to 31 Dec 20249805671910CMPROB","1 Dec 2024 to 31 Dec 2024","18 Chinese Medicine Clinic cum Traing and Research Centre (Christiam Family Service Centre)","18CMCTRs (CFSC)","NGO",9805671910,"CMPROB",3,"Local System","EC Connect",576,0,0,171,405,null,0,0,0,0,70,0.12152777777777778,70,0,0,70,0,0,null,405,0.703125,0,0,0,0,0,0,0,0,""]
["1 Dec 2024 to 31 Dec 20249805671910CMPX","1 Dec 2024 to 31 Dec 2024","18 Chinese Medicine Clinic cum Traing and Research Centre (Christiam Family Service Centre)","18CMCTRs (CFSC)","NGO",9805671910,"CMPX",3,"Local System","EC Connect",112,0,0,0,112,null,0,0,0,0,0,0,0,0,0,0,0,0,null,112,1,0,0,0,0,0,0,0,0,""]
["1 Dec 2024 to 31 Dec 20249805671910CMRXO","1 Dec 2024 to 31 Dec 2024","18 Chinese Medicine Clinic cum Traing and Research Centre (Christiam Family Service Centre)","18CMCTRs (CFSC)","NGO",9805671910,"CMRXO",3,"Local System","EC Connect",192,0,0,1,191,null,0,0,0,0,1,5.208333333333333E-3,1,0,0,1,0,0,null,191,0.99479166666666663,0,0,0,0,0,0,0,0,""]
["1 Dec 2024 to 31 Dec 20249805671910ENCTR","1 Dec 2024 to 31 Dec 2024","18 Chinese Medicine Clinic cum Traing and Research Centre (Christiam Family Service Centre)","18CMCTRs (CFSC)","NGO",9805671910,"ENCTR",3,"Local System","Local System",422,0,0,0,422,null,0,0,0,0,0,0,0,0,0,0,0,0,null,422,1,0,0,0,0,0,0,0,0,""]
["1 Dec 2024 to 31 Dec 20249841327550ENCTR","1 Dec 2024 to 31 Dec 2024","HEALS CLINIC LIMITED","HEALS CLINIC LIMITED","SOLO",9841327550,"ENCTR",3,"ClinicSolution","Local System",2,0,0,0,2,null,0,0,0,0,0,0,0,0,0,0,0,0,null,2,1,0,0,0,0,0,0,0,0,""]
["1 Dec 2024 to 31 Dec 20249841327550RXD","1 Dec 2024 to 31 Dec 2024","HEALS CLINIC LIMITED","HEALS CLINIC LIMITED","SOLO",9841327550,"RXD",2,"ClinicSolution","Local System",1,0,0,1,0,null,0,0,0,0,0,0,0,0,0,0,0,0,null,0,0,0,0,0,0,0,0,0,0,""]
["1 Dec 2024 to 31 Dec 20249841327550RXO","1 Dec 2024 to 31 Dec 2024","HEALS CLINIC LIMITED","HEALS CLINIC LIMITED","SOLO",9841327550,"RXO",2,"ClinicSolution","Local System",1,0,0,1,0,null,0,0,0,0,0,0,0,0,0,0,0,0,null,0,0,0,0,0,0,0,0,0,0,""]
["1 Dec 2024 to 31 Dec 20249927384828RAD","1 Dec 2024 to 31 Dec 2024","UMP MEDICAL CENTRE","UMP MEDICAL CENTRE","GROUP",9927384828,"RAD",3,"RHI2","Local System",645,1,0,0,644,null,1,1.5503875968992248E-3,1,0,0,0,0,0,0,0,0,0,null,644,0.99844961240310082,0,0,0,0,0,0,0,0,""]
["1 Dec 2024 to 31 Dec 2024 Total","1 Dec 2024 to 31 Dec 2024 Total",null,null,null,null,null,null,null,null,46824976,2095,1015991,10122475,35684415,null,2095,4.4741080059496451E-5,1990,105,1044731,2.2311404922022812E-2,1041055,0,3676,1039309,5422,0,null,35684415,0.7620807963681604,3101,6.6225340937708116E-5,0,2985,0,48,64,2,""]

{"sheet":"Result","index":3,"n_rows":530,"n_cols":80,"rows_kept":530,"cut":false,"hidden":false,"merged":[[6,12,7,12],[3,12,3,16],[3,18,3,29],[3,31,3,40],[5,20,5,21],[5,24,5,26],[5,27,5,29],[5,35,5,40],[5,66,5,68],[6,0,7,0],[6,22,6,23],[6,31,6,32],[6,33,6,34],[6,2,7,2],[6,1,7,1],[6,13,7,13],[6,14,7,14],[6,15,7,15],[6,16,7,16],[6,18,6,19],[6,3,7,3],[6,8,7,8],[6,9,7,9],[6,10,7,10],[5,74,5,79],[6,42,7,42],[6,47,7,47],[6,48,7,48],[6,49,7,49],[6,51,7,51],[6,52,7,52],[6,53,7,53],[6,54,7,54],[6,55,7,55],[6,57,6,58],[6,61,6,62],[6,70,6,71],[6,72,6,73],[5,59,5,60],[5,63,5,65]]}
[]
[]
[]
[null,null,null,null,null,null,null,null,null,null,null,null,"Prepared by EHP4 Team",null,null,null,null,null,"Prepared by EHP11 Team",null,null,null,null,null,null,null,null,null,null,null,null,"Prepared by EHP4 Team"]
[null,null,null,null,138,null,108,null,null,82,341,189,6,6,null,null,null,null,null,null,null,6,1,null,2,null,null,1]
[{"$f":"COUNTIF(A9:A876,\"Y\")","v":44},{"$f":"COUNTIF(B9:B4933,\"Y\")","v":0},{"$f":"COUNTIF(C9:C4933,\"Y\")","v":478},null,null,null,null,null,null,null,null,null,null,null,null,null,null,null,null,null,"Rejected reason",null,null,null,"Regraded reason",null,null,"Regraded level of data",null,null,null,null,null,null,null,"Regraded reason",null,null,null,null,null,null,null,null,null,null,null,null,null,null,null,null,null,null,null,null,null,null,null,"Rejected reason",null,null,null,"Regraded reason",null,null,"Regraded level of data",null,null,null,null,null,null,null,"Regraded reason"]
["Data Missing","Summary Missing","Mismatch","Date","HCP Full Name","HCP Short Name","HCP Type","HCP ID","Domain ","Data level","System ","Connection System","Total uploaded cases","Total rejected cases","Total cases display as L1 in EVE","Total cases display as L2 in EVE","Total cases display as L3 in EVE",null,"Total rejected cases",null,"Missed mandatory data","Fail validation rule","Total regraded cases",null,"Missed RT data","Missed Codex data","Missed Other data","Level 3 to 2","Level 3 to 1","Level 2 to 1",null,"Total success uploaded level 3 cases",null,"Total regraded cases \n(Level 3 to 2)",null,"Mis-match RT name","Inappropriate hierarchy","Mis-match RT code","Mis-match RT description","Mis-match codex code","Mis-match codex description",null,"Date","HCP Full Name","HCP Short Name","HCP Type","HCP ID","Domain ","Data level","System ","Connection System","Total uploaded cases","Total rejected cases","Total cases display as L1 in EVE","Total cases display as L2 in EVE","Total cases display as L3 in EVE",null,"Total rejected cases",null,"Missed mandatory data","Fail validation rule","Total regraded cases",null,"Missed RT data","Missed Codex data","Missed Other data","Level 3 to 2","Level 3 to 1","Level 2 to 1",null,"Total success uploaded level 3 cases",null,"Total regraded cases \n(Level 3 to 2)",null,"Mis-match RT name","Inappropriate hierarchy","Mis-match RT code","Mis-match RT description","Mis-match codex code","Mis-match codex description"]
[null,null,null,null,null,null,null,null,null,null,null,null,null,null,null,null,null,null,"No.","%","No.","No.","No.","%","No.","No.","No.","Level 3 to 2","No.","No.",null,"No.","%","No.","%","No.","No.","No.","No.","No.","No.",null,null,null,null,null,null,null,null,null,null,null,null,null,null,null,null,"No.","%","No.","No.","No.","%","No.","No.","No.","Level 3 to 2","No.","No.",null,"No.","%","No.","%","No.","No.","No.","No.","No.","No."]
["Y",null,null,"1 Nov 2024 to 30 Nov 2024","Care For You Company Limited","CARE FOR YOU CO LTD","GROUP",3195683775,"ENCTR",3,"CMS5.0 (HKMA)","Local System",1,0,0,0,1,null,0,0,0,0,0,0,0,0,0,0,0,0,null,1,1,0,0,0,0,0,0,0,0,null,null,null,null,null,null,null,null,null,null,null,null,"1915","70702","4128292","","77","0.00001832903037525","21","56","75467","0.0179641160432337","75440","0","27","73552","1915","0","","4128292","0.982695967089631","0","0","0","0","0","0","0","0"]
["Y",null,null,"1 Nov 2024 to 30 Nov 2024","Yat Hei Hong Kong Company Limited","YAT HEI HONG KONG","SOLO",4114748209,"ENCTR",3,"Local System","Local System",4,0,0,0,4,null,0,0,0,0,0,0,0,0,0,0,0,0,null,4,1,0,0,0,0,0,0,0,0,null,null,null,null,null,null,null,null,null,null,null,null,"2475","110486","719843","","135","0.000162076694691928","102","33","113143","0.135835877537251","112347","0","796","110664","2479","0","","719843","0.864220549163864","0","0","0","0","0","0","0","0"]
["Y",null,null,"1 Nov 2024 to 30 Nov 2024","PENG CHAU MEDICAL CENTRE","PENG CHAU MEDICAL CENTRE","SOLO",5977831183,"AL1",3,"Local System","Local System",1,0,0,0,1,null,0,0,0,0,0,0,0,0,0,0,0,0,null,1,1,0,0,0,0,0,0,0,0]
["Y",null,null,"1 Nov 2024 to 30 Nov 2024","PENG CHAU MEDICAL CENTRE","PENG CHAU MEDICAL CENTRE","SOLO",5977831183,"ENCTR",3,"Local System","Local System",121,0,0,0,121,null,0,0,0,0,0,0,0,0,0,0,0,0,null,121,1,0,0,0,0,0,0,0,0]
["Y",null,null,"1 Nov 2024 to 30 Nov 2024","PENG CHAU MEDICAL CENTRE","PENG CHAU MEDICAL CENTRE","SOLO",5977831183,"PROB",3,"Local System","Local System",75,0,0,21,54,null,0,0,0,0,0,0,0,0,0,0,0,0,null,54,0.72,0,0,0,0,0,0,0,0]
["Y",null,null,"1 Nov 2024 to 30 Nov 2024","PENG CHAU MEDICAL CENTRE","PENG CHAU MEDICAL CENTRE","SOLO",5977831183,"RXD",3,"Local System","Local System",408,0,0,45,363,null,0,0,0,0,7,1.7156862745098041E-2,7,0,0,7,0,0,null,363,0.88970588235294112,1,2.4509803921568627E-3,0,0,0,1,0,0]
["Y",null,null,"1 Nov 2024 to 30 Nov 2024","PENG CHAU MEDICAL CENTRE","PENG CHAU MEDICAL CENTRE","SOLO",5977831183,"RXO",3,"Local System","Local System",421,0,0,45,376,null,0,0,0,0,7,1.66270783847981E-2,7,0,0,7,0,0,null,376,0.89311163895486934,1,2.3752969121140144E-3,0,0,0,1,0,0]
["Y",null,null,"1 Nov 2024 to 30 Nov 2024","GENHOPE TCM CLINIC","GENHOPE TCM CLINIC","SOLO",6360872899,"CMPROB",3,"Local System","EC Connect",4,0,0,1,3,null,0,0,0,0,0,0,0,0,0,0,0,0,null,3,0.75,0,0,0,0,0,0,0,0]
["Y",null,null,"1 Nov 2024 to 30 Nov 2024","GENHOPE TCM CLINIC","GENHOPE TCM CLINIC","SOLO",6360872899,"CMRXD",3,"Local System","EC Connect",2,0,0,1,1,null,0,0,0,0,0,0,0,0,0,0,0,0,null,1,0.5,0,0,0,0,0,0,0,0]
["Y",null,null,"1 Nov 2024 to 30 Nov 2024","GENHOPE TCM CLINIC","GENHOPE TCM CLINIC","SOLO",6360872899,"CMRXO",3,"Local System","EC Connect",2,0,0,1,1,null,0,0,0,0,0,0,0,0,0,0,0,0,null,1,0.5,0,0,0,0,0,0,0,0]
["Y",null,null,"1 Nov 2024 to 30 Nov 2024","GENHOPE TCM CLINIC","GENHOPE TCM CLINIC","SOLO",6360872899,"ENCTR",3,"Local System","Local System",2,0,0,0,2,null,0,0,0,0,0,0,0,0,0,0,0,0,null,2,1,0,0,0,0,0,0,0,0]
["Y",null,null,"1 Nov 2024 to 30 Nov 2024","Island Professional Service Company Limited","ISLAND PROF SVC CO LTD","SOLO",6916175566,"AL1",3,"Local System","Local System",3,0,0,0,3,null,0,0,0,0,0,0,0,0,0,0,0,0,null,3,1,0,0,0,0,0,0,0,0]
["Y",null,null,"1 Nov 2024 to 30 Nov 2024","Island Professional Service Company Limited","ISLAND PROF SVC CO LTD","SOLO",6916175566,"ENCTR",3,"Local System","Local System",50,0,0,0,50,null,0,0,0,0,0,0,0,0,0,0,0,0,null,50,1,0,0,0,0,0,0,0,0]
["Y",null,null,"1 Nov 2024 to 30 Nov 2024","Island Professional Service Company Limited","ISLAND PROF SVC CO LTD","SOLO",6916175566,"EPIS",1,"Local System","Local System",24,0,24,0,0,null,0,0,0,0,0,0,0,0,0,0,0,0,null,0,0,0,0,0,0,0,0,0,0]
["Y",null,null,"1 Nov 2024 to 30 Nov 2024","Island Professional Service Company Limited","ISLAND PROF SVC CO LTD","SOLO",6916175566,"IMMU",3,"Local System","Local System",7,0,0,0,7,null,0,0,0,0,0,0,0,0,0,0,0,0,null,7,1,0,0,0,0,0,0,0,0]
["Y",null,null,"1 Nov 2024 to 30 Nov 2024","Island Professional Service Company Limited","ISLAND PROF SVC CO LTD","SOLO",6916175566,"PROB",3,"Local System","Local System",12,0,0,0,12,null,0,0,0,0,0,0,0,0,0,0,0,0,null,12,1,0,0,0,0,0,0,0,0]
["Y",null,null,"1 Nov 2024 to 30 Nov 2024","Island Professional Service Company Limited","ISLAND PROF SVC CO LTD","SOLO",6916175566,"RXD",3,"Local System","Local System",120,0,0,2,118,null,0,0,0,0,0,0,0,0,0,0,0,0,null,118,0.98333333333333328,0,0,0,0,0,0,0,0]
["Y",null,null,"1 Nov 2024 to 30 Nov 2024","Island Professional Service Company Limited","ISLAND PROF SVC CO LTD","SOLO",6916175566,"RXO",3,"Local System","Local System",122,0,0,2,120,null,0,0,0,0,0,0,0,0,0,0,0,0,null,120,0.98360655737704916,0,0,0,0,0,0,0,0]
["Y",null,null,"1 Nov 2024 to 30 Nov 2024","Department of Health Vaccination Schemes","DH VACCINE SCHEMES","DH",7054385794,"IMMU",3,"Local System","Local System",406906,0,0,0,406906,null,0,0,0,0,0,0,0,0,0,0,0,0,null,406906,1,0,0,0,0,0,0,0,0]
["Y",null,null,"1 Nov 2024 to 30 Nov 2024","HOLISTIC MIND LIMITED","HOLISTIC MIND","SOLO",7228524127,"CMPROB",3,"Local System","EC Connect",3,0,0,0,3,null,0,0,0,0,0,0,0,0,0,0,0,0,null,3,1,0,0,0,0,0,0,0,0]
["Y",null,null,"1 Nov 2024 to 30 Nov 2024","HOLISTIC MIND LIMITED","HOLISTIC MIND","SOLO",7228524127,"CMPX",3,"Local System","EC Connect",3,0,0,1,2,null,0,0,0,0,0,0,0,0,0,0,0,0,null,2,0.66666666666666663,0,0,0,0,0,0,0,0]
["Y",null,null,"1 Nov 2024 to 30 Nov 2024","HOLISTIC MIND LIMITED","HOLISTIC MIND","SOLO",7228524127,"CMRXD",3,"Local System","EC Connect",3,0,0,2,1,null,0,0,0,0,0,0,0,0,0,0,0,0,null,1,0.33333333333333331,0,0,0,0,0,0,0,0]
["Y",null,null,"1 Nov 2024 to 30 Nov 2024","HOLISTIC MIND LIMITED","HOLISTIC MIND","SOLO",7228524127,"CMRXO",3,"Local System","EC Connect",3,0,0,2,1,null,0,0,0,0,0,0,0,0,0,0,0,0,null,1,0.33333333333333331,0,0,0,0,0,0,0,0]
["Y",null,null,"1 Nov 2024 to 30 Nov 2024","HOLISTIC MIND LIMITED","HOLISTIC MIND","SOLO",7228524127,"ENCTR",3,"Local System","Local System",3,0,0,0,3,null,0,0,0,0,0,0,0,0,0,0,0,0,null,3,1,0,0,0,0,0,0,0,0]
["Y",null,null,"1 Nov 2024 to 30 Nov 2024","eHealth Declaration Form","eHealth Declaration Form","DH",7764187800,"IMMU",3,"Local System","Local System",4629,0,0,0,4629,null,0,0,0,0,0,0,0,0,0,0,0,0,null,4629,1,0,0,0,0,0,0,0,0]
["Y",null,null,"1 Nov 2024 to 30 Nov 2024","HEALTHFOCUS MEDICAL CENTRE LIMITED","HEALTHFOCUS MEDICAL","SOLO",8755083644,"ENCTR",3,"ClinicSolution","Local System",1,0,0,0,1,null,0,0,0,0,0,0,0,0,0,0,0,0,null,1,1,0,0,0,0,0,0,0,0]
["Y",null,null,"1 Nov 2024 to 30 Nov 2024","HEALTHFOCUS MEDICAL CENTRE LIMITED","HEALTHFOCUS MEDICAL","SOLO",8755083644,"RXD",2,"ClinicSolution","Local System",4,0,0,4,0,null,0,0,0,0,0,0,0,0,0,0,0,0,null,0,0,0,0,0,0,0,0,0,0]
["Y",null,null,"1 Nov 2024 to 30 Nov 2024","HEALTHFOCUS MEDICAL CENTRE LIMITED","HEALTHFOCUS MEDICAL","SOLO",8755083644,"RXO",2,"ClinicSolution","Local System",4,0,0,4,0,null,0,0,0,0,0,0,0,0,0,0,0,0,null,0,0,0,0,0,0,0,0,0,0]
["Y",null,null,"1 Dec 2024 to 31 Dec 2024","THE HONG KONG POLYTECHNIC UNIVERSITY","POLYU","HCAI",4578805814,"PROB",3,"ClinicMaster Information System","Local System",6082,0,0,0,6082,null,0,0,0,0,0,0,0,0,0,0,0,0,null,6082,1,0,0,0,0,0,0,0,0]
["Y",null,null,"1 Dec 2024 to 31 Dec 2024","PENG CHAU MEDICAL CENTRE","PENG CHAU MEDICAL CENTRE","SOLO",5977831183,"ENCTR",3,"Local System","Local System",1,0,0,0,1,null,0,0,0,0,0,0,0,0,0,0,0,0,null,1,1,0,0,0,0,0,0,0,0]
["Y",null,null,"1 Dec 2024 to 31 Dec 2024","PENG CHAU MEDICAL CENTRE","PENG CHAU MEDICAL CENTRE","SOLO",5977831183,"RXD",3,"Local System","Local System",10,0,0,1,9,null,0,0,0,0,1,0.1,1,0,0,1,0,0,null,9,0.9,0,0,0,0,0,0,0,0]
["Y",null,null,"1 Dec 2024 to 31 Dec 2024","PENG CHAU MEDICAL CENTRE","PENG CHAU MEDICAL CENTRE","SOLO",5977831183,"RXO",3,"Local System","Local System",5,0,0,1,4,null,0,0,0,0,1,0.2,1,0,0,1,0,0,null,4,0.8,0,0,0,0,0,0,0,0]
["Y",null,null,"1 Dec 2024 to 31 Dec 2024","Dagon Corporation Holdings Limited","DRAGON CORPORATION","GROUP",6738094014,"CMPROB",3,"Local System","EC Connect",3,0,0,2,1,null,0,0,0,0,0,0,0,0,0,0,0,0,null,1,0.33333333333333331,0,0,0,0,0,0,0,0]
["Y",null,null,"1 Dec 2024 to 31 Dec 2024","Dagon Corporation Holdings Limited","DRAGON CORPORATION","GROUP",6738094014,"CMRXD",3,"Local System","EC Connect",1,0,0,0,1,null,0,0,0,0,0,0,0,0,0,0,0,0,null,1,1,0,0,0,0,0,0,0,0]
["Y",null,null,"1 Dec 2024 to 31 Dec 2024","Dagon Corporation Holdings Limited","DRAGON CORPORATION","GROUP",6738094014,"CMRXO",3,"Local System","EC Connect",1,0,0,0,1,null,0,0,0,0,0,0,0,0,0,0,0,0,null,1,1,0,0,0,0,0,0,0,0]
["Y",null,null,"1 Dec 2024 to 31 Dec 2024","Dagon Corporation Holdings Limited","DRAGON CORPORATION","GROUP",6738094014,"ENCTR",3,"Local System","Local System",3,0,0,0,3,null,0,0,0,0,0,0,0,0,0,0,0,0,null,3,1,0,0,0,0,0,0,0,0]
["Y",null,null,"1 Dec 2024 to 31 Dec 2024","Department of Health Vaccination Schemes","DH VACCINE SCHEMES","DH",7054385794,"IMMU",3,"Local System","Local System",168251,0,0,0,168251,null,0,0,0,0,0,0,0,0,0,0,0,0,null,168251,1,0,0,0,0,0,0,0,0]
["Y",null,null,"1 Dec 2024 to 31 Dec 2024","HOLISTIC MIND LIMITED","HOLISTIC MIND","SOLO",7228524127,"CMPROB",3,"Local System","EC Connect",7,0,0,6,1,null,0,0,0,0,3,0.42857142857142855,3,0,0,3,0,0,null,1,0.14285714285714285,0,0,0,0,0,0,0,0]
["Y",null,null,"1 Dec 2024 to 31 Dec 2024","HOLISTIC MIND LIMITED","HOLISTIC MIND","SOLO",7228524127,"CMPX",3,"Local System","EC Connect",2,0,0,1,1,null,0,0,0,0,0,0,0,0,0,0,0,0,null,1,0.5,0,0,0,0,0,0,0,0]
["Y",null,null,"1 Dec 2024 to 31 Dec 2024","HOLISTIC MIND LIMITED","HOLISTIC MIND","SOLO",7228524127,"CMRXD",3,"Local System","EC Connect",3,0,0,3,0,null,0,0,0,0,0,0,0,0,0,0,0,0,null,0,0,0,0,0,0,0,0,0,0]
["Y",null,null,"1 Dec 2024 to 31 Dec 2024","HOLISTIC MIND LIMITED","HOLISTIC MIND","SOLO",7228524127,"CMRXO",3,"Local System","EC Connect",3,0,0,3,0,null,0,0,0,0,0,0,0,0,0,0,0,0,null,0,0,0,0,0,0,0,0,0,0]
["Y",null,null,"1 Dec 2024 to 31 Dec 2024","HOLISTIC MIND LIMITED","HOLISTIC MIND","SOLO",7228524127,"ENCTR",3,"Local System","Local System",4,0,0,0,4,null,0,0,0,0,0,0,0,0,0,0,0,0,null,4,1,0,0,0,0,0,0,0,0]
["Y",null,null,"1 Dec 2024 to 31 Dec 2024","CECILIACHINESEMED LIMITED","CECILIACHINESEMED LIMITED","SOLO",7603434324,"ENCTR",3,"Local System","Local System",1,0,0,0,1,null,0,0,0,0,0,0,0,0,0,0,0,0,null,1,1,0,0,0,0,0,0,0,0]
["Y",null,null,"1 Dec 2024 to 31 Dec 2024","eHealth Declaration Form","eHealth Declaration Form","DH",7764187800,"IMMU",3,"Local System","Local System",3360,0,0,0,3360,null,0,0,0,0,0,0,0,0,0,0,0,0,null,3360,1,0,0,0,0,0,0,0,0]
[null,null,"Y","2024-11-01","DEPARTMENT OF HEALTH",null,"DH","2438744730","RXO","3","CIMS2","Adaptation","154299","0","0","53632","100667",null,null,null,"0","0","53860",null,"53860",null,null,"53860","0","0",null,null,null,"5",null,"0","0","0","5","0","0",null,"1 Nov 2024 to 30 Nov 2024","DEPARTMENT OF HEALTH","DH","DH","2438744730","RXO","3","CIMS2","Local System","154299","0","0","53632","100667","","0","0","0","0","53860","0.349062534429906","53860","0","0","53860","0","0","","100667","0.652415116105743","5","3.24046170098316E-05","0","0","0","5","0","0"]
[null,null,"Y","2024-11-01","DEPARTMENT OF HEALTH",null,"DH","2438744730","LABGEN","3","CIMS2","Local System","17153","0","1326","652","15175",null,null,null,"0","0","2019",null,"2019",null,null,"652","1367","0",null,null,null,"0",null,"0","0","0","0","0","0",null,"1 Nov 2024 to 30 Nov 2024","DEPARTMENT OF HEALTH","DH","DH","2438744730","LABGEN","1","CIMS2","Local System","17153","0","1326","652","15175","","0","0","0","0","2019","0.117705357663382","2019","0","0","652","1367","0","","15175","0.884684894770594","0","0","0","0","0","0","0","0"]
[null,null,"Y","2024-11-01","DEPARTMENT OF HEALTH",null,"DH","2438744730","AL1","3","CIMS2","Adaptation","1435","0","0","337","1098",null,null,null,"0","0","310",null,"310",null,null,"310","0","0",null,null,null,"0",null,"0","0","0","0","0","0",null,"1 Nov 2024 to 30 Nov 2024","DEPARTMENT OF HEALTH","DH","DH","2438744730","AL1","3","CIMS2","Local System","1435","0","0","337","1098","","0","0","0","0","310","0.21602787456446","310","0","0","310","0","0","","1098","0.765156794425087","0","0","0","0","0","0","0","0"]
[null,null,"Y","2024-11-01","DEPARTMENT OF HEALTH",null,"DH","2438744730","ADR","3","CIMS2","Adaptation","356","0","0","57","299",null,null,null,"0","0","57",null,"57",null,null,"57","0","0",null,null,null,"0",null,"0","0","0","0","0","0",null,"1 Nov 2024 to 30 Nov 2024","DEPARTMENT OF HEALTH","DH","DH","2438744730","ADR","3","CIMS2","Local System","356","0","0","57","299","","0","0","0","0","57","0.160112359550562","57","0","0","57","0","0","","299","0.839887640449438","0","0","0","0","0","0","0","0"]
[null,null,"Y","2024-11-01","QUALITY HEALTHCARE MEDICAL CENTRE LIMITED",null,"GRP","9265486345","RXD","2","QHMS EMR","Local System","37824","0","0","37824","0",null,null,null,"0","0","0",null,"0",null,null,"0","0","0",null,null,null,"0",null,"0","0","0","0","0","0",null,"1 Nov 2024 to 30 Nov 2024","QUALITY HEALTHCARE MEDICAL CENTRE LIMITED","QHMS","GROUP","9265486345","RXD","2","QHMS EMR","Local System","37824","0","0","37824","0","","0","0","0","0","0","0","0","0","0","0","0","0","","0","0","0","0","0","0","0","0","0","0"]
[null,null,"Y","2024-11-01","QUALITY HEALTHCARE MEDICAL CENTRE LIMITED",null,"GRP","9265486345","ENCTR","3","QHMS EMR","Local System","25897","0","0","0","25897",null,null,null,"0","0","0",null,"0",null,null,"0","0","0",null,null,null,"0",null,"0","0","0","0","0","0",null,"1 Nov 2024 to 30 Nov 2024","QUALITY HEALTHCARE MEDICAL CENTRE LIMITED","QHMS","GROUP","9265486345","ENCTR","3","QHMS EMR","Local System","25897","0","0","0","25897","","0","0","0","0","0","0","0","0","0","0","0","0","","25897","1","0","0","0","0","0","0","0","0"]
[null,null,"Y","2024-11-01","QUALITY HEALTHCARE MEDICAL CENTRE LIMITED",null,"GRP","9265486345","IMMU","2","QHMS EMR","Local System","3325","0","0","3325","0",null,null,null,"0","0","0",null,"0",null,null,"0","0","0",null,null,null,"0",null,"0","0","0","0","0","0",null,"1 Nov 2024 to 30 Nov 2024","QUALITY HEALTHCARE MEDICAL CENTRE LIMITED","QHMS","GROUP","9265486345","IMMU","2","QHMS EMR","Local System","3325","0","0","3325","0","","0","0","0","0","0","0","0","0","0","0","0","0","","0","0","0","0","0","0","0","0","0","0"]
[null,null,"Y","2024-11-01","QUALITY HEALTHCARE MEDICAL CENTRE LIMITED",null,"GRP","9265486345","AL1","3,2","QHMS EMR","Local System","519","0","0","519","0",null,null,null,"0","0","494",null,"494",null,null,"494","0","0",null,null,null,"0",null,"0","0","0","0","0","0",null,"1 Nov 2024 to 30 Nov 2024","QUALITY HEALTHCARE MEDICAL CENTRE LIMITED","QHMS","GROUP","9265486345","AL1","3","QHMS EMR","Local System","519","0","0","519","0","","0","0","0","0","494","0.951830443159923","494","0","0","494","0","0","","0","0","0","0","0","0","0","0","0","0"]
[null,null,"Y","2024-11-01","QUALITY HEALTHCARE MEDICAL CENTRE LIMITED",null,"GRP","9761710951","RAD","3","RHI2_QHMS","Local System","879","0","0","0","879",null,null,null,"0","0","0",null,"0",null,null,"0","0","0",null,null,null,"0",null,"0","0","0","0","0","0",null,"1 Nov 2024 to 30 Nov 2024","QUALITY HEALTHCARE MEDICAL CENTRE LIMITED","QHMS","GROUP","9761710951","RAD","3","RHI2_QHMS","Local System","879","0","0","0","879","","0","0","0","0","0","0","0","0","0","0","0","0","","879","1","0","0","0","0","0","0","0","0"]
[null,null,"Y","2024-11-01","DEPARTMENT OF HEALTH COVID-19 VACCINATION PROGRAMME",null,"DH","3681219587","IMMU","3","CIMS1","Local System","54553","0","0","0","54553",null,null,null,"0","0","0",null,"0",null,null,"0","0","0",null,null,null,"0",null,"0","0","0","0","0","0",null,"1 Nov 2024 to 30 Nov 2024","Department of Health COVID-19 Vaccination Programme","DH COVID-19 VACCINE PROG.","DH","3681219587","IMMU","3","Local System","Local System","54553","0","0","0","54553","","0","0","0","0","0","0","0","0","0","0","0","0","","54553","1","0","0","0","0","0","0","0","0"]
[null,null,"Y","2024-11-01","HONG KONG ADVENTIST HOSPITAL - TSUEN WAN",null,"PH","8909436562","RAD","3,2","TWAHLAAM","Local System","3726","0","0","0","3726",null,null,null,"0","0","0",null,"0",null,null,"0","0","0",null,null,null,"0",null,"0","0","0","0","0","0",null,"1 Nov 2024 to 30 Nov 2024","HONG KONG ADVENTIST HOSPITAL - TSUEN WAN","HK ADVENTIST - TW","PH","8909436562","RAD","2","TWAHLAAM","Local System","3726","0","0","0","3726","","0","0","0","0","0","0","0","0","0","0","0","0","","3726","1","0","0","0","0","0","0","0","0"]
[null,null,"Y","2024-11-01","HONG KONG ADVENTIST HOSPITAL - TSUEN WAN",null,"PH","8909436562","AL1","3","TWAHLAAM","Adaptation","783","0","0","185","598",null,null,null,"0","0","156",null,"156",null,null,"156","0","0",null,null,null,"0",null,"0","0","0","0","0","0",null,"1 Nov 2024 to 30 Nov 2024","HONG KONG ADVENTIST HOSPITAL - TSUEN WAN","HK ADVENTIST - TW","PH","8909436562","AL1","3","TWAHLAAM","Local System","783","0","0","185","598","","0","0","0","0","156","0.199233716475096","156","0","0","156","0","0","","598","0.763729246487867","0","0","0","0","0","0","0","0"]
[null,null,"Y","2024-11-01","HONG KONG ADVENTIST HOSPITAL - TSUEN WAN",null,"PH","8909436562","ADR","3","TWAHLAAM","Adaptation","32","0","0","3","29",null,null,null,"0","0","3",null,"3",null,null,"3","0","0",null,null,null,"0",null,"0","0","0","0","0","0",null,"1 Nov 2024 to 30 Nov 2024","HONG KONG ADVENTIST HOSPITAL - TSUEN WAN","HK ADVENTIST - TW","PH","8909436562","ADR","3","TWAHLAAM","Local System","32","0","0","3","29","","0","0","0","0","3","0.09375","3","0","0","3","0","0","","29","0.90625","0","0","0","0","0","0","0","0"]
[null,null,"Y","2024-11-01","DISTRICT HEALTH CENTRE-SHAM SHUI PO (SJS)",null,"DHC","9681600318","ENCTR","3","DHCCMS","Local System","37123","0","0","0","37123",null,null,null,"0","0","0",null,"0",null,null,"0","0","0",null,null,null,"0",null,"0","0","0","0","0","0",null,"1 Nov 2024 to 30 Nov 2024","DISTRICT HEALTH CENTRE-SHAM SHUI PO (SJS)","DHC-SHAM SHUI PO","DHC","9681600318","ENCTR","3","Local System","Local System","37123","0","0","0","37123","","0","0","0","0","0","0","0","0","0","0","0","0","","37123","1","0","0","0","0","0","0","0","0"]
[null,null,"Y","2024-11-01","DISTRICT HEALTH CENTRE-SHAM SHUI PO (SJS)",null,"DHC","9681600318","EPIS","1","DHCCMS","Local System","8009","0","8009","0","0",null,null,null,"0","0","0",null,"0",null,null,"0","0","0",null,null,null,"0",null,"0","0","0","0","0","0",null,"1 Nov 2024 to 30 Nov 2024","DISTRICT HEALTH CENTRE-SHAM SHUI PO (SJS)","DHC-SHAM SHUI PO","DHC","9681600318","EPIS","1","Local System","Local System","8009","0","8009","0","0","","0","0","0","0","0","0","0","0","0","0","0","0","","0","0","0","0","0","0","0","0","0","0"]
[null,null,"Y","2024-11-01","DISTRICT HEALTH CENTRE-SHAM SHUI PO (SJS)",null,"DHC","9681600318","AL1","3","DHCCMS","Local System","13","0","0","2","11",null,null,null,"0","0","1",null,"1",null,null,"1","0","0",null,null,null,"0",null,"0","0","0","0","0","0",null,"1 Nov 2024 to 30 Nov 2024","DISTRICT HEALTH CENTRE-SHAM SHUI PO (SJS)","DHC-SHAM SHUI PO","DHC","9681600318","AL1","3","Local System","Local System","13","0","0","2","11","","0","0","0","0","1","0.0769230769230769","1","0","0","1","0","0","","11","0.846153846153846","0","0","0","0","0","0","0","0"]
[null,null,"Y","2024-11-01","DISTRICT HEALTH CENTRE-TUEN MUN (ELCHK)",null,"DHC","6303033042","ENCTR","3","DHCCMS","Local System","26635","0","0","0","26635",null,null,null,"0","0","0",null,"0",null,null,"0","0","0",null,null,null,"0",null,"0","0","0","0","0","0",null,"1 Nov 2024 to 30 Nov 2024","DISTRICT HEALTH CENTRE-TUEN MUN (ELCHK)","DHC-TUEN MUN-CC","DHC","6303033042","ENCTR","3","Local System","Local System","26635","0","0","0","26635","","0","0","0","0","0","0","0","0","0","0","0","0","","26635","1","0","0","0","0","0","0","0","0"]
[null,null,"Y","2024-11-01","DISTRICT HEALTH CENTRE-TUEN MUN (ELCHK)",null,"DHC","6303033042","EPIS","1","DHCCMS","Local System","9739","0","9739","0","0",null,null,null,"0","0","0",null,"0",null,null,"0","0","0",null,null,null,"0",null,"0","0","0","0","0","0",null,"1 Nov 2024 to 30 Nov 2024","DISTRICT HEALTH CENTRE-TUEN MUN (ELCHK)","DHC-TUEN MUN-CC","DHC","6303033042","EPIS","1","Local System","Local System","9739","0","9739","0","0","","0","0","0","0","0","0","0","0","0","0","0","0","","0","0","0","0","0","0","0","0","0","0"]
[null,null,"Y","2024-11-01","DISTRICT HEALTH CENTRE-TUEN MUN (ELCHK)",null,"DHC","6303033042","AL1","3","DHCCMS","Local System","15","0","0","4","11",null,null,null,"0","0","4",null,"4",null,null,"4","0","0",null,null,null,"0",null,"0","0","0","0","0","0",null,"1 Nov 2024 to 30 Nov 2024","DISTRICT HEALTH CENTRE-TUEN MUN (ELCHK)","DHC-TUEN MUN-CC","DHC","6303033042","AL1","3","Local System","Local System","15","0","0","4","11","","0","0","0","0","4","0.266666666666667","4","0","0","4","0","0","","11","0.733333333333333","0","0","0","0","0","0","0","0"]
[null,null,"Y","2024-11-01","DISTRICT HEALTH CENTRE-TUEN MUN (ELCHK)",null,"DHC","6303033042","ADR","3","DHCCMS","Local System","11","0","0","1","10",null,null,null,"0","0","1",null,"1",null,null,"1","0","0",null,null,null,"0",null,"0","0","0","0","0","0",null,"1 Nov 2024 to 30 Nov 2024","DISTRICT HEALTH CENTRE-TUEN MUN (ELCHK)","DHC-TUEN MUN-CC","DHC","6303033042","ADR","3","Local System","Local System","11","0","0","1","10","","0","0","0","0","1","0.0909090909090909","1","0","0","1","0","0","","10","0.909090909090909","0","0","0","0","0","0","0","0"]
[null,null,"Y","2024-11-01","DISTRICT HEALTH CENTRE-WONG TAI SIN (HKSKHWCL)",null,"DHC","4437392776","ENCTR","3","DHCCMS","Local System","23272","0","0","0","23272",null,null,null,"0","0","0",null,"0",null,null,"0","0","0",null,null,null,"0",null,"0","0","0","0","0","0",null,"1 Nov 2024 to 30 Nov 2024","DISTRICT HEALTH CENTRE-WONG TAI SIN (HKSKHWCL)","DHC-WONG TAI SIN","DHC","4437392776","ENCTR","3","Local System","Local System","23272","0","0","0","23272","","0","0","0","0","0","0","0","0","0","0","0","0","","23272","1","0","0","0","0","0","0","0","0"]
[null,null,"Y","2024-11-01","DISTRICT HEALTH CENTRE-WONG TAI SIN (HKSKHWCL)",null,"DHC","4437392776","EPIS","1","DHCCMS","Local System","10589","0","10589","0","0",null,null,null,"0","0","0",null,"0",null,null,"0","0","0",null,null,null,"0",null,"0","0","0","0","0","0",null,"1 Nov 2024 to 30 Nov 2024","DISTRICT HEALTH CENTRE-WONG TAI SIN (HKSKHWCL)","DHC-WONG TAI SIN","DHC","4437392776","EPIS","1","Local System","Local System","10589","0","10589","0","0","","0","0","0","0","0","0","0","0","0","0","0","0","","0","0","0","0","0","0","0","0","0","0"]
[null,null,"Y","2024-11-01","DISTRICT HEALTH CENTRE-WONG TAI SIN (HKSKHWCL)",null,"DHC","4437392776","AL1","3","DHCCMS","Local System","13","0","0","2","11",null,null,null,"0","0","2",null,"2",null,null,"2","0","0",null,null,null,"0",null,"0","0","0","0","0","0",null,"1 Nov 2024 to 30 Nov 2024","DISTRICT HEALTH CENTRE-WONG TAI SIN (HKSKHWCL)","DHC-WONG TAI SIN","DHC","4437392776","AL1","3","Local System","Local System","13","0","0","2","11","","0","0","0","0","2","0.153846153846154","2","0","0","2","0","0","","11","0.846153846153846","0","0","0","0","0","0","0","0"]
[null,null,"Y","2024-11-01","DISTRICT HEALTH CENTRE-YUEN LONG (POH)",null,"DHC","7218241485","ENCTR","3","DHCCMS","Local System","19812","0","0","0","19812",null,null,null,"0","0","0",null,"0",null,null,"0","0","0",null,null,null,"0",null,"0","0","0","0","0","0",null,"1 Nov 2024 to 30 Nov 2024","DISTRICT HEALTH CENTRE-YUEN LONG (POH)","DHC-YUEN LONG","DHC","7218241485","ENCTR","3","Local System","Local System","19812","0","0","0","19812","","0","0","0","0","0","0","0","0","0","0","0","0","","19812","1","0","0","0","0","0","0","0","0"]
[null,null,"Y","2024-11-01","DISTRICT HEALTH CENTRE-YUEN LONG (POH)",null,"DHC","7218241485","EPIS","1","DHCCMS","Local System","10733","0","10733","0","0",null,null,null,"0","0","0",null,"0",null,null,"0","0","0",null,null,null,"0",null,"0","0","0","0","0","0",null,"1 Nov 2024 to 30 Nov 2024","DISTRICT HEALTH CENTRE-YUEN LONG (POH)","DHC-YUEN LONG","DHC","7218241485","EPIS","1","Local System","Local System","10733","0","10733","0","0","","0","0","0","0","0","0","0","0","0","0","0","0","","0","0","0","0","0","0","0","0","0","0"]
[null,null,"Y","2024-11-01","DISTRICT HEALTH CENTRE-YUEN LONG (POH)",null,"DHC","7218241485","AL1","3","DHCCMS","Local System","6","0","0","2","4",null,null,null,"0","0","2",null,"2",null,null,"2","0","0",null,null,null,"0",null,"0","0","0","0","0","0",null,"1 Nov 2024 to 30 Nov 2024","DISTRICT HEALTH CENTRE-YUEN LONG (POH)","DHC-YUEN LONG","DHC","7218241485","AL1","3","Local System","Local System","6","0","0","2","4","","0","0","0","0","2","0.333333333333333","2","0","0","2","0","0","","4","0.666666666666667","0","0","0","0","0","0","0","0"]
[null,null,"Y","2024-11-01","DISTRICT HEALTH CENTRE-YUEN LONG (POH)",null,"DHC","7218241485","ADR","3","DHCCMS","Local System","2","0","0","0","2",null,null,null,"0","0","0",null,"0",null,null,"0","0","0",null,null,null,"0",null,"0","0","0","0","0","0",null,"1 Nov 2024 to 30 Nov 2024","DISTRICT HEALTH CENTRE-YUEN LONG (POH)","DHC-YUEN LONG","DHC","7218241485","ADR","3","Local System","Local System","2","0","0","0","2","","0","0","0","0","0","0","0","0","0","0","0","0","","2","1","0","0","0","0","0","0","0","0"]
[null,null,"Y","2024-11-01","DISTRICT HEALTH CENTRE-SOUTHERN (AKA)",null,"DHC","8900325933","ENCTR","3","DHCCMS","Local System","23068","0","0","0","23068",null,null,null,"0","0","0",null,"0",null,null,"0","0","0",null,null,null,"0",null,"0","0","0","0","0","0",null,"1 Nov 2024 to 30 Nov 2024","DISTRICT HEALTH CENTRE-SOUTHERN (AKA)","DHC-SOUTHERN","DHC","8900325933","ENCTR","3","Local System","Local System","23068","0","0","0","23068","","0","0","0","0","0","0","0","0","0","0","0","0","","23068","1","0","0","0","0","0","0","0","0"]
[null,null,"Y","2024-11-01","DISTRICT HEALTH CENTRE-SOUTHERN (AKA)",null,"DHC","8900325933","EPIS","1","DHCCMS","Local System","3369","0","3369","0","0",null,null,null,"0","0","0",null,"0",null,null,"0","0","0",null,null,null,"0",null,"0","0","0","0","0","0",null,"1 Nov 2024 to 30 Nov 2024","DISTRICT HEALTH CENTRE-SOUTHERN (AKA)","DHC-SOUTHERN","DHC","8900325933","EPIS","1","Local System","Local System","3369","0","3369","0","0","","0","0","0","0","0","0","0","0","0","0","0","0","","0","0","0","0","0","0","0","0","0","0"]
[null,null,"Y","2024-11-01","DISTRICT HEALTH CENTRE-SOUTHERN (AKA)",null,"DHC","8900325933","AL1","3","DHCCMS","Local System","8","0","0","0","8",null,null,null,"0","0","0",null,"0",null,null,"0","0","0",null,null,null,"0",null,"0","0","0","0","0","0",null,"1 Nov 2024 to 30 Nov 2024","DISTRICT HEALTH CENTRE-SOUTHERN (AKA)","DHC-SOUTHERN","DHC","8900325933","AL1","3","Local System","Local System","8","0","0","0","8","","0","0","0","0","0","0","0","0","0","0","0","0","","8","1","0","0","0","0","0","0","0","0"]
[null,null,"Y","2024-11-01","DISTRICT HEALTH CENTRE-KWAI TSING (KTSCHCA)",null,"DHC","3040418583","ENCTR","3","DHCCMS","Local System","17563","0","0","0","17563",null,null,null,"0","0","0",null,"0",null,null,"0","0","0",null,null,null,"0",null,"0","0","0","0","0","0",null,"1 Nov 2024 to 30 Nov 2024","DISTRICT HEALTH CENTRE-KWAI TSING (KTSCHCA)","DHC-KWAI TSING","DHC","3040418583","ENCTR","3","Local System","Local System","17563","0","0","0","17563","","0","0","0","0","0","0","0","0","0","0","0","0","","17563","1","0","0","0","0","0","0","0","0"]
[null,null,"Y","2024-11-01","DISTRICT HEALTH CENTRE-KWAI TSING (KTSCHCA)",null,"DHC","3040418583","EPIS","1","DHCCMS","Local System","5016","0","5016","0","0",null,null,null,"0","0","0",null,"0",null,null,"0","0","0",null,null,null,"0",null,"0","0","0","0","0","0",null,"1 Nov 2024 to 30 Nov 2024","DISTRICT HEALTH CENTRE-KWAI TSING (KTSCHCA)","DHC-KWAI TSING","DHC","3040418583","EPIS","1","Local System","Local System","5016","0","5016","0","0","","0","0","0","0","0","0","0","0","0","0","0","0","","0","0","0","0","0","0","0","0","0","0"]
[null,null,"Y","2024-11-01","HKSH MEDICAL GROUP LIMITED",null,"PH","4773496701","RAD","3,2","HKSH e-HR gateway","Local System","3799","0","0","0","3799",null,null,null,"0","0","0",null,"0",null,null,"0","0","0",null,null,null,"0",null,"0","0","0","0","0","0",null,"1 Nov 2024 to 30 Nov 2024","HKSH Medical Group Limited","HKSH MEDICAL FROUP","PH","4773496701","RAD","3","HKSH e-HR gateway","Local System","3799","0","0","0","3799","","0","0","0","0","0","0","0","0","0","0","0","0","","3799","1","0","0","0","0","0","0","0","0"]
[null,null,"Y","2024-11-01","HONG KONG BAPTIST HOSPITAL",null,"PH","3650324540","RAD","3,2","Trakcare","Local System","4711","0","0","0","4711",null,null,null,"0","0","0",null,"0",null,null,"0","0","0",null,null,null,"0",null,"0","0","0","0","0","0",null,"1 Nov 2024 to 30 Nov 2024","HONG KONG BAPTIST HOSPITAL","HK BAPTIST HOSPITAL","PH","3650324540","RAD","3","Trakcare","Local System","4711","0","0","0","4711","","0","0","0","0","0","0","0","0","0","0","0","0","","4711","1","0","0","0","0","0","0","0","0"]
[null,null,"Y","2024-11-01","HONG KONG BAPTIST HOSPITAL",null,"PH","4480228848","RXD","3,2","CMS On-ramp","CMS On-ramp","724","0","0","56","668",null,null,null,"0","0","0",null,"0",null,null,"0","0","0",null,null,null,"0",null,"0","0","0","0","0","0",null,"1 Nov 2024 to 30 Nov 2024","HONG KONG BAPTIST HOSPITAL (COMMUNITY CLINIC)","HK BAPTIST HOSPITAL","PH","4480228848","RXD","3","Onramp","Local System","724","0","0","56","668","","0","0","0","0","0","0","0","0","0","0","0","0","","668","0.922651933701657","0","0","0","0","0","0","0","0"]
[null,null,"Y","2024-11-01","HONG KONG BAPTIST HOSPITAL",null,"PH","4480228848","RXO","3,2","CMS On-ramp","CMS On-ramp","724","0","0","56","668",null,null,null,"0","0","0",null,"0",null,null,"0","0","0",null,null,null,"0",null,"0","0","0","0","0","0",null,"1 Nov 2024 to 30 Nov 2024","HONG KONG BAPTIST HOSPITAL (COMMUNITY CLINIC)","HK BAPTIST HOSPITAL","PH","4480228848","RXO","3","Onramp","Local System","724","0","0","56","668","","0","0","0","0","0","0","0","0","0","0","0","0","","668","0.922651933701657","0","0","0","0","0","0","0","0"]
[null,null,"Y","2024-11-01","HONG KONG BAPTIST HOSPITAL",null,"PH","4480228848","PROB","3,2","CMS On-ramp","CMS On-ramp","241","0","0","28","213",null,null,null,"0","0","0",null,"0",null,null,"0","0","0",null,null,null,"0",null,"0","0","0","0","0","0",null,"1 Nov 2024 to 30 Nov 2024","HONG KONG BAPTIST HOSPITAL (COMMUNITY CLINIC)","HK BAPTIST HOSPITAL","PH","4480228848","PROB","3","Onramp","Local System","241","0","0","28","213","","0","0","0","0","0","0","0","0","0","0","0","0","","213","0.883817427385892","0","0","0","0","0","0","0","0"]
[null,null,"Y","2024-11-01","HONG KONG BAPTIST HOSPITAL",null,"PH","4480228848","ENCTR","3","CMS On-ramp","CMS On-ramp","221","0","0","0","221",null,null,null,"0","0","0",null,"0",null,null,"0","0","0",null,null,null,"0",null,"0","0","0","0","0","0",null,"1 Nov 2024 to 30 Nov 2024","HONG KONG BAPTIST HOSPITAL (COMMUNITY CLINIC)","HK BAPTIST HOSPITAL","PH","4480228848","ENCTR","3","Onramp","Local System","221","0","0","0","221","","0","0","0","0","0","0","0","0","0","0","0","0","","221","1","0","0","0","0","0","0","0","0"]
[null,null,"Y","2024-11-01","HONG KONG BAPTIST HOSPITAL",null,"PH","4480228848","IMMU","3,2","CMS On-ramp","CMS On-ramp","25","0","0","0","25",null,null,null,"0","0","0",null,"0",null,null,"0","0","0",null,null,null,"0",null,"0","0","0","0","0","0",null,"1 Nov 2024 to 30 Nov 2024","HONG KONG BAPTIST HOSPITAL (COMMUNITY CLINIC)","HK BAPTIST HOSPITAL","PH","4480228848","IMMU","3","Onramp","Local System","25","0","0","0","25","","0","0","0","0","0","0","0","0","0","0","0","0","","25","1","0","0","0","0","0","0","0","0"]
[null,null,"Y","2024-11-01","HONG KONG BAPTIST HOSPITAL",null,"PH","4480228848","AL1","3,2","CMS On-ramp","CMS On-ramp","2","0","0","0","2",null,null,null,"0","0","0",null,"0",null,null,"0","0","0",null,null,null,"0",null,"0","0","0","0","0","0",null,"1 Nov 2024 to 30 Nov 2024","HONG KONG BAPTIST HOSPITAL (COMMUNITY CLINIC)","HK BAPTIST HOSPITAL","PH","4480228848","AL1","3","Onramp","Local System","2","0","0","0","2","","0","0","0","0","0","0","0","0","0","0","0","0","","2","1","0","0","0","0","0","0","0","0"]
[null,null,"Y","2024-11-01","THE HONG KONG POLYTECHNIC UNIVERSITY",null,"ACAD","4578805814","RXO","3","ClinicMaster Information System","Local System","21202","4","0","2023","19175",null,null,null,"4","0","2024",null,"2024",null,null,"2024","0","0",null,null,null,"0",null,"0","0","0","0","0","0",null,"1 Nov 2024 to 30 Nov 2024","THE HONG KONG POLYTECHNIC UNIVERSITY","POLYU","HCAI","4578805814","RXO","3","ClinicMaster Information System","Local System","21202","4","0","2023","19175","","4","0.000188661447033299","4","0","2024","0.0954626921988492","2024","0","0","2024","0","0","","19175","0.904395811715876","0","0","0","0","0","0","0","0"]
[null,null,"Y","2024-11-01","THE HONG KONG POLYTECHNIC UNIVERSITY",null,"ACAD","4578805814","ENCTR","3","ClinicMaster Information System","Local System","268","0","0","0","268",null,null,null,"0","0","0",null,"0",null,null,"0","0","0",null,null,null,"0",null,"0","0","0","0","0","0",null,"1 Nov 2024 to 30 Nov 2024","THE HONG KONG POLYTECHNIC UNIVERSITY","POLYU","HCAI","4578805814","ENCTR","3","ClinicMaster Information System","Local System","268","0","0","0","268","","0","0","0","0","0","0","0","0","0","0","0","0","","268","1","0","0","0","0","0","0","0","0"]
[null,null,"Y","2024-11-01","THE HONG KONG POLYTECHNIC UNIVERSITY",null,"ACAD","4578805814","IMMU","3","ClinicMaster Information System","Local System","38","0","0","0","38",null,null,null,"0","0","0",null,"0",null,null,"0","0","0",null,null,null,"0",null,"0","0","0","0","0","0",null,"1 Nov 2024 to 30 Nov 2024","THE HONG KONG POLYTECHNIC UNIVERSITY","POLYU","HCAI","4578805814","IMMU","3","ClinicMaster Information System","Local System","38","0","0","0","38","","0","0","0","0","0","0","0","0","0","0","0","0","","38","1","0","0","0","0","0","0","0","0"]
[null,null,"Y","2024-11-01","ST. TERESA'S HOSPITAL",null,"PH","7969980015","RXD","3","STH HIS","Local System","11275","13","0","412","10850",null,null,null,"13","0","412",null,"412",null,null,"412","0","0",null,null,null,"0",null,"0","0","0","0","0","0",null,"1 Nov 2024 to 30 Nov 2024","ST.TERESA's HOSPITAL","STH","PH","7969980015","RXD","3","STH HIS","Local System","11275","13","0","412","10850","","13","0.0011529933481153","13","0","412","0.0365410199556541","412","0","0","412","0","0","","10850","0.962305986696231","0","0","0","0","0","0","0","0"]
[null,null,"Y","2024-11-01","ST. TERESA'S HOSPITAL",null,"PH","7969980015","RAD","3","STH HIS","Local System","4611","0","0","0","4611",null,null,null,"0","0","0",null,"0",null,null,"0","0","0",null,null,null,"0",null,"0","0","0","0","0","0",null,"1 Nov 2024 to 30 Nov 2024","ST.TERESA's HOSPITAL","STH","PH","7969980015","RAD","3","STH HIS","Local System","4611","0","0","0","4611","","0","0","0","0","0","0","0","0","0","0","0","0","","4611","1","0","0","0","0","0","0","0","0"]
[null,null,"Y","2024-11-01","ST. TERESA'S HOSPITAL",null,"PH","7969980015","EPIS","1","STH HIS","Local System","1417","0","1417","0","0",null,null,null,"0","0","0",null,"0",null,null,"0","0","0",null,null,null,"0",null,"0","0","0","0","0","0",null,"1 Nov 2024 to 30 Nov 2024","ST.TERESA's HOSPITAL","STH","PH","7969980015","EPIS","1","STH HIS","Local System","1417","0","1417","0","0","","0","0","0","0","0","0","0","0","0","0","0","0","","0","0","0","0","0","0","0","0","0","0"]
[null,null,"Y","2024-11-01","ST. TERESA'S HOSPITAL",null,"PH","7969980015","LABAP","1","STH HIS","Local System","886","0","886","0","0",null,null,null,"0","0","0",null,"0",null,null,"0","0","0",null,null,null,"0",null,"0","0","0","0","0","0",null,"1 Nov 2024 to 30 Nov 2024","ST.TERESA's HOSPITAL","STH","PH","7969980015","LABAP","1","STH HIS","Local System","886","0","886","0","0","","0","0","0","0","0","0","0","0","0","0","0","0","","0","0","0","0","0","0","0","0","0","0"]
[null,null,"Y","2024-11-01","ST. TERESA'S HOSPITAL",null,"PH","7969980015","AL1","3","STH HIS","Local System","264","0","0","90","174",null,null,null,"0","0","79",null,"79",null,null,"79","0","0",null,null,null,"0",null,"0","0","0","0","0","0",null,"1 Nov 2024 to 30 Nov 2024","ST.TERESA's HOSPITAL","STH","PH","7969980015","AL1","3","STH HIS","Local System","264","0","0","90","174","","0","0","0","0","79","0.299242424242424","79","0","0","79","0","0","","174","0.659090909090909","0","0","0","0","0","0","0","0"]
[null,null,"Y","2024-11-01","ST. TERESA'S HOSPITAL",null,"PH","7969980015","ADR","3","STH HIS","Local System","24","0","0","0","24",null,null,null,"0","0","0",null,"0",null,null,"0","0","0",null,null,null,"0",null,"0","0","0","0","0","0",null,"1 Nov 2024 to 30 Nov 2024","ST.TERESA's HOSPITAL","STH","PH","7969980015","ADR","3","STH HIS","Local System","24","0","0","0","24","","0","0","0","0","0","0","0","0","0","0","0","0","","24","1","0","0","0","0","0","0","0","0"]
[null,null,"Y","2024-11-01","ST. TERESA'S HOSPITAL",null,"PH","7969980015","BIRTH","3","STH HIS","Local System","6","0","0","0","6",null,null,null,"0","0","0",null,"0",null,null,"0","0","0",null,null,null,"0",null,"0","0","0","0","0","0",null,"1 Nov 2024 to 30 Nov 2024","ST.TERESA's HOSPITAL","STH","PH","7969980015","BIRTH","3","STH HIS","Local System","6","0","0","0","6","","0","0","0","0","0","0","0","0","0","0","0","0","","6","1","0","0","0","0","0","0","0","0"]
[null,null,"Y","2024-11-01","DISTRICT HEALTH CENTRE-TSUEN WAN (YCHB)",null,"DHC","9043776781","ENCTR","3","DHCCMS","Local System","13084","0","0","0","13084",null,null,null,"0","0","0",null,"0",null,null,"0","0","0",null,null,null,"0",null,"0","0","0","0","0","0",null,"1 Nov 2024 to 30 Nov 2024","DISTRICT HEALTH CENTRE-TSUEN WAN (YCHB)","DHC-TSUEN WAN","DHC","9043776781","ENCTR","3","Local System","Local System","13084","0","0","0","13084","","0","0","0","0","0","0","0","0","0","0","0","0","","13084","1","0","0","0","0","0","0","0","0"]
[null,null,"Y","2024-11-01","DISTRICT HEALTH CENTRE-TSUEN WAN (YCHB)",null,"DHC","9043776781","EPIS","1","DHCCMS","Local System","5386","0","5386","0","0",null,null,null,"0","0","0",null,"0",null,null,"0","0","0",null,null,null,"0",null,"0","0","0","0","0","0",null,"1 Nov 2024 to 30 Nov 2024","DISTRICT HEALTH CENTRE-TSUEN WAN (YCHB)","DHC-TSUEN WAN","DHC","9043776781","EPIS","1","Local System","Local System","5386","0","5386","0","0","","0","0","0","0","0","0","0","0","0","0","0","0","","0","0","0","0","0","0","0","0","0","0"]
[null,null,"Y","2024-11-01","DISTRICT HEALTH CENTRE-TSUEN WAN (YCHB)",null,"DHC","9043776781","AL1","3","DHCCMS","Local System","5","0","0","0","5",null,null,null,"0","0","0",null,"0",null,null,"0","0","0",null,null,null,"0",null,"0","0","0","0","0","0",null,"1 Nov 2024 to 30 Nov 2024","DISTRICT HEALTH CENTRE-TSUEN WAN (YCHB)","DHC-TSUEN WAN","DHC","9043776781","AL1","3","Local System","Local System","5","0","0","0","5","","0","0","0","0","0","0","0","0","0","0","0","0","","5","1","0","0","0","0","0","0","0","0"]
[null,null,"Y","2024-11-01","DISTRICT HEALTH CENTRE-TSUEN WAN (YCHB)",null,"DHC","9043776781","ADR","3","DHCCMS","Local System","2","0","0","0","2",null,null,null,"0","0","0",null,"0",null,null,"0","0","0",null,null,null,"0",null,"0","0","0","0","0","0",null,"1 Nov 2024 to 30 Nov 2024","DISTRICT HEALTH CENTRE-TSUEN WAN (YCHB)","DHC-TSUEN WAN","DHC","9043776781","ADR","3","Local System","Local System","2","0","0","0","2","","0","0","0","0","0","0","0","0","0","0","0","0","","2","1","0","0","0","0","0","0","0","0"]
[null,null,"Y","2024-11-01","ST. PAUL'S HOSPITAL",null,"PH","5156724947","AL1","3","SPH HIS","Adaptation","254","0","0","102","152",null,null,null,"0","0","86",null,"86",null,null,"86","0","0",null,null,null,"0",null,"0","0","0","0","0","0",null,"1 Nov 2024 to 30 Nov 2024","ST. PAUL'S HOSPITAL","SPH","PH","5156724947","AL1","3","SPH HIS","Local System","254","0","0","102","152","","0","0","0","0","86","0.338582677165354","86","0","0","86","0","0","","152","0.598425196850394","0","0","0","0","0","0","0","0"]
[null,null,"Y","2024-11-01","ST. PAUL'S HOSPITAL",null,"PH","5156724947","ADR","3","SPH HIS","Adaptation","33","0","0","3","30",null,null,null,"0","0","3",null,"3",null,null,"3","0","0",null,null,null,"0",null,"0","0","0","0","0","0",null,"1 Nov 2024 to 30 Nov 2024","ST. PAUL'S HOSPITAL","SPH","PH","5156724947","ADR","3","SPH HIS","Local System","33","0","0","3","30","","0","0","0","0","3","0.0909090909090909","3","0","0","3","0","0","","30","0.909090909090909","0","0","0","0","0","0","0","0"]
[null,null,"Y","2024-11-01","KINGMED DIAGNOSTICS (HONG KONG) LIMITED",null,"GRP","3150524068","LABGEN","3","PLDMS","Local System","8537","2","8535","0","0",null,null,null,"0","2","0",null,"0",null,null,"0","0","0",null,null,null,"0",null,"0","0","0","0","0","0",null,"1 Nov 2024 to 30 Nov 2024","KingMed Diagnostics (Hong Kong) Limited","KINGMED DIAGNOSTICS (HK)","GROUP","3150524068","LABGEN","1","Pathways Laboratory Information System","Local System","8537","2","8535","0","0","","2","0.000234274335246574","0","2","0","0","0","0","0","0","0","0","","0","0","0","0","0","0","0","0","0","0"]
[null,null,"Y","2024-11-01","18 CHINESE MEDICINE CLINIC CUM TRAINING AND RESEARCH CENTRE (POK OI HOSPITAL)",null,"NGO","6758313621","CMPROB","3","HA CMIS","Local System","2955","0","0","966","1989",null,null,null,"0","0","538",null,"538",null,null,"538","0","0",null,null,null,"0",null,"0","0","0","0","0","0",null,"1 Nov 2024 to 30 Nov 2024","18 Chinese Medicine Clinic cum Traing and Research Centre (Pok Oi Hospital)","18CMCTRs (POH)","NGO","6758313621","CMPROB","3","Local System","EC Connect","2955","0","0","966","1989","","0","0","0","0","538","0.182064297800338","538","0","0","538","0","0","","1989","0.673096446700508","0","0","0","0","0","0","0","0"]
[null,null,"Y","2024-11-01","18 CHINESE MEDICINE CLINIC CUM TRAINING AND RESEARCH CENTRE (POK OI HOSPITAL)",null,"NGO","6758313621","ENCTR","3","HA CMIS","Local System","2721","0","0","0","2721",null,null,null,"0","0","0",null,"0",null,null,"0","0","0",null,null,null,"0",null,"0","0","0","0","0","0",null,"1 Nov 2024 to 30 Nov 2024","18 Chinese Medicine Clinic cum Traing and Research Centre (Pok Oi Hospital)","18CMCTRs (POH)","NGO","6758313621","ENCTR","3","Local System","Local System","2721","0","0","0","2721","","0","0","0","0","0","0","0","0","0","0","0","0","","2721","1","0","0","0","0","0","0","0","0"]
[null,null,"Y","2024-11-01","18 CHINESE MEDICINE CLINIC CUM TRAINING AND RESEARCH CENTRE (POK OI HOSPITAL)",null,"NGO","6758313621","CMRXO","3","HA CMIS","Local System","1502","0","0","337","1165",null,null,null,"0","0","337",null,"337",null,null,"337","0","0",null,null,null,"0",null,"0","0","0","0","0","0",null,"1 Nov 2024 to 30 Nov 2024","18 Chinese Medicine Clinic cum Traing and Research Centre (Pok Oi Hospital)","18CMCTRs (POH)","NGO","6758313621","CMRXO","3","Local System","EC Connect","1502","0","0","337","1165","","0","0","0","0","337","0.224367509986684","337","0","0","337","0","0","","1165","0.775632490013316","0","0","0","0","0","0","0","0"]
[null,null,"Y","2024-11-01","18 CHINESE MEDICINE CLINIC CUM TRAINING AND RESEARCH CENTRE (POK OI HOSPITAL)",null,"NGO","6758313621","CMPX","3","HA CMIS","Local System","1020","0","0","157","863",null,null,null,"0","0","157",null,"157",null,null,"157","0","0",null,null,null,"0",null,"0","0","0","0","0","0",null,"1 Nov 2024 to 30 Nov 2024","18 Chinese Medicine Clinic cum Traing and Research Centre (Pok Oi Hospital)","18CMCTRs (POH)","NGO","6758313621","CMPX","3","Local System","EC Connect","1020","0","0","157","863","","0","0","0","0","157","0.153921568627451","157","0","0","157","0","0","","863","0.846078431372549","0","0","0","0","0","0","0","0"]
[null,null,"Y","2024-11-01","18 CHINESE MEDICINE CLINIC CUM TRAINING AND RESEARCH CENTRE (UNITED CHRISTIAN NETHERSOLE COMMUNITY HEALTH SERVICE)",null,"NGO","3740691088","CMPROB","3","HA CMIS","Local System","3302","0","0","238","3064",null,null,null,"0","0","153",null,"153",null,null,"153","0","0",null,null,null,"0",null,"0","0","0","0","0","0",null,"1 Nov 2024 to 30 Nov 2024","18 Chinese Medicine Clinic cum Traing and Research Centre (United Christian Nethersole Community Health Service)","18CMCTRs (UCN)","NGO","3740691088","CMPROB","3","Local System","EC Connect","3302","0","0","238","3064","","0","0","0","0","153","0.04633555420957","153","0","0","153","0","0","","3064","0.927922471229558","0","0","0","0","0","0","0","0"]
[null,null,"Y","2024-11-01","18 CHINESE MEDICINE CLINIC CUM TRAINING AND RESEARCH CENTRE (UNITED CHRISTIAN NETHERSOLE COMMUNITY HEALTH SERVICE)",null,"NGO","3740691088","ENCTR","3","HA CMIS","Local System","2603","0","0","0","2603",null,null,null,"0","0","0",null,"0",null,null,"0","0","0",null,null,null,"0",null,"0","0","0","0","0","0",null,"1 Nov 2024 to 30 Nov 2024","18 Chinese Medicine Clinic cum Traing and Research Centre (United Christian Nethersole Community Health Service)","18CMCTRs (UCN)","NGO","3740691088","ENCTR","3","Local System","Local System","2603","0","0","0","2603","","0","0","0","0","0","0","0","0","0","0","0","0","","2603","1","0","0","0","0","0","0","0","0"]
[null,null,"Y","2024-11-01","18 CHINESE MEDICINE CLINIC CUM TRAINING AND RESEARCH CENTRE (UNITED CHRISTIAN NETHERSOLE COMMUNITY HEALTH SERVICE)",null,"NGO","3740691088","CMRXO","3","HA CMIS","Local System","1328","0","0","670","658",null,null,null,"0","0","670",null,"670",null,null,"670","0","0",null,null,null,"0",null,"0","0","0","0","0","0",null,"1 Nov 2024 to 30 Nov 2024","18 Chinese Medicine Clinic cum Traing and Research Centre (United Christian Nethersole Community Health Service)","18CMCTRs (UCN)","NGO","3740691088","CMRXO","3","Local System","EC Connect","1328","0","0","670","658","","0","0","0","0","670","0.504518072289157","670","0","0","670","0","0","","658","0.495481927710843","0","0","0","0","0","0","0","0"]
[null,null,"Y","2024-11-01","18 CHINESE MEDICINE CLINIC CUM TRAINING AND RESEARCH CENTRE (UNITED CHRISTIAN NETHERSOLE COMMUNITY HEALTH SERVICE)",null,"NGO","3740691088","CMPX","3","HA CMIS","Local System","946","0","0","1","945",null,null,null,"0","0","1",null,"1",null,null,"1","0","0",null,null,null,"0",null,"0","0","0","0","0","0",null,"1 Nov 2024 to 30 Nov 2024","18 Chinese Medicine Clinic cum Traing and Research Centre (United Christian Nethersole Community Health Service)","18CMCTRs (UCN)","NGO","3740691088","CMPX","3","Local System","EC Connect","946","0","0","1","945","","0","0","0","0","1","0.00105708245243129","1","0","0","1","0","0","","945","0.998942917547569","0","0","0","0","0","0","0","0"]
[null,null,"Y","2024-11-01","DHC EXPRESS-SHA TIN (HKSR)",null,"DHC","3628187450","ENCTR","3","DHCCMS","Local System","5227","0","0","0","5227",null,null,null,"0","0","0",null,"0",null,null,"0","0","0",null,null,null,"0",null,"0","0","0","0","0","0",null,"1 Nov 2024 to 30 Nov 2024","DHC EXPRESS-SHA TIN (HKSR)","DHC EXPRESS-SHA TIN-CC","DHC","3628187450","ENCTR","3","Local System","Local System","5227","0","0","0","5227","","0","0","0","0","0","0","0","0","0","0","0","0","","5227","1","0","0","0","0","0","0","0","0"]
[null,null,"Y","2024-11-01","DHC EXPRESS-SHA TIN (HKSR)",null,"DHC","3628187450","EPIS","1","DHCCMS","Local System","2363","0","2363","0","0",null,null,null,"0","0","0",null,"0",null,null,"0","0","0",null,null,null,"0",null,"0","0","0","0","0","0",null,"1 Nov 2024 to 30 Nov 2024","DHC EXPRESS-SHA TIN (HKSR)","DHC EXPRESS-SHA TIN-CC","DHC","3628187450","EPIS","1","Local System","Local System","2363","0","2363","0","0","","0","0","0","0","0","0","0","0","0","0","0","0","","0","0","0","0","0","0","0","0","0","0"]
[null,null,"Y","2024-11-01","DHC EXPRESS-SHA TIN (HKSR)",null,"DHC","3628187450","AL1","3","DHCCMS","Local System","2","0","0","2","0",null,null,null,"0","0","2",null,"2",null,null,"2","0","0",null,null,null,"0",null,"0","0","0","0","0","0",null,"1 Nov 2024 to 30 Nov 2024","DHC EXPRESS-SHA TIN (HKSR)","DHC EXPRESS-SHA TIN-CC","DHC","3628187450","AL1","3","Local System","Local System","2","0","0","2","0","","0","0","0","0","2","1","2","0","0","2","0","0","","0","0","0","0","0","0","0","0","0","0"]
[null,null,"Y","2024-11-01","DHC EXPRESS-WAN CHAI (MC)",null,"DHC","9421690548","ENCTR","3","DHCCMS","Local System","5465","0","0","0","5465",null,null,null,"0","0","0",null,"0",null,null,"0","0","0",null,null,null,"0",null,"0","0","0","0","0","0",null,"1 Nov 2024 to 30 Nov 2024","DHC EXPRESS-WAN CHAI (MC)","DHC EXPRESS-WAN CHAI-CC","DHC","9421690548","ENCTR","3","Local System","Local System","5465","0","0","0","5465","","0","0","0","0","0","0","0","0","0","0","0","0","","5465","1","0","0","0","0","0","0","0","0"]
[null,null,"Y","2024-11-01","DHC EXPRESS-WAN CHAI (MC)",null,"DHC","9421690548","EPIS","1","DHCCMS","Local System","1727","0","1727","0","0",null,null,null,"0","0","0",null,"0",null,null,"0","0","0",null,null,null,"0",null,"0","0","0","0","0","0",null,"1 Nov 2024 to 30 Nov 2024","DHC EXPRESS-WAN CHAI (MC)","DHC EXPRESS-WAN CHAI-CC","DHC","9421690548","EPIS","1","Local System","Local System","1727","0","1727","0","0","","0","0","0","0","0","0","0","0","0","0","0","0","","0","0","0","0","0","0","0","0","0","0"]
[null,null,"Y","2024-11-01","DHC EXPRESS-WAN CHAI (MC)",null,"DHC","9421690548","AL1","3","DHCCMS","Local System","5","0","0","0","5",null,null,null,"0","0","0",null,"0",null,null,"0","0","0",null,null,null,"0",null,"0","0","0","0","0","0",null,"1 Nov 2024 to 30 Nov 2024","DHC EXPRESS-WAN CHAI (MC)","DHC EXPRESS-WAN CHAI-CC","DHC","9421690548","AL1","3","Local System","Local System","5","0","0","0","5","","0","0","0","0","0","0","0","0","0","0","0","0","","5","1","0","0","0","0","0","0","0","0"]
[null,null,"Y","2024-11-01","18 CHINESE MEDICINE CLINIC CUM TRAINING AND RESEARCH CENTRE (TUNG WAH GROUP OF HOSPITALS)",null,"NGO","5249502353","CMPROB","3","HA CMIS","Local System","2846","0","0","617","2229",null,null,null,"0","0","350",null,"350",null,null,"350","0","0",null,null,null,"0",null,"0","0","0","0","0","0",null,"1 Nov 2024 to 30 Nov 2024","18 Chinese Medicine Clinic cum Traing and Research Centre (Tung Wah Group of Hospital)","18CMCTRs(TWGHS)","NGO","5249502353","CMPROB","3","Local System","EC Connect","2846","0","0","617","2229","","0","0","0","0","350","0.122979620520028","350","0","0","350","0","0","","2229","0.783204497540408","0","0","0","0","0","0","0","0"]
[null,null,"Y","2024-11-01","18 CHINESE MEDICINE CLINIC CUM TRAINING AND RESEARCH CENTRE (TUNG WAH GROUP OF HOSPITALS)",null,"NGO","5249502353","ENCTR","3","HA CMIS","Local System","2372","0","0","0","2372",null,null,null,"0","0","0",null,"0",null,null,"0","0","0",null,null,null,"0",null,"0","0","0","0","0","0",null,"1 Nov 2024 to 30 Nov 2024","18 Chinese Medicine Clinic cum Traing and Research Centre (Tung Wah Group of Hospital)","18CMCTRs(TWGHS)","NGO","5249502353","ENCTR","3","Local System","Local System","2372","0","0","0","2372","","0","0","0","0","0","0","0","0","0","0","0","0","","2372","1","0","0","0","0","0","0","0","0"]
[null,null,"Y","2024-11-01","18 CHINESE MEDICINE CLINIC CUM TRAINING AND RESEARCH CENTRE (TUNG WAH GROUP OF HOSPITALS)",null,"NGO","5249502353","CMRXO","3","HA CMIS","Local System","1276","0","0","472","804",null,null,null,"0","0","472",null,"472",null,null,"472","0","0",null,null,null,"0",null,"0","0","0","0","0","0",null,"1 Nov 2024 to 30 Nov 2024","18 Chinese Medicine Clinic cum Traing and Research Centre (Tung Wah Group of Hospital)","18CMCTRs(TWGHS)","NGO","5249502353","CMRXO","3","Local System","EC Connect","1276","0","0","472","804","","0","0","0","0","472","0.369905956112853","472","0","0","472","0","0","","804","0.630094043887147","0","0","0","0","0","0","0","0"]
[null,null,"Y","2024-11-01","18 CHINESE MEDICINE CLINIC CUM TRAINING AND RESEARCH CENTRE (TUNG WAH GROUP OF HOSPITALS)",null,"NGO","5249502353","CMPX","3","HA CMIS","Local System","611","0","0","0","611",null,null,null,"0","0","0",null,"0",null,null,"0","0","0",null,null,null,"0",null,"0","0","0","0","0","0",null,"1 Nov 2024 to 30 Nov 2024","18 Chinese Medicine Clinic cum Traing and Research Centre (Tung Wah Group of Hospital)","18CMCTRs(TWGHS)","NGO","5249502353","CMPX","3","Local System","EC Connect","611","0","0","0","611","","0","0","0","0","0","0","0","0","0","0","0","0","","611","1","0","0","0","0","0","0","0","0"]
[null,null,"Y","2024-11-01","18 CHINESE MEDICINE CLINIC CUM TRAINING AND RESEARCH CENTRE (HAVEN OF HOPE)",null,"NGO","3237753992","CMPROB","3","HA CMIS","Local System","2662","0","0","505","2157",null,null,null,"0","0","396",null,"396",null,null,"396","0","0",null,null,null,"0",null,"0","0","0","0","0","0",null,"1 Nov 2024 to 30 Nov 2024","18 Chinese Medicine Clinic cum Traing and Research Centre (Haven of Hope)","18CMCTRs(HOHCS)","NGO","3237753992","CMPROB","3","Local System","EC Connect","2662","0","0","505","2157","","0","0","0","0","396","0.148760330578512","396","0","0","396","0","0","","2157","0.810293012772352","0","0","0","0","0","0","0","0"]
[null,null,"Y","2024-11-01","18 CHINESE MEDICINE CLINIC CUM TRAINING AND RESEARCH CENTRE (HAVEN OF HOPE)",null,"NGO","3237753992","ENCTR","3","HA CMIS","Local System","2452","0","0","0","2452",null,null,null,"0","0","0",null,"0",null,null,"0","0","0",null,null,null,"0",null,"0","0","0","0","0","0",null,"1 Nov 2024 to 30 Nov 2024","18 Chinese Medicine Clinic cum Traing and Research Centre (Haven of Hope)","18CMCTRs(HOHCS)","NGO","3237753992","ENCTR","3","Local System","Local System","2452","0","0","0","2452","","0","0","0","0","0","0","0","0","0","0","0","0","","2452","1","0","0","0","0","0","0","0","0"]
[null,null,"Y","2024-11-01","18 CHINESE MEDICINE CLINIC CUM TRAINING AND RESEARCH CENTRE (HAVEN OF HOPE)",null,"NGO","3237753992","CMRXO","3","HA CMIS","Local System","981","0","0","306","675",null,null,null,"0","0","306",null,"306",null,null,"306","0","0",null,null,null,"0",null,"0","0","0","0","0","0",null,"1 Nov 2024 to 30 Nov 2024","18 Chinese Medicine Clinic cum Traing and Research Centre (Haven of Hope)","18CMCTRs(HOHCS)","NGO","3237753992","CMRXO","3","Local System","EC Connect","981","0","0","306","675","","0","0","0","0","306","0.311926605504587","306","0","0","306","0","0","","675","0.688073394495413","0","0","0","0","0","0","0","0"]
[null,null,"Y","2024-11-01","18 CHINESE MEDICINE CLINIC CUM TRAINING AND RESEARCH CENTRE (HAVEN OF HOPE)",null,"NGO","3237753992","CMPX","3","HA CMIS","Local System","621","0","0","0","621",null,null,null,"0","0","0",null,"0",null,null,"0","0","0",null,null,null,"0",null,"0","0","0","0","0","0",null,"1 Nov 2024 to 30 Nov 2024","18 Chinese Medicine Clinic cum Traing and Research Centre (Haven of Hope)","18CMCTRs(HOHCS)","NGO","3237753992","CMPX","3","Local System","EC Connect","621","0","0","0","621","","0","0","0","0","0","0","0","0","0","0","0","0","","621","1","0","0","0","0","0","0","0","0"]
[null,null,"Y","2024-11-01","UNION HOSPITAL",null,"PH","5712620300","AL1","3","UHLAAM","Adaptation","1296","0","0","278","1018",null,null,null,"0","0","265",null,"265",null,null,"265","0","0",null,null,null,"0",null,"0","0","0","0","0","0",null,"1 Nov 2024 to 30 Nov 2024","UNION HOSPITAL","UNION HOSPITAL","PH","5712620300","AL1","3","UHLAAM","Local System","1296","0","0","278","1018","","0","0","0","0","265","0.204475308641975","265","0","0","265","0","0","","1018","0.785493827160494","0","0","0","0","0","0","0","0"]
[null,null,"Y","2024-11-01","UNION HOSPITAL",null,"PH","5712620300","ADR","3","UHLAAM","Adaptation","59","0","0","16","43",null,null,null,"0","0","16",null,"16",null,null,"16","0","0",null,null,null,"0",null,"0","0","0","0","0","0",null,"1 Nov 2024 to 30 Nov 2024","UNION HOSPITAL","UNION HOSPITAL","PH","5712620300","ADR","3","UHLAAM","Local System","59","0","0","16","43","","0","0","0","0","16","0.271186440677966","16","0","0","16","0","0","","43","0.728813559322034","0","0","0","0","0","0","0","0"]
[null,null,"Y","2024-11-01","DHC EXPRESS-SAI KUNG (HOHCS)",null,"DHC","6402782674","ENCTR","3","DHCCMS","Local System","4063","0","0","0","4063",null,null,null,"0","0","0",null,"0",null,null,"0","0","0",null,null,null,"0",null,"0","0","0","0","0","0",null,"1 Nov 2024 to 30 Nov 2024","DHC EXPRESS-SAI KUNG (HOHCS)","DHC EXPRESS-SAI KUNG-CC","DHC","6402782674","ENCTR","3","Local System","Local System","4063","0","0","0","4063","","0","0","0","0","0","0","0","0","0","0","0","0","","4063","1","0","0","0","0","0","0","0","0"]
[null,null,"Y","2024-11-01","DHC EXPRESS-SAI KUNG (HOHCS)",null,"DHC","6402782674","EPIS","1","DHCCMS","Local System","1591","0","1591","0","0",null,null,null,"0","0","0",null,"0",null,null,"0","0","0",null,null,null,"0",null,"0","0","0","0","0","0",null,"1 Nov 2024 to 30 Nov 2024","DHC EXPRESS-SAI KUNG (HOHCS)","DHC EXPRESS-SAI KUNG-CC","DHC","6402782674","EPIS","1","Local System","Local System","1591","0","1591","0","0","","0","0","0","0","0","0","0","0","0","0","0","0","","0","0","0","0","0","0","0","0","0","0"]
[null,null,"Y","2024-11-01","DHC EXPRESS-KWUN TONG (UCMS)",null,"DHC","7334960147","ENCTR","3","DHCCMS","Local System","3464","0","0","0","3464",null,null,null,"0","0","0",null,"0",null,null,"0","0","0",null,null,null,"0",null,"0","0","0","0","0","0",null,"1 Nov 2024 to 30 Nov 2024","DHC EXPRESS-KWUN TONG (UCMS)","DHC EXPRESS-KWUN TONG-CC","DHC","7334960147","ENCTR","3","Local System","Local System","3464","0","0","0","3464","","0","0","0","0","0","0","0","0","0","0","0","0","","3464","1","0","0","0","0","0","0","0","0"]
[null,null,"Y","2024-11-01","DHC EXPRESS-KWUN TONG (UCMS)",null,"DHC","7334960147","EPIS","1","DHCCMS","Local System","1962","0","1962","0","0",null,null,null,"0","0","0",null,"0",null,null,"0","0","0",null,null,null,"0",null,"0","0","0","0","0","0",null,"1 Nov 2024 to 30 Nov 2024","DHC EXPRESS-KWUN TONG (UCMS)","DHC EXPRESS-KWUN TONG-CC","DHC","7334960147","EPIS","1","Local System","Local System","1962","0","1962","0","0","","0","0","0","0","0","0","0","0","0","0","0","0","","0","0","0","0","0","0","0","0","0","0"]
[null,null,"Y","2024-11-01","HONG KONG MEDICAL ADVANCED IMAGING LIMITED",null,"GRP","5414310424","RAD","3","CSP","Local System","5140","0","0","0","5140",null,null,null,"0","0","0",null,"0",null,null,"0","0","0",null,null,null,"0",null,"0","0","0","0","0","0",null,"1 Nov 2024 to 30 Nov 2024","HONG KONG MEDICAL ADVANCED IMAGING LIMITED","HKMAIL","GROUP","5414310424","RAD","3","CSP","Local System","5140","0","0","0","5140","","0","0","0","0","0","0","0","0","0","0","0","0","","5140","1","0","0","0","0","0","0","0","0"]
[null,null,"Y","2024-11-01","DHC EXPRESS-EASTERN (HKSR)",null,"DHC","6542377532","ENCTR","3","DHCCMS","Local System","3452","0","0","0","3452",null,null,null,"0","0","0",null,"0",null,null,"0","0","0",null,null,null,"0",null,"0","0","0","0","0","0",null,"1 Nov 2024 to 30 Nov 2024","DHC EXPRESS-EASTERN (HKSR)","DHC EXPRESS-EASTERN-CC","DHC","6542377532","ENCTR","3","Local System","Local System","3452","0","0","0","3452","","0","0","0","0","0","0","0","0","0","0","0","0","","3452","1","0","0","0","0","0","0","0","0"]
[null,null,"Y","2024-11-01","DHC EXPRESS-EASTERN (HKSR)",null,"DHC","6542377532","EPIS","1","DHCCMS","Local System","1375","0","1375","0","0",null,null,null,"0","0","0",null,"0",null,null,"0","0","0",null,null,null,"0",null,"0","0","0","0","0","0",null,"1 Nov 2024 to 30 Nov 2024","DHC EXPRESS-EASTERN (HKSR)","DHC EXPRESS-EASTERN-CC","DHC","6542377532","EPIS","1","Local System","Local System","1375","0","1375","0","0","","0","0","0","0","0","0","0","0","0","0","0","0","","0","0","0","0","0","0","0","0","0","0"]
[null,null,"Y","2024-11-01","DHC EXPRESS-NORTH (YWCA)",null,"DHC","6678116401","ENCTR","3","DHCCMS","Local System","3105","0","0","0","3105",null,null,null,"0","0","0",null,"0",null,null,"0","0","0",null,null,null,"0",null,"0","0","0","0","0","0",null,"1 Nov 2024 to 30 Nov 2024","DHC EXPRESS-NORTH (HKSR)","DHC EXPRESS-NORTH-CC","DHC","6678116401","ENCTR","3","Local System","Local System","3105","0","0","0","3105","","0","0","0","0","0","0","0","0","0","0","0","0","","3105","1","0","0","0","0","0","0","0","0"]
[null,null,"Y","2024-11-01","DHC EXPRESS-NORTH (YWCA)",null,"DHC","6678116401","EPIS","1","DHCCMS","Local System","1430","0","1430","0","0",null,null,null,"0","0","0",null,"0",null,null,"0","0","0",null,null,null,"0",null,"0","0","0","0","0","0",null,"1 Nov 2024 to 30 Nov 2024","DHC EXPRESS-NORTH (HKSR)","DHC EXPRESS-NORTH-CC","DHC","6678116401","EPIS","1","Local System","Local System","1430","0","1430","0","0","","0","0","0","0","0","0","0","0","0","0","0","0","","0","0","0","0","0","0","0","0","0","0"]
[null,null,"Y","2024-11-01","DHC EXPRESS-CENTRAL AND WESTERN (HKSR)",null,"DHC","6645809992","ENCTR","3","DHCCMS","Local System","2662","0","0","0","2662",null,null,null,"0","0","0",null,"0",null,null,"0","0","0",null,null,null,"0",null,"0","0","0","0","0","0",null,"1 Nov 2024 to 30 Nov 2024","DHC EXPRESS-CENTRAL AND WESTERN (HKSR)","DHC EXPRESS-C&W-CC","DHC","6645809992","ENCTR","3","Local System","Local System","2662","0","0","0","2662","","0","0","0","0","0","0","0","0","0","0","0","0","","2662","1","0","0","0","0","0","0","0","0"]
[null,null,"Y","2024-11-01","DHC EXPRESS-CENTRAL AND WESTERN (HKSR)",null,"DHC","6645809992","EPIS","1","DHCCMS","Local System","1122","0","1122","0","0",null,null,null,"0","0","0",null,"0",null,null,"0","0","0",null,null,null,"0",null,"0","0","0","0","0","0",null,"1 Nov 2024 to 30 Nov 2024","DHC EXPRESS-CENTRAL AND WESTERN (HKSR)","DHC EXPRESS-C&W-CC","DHC","6645809992","EPIS","1","Local System","Local System","1122","0","1122","0","0","","0","0","0","0","0","0","0","0","0","0","0","0","","0","0","0","0","0","0","0","0","0","0"]
[null,null,"Y","2024-11-01","DHC EXPRESS-YAU TSIM MONG (LOKSINTONG)",null,"DHC","5832575528","ENCTR","3","DHCCMS","Local System","2362","0","0","0","2362",null,null,null,"0","0","0",null,"0",null,null,"0","0","0",null,null,null,"0",null,"0","0","0","0","0","0",null,"1 Nov 2024 to 30 Nov 2024","DHC EXPRESS-YAU TSIM MONG (LOKSINTONG)","DHC EXPRESS-YTM-CC","DHC","5832575528","ENCTR","3","Local System","Local System","2362","0","0","0","2362","","0","0","0","0","0","0","0","0","0","0","0","0","","2362","1","0","0","0","0","0","0","0","0"]
[null,null,"Y","2024-11-01","DHC EXPRESS-YAU TSIM MONG (LOKSINTONG)",null,"DHC","5832575528","EPIS","1","DHCCMS","Local System","813","0","813","0","0",null,null,null,"0","0","0",null,"0",null,null,"0","0","0",null,null,null,"0",null,"0","0","0","0","0","0",null,"1 Nov 2024 to 30 Nov 2024","DHC EXPRESS-YAU TSIM MONG (LOKSINTONG)","DHC EXPRESS-YTM-CC","DHC","5832575528","EPIS","1","Local System","Local System","813","0","813","0","0","","0","0","0","0","0","0","0","0","0","0","0","0","","0","0","0","0","0","0","0","0","0","0"]
[null,null,"Y","2024-11-01","18 CHINESE MEDICINE CLINIC CUM TRAINING AND RESEARCH CENTRE (YAN CHAI HOSPITAL)",null,"NGO","6255376532","CMPROB","3","HA CMIS","Local System","1098","0","0","358","740",null,null,null,"0","0","254",null,"254",null,null,"254","0","0",null,null,null,"0",null,"0","0","0","0","0","0",null,"1 Nov 2024 to 30 Nov 2024","18 Chinese Medicine Clinic cum Traing and Research Centre (Yan Chai Hospital)","18CMCTRs (YCH)","NGO","6255376532","CMPROB","3","Local System","EC Connect","1098","0","0","358","740","","0","0","0","0","254","0.231329690346084","254","0","0","254","0","0","","740","0.673952641165756","0","0","0","0","0","0","0","0"]
[null,null,"Y","2024-11-01","18 CHINESE MEDICINE CLINIC CUM TRAINING AND RESEARCH CENTRE (YAN CHAI HOSPITAL)",null,"NGO","6255376532","ENCTR","3","HA CMIS","Local System","976","0","0","0","976",null,null,null,"0","0","0",null,"0",null,null,"0","0","0",null,null,null,"0",null,"0","0","0","0","0","0",null,"1 Nov 2024 to 30 Nov 2024","18 Chinese Medicine Clinic cum Traing and Research Centre (Yan Chai Hospital)","18CMCTRs (YCH)","NGO","6255376532","ENCTR","3","Local System","Local System","976","0","0","0","976","","0","0","0","0","0","0","0","0","0","0","0","0","","976","1","0","0","0","0","0","0","0","0"]
[null,null,"Y","2024-11-01","18 CHINESE MEDICINE CLINIC CUM TRAINING AND RESEARCH CENTRE (YAN CHAI HOSPITAL)",null,"NGO","6255376532","CMRXO","3","HA CMIS","Local System","559","0","0","211","348",null,null,null,"0","0","211",null,"211",null,null,"211","0","0",null,null,null,"0",null,"0","0","0","0","0","0",null,"1 Nov 2024 to 30 Nov 2024","18 Chinese Medicine Clinic cum Traing and Research Centre (Yan Chai Hospital)","18CMCTRs (YCH)","NGO","6255376532","CMRXO","3","Local System","EC Connect","559","0","0","211","348","","0","0","0","0","211","0.377459749552773","211","0","0","211","0","0","","348","0.622540250447227","0","0","0","0","0","0","0","0"]
[null,null,"Y","2024-11-01","18 CHINESE MEDICINE CLINIC CUM TRAINING AND RESEARCH CENTRE (YAN CHAI HOSPITAL)",null,"NGO","6255376532","CMPX","3","HA CMIS","Local System","214","0","0","0","214",null,null,null,"0","0","0",null,"0",null,null,"0","0","0",null,null,null,"0",null,"0","0","0","0","0","0",null,"1 Nov 2024 to 30 Nov 2024","18 Chinese Medicine Clinic cum Traing and Research Centre (Yan Chai Hospital)","18CMCTRs (YCH)","NGO","6255376532","CMPX","3","Local System","EC Connect","214","0","0","0","214","","0","0","0","0","0","0","0","0","0","0","0","0","","214","1","0","0","0","0","0","0","0","0"]
[null,null,"Y","2024-11-01","DHC EXPRESS-TAI PO (UCMS)",null,"DHC","7444819250","ENCTR","3","DHCCMS","Local System","1889","0","0","0","1889",null,null,null,"0","0","0",null,"0",null,null,"0","0","0",null,null,null,"0",null,"0","0","0","0","0","0",null,"1 Nov 2024 to 30 Nov 2024","DHC EXPRESS-TAI PO (UCMS)","DHC EXPRESS-TAI PO-CC","DHC","7444819250","ENCTR","3","Local System","Local System","1889","0","0","0","1889","","0","0","0","0","0","0","0","0","0","0","0","0","","1889","1","0","0","0","0","0","0","0","0"]
[null,null,"Y","2024-11-01","DHC EXPRESS-TAI PO (UCMS)",null,"DHC","7444819250","EPIS","1","DHCCMS","Local System","864","0","864","0","0",null,null,null,"0","0","0",null,"0",null,null,"0","0","0",null,null,null,"0",null,"0","0","0","0","0","0",null,"1 Nov 2024 to 30 Nov 2024","DHC EXPRESS-TAI PO (UCMS)","DHC EXPRESS-TAI PO-CC","DHC","7444819250","EPIS","1","Local System","Local System","864","0","864","0","0","","0","0","0","0","0","0","0","0","0","0","0","0","","0","0","0","0","0","0","0","0","0","0"]
[null,null,"Y","2024-11-01","DR WONG CHUN POR",null,"SOLO","5528991274","RXO","3,2","CMS On-ramp","CMS On-ramp","716","0","0","73","643",null,null,null,"0","0","1",null,"1",null,null,"1","0","0",null,null,null,"0",null,"0","0","0","0","0","0",null,"1 Nov 2024 to 30 Nov 2024","DR WONG CHUN POR","DR CP WONG CLINIC","SOLO","5528991274","RXO","3","Local System","Local System","716","0","0","73","643","","0","0","0","0","1","0.00139664804469274","1","0","0","1","0","0","","643","0.89804469273743","0","0","0","0","0","0","0","0"]
[null,null,"Y","2024-11-01","DR WONG CHUN POR",null,"SOLO","5528991274","RXD","3,2","CMS On-ramp","CMS On-ramp","700","0","0","71","629",null,null,null,"0","0","1",null,"1",null,null,"1","0","0",null,null,null,"0",null,"0","0","0","0","0","0",null,"1 Nov 2024 to 30 Nov 2024","DR WONG CHUN POR","DR CP WONG CLINIC","SOLO","5528991274","RXD","3","Local System","Local System","700","0","0","71","629","","0","0","0","0","1","0.00142857142857143","1","0","0","1","0","0","","629","0.898571428571429","0","0","0","0","0","0","0","0"]
[null,null,"Y","2024-11-01","DR WONG CHUN POR",null,"SOLO","5528991274","PROB","3,2","CMS On-ramp","CMS On-ramp","693","0","0","13","680",null,null,null,"0","0","0",null,"0",null,null,"0","0","0",null,null,null,"0",null,"0","0","0","0","0","0",null,"1 Nov 2024 to 30 Nov 2024","DR WONG CHUN POR","DR CP WONG CLINIC","SOLO","5528991274","PROB","3","Local System","Local System","693","0","0","13","680","","0","0","0","0","0","0","0","0","0","0","0","0","","680","0.981240981240981","0","0","0","0","0","0","0","0"]
[null,null,"Y","2024-11-01","DR WONG CHUN POR",null,"SOLO","5528991274","ENCTR","3","CMS On-ramp","CMS On-ramp","483","0","0","0","483",null,null,null,"0","0","0",null,"0",null,null,"0","0","0",null,null,null,"0",null,"0","0","0","0","0","0",null,"1 Nov 2024 to 30 Nov 2024","DR WONG CHUN POR","DR CP WONG CLINIC","SOLO","5528991274","ENCTR","3","Local System","Local System","483","0","0","0","483","","0","0","0","0","0","0","0","0","0","0","0","0","","483","1","0","0","0","0","0","0","0","0"]
[null,null,"Y","2024-11-01","DR WONG CHUN POR",null,"SOLO","5528991274","IMMU","3,2","CMS On-ramp","CMS On-ramp","29","0","0","1","28",null,null,null,"0","0","1",null,"1",null,null,"1","0","0",null,null,null,"0",null,"0","0","0","0","0","0",null,"1 Nov 2024 to 30 Nov 2024","DR WONG CHUN POR","DR CP WONG CLINIC","SOLO","5528991274","IMMU","3","Local System","Local System","29","0","0","1","28","","0","0","0","0","1","0.0344827586206897","1","0","0","1","0","0","","28","0.96551724137931","0","0","0","0","0","0","0","0"]
[null,null,"Y","2024-11-01","DR WONG CHUN POR",null,"SOLO","5528991274","AL1","3,2","CMS On-ramp","CMS On-ramp","3","0","0","0","3",null,null,null,"0","0","0",null,"0",null,null,"0","0","0",null,null,null,"0",null,"0","0","0","0","0","0",null,"1 Nov 2024 to 30 Nov 2024","DR WONG CHUN POR","DR CP WONG CLINIC","SOLO","5528991274","AL1","3","Local System","Local System","3","0","0","0","3","","0","0","0","0","0","0","0","0","0","0","0","0","","3","1","0","0","0","0","0","0","0","0"]
[null,null,"Y","2024-11-01","18 CHINESE MEDICINE CLINIC CUM TRAINING AND RESEARCH CENTRE (CHRISTIAN FAMILY SERVICE CENTRE)",null,"NGO","9805671910","CMPROB","3","HA CMIS","Local System","1231","0","0","510","721",null,null,null,"0","0","170",null,"170",null,null,"170","0","0",null,null,null,"0",null,"0","0","0","0","0","0",null,"1 Nov 2024 to 30 Nov 2024","18 Chinese Medicine Clinic cum Traing and Research Centre (Christiam Family Service Centre)","18CMCTRs (CFSC)","NGO","9805671910","CMPROB","3","Local System","EC Connect","1231","0","0","510","721","","0","0","0","0","170","0.138099106417547","170","0","0","170","0","0","","721","0.58570268074736","0","0","0","0","0","0","0","0"]
[null,null,"Y","2024-11-01","18 CHINESE MEDICINE CLINIC CUM TRAINING AND RESEARCH CENTRE (CHRISTIAN FAMILY SERVICE CENTRE)",null,"NGO","9805671910","ENCTR","3","HA CMIS","Local System","749","0","0","0","749",null,null,null,"0","0","0",null,"0",null,null,"0","0","0",null,null,null,"0",null,"0","0","0","0","0","0",null,"1 Nov 2024 to 30 Nov 2024","18 Chinese Medicine Clinic cum Traing and Research Centre (Christiam Family Service Centre)","18CMCTRs (CFSC)","NGO","9805671910","ENCTR","3","Local System","Local System","749","0","0","0","749","","0","0","0","0","0","0","0","0","0","0","0","0","","749","1","0","0","0","0","0","0","0","0"]
[null,null,"Y","2024-11-01","18 CHINESE MEDICINE CLINIC CUM TRAINING AND RESEARCH CENTRE (CHRISTIAN FAMILY SERVICE CENTRE)",null,"NGO","9805671910","CMRXO","3","HA CMIS","Local System","366","0","0","106","260",null,null,null,"0","0","106",null,"106",null,null,"106","0","0",null,null,null,"0",null,"0","0","0","0","0","0",null,"1 Nov 2024 to 30 Nov 2024","18 Chinese Medicine Clinic cum Traing and Research Centre (Christiam Family Service Centre)","18CMCTRs (CFSC)","NGO","9805671910","CMRXO","3","Local System","EC Connect","366","0","0","106","260","","0","0","0","0","106","0.289617486338798","106","0","0","106","0","0","","260","0.710382513661202","0","0","0","0","0","0","0","0"]
[null,null,"Y","2024-11-01","18 CHINESE MEDICINE CLINIC CUM TRAINING AND RESEARCH CENTRE (CHRISTIAN FAMILY SERVICE CENTRE)",null,"NGO","9805671910","CMPX","3","HA CMIS","Local System","222","0","0","0","222",null,null,null,"0","0","0",null,"0",null,null,"0","0","0",null,null,null,"0",null,"0","0","0","0","0","0",null,"1 Nov 2024 to 30 Nov 2024","18 Chinese Medicine Clinic cum Traing and Research Centre (Christiam Family Service Centre)","18CMCTRs (CFSC)","NGO","9805671910","CMPX","3","Local System","EC Connect","222","0","0","0","222","","0","0","0","0","0","0","0","0","0","0","0","0","","222","1","0","0","0","0","0","0","0","0"]
[null,null,"Y","2024-11-01","DHC EXPRESS-ISLANDS (NAAC)",null,"DHC","6142872901","ENCTR","3","DHCCMS","Local System","2030","0","0","0","2030",null,null,null,"0","0","0",null,"0",null,null,"0","0","0",null,null,null,"0",null,"0","0","0","0","0","0",null,"1 Nov 2024 to 30 Nov 2024","DHC EXPRESS-ISLANDS (NAAC)","DHC EXPRESS-ISLANDS-CC","DHC","6142872901","ENCTR","3","Local System","Local System","2030","0","0","0","2030","","0","0","0","0","0","0","0","0","0","0","0","0","","2030","1","0","0","0","0","0","0","0","0"]
[null,null,"Y","2024-11-01","DHC EXPRESS-ISLANDS (NAAC)",null,"DHC","6142872901","EPIS","1","DHCCMS","Local System","524","0","524","0","0",null,null,null,"0","0","0",null,"0",null,null,"0","0","0",null,null,null,"0",null,"0","0","0","0","0","0",null,"1 Nov 2024 to 30 Nov 2024","DHC EXPRESS-ISLANDS (NAAC)","DHC EXPRESS-ISLANDS-CC","DHC","6142872901","EPIS","1","Local System","Local System","524","0","524","0","0","","0","0","0","0","0","0","0","0","0","0","0","0","","0","0","0","0","0","0","0","0","0","0"]
[null,null,"Y","2024-11-01","IRAD MEDICAL HOLDING LIMITED",null,"GRP","6609847497","RAD","3","RHI2","Local System","2418","0","0","0","2418",null,null,null,"0","0","0",null,"0",null,null,"0","0","0",null,null,null,"0",null,"0","0","0","0","0","0",null,"1 Nov 2024 to 30 Nov 2024","IRAD MEDICAL HOLDING LIMITED","IRAD MEDICAL","GROUP","6609847497","RAD","3","RHI2","Local System","2418","0","0","0","2418","","0","0","0","0","0","0","0","0","0","0","0","0","","2418","1","0","0","0","0","0","0","0","0"]
[null,null,"Y","2024-11-01","HONG KONG ADVENTIST HOSPITAL - STUBBS ROAD",null,"PH","7029571085","RAD","3,2","HKAHLAAM","Local System","691","0","0","392","299",null,null,null,"0","0","0",null,"0",null,null,"0","0","0",null,null,null,"0",null,"0","0","0","0","0","0",null,"1 Nov 2024 to 30 Nov 2024","HONG KONG ADVENTIST HOSPITAL - STUBBS ROAD","HK ADVENTIST - SR","PH","7029571085","RAD","2","HKAHLAAM","Local System","691","0","0","392","299","","0","0","0","0","0","0","0","0","0","0","0","0","","299","0.432706222865412","0","0","0","0","0","0","0","0"]
[null,null,"Y","2024-11-01","DR. YEE YUK KEI",null,"SOLO","2310917092","PROB","3","CMS On-ramp","CMS On-ramp","559","0","0","19","540",null,null,null,"0","0","0",null,"0",null,null,"0","0","0",null,null,null,"0",null,"0","0","0","0","0","0",null,"1 Nov 2024 to 30 Nov 2024","DR. YEE YUK KEI","DR. YK YEE","SOLO","2310917092","PROB","3","Local System","Local System","559","0","0","19","540","","0","0","0","0","0","0","0","0","0","0","0","0","","540","0.966010733452594","0","0","0","0","0","0","0","0"]
[null,null,"Y","2024-11-01","DR. YEE YUK KEI",null,"SOLO","2310917092","RXD","3","CMS On-ramp","CMS On-ramp","532","0","0","382","150",null,null,null,"0","0","0",null,"0",null,null,"0","0","0",null,null,null,"0",null,"0","0","0","0","0","0",null,"1 Nov 2024 to 30 Nov 2024","DR. YEE YUK KEI","DR. YK YEE","SOLO","2310917092","RXD","3","Local System","Local System","532","0","0","382","150","","0","0","0","0","0","0","0","0","0","0","0","0","","150","0.281954887218045","0","0","0","0","0","0","0","0"]
[null,null,"Y","2024-11-01","DR. YEE YUK KEI",null,"SOLO","2310917092","RXO","3","CMS On-ramp","CMS On-ramp","532","0","0","382","150",null,null,null,"0","0","0",null,"0",null,null,"0","0","0",null,null,null,"0",null,"0","0","0","0","0","0",null,"1 Nov 2024 to 30 Nov 2024","DR. YEE YUK KEI","DR. YK YEE","SOLO","2310917092","RXO","3","Local System","Local System","532","0","0","382","150","","0","0","0","0","0","0","0","0","0","0","0","0","","150","0.281954887218045","0","0","0","0","0","0","0","0"]
[null,null,"Y","2024-11-01","DR. YEE YUK KEI",null,"SOLO","2310917092","ENCTR","3","CMS On-ramp","CMS On-ramp","350","0","0","0","350",null,null,null,"0","0","0",null,"0",null,null,"0","0","0",null,null,null,"0",null,"0","0","0","0","0","0",null,"1 Nov 2024 to 30 Nov 2024","DR. YEE YUK KEI","DR. YK YEE","SOLO","2310917092","ENCTR","3","Local System","Local System","350","0","0","0","350","","0","0","0","0","0","0","0","0","0","0","0","0","","350","1","0","0","0","0","0","0","0","0"]
[null,null,"Y","2024-11-01","DR. YEE YUK KEI",null,"SOLO","2310917092","EPIS","1","CMS On-ramp","CMS On-ramp","332","0","332","0","0",null,null,null,"0","0","0",null,"0",null,null,"0","0","0",null,null,null,"0",null,"0","0","0","0","0","0",null,"1 Nov 2024 to 30 Nov 2024","DR. YEE YUK KEI","DR. YK YEE","SOLO","2310917092","EPIS","1","Local System","Local System","332","0","332","0","0","","0","0","0","0","0","0","0","0","0","0","0","0","","0","0","0","0","0","0","0","0","0","0"]
[null,null,"Y","2024-11-01","DR. YEE YUK KEI",null,"SOLO","2310917092","PX","3","CMS On-ramp","CMS On-ramp","57","0","0","0","57",null,null,null,"0","0","0",null,"0",null,null,"0","0","0",null,null,null,"0",null,"0","0","0","0","0","0",null,"1 Nov 2024 to 30 Nov 2024","DR. YEE YUK KEI","DR. YK YEE","SOLO","2310917092","PX","3","Local System","Local System","57","0","0","0","57","","0","0","0","0","0","0","0","0","0","0","0","0","","57","1","0","0","0","0","0","0","0","0"]
[null,null,"Y","2024-11-01","DR. YEE YUK KEI",null,"SOLO","2310917092","IMMU","3","CMS On-ramp","CMS On-ramp","10","0","0","10","0",null,null,null,"0","0","0",null,"0",null,null,"0","0","0",null,null,null,"0",null,"0","0","0","0","0","0",null,"1 Nov 2024 to 30 Nov 2024","DR. YEE YUK KEI","DR. YK YEE","SOLO","2310917092","IMMU","3","Local System","Local System","10","0","0","10","0","","0","0","0","0","0","0","0","0","0","0","0","0","","0","0","0","0","0","0","0","0","0","0"]
[null,null,"Y","2024-11-01","DR. YEE YUK KEI",null,"SOLO","2310917092","AL1","3","CMS On-ramp","CMS On-ramp","4","0","0","0","4",null,null,null,"0","0","0",null,"0",null,null,"0","0","0",null,null,null,"0",null,"0","0","0","0","0","0",null,"1 Nov 2024 to 30 Nov 2024","DR. YEE YUK KEI","DR. YK YEE","SOLO","2310917092","AL1","3","Local System","Local System","4","0","0","0","4","","0","0","0","0","0","0","0","0","0","0","0","0","","4","1","0","0","0","0","0","0","0","0"]
[null,null,"Y","2024-11-01","DR HO CHUNG PING",null,"SOLO","7889756707","RXO","3,2","CMSEHR","Local System","391","0","0","34","357",null,null,null,"0","0","0",null,"0",null,null,"0","0","0",null,null,null,"0",null,"0","0","0","0","0","0",null,"1 Nov 2024 to 30 Nov 2024","DR HO CHUNG PING","C.P. HO","SOLO","7889756707","RXO","3","Local System","Local System","391","0","0","34","357","","0","0","0","0","0","0","0","0","0","0","0","0","","357","0.91304347826087","0","0","0","0","0","0","0","0"]
[null,null,"Y","2024-11-01","DR HO CHUNG PING",null,"SOLO","7889756707","RXD","3,2","CMSEHR","Local System","380","0","0","32","348",null,null,null,"0","0","0",null,"0",null,null,"0","0","0",null,null,null,"0",null,"0","0","0","0","0","0",null,"1 Nov 2024 to 30 Nov 2024","DR HO CHUNG PING","C.P. HO","SOLO","7889756707","RXD","3","Local System","Local System","380","0","0","32","348","","0","0","0","0","0","0","0","0","0","0","0","0","","348","0.91578947368421","0","0","0","0","0","0","0","0"]
[null,null,"Y","2024-11-01","DR HO CHUNG PING",null,"SOLO","7889756707","ENCTR","3","CMSEHR","Local System","329","0","0","0","329",null,null,null,"0","0","0",null,"0",null,null,"0","0","0",null,null,null,"0",null,"0","0","0","0","0","0",null,"1 Nov 2024 to 30 Nov 2024","DR HO CHUNG PING","C.P. HO","SOLO","7889756707","ENCTR","3","Local System","Local System","329","0","0","0","329","","0","0","0","0","0","0","0","0","0","0","0","0","","329","1","0","0","0","0","0","0","0","0"]
[null,null,"Y","2024-11-01","DR HO CHUNG PING",null,"SOLO","7889756707","PROB","3,2","CMSEHR","Local System","320","0","0","3","317",null,null,null,"0","0","0",null,"0",null,null,"0","0","0",null,null,null,"0",null,"0","0","0","0","0","0",null,"1 Nov 2024 to 30 Nov 2024","DR HO CHUNG PING","C.P. HO","SOLO","7889756707","PROB","3","Local System","Local System","320","0","0","3","317","","0","0","0","0","0","0","0","0","0","0","0","0","","317","0.990625","0","0","0","0","0","0","0","0"]
[null,null,"Y","2024-11-01","DR HO CHUNG PING",null,"SOLO","7889756707","EPIS","1","CMSEHR","Local System","268","1","267","0","0",null,null,null,"1","0","0",null,"0",null,null,"0","0","0",null,null,null,"0",null,"0","0","0","0","0","0",null,"1 Nov 2024 to 30 Nov 2024","DR HO CHUNG PING","C.P. HO","SOLO","7889756707","EPIS","1","Local System","Local System","268","1","267","0","0","","1","0.00373134328358209","1","0","0","0","0","0","0","0","0","0","","0","0","0","0","0","0","0","0","0","0"]
[null,null,"Y","2024-11-01","DR HO CHUNG PING",null,"SOLO","7889756707","AL1","3,2","CMSEHR","Local System","2","0","0","0","2",null,null,null,"0","0","0",null,"0",null,null,"0","0","0",null,null,null,"0",null,"0","0","0","0","0","0",null,"1 Nov 2024 to 30 Nov 2024","DR HO CHUNG PING","C.P. HO","SOLO","7889756707","AL1","3","Local System","Local System","2","0","0","0","2","","0","0","0","0","0","0","0","0","0","0","0","0","","2","1","0","0","0","0","0","0","0","0"]
[null,null,"Y","2024-11-01","DR HO CHUNG PING",null,"SOLO","7889756707","IMMU","3,2","CMSEHR","Local System","1","0","0","0","1",null,null,null,"0","0","0",null,"0",null,null,"0","0","0",null,null,null,"0",null,"0","0","0","0","0","0",null,"1 Nov 2024 to 30 Nov 2024","DR HO CHUNG PING","C.P. HO","SOLO","7889756707","IMMU","3","Local System","Local System","1","0","0","0","1","","0","0","0","0","0","0","0","0","0","0","0","0","","1","1","0","0","0","0","0","0","0","0"]
[null,null,"Y","2024-11-01","18 CHINESE MEDICINE CLINIC CUM TRAINING AND RESEARCH CENTRE (YAN OI TONG)",null,"NGO","2971417573","ENCTR","3","HA CMIS","Local System","580","0","0","0","580",null,null,null,"0","0","0",null,"0",null,null,"0","0","0",null,null,null,"0",null,"0","0","0","0","0","0",null,"1 Nov 2024 to 30 Nov 2024","18 Chinese Medicine Clinic cum Traing and Research Centre (Yan Oi Tong)","18CMCTRs (YOT)","NGO","2971417573","ENCTR","3","Local System","Local System","580","0","0","0","580","","0","0","0","0","0","0","0","0","0","0","0","0","","580","1","0","0","0","0","0","0","0","0"]
[null,null,"Y","2024-11-01","18 CHINESE MEDICINE CLINIC CUM TRAINING AND RESEARCH CENTRE (YAN OI TONG)",null,"NGO","2971417573","CMPROB","3","HA CMIS","Local System","540","0","0","93","447",null,null,null,"0","0","70",null,"70",null,null,"70","0","0",null,null,null,"0",null,"0","0","0","0","0","0",null,"1 Nov 2024 to 30 Nov 2024","18 Chinese Medicine Clinic cum Traing and Research Centre (Yan Oi Tong)","18CMCTRs (YOT)","NGO","2971417573","CMPROB","3","Local System","EC Connect","540","0","0","93","447","","0","0","0","0","70","0.12962962962963","70","0","0","70","0","0","","447","0.827777777777778","0","0","0","0","0","0","0","0"]
[null,null,"Y","2024-11-01","18 CHINESE MEDICINE CLINIC CUM TRAINING AND RESEARCH CENTRE (YAN OI TONG)",null,"NGO","2971417573","CMRXO","3","HA CMIS","Local System","284","0","0","42","242",null,null,null,"0","0","42",null,"42",null,null,"42","0","0",null,null,null,"0",null,"0","0","0","0","0","0",null,"1 Nov 2024 to 30 Nov 2024","18 Chinese Medicine Clinic cum Traing and Research Centre (Yan Oi Tong)","18CMCTRs (YOT)","NGO","2971417573","CMRXO","3","Local System","EC Connect","284","0","0","42","242","","0","0","0","0","42","0.147887323943662","42","0","0","42","0","0","","242","0.852112676056338","0","0","0","0","0","0","0","0"]
[null,null,"Y","2024-11-01","18 CHINESE MEDICINE CLINIC CUM TRAINING AND RESEARCH CENTRE (YAN OI TONG)",null,"NGO","2971417573","CMPX","3","HA CMIS","Local System","123","0","0","0","123",null,null,null,"0","0","0",null,"0",null,null,"0","0","0",null,null,null,"0",null,"0","0","0","0","0","0",null,"1 Nov 2024 to 30 Nov 2024","18 Chinese Medicine Clinic cum Traing and Research Centre (Yan Oi Tong)","18CMCTRs (YOT)","NGO","2971417573","CMPX","3","Local System","EC Connect","123","0","0","0","123","","0","0","0","0","0","0","0","0","0","0","0","0","","123","1","0","0","0","0","0","0","0","0"]
[null,null,"Y","2024-11-01","18 CHINESE MEDICINE CLINIC CUM TRAINING AND RESEARCH CENTRE (HKFTU WORKERS' MEDICAL CLINICS)",null,"NGO","4746565267","CMPROB","3","HA CMIS","Local System","484","0","0","87","397",null,null,null,"0","0","63",null,"63",null,null,"63","0","0",null,null,null,"0",null,"0","0","0","0","0","0",null,"1 Nov 2024 to 30 Nov 2024","18 Chinese Medicine Clinic cum Traing and Research Centre (HKFTU Worker's Medical Clinics)","18CMCTRs(HKFTU)","NGO","4746565267","CMPROB","3","Local System","EC Connect","484","0","0","87","397","","0","0","0","0","63","0.130165289256198","63","0","0","63","0","0","","397","0.820247933884298","0","0","0","0","0","0","0","0"]
[null,null,"Y","2024-11-01","18 CHINESE MEDICINE CLINIC CUM TRAINING AND RESEARCH CENTRE (HKFTU WORKERS' MEDICAL CLINICS)",null,"NGO","4746565267","ENCTR","3","HA CMIS","Local System","441","0","0","0","441",null,null,null,"0","0","0",null,"0",null,null,"0","0","0",null,null,null,"0",null,"0","0","0","0","0","0",null,"1 Nov 2024 to 30 Nov 2024","18 Chinese Medicine Clinic cum Traing and Research Centre (HKFTU Worker's Medical Clinics)","18CMCTRs(HKFTU)","NGO","4746565267","ENCTR","3","Local System","Local System","441","0","0","0","441","","0","0","0","0","0","0","0","0","0","0","0","0","","441","1","0","0","0","0","0","0","0","0"]
[null,null,"Y","2024-11-01","18 CHINESE MEDICINE CLINIC CUM TRAINING AND RESEARCH CENTRE (HKFTU WORKERS' MEDICAL CLINICS)",null,"NGO","4746565267","CMRXO","3","HA CMIS","Local System","226","0","0","25","201",null,null,null,"0","0","25",null,"25",null,null,"25","0","0",null,null,null,"0",null,"0","0","0","0","0","0",null,"1 Nov 2024 to 30 Nov 2024","18 Chinese Medicine Clinic cum Traing and Research Centre (HKFTU Worker's Medical Clinics)","18CMCTRs(HKFTU)","NGO","4746565267","CMRXO","3","Local System","EC Connect","226","0","0","25","201","","0","0","0","0","25","0.110619469026549","25","0","0","25","0","0","","201","0.889380530973451","0","0","0","0","0","0","0","0"]
[null,null,"Y","2024-11-01","18 CHINESE MEDICINE CLINIC CUM TRAINING AND RESEARCH CENTRE (HKFTU WORKERS' MEDICAL CLINICS)",null,"NGO","4746565267","CMPX","3","HA CMIS","Local System","103","0","0","0","103",null,null,null,"0","0","0",null,"0",null,null,"0","0","0",null,null,null,"0",null,"0","0","0","0","0","0",null,"1 Nov 2024 to 30 Nov 2024","18 Chinese Medicine Clinic cum Traing and Research Centre (HKFTU Worker's Medical Clinics)","18CMCTRs(HKFTU)","NGO","4746565267","CMPX","3","Local System","EC Connect","103","0","0","0","103","","0","0","0","0","0","0","0","0","0","0","0","0","","103","1","0","0","0","0","0","0","0","0"]
[null,null,"Y","2024-11-01","ST. TERESA'S HOSPITAL - CHINESE MEDICINE CENTRE",null,"PH","1728942726","ENCTR","3","STH HIS","EC Connect","318","0","0","0","318",null,null,null,"0","0","0",null,"0",null,null,"0","0","0",null,null,null,"0",null,"0","0","0","0","0","0",null,"1 Nov 2024 to 30 Nov 2024","St. Teresa's Hospital - Chinese Medicine Centre","STH-CMC","PH","1728942726","ENCTR","3","STH HIS","Local System","318","0","0","0","318","","0","0","0","0","0","0","0","0","0","0","0","0","","318","1","0","0","0","0","0","0","0","0"]
[null,null,"Y","2024-11-01","18 CHINESE MEDICINE CLINIC CUM TRAINING AND RESEARCH CENTRE (THE HONG KONG TUBERCULOSIS ASSOCIATION)",null,"NGO","2231879813","ENCTR","3","HA CMIS","Local System","390","0","0","0","390",null,null,null,"0","0","0",null,"0",null,null,"0","0","0",null,null,null,"0",null,"0","0","0","0","0","0",null,"1 Nov 2024 to 30 Nov 2024","18 Chinese Medicine Clinic cum Traing and Research Centre (The Hong Kong Tuberculosis Association)","18CMCTRs(HKTBA)","NGO","2231879813","ENCTR","3","Local System","Local System","390","0","0","0","390","","0","0","0","0","0","0","0","0","0","0","0","0","","390","1","0","0","0","0","0","0","0","0"]
[null,null,"Y","2024-11-01","18 CHINESE MEDICINE CLINIC CUM TRAINING AND RESEARCH CENTRE (THE HONG KONG TUBERCULOSIS ASSOCIATION)",null,"NGO","2231879813","CMPROB","3","HA CMIS","Local System","371","0","0","124","247",null,null,null,"0","0","69",null,"69",null,null,"69","0","0",null,null,null,"0",null,"0","0","0","0","0","0",null,"1 Nov 2024 to 30 Nov 2024","18 Chinese Medicine Clinic cum Traing and Research Centre (The Hong Kong Tuberculosis Association)","18CMCTRs(HKTBA)","NGO","2231879813","CMPROB","3","Local System","EC Connect","371","0","0","124","247","","0","0","0","0","69","0.185983827493261","69","0","0","69","0","0","","247","0.665768194070081","0","0","0","0","0","0","0","0"]
[null,null,"Y","2024-11-01","18 CHINESE MEDICINE CLINIC CUM TRAINING AND RESEARCH CENTRE (THE HONG KONG TUBERCULOSIS ASSOCIATION)",null,"NGO","2231879813","CMRXO","3","HA CMIS","Local System","199","0","0","4","195",null,null,null,"0","0","4",null,"4",null,null,"4","0","0",null,null,null,"0",null,"0","0","0","0","0","0",null,"1 Nov 2024 to 30 Nov 2024","18 Chinese Medicine Clinic cum Traing and Research Centre (The Hong Kong Tuberculosis Association)","18CMCTRs(HKTBA)","NGO","2231879813","CMRXO","3","Local System","EC Connect","199","0","0","4","195","","0","0","0","0","4","0.0201005025125628","4","0","0","4","0","0","","195","0.979899497487437","0","0","0","0","0","0","0","0"]
[null,null,"Y","2024-11-01","18 CHINESE MEDICINE CLINIC CUM TRAINING AND RESEARCH CENTRE (THE HONG KONG TUBERCULOSIS ASSOCIATION)",null,"NGO","2231879813","CMPX","3","HA CMIS","Local System","75","0","0","0","75",null,null,null,"0","0","0",null,"0",null,null,"0","0","0",null,null,null,"0",null,"0","0","0","0","0","0",null,"1 Nov 2024 to 30 Nov 2024","18 Chinese Medicine Clinic cum Traing and Research Centre (The Hong Kong Tuberculosis Association)","18CMCTRs(HKTBA)","NGO","2231879813","CMPX","3","Local System","EC Connect","75","0","0","0","75","","0","0","0","0","0","0","0","0","0","0","0","0","","75","1","0","0","0","0","0","0","0","0"]
[null,null,"Y","2024-11-01","DR. CHAN KIT YAN SELINA",null,"SOLO","8895790679","RXO","3,2","CMS On-ramp","CMS On-ramp","265","0","0","14","251",null,null,null,"0","0","0",null,"0",null,null,"0","0","0",null,null,null,"0",null,"0","0","0","0","0","0",null,"1 Nov 2024 to 30 Nov 2024","DR. CHAN KIT YAN SELINA","DR. CHAN KIT YAN SELINA","SOLO","8895790679","RXO","3","Local System","Local System","265","0","0","14","251","","0","0","0","0","0","0","0","0","0","0","0","0","","251","0.947169811320755","0","0","0","0","0","0","0","0"]
[null,null,"Y","2024-11-01","DR. CHAN KIT YAN SELINA",null,"SOLO","8895790679","ENCTR","3","CMS On-ramp","CMS On-ramp","259","0","0","0","259",null,null,null,"0","0","0",null,"0",null,null,"0","0","0",null,null,null,"0",null,"0","0","0","0","0","0",null,"1 Nov 2024 to 30 Nov 2024","DR. CHAN KIT YAN SELINA","DR. CHAN KIT YAN SELINA","SOLO","8895790679","ENCTR","3","Local System","Local System","259","0","0","0","259","","0","0","0","0","0","0","0","0","0","0","0","0","","259","1","0","0","0","0","0","0","0","0"]
[null,null,"Y","2024-11-01","DR. CHAN KIT YAN SELINA",null,"SOLO","8895790679","RXD","3,2","CMS On-ramp","CMS On-ramp","254","0","0","12","242",null,null,null,"0","0","0",null,"0",null,null,"0","0","0",null,null,null,"0",null,"0","0","0","0","0","0",null,"1 Nov 2024 to 30 Nov 2024","DR. CHAN KIT YAN SELINA","DR. CHAN KIT YAN SELINA","SOLO","8895790679","RXD","3","Local System","Local System","254","0","0","12","242","","0","0","0","0","0","0","0","0","0","0","0","0","","242","0.952755905511811","0","0","0","0","0","0","0","0"]
[null,null,"Y","2024-11-01","DR. CHAN KIT YAN SELINA",null,"SOLO","8895790679","PROB","3,2","CMS On-ramp","CMS On-ramp","204","0","0","38","166",null,null,null,"0","0","0",null,"0",null,null,"0","0","0",null,null,null,"0",null,"0","0","0","0","0","0",null,"1 Nov 2024 to 30 Nov 2024","DR. CHAN KIT YAN SELINA","DR. CHAN KIT YAN SELINA","SOLO","8895790679","PROB","3","Local System","Local System","204","0","0","38","166","","0","0","0","0","0","0","0","0","0","0","0","0","","166","0.813725490196078","0","0","0","0","0","0","0","0"]
[null,null,"Y","2024-11-01","DR. CHAN KIT YAN SELINA",null,"SOLO","8895790679","IMMU","3,2","CMS On-ramp","CMS On-ramp","33","0","0","9","24",null,null,null,"0","0","0",null,"0",null,null,"0","0","0",null,null,null,"0",null,"0","0","0","0","0","0",null,"1 Nov 2024 to 30 Nov 2024","DR. CHAN KIT YAN SELINA","DR. CHAN KIT YAN SELINA","SOLO","8895790679","IMMU","3","Local System","Local System","33","0","0","9","24","","0","0","0","0","0","0","0","0","0","0","0","0","","24","0.727272727272727","0","0","0","0","0","0","0","0"]
[null,null,"Y","2024-11-01","DR. CHAN KIT YAN SELINA",null,"SOLO","8895790679","AL1","3,2","CMS On-ramp","CMS On-ramp","5","0","0","0","5",null,null,null,"0","0","0",null,"0",null,null,"0","0","0",null,null,null,"0",null,"0","0","0","0","0","0",null,"1 Nov 2024 to 30 Nov 2024","DR. CHAN KIT YAN SELINA","DR. CHAN KIT YAN SELINA","SOLO","8895790679","AL1","3","Local System","Local System","5","0","0","0","5","","0","0","0","0","0","0","0","0","0","0","0","0","","5","1","0","0","0","0","0","0","0","0"]
[null,null,"Y","2024-11-01","DR. CHAN KIT YAN SELINA",null,"SOLO","8895790679","ADR","3,2","CMS On-ramp","CMS On-ramp","2","0","0","0","2",null,null,null,"0","0","0",null,"0",null,null,"0","0","0",null,null,null,"0",null,"0","0","0","0","0","0",null,"1 Nov 2024 to 30 Nov 2024","DR. CHAN KIT YAN SELINA","DR. CHAN KIT YAN SELINA","SOLO","8895790679","ADR","3","Local System","Local System","2","0","0","0","2","","0","0","0","0","0","0","0","0","0","0","0","0","","2","1","0","0","0","0","0","0","0","0"]
[null,null,"Y","2024-11-01","HONG KONG HEALTH CHECK (HEAD OFFICE)",null,"GRP","5596680865","RAD","3","RHI2","Local System","996","0","0","0","996",null,null,null,"0","0","0",null,"0",null,null,"0","0","0",null,null,null,"0",null,"0","0","0","0","0","0",null,"1 Nov 2024 to 30 Nov 2024","HONG KONG HEALTH CHECK (HEAD OFFICE)","HONG KONG HEALTH CHECK","GROUP","5596680865","RAD","3","RHI2","Local System","996","0","0","0","996","","0","0","0","0","0","0","0","0","0","0","0","0","","996","1","0","0","0","0","0","0","0","0"]
[null,null,"Y","2024-11-01","18 CHINESE MEDICINE CLINIC CUM TRAINING AND RESEARCH CENTRE (THE HONG KONG BUDDHIST ASSOCIATION)",null,"NGO","8296860643","ENCTR","3","HA CMIS","Local System","351","0","0","0","351",null,null,null,"0","0","0",null,"0",null,null,"0","0","0",null,null,null,"0",null,"0","0","0","0","0","0",null,"1 Nov 2024 to 30 Nov 2024","18 Chinese Medicine Clinic cum Traing and Research Centre (The Hong Kong Buddist Association)","18CMCTRs (HKBA)","NGO","8296860643","ENCTR","3","Local System","Local System","351","0","0","0","351","","0","0","0","0","0","0","0","0","0","0","0","0","","351","1","0","0","0","0","0","0","0","0"]
[null,null,"Y","2024-11-01","18 CHINESE MEDICINE CLINIC CUM TRAINING AND RESEARCH CENTRE (THE HONG KONG BUDDHIST ASSOCIATION)",null,"NGO","8296860643","CMPROB","3","HA CMIS","Local System","345","0","0","121","224",null,null,null,"0","0","73",null,"73",null,null,"73","0","0",null,null,null,"0",null,"0","0","0","0","0","0",null,"1 Nov 2024 to 30 Nov 2024","18 Chinese Medicine Clinic cum Traing and Research Centre (The Hong Kong Buddist Association)","18CMCTRs (HKBA)","NGO","8296860643","CMPROB","3","Local System","EC Connect","345","0","0","121","224","","0","0","0","0","73","0.211594202898551","73","0","0","73","0","0","","224","0.649275362318841","0","0","0","0","0","0","0","0"]
[null,null,"Y","2024-11-01","18 CHINESE MEDICINE CLINIC CUM TRAINING AND RESEARCH CENTRE (THE HONG KONG BUDDHIST ASSOCIATION)",null,"NGO","8296860643","CMRXO","3","HA CMIS","Local System","158","0","0","1","157",null,null,null,"0","0","1",null,"1",null,null,"1","0","0",null,null,null,"0",null,"0","0","0","0","0","0",null,"1 Nov 2024 to 30 Nov 2024","18 Chinese Medicine Clinic cum Traing and Research Centre (The Hong Kong Buddist Association)","18CMCTRs (HKBA)","NGO","8296860643","CMRXO","3","Local System","EC Connect","158","0","0","1","157","","0","0","0","0","1","0.00632911392405063","1","0","0","1","0","0","","157","0.993670886075949","0","0","0","0","0","0","0","0"]
[null,null,"Y","2024-11-01","18 CHINESE MEDICINE CLINIC CUM TRAINING AND RESEARCH CENTRE (THE HONG KONG BUDDHIST ASSOCIATION)",null,"NGO","8296860643","CMPX","3","HA CMIS","Local System","81","0","0","0","81",null,null,null,"0","0","0",null,"0",null,null,"0","0","0",null,null,null,"0",null,"0","0","0","0","0","0",null,"1 Nov 2024 to 30 Nov 2024","18 Chinese Medicine Clinic cum Traing and Research Centre (The Hong Kong Buddist Association)","18CMCTRs (HKBA)","NGO","8296860643","CMPX","3","Local System","EC Connect","81","0","0","0","81","","0","0","0","0","0","0","0","0","0","0","0","0","","81","1","0","0","0","0","0","0","0","0"]
[null,null,"Y","2024-11-01","HONG KONG INTEGRATED ONCOLOGY CENTRE",null,"GRP","6691242811","RAD","3","RHI2","Local System","931","0","0","0","931",null,null,null,"0","0","0",null,"0",null,null,"0","0","0",null,null,null,"0",null,"0","0","0","0","0","0",null,"1 Nov 2024 to 30 Nov 2024","HONG KONG INTEGRATED IMAGING AND ENDOSCOPY DIANOSTIC CENTRE","HKIDIC","GROUP","6691242811","RAD","3","Local System","Local System","931","0","0","0","931","","0","0","0","0","0","0","0","0","0","0","0","0","","931","1","0","0","0","0","0","0","0","0"]
[null,null,"Y","2024-11-01","HK MERCY MEDICAL LIMITED",null,"SOLO","9056383716","RXO","3,2","CMS On-ramp","CMS On-ramp","317","0","0","109","208",null,null,null,"0","0","0",null,"0",null,null,"0","0","0",null,null,null,"0",null,"0","0","0","0","0","0",null,"1 Nov 2024 to 30 Nov 2024","HK MERCY MEDICAL LIMITED","HK MERCY MEDICAL LIMITED","SOLO","9056383716","RXO","3","Local System","Local System","317","0","0","109","208","","0","0","0","0","0","0","0","0","0","0","0","0","","208","0.65615141955836","0","0","0","0","0","0","0","0"]
[null,null,"Y","2024-11-01","HK MERCY MEDICAL LIMITED",null,"SOLO","9056383716","RXD","3,2","CMS On-ramp","CMS On-ramp","316","0","0","108","208",null,null,null,"0","0","0",null,"0",null,null,"0","0","0",null,null,null,"0",null,"0","0","0","0","0","0",null,"1 Nov 2024 to 30 Nov 2024","HK MERCY MEDICAL LIMITED","HK MERCY MEDICAL LIMITED","SOLO","9056383716","RXD","3","Local System","Local System","316","0","0","108","208","","0","0","0","0","0","0","0","0","0","0","0","0","","208","0.658227848101266","0","0","0","0","0","0","0","0"]
[null,null,"Y","2024-11-01","HK MERCY MEDICAL LIMITED",null,"SOLO","9056383716","ENCTR","3","CMS On-ramp","CMS On-ramp","160","0","0","0","160",null,null,null,"0","0","0",null,"0",null,null,"0","0","0",null,null,null,"0",null,"0","0","0","0","0","0",null,"1 Nov 2024 to 30 Nov 2024","HK MERCY MEDICAL LIMITED","HK MERCY MEDICAL LIMITED","SOLO","9056383716","ENCTR","3","Local System","Local System","160","0","0","0","160","","0","0","0","0","0","0","0","0","0","0","0","0","","160","1","0","0","0","0","0","0","0","0"]
[null,null,"Y","2024-11-01","HK MERCY MEDICAL LIMITED",null,"SOLO","9056383716","PROB","3,2","CMS On-ramp","CMS On-ramp","126","0","0","59","67",null,null,null,"0","0","0",null,"0",null,null,"0","0","0",null,null,null,"0",null,"0","0","0","0","0","0",null,"1 Nov 2024 to 30 Nov 2024","HK MERCY MEDICAL LIMITED","HK MERCY MEDICAL LIMITED","SOLO","9056383716","PROB","3","Local System","Local System","126","0","0","59","67","","0","0","0","0","0","0","0","0","0","0","0","0","","67","0.531746031746032","0","0","0","0","0","0","0","0"]
[null,null,"Y","2024-11-01","HK MERCY MEDICAL LIMITED",null,"SOLO","9056383716","IMMU","3,2","CMS On-ramp","CMS On-ramp","2","0","0","1","1",null,null,null,"0","0","0",null,"0",null,null,"0","0","0",null,null,null,"0",null,"0","0","0","0","0","0",null,"1 Nov 2024 to 30 Nov 2024","HK MERCY MEDICAL LIMITED","HK MERCY MEDICAL LIMITED","SOLO","9056383716","IMMU","3","Local System","Local System","2","0","0","1","1","","0","0","0","0","0","0","0","0","0","0","0","0","","1","0.5","0","0","0","0","0","0","0","0"]
[null,null,"Y","2024-11-01","MODERN ASCENT LIMITED",null,"SOLO","2342444283","RAD","3","RHI2","Local System","766","0","0","75","691",null,null,null,"0","0","0",null,"0",null,null,"0","0","0",null,null,null,"75",null,"0","0","0","0","75","0",null,"1 Nov 2024 to 30 Nov 2024","MORDERN ASCENT LIMITED","MORDERN ASCENT LIMITED","SOLO","2342444283","RAD","3","RHI2","Local System","766","0","0","75","691","","0","0","0","0","0","0","0","0","0","0","0","0","","691","0.902088772845953","75","0.097911227154047","0","0","0","0","75","0"]
[null,null,"Y","2024-11-01","HAN QI CHINESE MEDICINE LIMITED",null,"GRP","2091864776","CMPROB","3","EC Connect","EC Connect","215","0","0","65","150",null,null,null,"0","0","21",null,"21",null,null,"21","0","0",null,null,null,"0",null,"0","0","0","0","0","0",null,"1 Nov 2024 to 30 Nov 2024","Han Qi Chinese Medicine Limited","HAN QI CHINESE MEDICINE","GROUP","2091864776","CMPROB","3","Local System","EC Connect","215","0","0","65","150","","0","0","0","0","21","0.0976744186046512","21","0","0","21","0","0","","150","0.697674418604651","0","0","0","0","0","0","0","0"]
[null,null,"Y","2024-11-01","HAN QI CHINESE MEDICINE LIMITED",null,"GRP","2091864776","ENCTR","3","EC Connect","EC Connect","175","0","0","0","175",null,null,null,"0","0","0",null,"0",null,null,"0","0","0",null,null,null,"0",null,"0","0","0","0","0","0",null,"1 Nov 2024 to 30 Nov 2024","Han Qi Chinese Medicine Limited","HAN QI CHINESE MEDICINE","GROUP","2091864776","ENCTR","3","Local System","Local System","175","0","0","0","175","","0","0","0","0","0","0","0","0","0","0","0","0","","175","1","0","0","0","0","0","0","0","0"]
[null,null,"Y","2024-11-01","HAN QI CHINESE MEDICINE LIMITED",null,"GRP","2091864776","CMRXD","3","EC Connect","EC Connect","174","0","0","158","16",null,null,null,"0","0","0",null,"0",null,null,"0","0","0",null,null,null,"0",null,"0","0","0","0","0","0",null,"1 Nov 2024 to 30 Nov 2024","Han Qi Chinese Medicine Limited","HAN QI CHINESE MEDICINE","GROUP","2091864776","CMRXD","3","Local System","EC Connect","174","0","0","158","16","","0","0","0","0","0","0","0","0","0","0","0","0","","16","0.0919540229885057","0","0","0","0","0","0","0","0"]
[null,null,"Y","2024-11-01","HAN QI CHINESE MEDICINE LIMITED",null,"GRP","2091864776","CMRXO","3","EC Connect","EC Connect","174","0","0","158","16",null,null,null,"0","0","0",null,"0",null,null,"0","0","0",null,null,null,"0",null,"0","0","0","0","0","0",null,"1 Nov 2024 to 30 Nov 2024","Han Qi Chinese Medicine Limited","HAN QI CHINESE MEDICINE","GROUP","2091864776","CMRXO","3","Local System","EC Connect","174","0","0","158","16","","0","0","0","0","0","0","0","0","0","0","0","0","","16","0.0919540229885057","0","0","0","0","0","0","0","0"]
[null,null,"Y","2024-11-01","PATHLAB MEDICAL LABORATORIES LIMITED",null,"GRP","2381250555","LABGEN","3","PLDMS","Local System","708","0","708","0","0",null,null,null,"0","0","0",null,"0",null,null,"0","0","0",null,null,null,"0",null,"0","0","0","0","0","0",null,"1 Nov 2024 to 30 Nov 2024","Pathlab Medical Laboratories Limited","PATHLAB MED LAB LTD","GROUP","2381250555","LABGEN","1","Local System","Local System","708","0","708","0","0","","0","0","0","0","0","0","0","0","0","0","0","0","","0","0","0","0","0","0","0","0","0","0"]
[null,null,"Y","2024-11-01","CENTRUM / CENTRA MRI CENTRE LIMITED",null,"SOLO","3603160126","RAD","3","RHI2","Local System","532","0","0","0","532",null,null,null,"0","0","0",null,"0",null,null,"0","0","0",null,null,null,"0",null,"0","0","0","0","0","0",null,"1 Nov 2024 to 30 Nov 2024","CENTRUM / CENTRAMRI CENTRE LIMITED","CENTRUM / CENTRA MRI","SOLO","3603160126","RAD","3","RHI2","Local System","532","0","0","0","532","","0","0","0","0","0","0","0","0","0","0","0","0","","532","1","0","0","0","0","0","0","0","0"]
[null,null,"Y","2024-11-01","UMP MEDICAL CENTRE",null,"GRP","9927384828","RAD","3","RHI2","Local System","520","1","0","0","519",null,null,null,"1","0","0",null,"0",null,null,"0","0","0",null,null,null,"0",null,"0","0","0","0","0","0",null,"1 Nov 2024 to 30 Nov 2024","UMP MEDICAL CENTRE","UMP MEDICAL CENTRE","GROUP","9927384828","RAD","3","RHI2","Local System","520","1","0","0","519","","1","0.00192307692307692","1","0","0","0","0","0","0","0","0","0","","519","0.998076923076923","0","0","0","0","0","0","0","0"]
[null,null,"Y","2024-11-01","ALPHA MEDICAL (CWB)",null,"GRP","5292537029","RAD","3","RIS (LAAM)","Local System","474","0","0","0","474",null,null,null,"0","0","0",null,"0",null,null,"0","0","0",null,null,null,"0",null,"0","0","0","0","0","0",null,"1 Nov 2024 to 30 Nov 2024","Alpha Medical (CWB)","ALPHA MEDICAL (CWB)","GROUP","5292537029","RAD","3","RIS (LAAM)","Local System","474","0","0","0","474","","0","0","0","0","0","0","0","0","0","0","0","0","","474","1","0","0","0","0","0","0","0","0"]
[null,null,"Y","2024-11-01","DR SHUM NAM CHU'S CLINIC",null,"SOLO","2308765964","RXO","3","CMS On-ramp","CMS On-ramp","158","0","0","26","132",null,null,null,"0","0","0",null,"0",null,null,"0","0","0",null,null,null,"0",null,"0","0","0","0","0","0",null,"1 Nov 2024 to 30 Nov 2024","DR SUM NAM CHU'S CLINIC","DR SUM NAM CHU'S CLINIC","SOLO","2308765964","RXO","3","Local System","Local System","158","0","0","26","132","","0","0","0","0","0","0","0","0","0","0","0","0","","132","0.835443037974684","0","0","0","0","0","0","0","0"]
[null,null,"Y","2024-11-01","DR SHUM NAM CHU'S CLINIC",null,"SOLO","2308765964","RXD","3","CMS On-ramp","CMS On-ramp","134","0","0","20","114",null,null,null,"0","0","0",null,"0",null,null,"0","0","0",null,null,null,"0",null,"0","0","0","0","0","0",null,"1 Nov 2024 to 30 Nov 2024","DR SUM NAM CHU'S CLINIC","DR SUM NAM CHU'S CLINIC","SOLO","2308765964","RXD","3","Local System","Local System","134","0","0","20","114","","0","0","0","0","0","0","0","0","0","0","0","0","","114","0.850746268656716","0","0","0","0","0","0","0","0"]
[null,null,"Y","2024-11-01","DR SHUM NAM CHU'S CLINIC",null,"SOLO","2308765964","PROB","3","CMS On-ramp","CMS On-ramp","88","0","0","2","86",null,null,null,"0","0","0",null,"0",null,null,"0","0","0",null,null,null,"0",null,"0","0","0","0","0","0",null,"1 Nov 2024 to 30 Nov 2024","DR SUM NAM CHU'S CLINIC","DR SUM NAM CHU'S CLINIC","SOLO","2308765964","PROB","3","Local System","Local System","88","0","0","2","86","","0","0","0","0","0","0","0","0","0","0","0","0","","86","0.977272727272727","0","0","0","0","0","0","0","0"]
[null,null,"Y","2024-11-01","DR SHUM NAM CHU'S CLINIC",null,"SOLO","2308765964","ENCTR","3","CMS On-ramp","CMS On-ramp","70","0","0","0","70",null,null,null,"0","0","0",null,"0",null,null,"0","0","0",null,null,null,"0",null,"0","0","0","0","0","0",null,"1 Nov 2024 to 30 Nov 2024","DR SUM NAM CHU'S CLINIC","DR SUM NAM CHU'S CLINIC","SOLO","2308765964","ENCTR","3","Local System","Local System","70","0","0","0","70","","0","0","0","0","0","0","0","0","0","0","0","0","","70","1","0","0","0","0","0","0","0","0"]
[null,null,"Y","2024-11-01","DR SHUM NAM CHU'S CLINIC",null,"SOLO","2308765964","IMMU","3","CMS On-ramp","CMS On-ramp","19","0","0","2","17",null,null,null,"0","0","0",null,"0",null,null,"0","0","0",null,null,null,"0",null,"0","0","0","0","0","0",null,"1 Nov 2024 to 30 Nov 2024","DR SUM NAM CHU'S CLINIC","DR SUM NAM CHU'S CLINIC","SOLO","2308765964","IMMU","3","Local System","Local System","19","0","0","2","17","","0","0","0","0","0","0","0","0","0","0","0","0","","17","0.894736842105263","0","0","0","0","0","0","0","0"]
[null,null,"Y","2024-11-01","THE UNIVERSITY OF HONG KONG",null,"ACAD","3726405388","RAD","3","RHI2","Local System","430","0","0","0","430",null,null,null,"0","0","0",null,"0",null,null,"0","0","0",null,null,null,"0",null,"0","0","0","0","0","0",null,"1 Nov 2024 to 30 Nov 2024","The University of Hong Kong","HKU","HCAI","3726405388","RAD","3","Local System","Local System","430","0","0","0","430","","0","0","0","0","0","0","0","0","0","0","0","0","","430","1","0","0","0","0","0","0","0","0"]
[null,null,"Y","2024-11-01","ANCHOR ONCOLOGY AND HEMATOLOGY CENTRE LIMITED",null,"GRP","9713227452","ENCTR","3","ClinicSolution","Local System","232","0","0","0","232",null,null,null,"0","0","0",null,"0",null,null,"0","0","0",null,null,null,"0",null,"0","0","0","0","0","0",null,"1 Nov 2024 to 30 Nov 2024","ANCHOR ONCOLOGY AND HEMATOLOGY CENTRE LIMITED","AOHC","GROUP","9713227452","ENCTR","3","ClinicSolution","Local System","232","0","0","0","232","","0","0","0","0","0","0","0","0","0","0","0","0","","232","1","0","0","0","0","0","0","0","0"]
[null,null,"Y","2024-11-01","ANCHOR ONCOLOGY AND HEMATOLOGY CENTRE LIMITED",null,"GRP","9713227452","RXD","2","ClinicSolution","Local System","82","0","0","82","0",null,null,null,"0","0","0",null,"0",null,null,"0","0","0",null,null,null,"0",null,"0","0","0","0","0","0",null,"1 Nov 2024 to 30 Nov 2024","ANCHOR ONCOLOGY AND HEMATOLOGY CENTRE LIMITED","AOHC","GROUP","9713227452","RXD","2","ClinicSolution","Local System","82","0","0","82","0","","0","0","0","0","0","0","0","0","0","0","0","0","","0","0","0","0","0","0","0","0","0","0"]
[null,null,"Y","2024-11-01","ANCHOR ONCOLOGY AND HEMATOLOGY CENTRE LIMITED",null,"GRP","9713227452","RXO","2","ClinicSolution","Local System","82","0","0","82","0",null,null,null,"0","0","0",null,"0",null,null,"0","0","0",null,null,null,"0",null,"0","0","0","0","0","0",null,"1 Nov 2024 to 30 Nov 2024","ANCHOR ONCOLOGY AND HEMATOLOGY CENTRE LIMITED","AOHC","GROUP","9713227452","RXO","2","ClinicSolution","Local System","82","0","0","82","0","","0","0","0","0","0","0","0","0","0","0","0","0","","0","0","0","0","0","0","0","0","0","0"]
[null,null,"Y","2024-11-01","CITY SURGICAL CENTER LIMITED",null,"GRP","6467582028","ENCTR","3","ClinicSolution","Local System","152","0","0","0","152",null,null,null,"0","0","0",null,"0",null,null,"0","0","0",null,null,null,"0",null,"0","0","0","0","0","0",null,"1 Nov 2024 to 30 Nov 2024","CITY SURGICAL CENTER LIMITED","CITY SURGICAL CENTER","GROUP","6467582028","ENCTR","3","ClinicSolution","Local System","152","0","0","0","152","","0","0","0","0","0","0","0","0","0","0","0","0","","152","1","0","0","0","0","0","0","0","0"]
[null,null,"Y","2024-11-01","CITY SURGICAL CENTER LIMITED",null,"GRP","6467582028","PROB","3","ClinicSolution","Local System","105","5","0","100","0",null,null,null,"5","0","100",null,"100",null,null,"100","0","0",null,null,null,"0",null,"0","0","0","0","0","0",null,"1 Nov 2024 to 30 Nov 2024","CITY SURGICAL CENTER LIMITED","CITY SURGICAL CENTER","GROUP","6467582028","PROB","3","ClinicSolution","Local System","105","5","0","100","0","","5","0.0476190476190476","5","0","100","0.952380952380952","100","0","0","100","0","0","","0","0","0","0","0","0","0","0","0","0"]
[null,null,"Y","2024-11-01","CITY SURGICAL CENTER LIMITED",null,"GRP","6467582028","RXD","2","ClinicSolution","Local System","15","0","0","15","0",null,null,null,"0","0","0",null,"0",null,null,"0","0","0",null,null,null,"0",null,"0","0","0","0","0","0",null,"1 Nov 2024 to 30 Nov 2024","CITY SURGICAL CENTER LIMITED","CITY SURGICAL CENTER","GROUP","6467582028","RXD","2","ClinicSolution","Local System","15","0","0","15","0","","0","0","0","0","0","0","0","0","0","0","0","0","","0","0","0","0","0","0","0","0","0","0"]
[null,null,"Y","2024-11-01","CITY SURGICAL CENTER LIMITED",null,"GRP","6467582028","RXO","2","ClinicSolution","Local System","15","0","0","15","0",null,null,null,"0","0","0",null,"0",null,null,"0","0","0",null,null,null,"0",null,"0","0","0","0","0","0",null,"1 Nov 2024 to 30 Nov 2024","CITY SURGICAL CENTER LIMITED","CITY SURGICAL CENTER","GROUP","6467582028","RXO","2","ClinicSolution","Local System","15","0","0","15","0","","0","0","0","0","0","0","0","0","0","0","0","0","","0","0","0","0","0","0","0","0","0","0"]
[null,null,"Y","2024-11-01","CITY SURGICAL CENTER LIMITED",null,"GRP","6467582028","AL1","2","ClinicSolution","Local System","1","0","0","1","0",null,null,null,"0","0","0",null,"0",null,null,"0","0","0",null,null,null,"0",null,"0","0","0","0","0","0",null,"1 Nov 2024 to 30 Nov 2024","CITY SURGICAL CENTER LIMITED","CITY SURGICAL CENTER","GROUP","6467582028","AL1","2","ClinicSolution","Local System","1","0","0","1","0","","0","0","0","0","0","0","0","0","0","0","0","0","","0","0","0","0","0","0","0","0","0","0"]
[null,null,"Y","2024-11-01","MONGKOK MRI CENTRE LIMITED",null,"GRP","5833341375","RAD","3","RHI2","Local System","267","0","0","0","267",null,null,null,"0","0","0",null,"0",null,null,"0","0","0",null,null,null,"0",null,"0","0","0","0","0","0",null,"1 Nov 2024 to 30 Nov 2024","Mongkok MRI Centre Limited","MONGKOK MRI CENTRE LTD","GROUP","5833341375","RAD","3","RHI2","Local System","267","0","0","0","267","","0","0","0","0","0","0","0","0","0","0","0","0","","267","1","0","0","0","0","0","0","0","0"]
[null,null,"Y","2024-11-01","HONG KONG CHRISTIAN SERVICE",null,"NGO","9179355867","RXD","3,2","CMS On-ramp","CMS On-ramp","85","0","0","22","63",null,null,null,"0","0","0",null,"0",null,null,"0","0","0",null,null,null,"0",null,"0","0","0","0","0","0",null,"1 Nov 2024 to 30 Nov 2024","Hong Kong Christian Service","HKCS","GROUP","9179355867","RXD","3","Local System","Local System","85","0","0","22","63","","0","0","0","0","0","0","0","0","0","0","0","0","","63","0.741176470588235","0","0","0","0","0","0","0","0"]
[null,null,"Y","2024-11-01","HONG KONG CHRISTIAN SERVICE",null,"NGO","9179355867","RXO","3,2","CMS On-ramp","CMS On-ramp","85","0","0","22","63",null,null,null,"0","0","0",null,"0",null,null,"0","0","0",null,null,null,"0",null,"0","0","0","0","0","0",null,"1 Nov 2024 to 30 Nov 2024","Hong Kong Christian Service","HKCS","GROUP","9179355867","RXO","3","Local System","Local System","85","0","0","22","63","","0","0","0","0","0","0","0","0","0","0","0","0","","63","0.741176470588235","0","0","0","0","0","0","0","0"]
[null,null,"Y","2024-11-01","HONG KONG CHRISTIAN SERVICE",null,"NGO","9179355867","ENCTR","3","CMS On-ramp","CMS On-ramp","48","0","0","0","48",null,null,null,"0","0","0",null,"0",null,null,"0","0","0",null,null,null,"0",null,"0","0","0","0","0","0",null,"1 Nov 2024 to 30 Nov 2024","Hong Kong Christian Service","HKCS","GROUP","9179355867","ENCTR","3","Local System","Local System","48","0","0","0","48","","0","0","0","0","0","0","0","0","0","0","0","0","","48","1","0","0","0","0","0","0","0","0"]
[null,null,"Y","2024-11-01","HONG KONG CHRISTIAN SERVICE",null,"NGO","9179355867","IMMU","3,2","CMS On-ramp","CMS On-ramp","6","0","0","3","3",null,null,null,"0","0","0",null,"0",null,null,"0","0","0",null,null,null,"0",null,"0","0","0","0","0","0",null,"1 Nov 2024 to 30 Nov 2024","Hong Kong Christian Service","HKCS","GROUP","9179355867","IMMU","3","Local System","Local System","6","0","0","3","3","","0","0","0","0","0","0","0","0","0","0","0","0","","3","0.5","0","0","0","0","0","0","0","0"]
[null,null,"Y","2024-11-01","HONG KONG CHRISTIAN SERVICE",null,"NGO","9179355867","AL1","3,2","CMS On-ramp","CMS On-ramp","3","0","0","1","2",null,null,null,"0","0","1",null,"1",null,null,"1","0","0",null,null,null,"0",null,"0","0","0","0","0","0",null,"1 Nov 2024 to 30 Nov 2024","Hong Kong Christian Service","HKCS","GROUP","9179355867","AL1","3","Local System","Local System","3","0","0","1","2","","0","0","0","0","1","0.333333333333333","1","0","0","1","0","0","","2","0.666666666666667","0","0","0","0","0","0","0","0"]
[null,null,"Y","2024-11-01","ALL WELL (ASIA) LIMITED",null,"GRP","8891674942","ENCTR","3","ClinicSolution","Local System","144","0","0","0","144",null,null,null,"0","0","0",null,"0",null,null,"0","0","0",null,null,null,"0",null,"0","0","0","0","0","0",null,"1 Nov 2024 to 30 Nov 2024","ALL WELL (ASIA) LIMITED","ADVANZ PHYSIO CENTRE","GROUP","8891674942","ENCTR","3","ClinicSolution","Local System","144","0","0","0","144","","0","0","0","0","0","0","0","0","0","0","0","0","","144","1","0","0","0","0","0","0","0","0"]
[null,null,"Y","2024-11-01","ALL WELL (ASIA) LIMITED",null,"GRP","8891674942","PROB","3","ClinicSolution","Local System","39","0","0","39","0",null,null,null,"0","0","39",null,"39",null,null,"39","0","0",null,null,null,"0",null,"0","0","0","0","0","0",null,"1 Nov 2024 to 30 Nov 2024","ALL WELL (ASIA) LIMITED","ADVANZ PHYSIO CENTRE","GROUP","8891674942","PROB","3","ClinicSolution","Local System","39","0","0","39","0","","0","0","0","0","39","1","39","0","0","39","0","0","","0","0","0","0","0","0","0","0","0","0"]
[null,null,"Y","2024-11-01","IPATH LABORATORY LIMITED",null,"GRP","4178262222","LABAP","1","iPath","Local System","169","0","169","0","0",null,null,null,"0","0","0",null,"0",null,null,"0","0","0",null,null,null,"0",null,"0","0","0","0","0","0",null,"1 Nov 2024 to 30 Nov 2024","IPATH LABORATORY LIMITED","IPATH LABORATORY LIMITED","GROUP","4178262222","LABAP","1","Local System","Local System","169","0","169","0","0","","0","0","0","0","0","0","0","0","0","0","0","0","","0","0","0","0","0","0","0","0","0","0"]
[null,null,"Y","2024-11-01","DR. LEUNG KIN KAY",null,"SOLO","3226804803","ENCTR","3","CMS On-ramp","CMS On-ramp","49","0","0","0","49",null,null,null,"0","0","0",null,"0",null,null,"0","0","0",null,null,null,"0",null,"0","0","0","0","0","0",null,"1 Nov 2024 to 30 Nov 2024","DR. LEUNG KIN KAY","DR. LEUNG KIN KAY","SOLO","3226804803","ENCTR","3","Local System","Local System","49","0","0","0","49","","0","0","0","0","0","0","0","0","0","0","0","0","","49","1","0","0","0","0","0","0","0","0"]
[null,null,"Y","2024-11-01","DR. LEUNG KIN KAY",null,"SOLO","3226804803","RXD","3,2","CMS On-ramp","CMS On-ramp","31","0","0","1","30",null,null,null,"0","0","0",null,"0",null,null,"0","0","0",null,null,null,"1",null,"0","0","0","1","0","0",null,"1 Nov 2024 to 30 Nov 2024","DR. LEUNG KIN KAY","DR. LEUNG KIN KAY","SOLO","3226804803","RXD","3","Local System","Local System","31","0","0","1","30","","0","0","0","0","0","0","0","0","0","0","0","0","","30","0.967741935483871","1","0.032258064516129","0","0","0","1","0","0"]
[null,null,"Y","2024-11-01","DR. LEUNG KIN KAY",null,"SOLO","3226804803","RXO","3,2","CMS On-ramp","CMS On-ramp","31","0","0","1","30",null,null,null,"0","0","0",null,"0",null,null,"0","0","0",null,null,null,"1",null,"0","0","0","1","0","0",null,"1 Nov 2024 to 30 Nov 2024","DR. LEUNG KIN KAY","DR. LEUNG KIN KAY","SOLO","3226804803","RXO","3","Local System","Local System","31","0","0","1","30","","0","0","0","0","0","0","0","0","0","0","0","0","","30","0.967741935483871","1","0.032258064516129","0","0","0","1","0","0"]
[null,null,"Y","2024-11-01","DR. LEUNG KIN KAY",null,"SOLO","3226804803","PROB","3,2","CMS On-ramp","CMS On-ramp","22","0","0","0","22",null,null,null,"0","0","0",null,"0",null,null,"0","0","0",null,null,null,"0",null,"0","0","0","0","0","0",null,"1 Nov 2024 to 30 Nov 2024","DR. LEUNG KIN KAY","DR. LEUNG KIN KAY","SOLO","3226804803","PROB","3","Local System","Local System","22","0","0","0","22","","0","0","0","0","0","0","0","0","0","0","0","0","","22","1","0","0","0","0","0","0","0","0"]
[null,null,"Y","2024-11-01","DR. LEUNG KIN KAY",null,"SOLO","3226804803","IMMU","3,2","CMS On-ramp","CMS On-ramp","1","0","0","0","1",null,null,null,"0","0","0",null,"0",null,null,"0","0","0",null,null,null,"0",null,"0","0","0","0","0","0",null,"1 Nov 2024 to 30 Nov 2024","DR. LEUNG KIN KAY","DR. LEUNG KIN KAY","SOLO","3226804803","IMMU","3","Local System","Local System","1","0","0","0","1","","0","0","0","0","0","0","0","0","0","0","0","0","","1","1","0","0","0","0","0","0","0","0"]
[null,null,"Y","2024-11-01","HEALTH INTEGRATED LIMITED",null,"SOLO","5368445357","RXD","2","ClinicSolution","Local System","41","41","0","0","0",null,null,null,"41","0","0",null,"0",null,null,"0","0","0",null,null,null,"0",null,"0","0","0","0","0","0",null,"1 Nov 2024 to 30 Nov 2024","HEALTH INTEGRATED LIMITED","HEALTH INTEGRATED LIMITED","OTH","5368445357","RXD","2","ClinicSolution","Local System","41","41","0","0","0","","41","1","41","0","0","0","0","0","0","0","0","0","","0","0","0","0","0","0","0","0","0","0"]
[null,null,"Y","2024-11-01","HEALTH INTEGRATED LIMITED",null,"SOLO","5368445357","RXO","2","ClinicSolution","Local System","41","41","0","0","0",null,null,null,"41","0","0",null,"0",null,null,"0","0","0",null,null,null,"0",null,"0","0","0","0","0","0",null,"1 Nov 2024 to 30 Nov 2024","HEALTH INTEGRATED LIMITED","HEALTH INTEGRATED LIMITED","OTH","5368445357","RXO","2","ClinicSolution","Local System","41","41","0","0","0","","41","1","41","0","0","0","0","0","0","0","0","0","","0","0","0","0","0","0","0","0","0","0"]
[null,null,"Y","2024-11-01","HEALTH INTEGRATED LIMITED",null,"SOLO","5368445357","ENCTR","3","ClinicSolution","Local System","10","10","0","0","0",null,null,null,"10","0","0",null,"0",null,null,"0","0","0",null,null,null,"0",null,"0","0","0","0","0","0",null,"1 Nov 2024 to 30 Nov 2024","HEALTH INTEGRATED LIMITED","HEALTH INTEGRATED LIMITED","OTH","5368445357","ENCTR","3","ClinicSolution","Local System","10","10","0","0","0","","10","1","10","0","0","0","0","0","0","0","0","0","","0","0","0","0","0","0","0","0","0","0"]
[null,null,"Y","2024-11-01","HEALTH INTEGRATED LIMITED",null,"SOLO","5368445357","PROB","3","ClinicSolution","Local System","10","1","0","9","0",null,null,null,"1","0","9",null,"9",null,null,"9","0","0",null,null,null,"0",null,"0","0","0","0","0","0",null,"1 Nov 2024 to 30 Nov 2024","HEALTH INTEGRATED LIMITED","HEALTH INTEGRATED LIMITED","OTH","5368445357","PROB","3","ClinicSolution","Local System","10","1","0","9","0","","1","0.1","1","0","9","0.9","9","0","0","9","0","0","","0","0","0","0","0","0","0","0","0","0"]
[null,null,"Y","2024-11-01","HEALTH INTEGRATED LIMITED",null,"SOLO","5368445357","PX","3","ClinicSolution","Local System","3","0","0","3","0",null,null,null,"0","0","3",null,"3",null,null,"3","0","0",null,null,null,"0",null,"0","0","0","0","0","0",null,"1 Nov 2024 to 30 Nov 2024","HEALTH INTEGRATED LIMITED","HEALTH INTEGRATED LIMITED","OTH","5368445357","PX","3","ClinicSolution","Local System","3","0","0","3","0","","0","0","0","0","3","1","3","0","0","3","0","0","","0","0","0","0","0","0","0","0","0","0"]
[null,null,"Y","2024-11-01","ACTON DIGITAL PET-CT CENTRE LIMITED",null,"GRP","7221331623","RAD","3","RHI2","Local System","98","0","0","0","98",null,null,null,"0","0","0",null,"0",null,null,"0","0","0",null,null,null,"0",null,"0","0","0","0","0","0",null,"1 Nov 2024 to 30 Nov 2024","Acton Digital PET-CT Centre Limited","ACTON DIGITAL PET-CT CTR","GROUP","7221331623","RAD","3","Local System","Local System","98","0","0","0","98","","0","0","0","0","0","0","0","0","0","0","0","0","","98","1","0","0","0","0","0","0","0","0"]
[null,null,"Y","2024-11-01","HUMAN HEALTH MEDICAL CENTRE.",null,"GRP","5634981022","RAD","1","RCMS_LAAM","Local System","46","0","46","0","0",null,null,null,"0","0","0",null,"0",null,null,"0","0","0",null,null,null,"0",null,"0","0","0","0","0","0",null,"1 Nov 2024 to 30 Nov 2024","HUMAN HEALTH MEDICAL CENTRE.","HUMAN HEALTH","GROUP","5634981022","RAD","1","RCMS_LAAM","Local System","46","0","46","0","0","","0","0","0","0","0","0","0","0","0","0","0","0","","0","0","0","0","0","0","0","0","0","0"]
[null,null,"Y","2024-11-01","HUMAN HEALTH MEDICAL CENTRE.",null,"GRP","5634981022","EPIS","1","RCMS_LAAM","Local System","43","0","43","0","0",null,null,null,"0","0","0",null,"0",null,null,"0","0","0",null,null,null,"0",null,"0","0","0","0","0","0",null,"1 Nov 2024 to 30 Nov 2024","HUMAN HEALTH MEDICAL CENTRE.","HUMAN HEALTH","GROUP","5634981022","EPIS","1","RCMS_LAAM","Local System","43","0","43","0","0","","0","0","0","0","0","0","0","0","0","0","0","0","","0","0","0","0","0","0","0","0","0","0"]
[null,null,"Y","2024-11-01","INSTA MEDLAB MRI CENTRE LIMITED",null,"GRP","3426117536","RAD","3","RIS(LAAM for Insta MedLab PRD)","Local System","83","0","0","0","83",null,null,null,"0","0","0",null,"0",null,null,"0","0","0",null,null,null,"0",null,"0","0","0","0","0","0",null,"1 Nov 2024 to 30 Nov 2024","INSTA MELAB MRI CENTRE LIMITED","INSTA MELAB MRI CTR LTD","GROUP","3426117536","RAD","3","RIS(LAAM for Insta MedLab PRD)","Local System","83","0","0","0","83","","0","0","0","0","0","0","0","0","0","0","0","0","","83","1","0","0","0","0","0","0","0","0"]
[null,null,"Y","2024-11-01","BNS MEDICAL IMAGING LIMITED",null,"GRP","7417567584","RAD","3","RHI2","Local System","76","0","0","0","76",null,null,null,"0","0","0",null,"0",null,null,"0","0","0",null,null,null,"0",null,"0","0","0","0","0","0",null,"1 Nov 2024 to 30 Nov 2024","BNS Medical Imaging Limited","BNS MEDICAL IMAGING LTD","GROUP","7417567584","RAD","3","RHI2","Local System","76","0","0","0","76","","0","0","0","0","0","0","0","0","0","0","0","0","","76","1","0","0","0","0","0","0","0","0"]
[null,null,"Y","2024-11-01","ADVANCE X-RAY & MEDICAL DIAGNOSTIC CENTRE LTD",null,"SOLO","9306084059","LABGEN","1","HKMA CMS for LAAM","Local System","73","0","73","0","0",null,null,null,"0","0","0",null,"0",null,null,"0","0","0",null,null,null,"0",null,"0","0","0","0","0","0",null,"1 Nov 2024 to 30 Nov 2024","Advance X-Ray & Medical Diagnostic Centre Ltd","AXMDCL","SOLO","9306084059","LABGEN","1","CMS5.0 (HKMA)","Local System","73","0","73","0","0","","0","0","0","0","0","0","0","0","0","0","0","0","","0","0","0","0","0","0","0","0","0","0"]
[null,null,"Y","2024-11-01","ADVANCE X-RAY & MEDICAL DIAGNOSTIC CENTRE LTD",null,"SOLO","9306084059","ENCTR","3","HKMA CMS for LAAM","Local System","2","0","0","0","2",null,null,null,"0","0","0",null,"0",null,null,"0","0","0",null,null,null,"0",null,"0","0","0","0","0","0",null,"1 Nov 2024 to 30 Nov 2024","Advance X-Ray & Medical Diagnostic Centre Ltd","AXMDCL","SOLO","9306084059","ENCTR","3","CMS5.0 (HKMA)","Local System","2","0","0","0","2","","0","0","0","0","0","0","0","0","0","0","0","0","","2","1","0","0","0","0","0","0","0","0"]
[null,null,"Y","2024-11-01","HONG KONG BREAST CANCER AND DISEASE CENTRE LIMITED",null,"SOLO","9407305541","RXO","3,2","CMS On-ramp","CMS On-ramp","21","0","0","3","18",null,null,null,"0","0","0",null,"0",null,null,"0","0","0",null,null,null,"0",null,"0","0","0","0","0","0",null,"1 Nov 2024 to 30 Nov 2024","Hong Kong Breast Cancer and Disease Centre Limited","HKBCADC","SOLO","9407305541","RXO","3","Local System","Local System","21","0","0","3","18","","0","0","0","0","0","0","0","0","0","0","0","0","","18","0.857142857142857","0","0","0","0","0","0","0","0"]
[null,null,"Y","2024-11-01","HONG KONG BREAST CANCER AND DISEASE CENTRE LIMITED",null,"SOLO","9407305541","RXD","3,2","CMS On-ramp","CMS On-ramp","19","0","0","1","18",null,null,null,"0","0","0",null,"0",null,null,"0","0","0",null,null,null,"0",null,"0","0","0","0","0","0",null,"1 Nov 2024 to 30 Nov 2024","Hong Kong Breast Cancer and Disease Centre Limited","HKBCADC","SOLO","9407305541","RXD","3","Local System","Local System","19","0","0","1","18","","0","0","0","0","0","0","0","0","0","0","0","0","","18","0.947368421052632","0","0","0","0","0","0","0","0"]
[null,null,"Y","2024-11-01","HONG KONG BREAST CANCER AND DISEASE CENTRE LIMITED",null,"SOLO","9407305541","AL1","3,2","CMS On-ramp","CMS On-ramp","3","0","0","0","3",null,null,null,"0","0","0",null,"0",null,null,"0","0","0",null,null,null,"0",null,"0","0","0","0","0","0",null,"1 Nov 2024 to 30 Nov 2024","Hong Kong Breast Cancer and Disease Centre Limited","HKBCADC","SOLO","9407305541","AL1","3","Local System","Local System","3","0","0","0","3","","0","0","0","0","0","0","0","0","0","0","0","0","","3","1","0","0","0","0","0","0","0","0"]
[null,null,"Y","2024-11-01","DR. TONY CHUN KIT LEE MEDICAL PRACTICE LIMITED",null,"SOLO","7071207758","ENCTR","3","ClinicSolution","Local System","15","0","0","0","15",null,null,null,"0","0","0",null,"0",null,null,"0","0","0",null,null,null,"0",null,"0","0","0","0","0","0",null,"1 Nov 2024 to 30 Nov 2024","DR. TONY CHUN KIT LEE MEDICAL PRATICE LIMITED","DR. TONY CHUN KIT LEE","SOLO","7071207758","ENCTR","3","ClinicSolution","Local System","15","0","0","0","15","","0","0","0","0","0","0","0","0","0","0","0","0","","15","1","0","0","0","0","0","0","0","0"]
[null,null,"Y","2024-11-01","DR. TONY CHUN KIT LEE MEDICAL PRACTICE LIMITED",null,"SOLO","7071207758","PROB","3","ClinicSolution","Local System","5","0","0","5","0",null,null,null,"0","0","5",null,"5",null,null,"5","0","0",null,null,null,"0",null,"0","0","0","0","0","0",null,"1 Nov 2024 to 30 Nov 2024","DR. TONY CHUN KIT LEE MEDICAL PRATICE LIMITED","DR. TONY CHUN KIT LEE","SOLO","7071207758","PROB","3","ClinicSolution","Local System","5","0","0","5","0","","0","0","0","0","5","1","5","0","0","5","0","0","","0","0","0","0","0","0","0","0","0","0"]
[null,null,"Y","2024-11-01","DR. TONY CHUN KIT LEE MEDICAL PRACTICE LIMITED",null,"SOLO","7071207758","RXD","2","ClinicSolution","Local System","5","0","0","5","0",null,null,null,"0","0","0",null,"0",null,null,"0","0","0",null,null,null,"0",null,"0","0","0","0","0","0",null,"1 Nov 2024 to 30 Nov 2024","DR. TONY CHUN KIT LEE MEDICAL PRATICE LIMITED","DR. TONY CHUN KIT LEE","SOLO","7071207758","RXD","2","ClinicSolution","Local System","5","0","0","5","0","","0","0","0","0","0","0","0","0","0","0","0","0","","0","0","0","0","0","0","0","0","0","0"]
[null,null,"Y","2024-11-01","DR. TONY CHUN KIT LEE MEDICAL PRACTICE LIMITED",null,"SOLO","7071207758","RXO","2","ClinicSolution","Local System","5","0","0","5","0",null,null,null,"0","0","0",null,"0",null,null,"0","0","0",null,null,null,"0",null,"0","0","0","0","0","0",null,"1 Nov 2024 to 30 Nov 2024","DR. TONY CHUN KIT LEE MEDICAL PRATICE LIMITED","DR. TONY CHUN KIT LEE","SOLO","7071207758","RXO","2","ClinicSolution","Local System","5","0","0","5","0","","0","0","0","0","0","0","0","0","0","0","0","0","","0","0","0","0","0","0","0","0","0","0"]
[null,null,"Y","2024-11-01","WELL BEING CHINESE MEDICINE CLINIC",null,"SOLO","1667592556","CMRXO","3","EC Connect","EC Connect","13","0","0","0","13",null,null,null,"0","0","0",null,"0",null,null,"0","0","0",null,null,null,"0",null,"0","0","0","0","0","0",null,"1 Nov 2024 to 30 Nov 2024","WELL BEING CHINESE MEDICINE CLINIC","WBCMC","SOLO","1667592556","CMRXO","3","Local System","EC Connect","13","0","0","0","13","","0","0","0","0","0","0","0","0","0","0","0","0","","13","1","0","0","0","0","0","0","0","0"]
[null,null,"Y","2024-11-01","WELL BEING CHINESE MEDICINE CLINIC",null,"SOLO","1667592556","CMPROB","3","EC Connect","EC Connect","7","0","0","7","0",null,null,null,"0","0","1",null,"1",null,null,"1","0","0",null,null,null,"0",null,"0","0","0","0","0","0",null,"1 Nov 2024 to 30 Nov 2024","WELL BEING CHINESE MEDICINE CLINIC","WBCMC","SOLO","1667592556","CMPROB","3","Local System","EC Connect","7","0","0","7","0","","0","0","0","0","1","0.142857142857143","1","0","0","1","0","0","","0","0","0","0","0","0","0","0","0","0"]
[null,null,"Y","2024-11-01","WELL BEING CHINESE MEDICINE CLINIC",null,"SOLO","1667592556","ENCTR","3","EC Connect","EC Connect","6","0","0","0","6",null,null,null,"0","0","0",null,"0",null,null,"0","0","0",null,null,null,"0",null,"0","0","0","0","0","0",null,"1 Nov 2024 to 30 Nov 2024","WELL BEING CHINESE MEDICINE CLINIC","WBCMC","SOLO","1667592556","ENCTR","3","Local System","Local System","6","0","0","0","6","","0","0","0","0","0","0","0","0","0","0","0","0","","6","1","0","0","0","0","0","0","0","0"]
[null,null,"Y","2024-11-01","L & C CLINICAL PRACTICE",null,"GRP","5251825990","RXD","2","ClinicSolution","Local System","8","0","0","8","0",null,null,null,"0","0","0",null,"0",null,null,"0","0","0",null,null,null,"0",null,"0","0","0","0","0","0",null,"1 Nov 2024 to 30 Nov 2024","L & C CLINICAL PRACTICE","L & C CLINICAL PRACTICE","GROUP","5251825990","RXD","2","ClinicSolution","Local System","8","0","0","8","0","","0","0","0","0","0","0","0","0","0","0","0","0","","0","0","0","0","0","0","0","0","0","0"]
[null,null,"Y","2024-11-01","L & C CLINICAL PRACTICE",null,"GRP","5251825990","RXO","2","ClinicSolution","Local System","8","0","0","8","0",null,null,null,"0","0","0",null,"0",null,null,"0","0","0",null,null,null,"0",null,"0","0","0","0","0","0",null,"1 Nov 2024 to 30 Nov 2024","L & C CLINICAL PRACTICE","L & C CLINICAL PRACTICE","GROUP","5251825990","RXO","2","ClinicSolution","Local System","8","0","0","8","0","","0","0","0","0","0","0","0","0","0","0","0","0","","0","0","0","0","0","0","0","0","0","0"]
[null,null,"Y","2024-11-01","L & C CLINICAL PRACTICE",null,"GRP","5251825990","ENCTR","3","ClinicSolution","Local System","3","0","0","0","3",null,null,null,"0","0","0",null,"0",null,null,"0","0","0",null,null,null,"0",null,"0","0","0","0","0","0",null,"1 Nov 2024 to 30 Nov 2024","L & C CLINICAL PRACTICE","L & C CLINICAL PRACTICE","GROUP","5251825990","ENCTR","3","ClinicSolution","Local System","3","0","0","0","3","","0","0","0","0","0","0","0","0","0","0","0","0","","3","1","0","0","0","0","0","0","0","0"]
[null,null,"Y","2024-11-01","L & C CLINICAL PRACTICE",null,"GRP","5251825990","PROB","3","ClinicSolution","Local System","3","0","0","3","0",null,null,null,"0","0","3",null,"3",null,null,"3","0","0",null,null,null,"0",null,"0","0","0","0","0","0",null,"1 Nov 2024 to 30 Nov 2024","L & C CLINICAL PRACTICE","L & C CLINICAL PRACTICE","GROUP","5251825990","PROB","3","ClinicSolution","Local System","3","0","0","3","0","","0","0","0","0","3","1","3","0","0","3","0","0","","0","0","0","0","0","0","0","0","0","0"]
[null,null,"Y","2024-11-01","SHAO YAO CHINESE MEDICINE CLINIC LIMITED",null,"SOLO","8061038543","CMPROB","3","EC Connect","EC Connect","5","0","0","1","4",null,null,null,"0","0","0",null,"0",null,null,"0","0","0",null,null,null,"0",null,"0","0","0","0","0","0",null,"1 Nov 2024 to 30 Nov 2024","Shao Yao Chinese Medicine Clinic Limited","SYCMC LTD","SOLO","8061038543","CMPROB","3","Local System","EC Connect","5","0","0","1","4","","0","0","0","0","0","0","0","0","0","0","0","0","","4","0.8","0","0","0","0","0","0","0","0"]
[null,null,"Y","2024-11-01","SHAO YAO CHINESE MEDICINE CLINIC LIMITED",null,"SOLO","8061038543","CMRXO","3","EC Connect","EC Connect","5","0","0","0","5",null,null,null,"0","0","0",null,"0",null,null,"0","0","0",null,null,null,"0",null,"0","0","0","0","0","0",null,"1 Nov 2024 to 30 Nov 2024","Shao Yao Chinese Medicine Clinic Limited","SYCMC LTD","SOLO","8061038543","CMRXO","3","Local System","EC Connect","5","0","0","0","5","","0","0","0","0","0","0","0","0","0","0","0","0","","5","1","0","0","0","0","0","0","0","0"]
[null,null,"Y","2024-11-01","SHAO YAO CHINESE MEDICINE CLINIC LIMITED",null,"SOLO","8061038543","ENCTR","3","EC Connect","EC Connect","5","0","0","0","5",null,null,null,"0","0","0",null,"0",null,null,"0","0","0",null,null,null,"0",null,"0","0","0","0","0","0",null,"1 Nov 2024 to 30 Nov 2024","Shao Yao Chinese Medicine Clinic Limited","SYCMC LTD","SOLO","8061038543","ENCTR","3","Local System","Local System","5","0","0","0","5","","0","0","0","0","0","0","0","0","0","0","0","0","","5","1","0","0","0","0","0","0","0","0"]
[null,null,"Y","2024-11-01","SHAO YAO CHINESE MEDICINE CLINIC LIMITED",null,"SOLO","8061038543","CMRXD","3","EC Connect","EC Connect","4","0","0","0","4",null,null,null,"0","0","0",null,"0",null,null,"0","0","0",null,null,null,"0",null,"0","0","0","0","0","0",null,"1 Nov 2024 to 30 Nov 2024","Shao Yao Chinese Medicine Clinic Limited","SYCMC LTD","SOLO","8061038543","CMRXD","3","Local System","EC Connect","4","0","0","0","4","","0","0","0","0","0","0","0","0","0","0","0","0","","4","1","0","0","0","0","0","0","0","0"]
[null,null,"Y","2024-11-01","SHAO YAO CHINESE MEDICINE CLINIC LIMITED",null,"SOLO","8061038543","CMPX","3","EC Connect","EC Connect","1","0","0","0","1",null,null,null,"0","0","0",null,"0",null,null,"0","0","0",null,null,null,"0",null,"0","0","0","0","0","0",null,"1 Nov 2024 to 30 Nov 2024","Shao Yao Chinese Medicine Clinic Limited","SYCMC LTD","SOLO","8061038543","CMPX","3","Local System","EC Connect","1","0","0","0","1","","0","0","0","0","0","0","0","0","0","0","0","0","","1","1","0","0","0","0","0","0","0","0"]
[null,null,"Y","2024-11-01","KINDNESS CHINESE MEDICAL CLINIC LIMITED",null,"SOLO","9165130652","CMPROB","3","EC Connect","EC Connect","3","0","0","0","3",null,null,null,"0","0","0",null,"0",null,null,"0","0","0",null,null,null,"0",null,"0","0","0","0","0","0",null,"1 Nov 2024 to 30 Nov 2024","KINDNESS CHINESE MEDICAL CLINIC LIMITED","KINDNESS CHINESE MEDICAL","SOLO","9165130652","CMPROB","3","Local System","EC Connect","3","0","0","0","3","","0","0","0","0","0","0","0","0","0","0","0","0","","3","1","0","0","0","0","0","0","0","0"]
[null,null,"Y","2024-11-01","KINDNESS CHINESE MEDICAL CLINIC LIMITED",null,"SOLO","9165130652","CMRXD","3","EC Connect","EC Connect","3","0","0","0","3",null,null,null,"0","0","0",null,"0",null,null,"0","0","0",null,null,null,"0",null,"0","0","0","0","0","0",null,"1 Nov 2024 to 30 Nov 2024","KINDNESS CHINESE MEDICAL CLINIC LIMITED","KINDNESS CHINESE MEDICAL","SOLO","9165130652","CMRXD","3","Local System","EC Connect","3","0","0","0","3","","0","0","0","0","0","0","0","0","0","0","0","0","","3","1","0","0","0","0","0","0","0","0"]
[null,null,"Y","2024-11-01","KINDNESS CHINESE MEDICAL CLINIC LIMITED",null,"SOLO","9165130652","CMRXO","3","EC Connect","EC Connect","3","0","0","0","3",null,null,null,"0","0","0",null,"0",null,null,"0","0","0",null,null,null,"0",null,"0","0","0","0","0","0",null,"1 Nov 2024 to 30 Nov 2024","KINDNESS CHINESE MEDICAL CLINIC LIMITED","KINDNESS CHINESE MEDICAL","SOLO","9165130652","CMRXO","3","Local System","EC Connect","3","0","0","0","3","","0","0","0","0","0","0","0","0","0","0","0","0","","3","1","0","0","0","0","0","0","0","0"]
[null,null,"Y","2024-11-01","KINDNESS CHINESE MEDICAL CLINIC LIMITED",null,"SOLO","9165130652","ENCTR","3","EC Connect","EC Connect","3","0","0","0","3",null,null,null,"0","0","0",null,"0",null,null,"0","0","0",null,null,null,"0",null,"0","0","0","0","0","0",null,"1 Nov 2024 to 30 Nov 2024","KINDNESS CHINESE MEDICAL CLINIC LIMITED","KINDNESS CHINESE MEDICAL","SOLO","9165130652","ENCTR","3","Local System","Local System","3","0","0","0","3","","0","0","0","0","0","0","0","0","0","0","0","0","","3","1","0","0","0","0","0","0","0","0"]
[null,null,"Y","2024-11-01","MEDIC-TECH X-RAY & LABORATORY SERVICE",null,"SOLO","1960920902","LABGEN","1","HKMA CMS for LAAM","Local System","5","0","5","0","0",null,null,null,"0","0","0",null,"0",null,null,"0","0","0",null,null,null,"0",null,"0","0","0","0","0","0",null,"1 Nov 2024 to 30 Nov 2024","MEDIC-TECH X-RAY & LABORATORY SERVICE","MEDIC-TECH X-RAY & LAB","SOLO","1960920902","LABGEN","1","CMS5.0 (HKMA)","Local System","5","0","5","0","0","","0","0","0","0","0","0","0","0","0","0","0","0","","0","0","0","0","0","0","0","0","0","0"]
[null,null,"Y","2024-11-01","MAN YEE (TCM) MEDICAL CLINIC LIMITED",null,"GRP","2822145488","ENCTR","3","EC Connect","EC Connect","2","0","0","0","2",null,null,null,"0","0","0",null,"0",null,null,"0","0","0",null,null,null,"0",null,"0","0","0","0","0","0",null,"1 Nov 2024 to 30 Nov 2024","Man Yee (TCM) Medical Clinic Limited","MAN YEE (TCM)","GROUP","2822145488","ENCTR","3","Local System","Local System","2","0","0","0","2","","0","0","0","0","0","0","0","0","0","0","0","0","","2","1","0","0","0","0","0","0","0","0"]
[null,null,"Y","2024-11-01","MAN YEE (TCM) MEDICAL CLINIC LIMITED",null,"GRP","2822145488","CMPROB","3","EC Connect","EC Connect","1","0","0","0","1",null,null,null,"0","0","0",null,"0",null,null,"0","0","0",null,null,null,"0",null,"0","0","0","0","0","0",null,"1 Nov 2024 to 30 Nov 2024","Man Yee (TCM) Medical Clinic Limited","MAN YEE (TCM)","GROUP","2822145488","CMPROB","3","Local System","EC Connect","1","0","0","0","1","","0","0","0","0","0","0","0","0","0","0","0","0","","1","1","0","0","0","0","0","0","0","0"]
[null,null,"Y","2024-11-01","MAN YEE (TCM) MEDICAL CLINIC LIMITED",null,"GRP","2822145488","CMPX","3","EC Connect","EC Connect","1","0","0","0","1",null,null,null,"0","0","0",null,"0",null,null,"0","0","0",null,null,null,"0",null,"0","0","0","0","0","0",null,"1 Nov 2024 to 30 Nov 2024","Man Yee (TCM) Medical Clinic Limited","MAN YEE (TCM)","GROUP","2822145488","CMPX","3","Local System","EC Connect","1","0","0","0","1","","0","0","0","0","0","0","0","0","0","0","0","0","","1","1","0","0","0","0","0","0","0","0"]
[null,null,"Y","2024-12-01","HOSPITAL AUTHORITY",null,"HA","3098159131","LABGEN","3","Enterprise Application Integration (EAI)","Local System","4201002","93","1915","70702","4128292",null,null,null,"21","72","75467",null,"75410",null,null,"73552","1915","0",null,null,null,"0",null,"0","0","0","0","0","0",null,"1 Dec 2024 to 31 Dec 2024","HOSPITAL AUTHORITY","HA","HA","3098159131","LABGEN","3","Enterprise Application Integration (EAI)","Local System","4200986","77","1915","70702","4128292","","77","0.00001832903037525","21","56","75467","0.0179641160432337","75440","0","27","73552","1915","0","","4128292","0.982695967089631","0","0","0","0","0","0","0","0"]
[null,null,"Y","2024-12-01","HOSPITAL AUTHORITY",null,"HA","3098159131","LABMB","3","Enterprise Application Integration (EAI)","Local System","832940","136","2475","110486","719843",null,null,null,"102","34","113143",null,"112336",null,null,"110664","2479","0",null,null,null,"0",null,"0","0","0","0","0","0",null,"1 Dec 2024 to 31 Dec 2024","HOSPITAL AUTHORITY","HA","HA","3098159131","LABMB","3","Enterprise Application Integration (EAI)","Local System","832939","135","2475","110486","719843","","135","0.000162076694691928","102","33","113143","0.135835877537251","112347","0","796","110664","2479","0","","719843","0.864220549163864","0","0","0","0","0","0","0","0"]
[null,null,"Y","2024-12-01","HOSPITAL AUTHORITY",null,"HA","3098159131","MEDCER","1","Enterprise Application Integration (EAI)","Local System","259559","416","259143","0","0",null,null,null,"208","208","0",null,"0",null,null,"0","0","0",null,null,null,"0",null,"0","0","0","0","0","0",null,"1 Dec 2024 to 31 Dec 2024","HOSPITAL AUTHORITY","HA","HA","3098159131","MEDCER","1","Enterprise Application Integration (EAI)","Local System","259351","208","259143","0","0","","208","0.000802001920177674","208","0","0","0","0","0","0","0","0","0","","0","0","0","0","0","0","0","0","0","0"]
[null,null,"Y","2024-12-01","HOSPITAL AUTHORITY",null,"HA","3098159131","OBS","3","Enterprise Application Integration (EAI)","Local System","42721","40","0","0","42681",null,null,null,"28","12","0",null,"0",null,null,"0","0","0",null,null,null,"0",null,"0","0","0","0","0","0",null,"1 Dec 2024 to 31 Dec 2024","HOSPITAL AUTHORITY","HA","HA","3098159131","OBS","3","Enterprise Application Integration (EAI)","Local System","42709","28","0","0","42681","","28","0.000655599522348919","28","0","0","0","0","0","0","0","0","0","","42681","0.999344400477651","0","0","0","0","0","0","0","0"]
[null,null,"Y","2024-12-01","DEPARTMENT OF HEALTH",null,"DH","2438744730","RXO","3","CIMS2","Adaptation","157838","0","0","54100","103738",null,null,null,"0","0","54228",null,"54228",null,null,"54228","0","0",null,null,null,"5",null,"0","0","0","5","0","0",null,"1 Dec 2024 to 31 Dec 2024","DEPARTMENT OF HEALTH","DH","DH","2438744730","RXO","3","CIMS2","Local System","157838","0","0","54100","103738","","0","0","0","0","54228","0.343567455238916","54228","0","0","54228","0","0","","103738","0.657243502832018","5","3.16780496458394E-05","0","0","0","5","0","0"]
[null,null,"Y","2024-12-01","DEPARTMENT OF HEALTH",null,"DH","2438744730","AL1","3","CIMS2","Adaptation","1199","0","0","276","923",null,null,null,"0","0","257",null,"257",null,null,"257","0","0",null,null,null,"0",null,"0","0","0","0","0","0",null,"1 Dec 2024 to 31 Dec 2024","DEPARTMENT OF HEALTH","DH","DH","2438744730","AL1","3","CIMS2","Local System","1199","0","0","276","923","","0","0","0","0","257","0.214345287739783","257","0","0","257","0","0","","923","0.769808173477898","0","0","0","0","0","0","0","0"]
[null,null,"Y","2024-12-01","DEPARTMENT OF HEALTH",null,"DH","2438744730","ADR","3","CIMS2","Adaptation","343","0","0","44","299",null,null,null,"0","0","44",null,"44",null,null,"44","0","0",null,null,null,"0",null,"0","0","0","0","0","0",null,"1 Dec 2024 to 31 Dec 2024","DEPARTMENT OF HEALTH","DH","DH","2438744730","ADR","3","CIMS2","Local System","343","0","0","44","299","","0","0","0","0","44","0.128279883381924","44","0","0","44","0","0","","299","0.871720116618076","0","0","0","0","0","0","0","0"]
[null,null,"Y","2024-12-01","QUALITY HEALTHCARE MEDICAL CENTRE LIMITED",null,"GRP","9265486345","RXD","2","QHMS EMR","Local System","33548","0","0","33548","0",null,null,null,"0","0","0",null,"0",null,null,"0","0","0",null,null,null,"0",null,"0","0","0","0","0","0",null,"1 Dec 2024 to 31 Dec 2024","QUALITY HEALTHCARE MEDICAL CENTRE LIMITED","QHMS","GROUP","9265486345","RXD","2","QHMS EMR","Local System","33548","0","0","33548","0","","0","0","0","0","0","0","0","0","0","0","0","0","","0","0","0","0","0","0","0","0","0","0"]
[null,null,"Y","2024-12-01","QUALITY HEALTHCARE MEDICAL CENTRE LIMITED",null,"GRP","9265486345","ENCTR","3","QHMS EMR","Local System","17328","0","0","0","17328",null,null,null,"0","0","0",null,"0",null,null,"0","0","0",null,null,null,"0",null,"0","0","0","0","0","0",null,"1 Dec 2024 to 31 Dec 2024","QUALITY HEALTHCARE MEDICAL CENTRE LIMITED","QHMS","GROUP","9265486345","ENCTR","3","QHMS EMR","Local System","17328","0","0","0","17328","","0","0","0","0","0","0","0","0","0","0","0","0","","17328","1","0","0","0","0","0","0","0","0"]
[null,null,"Y","2024-12-01","QUALITY HEALTHCARE MEDICAL CENTRE LIMITED",null,"GRP","9265486345","IMMU","2","QHMS EMR","Local System","956","0","0","956","0",null,null,null,"0","0","0",null,"0",null,null,"0","0","0",null,null,null,"0",null,"0","0","0","0","0","0",null,"1 Dec 2024 to 31 Dec 2024","QUALITY HEALTHCARE MEDICAL CENTRE LIMITED","QHMS","GROUP","9265486345","IMMU","2","QHMS EMR","Local System","956","0","0","956","0","","0","0","0","0","0","0","0","0","0","0","0","0","","0","0","0","0","0","0","0","0","0","0"]
[null,null,"Y","2024-12-01","QUALITY HEALTHCARE MEDICAL CENTRE LIMITED",null,"GRP","9265486345","AL1","3,2","QHMS EMR","Local System","363","0","0","363","0",null,null,null,"0","0","343",null,"343",null,null,"343","0","0",null,null,null,"0",null,"0","0","0","0","0","0",null,"1 Dec 2024 to 31 Dec 2024","QUALITY HEALTHCARE MEDICAL CENTRE LIMITED","QHMS","GROUP","9265486345","AL1","3","QHMS EMR","Local System","363","0","0","363","0","","0","0","0","0","343","0.944903581267218","343","0","0","343","0","0","","0","0","0","0","0","0","0","0","0","0"]
[null,null,"Y","2024-12-01","QUALITY HEALTHCARE MEDICAL CENTRE LIMITED",null,"GRP","9761710951","RAD","3","RHI2_QHMS","Local System","710","0","0","0","710",null,null,null,"0","0","0",null,"0",null,null,"0","0","0",null,null,null,"0",null,"0","0","0","0","0","0",null,"1 Dec 2024 to 31 Dec 2024","QUALITY HEALTHCARE MEDICAL CENTRE LIMITED","QHMS","GROUP","9761710951","RAD","3","RHI2_QHMS","Local System","710","0","0","0","710","","0","0","0","0","0","0","0","0","0","0","0","0","","710","1","0","0","0","0","0","0","0","0"]
[null,null,"Y","2024-12-01","HONG KONG ADVENTIST HOSPITAL - TSUEN WAN",null,"PH","8909436562","RAD","3,2","TWAHLAAM","Local System","3627","0","0","0","3627",null,null,null,"0","0","0",null,"0",null,null,"0","0","0",null,null,null,"0",null,"0","0","0","0","0","0",null,"1 Dec 2024 to 31 Dec 2024","HONG KONG ADVENTIST HOSPITAL - TSUEN WAN","HK ADVENTIST - TW","PH","8909436562","RAD","2","TWAHLAAM","Local System","3627","0","0","0","3627","","0","0","0","0","0","0","0","0","0","0","0","0","","3627","1","0","0","0","0","0","0","0","0"]
[null,null,"Y","2024-12-01","HONG KONG ADVENTIST HOSPITAL - TSUEN WAN",null,"PH","8909436562","AL1","3","TWAHLAAM","Adaptation","725","0","0","198","527",null,null,null,"0","0","163",null,"163",null,null,"163","0","0",null,null,null,"0",null,"0","0","0","0","0","0",null,"1 Dec 2024 to 31 Dec 2024","HONG KONG ADVENTIST HOSPITAL - TSUEN WAN","HK ADVENTIST - TW","PH","8909436562","AL1","3","TWAHLAAM","Local System","725","0","0","198","527","","0","0","0","0","163","0.224827586206897","163","0","0","163","0","0","","527","0.726896551724138","0","0","0","0","0","0","0","0"]
[null,null,"Y","2024-12-01","HONG KONG ADVENTIST HOSPITAL - TSUEN WAN",null,"PH","8909436562","ADR","3","TWAHLAAM","Adaptation","65","0","0","8","57",null,null,null,"0","0","8",null,"8",null,null,"8","0","0",null,null,null,"0",null,"0","0","0","0","0","0",null,"1 Dec 2024 to 31 Dec 2024","HONG KONG ADVENTIST HOSPITAL - TSUEN WAN","HK ADVENTIST - TW","PH","8909436562","ADR","3","TWAHLAAM","Local System","65","0","0","8","57","","0","0","0","0","8","0.123076923076923","8","0","0","8","0","0","","57","0.876923076923077","0","0","0","0","0","0","0","0"]
[null,null,"Y","2024-12-01","DEPARTMENT OF HEALTH COVID-19 VACCINATION PROGRAMME",null,"DH","3681219587","IMMU","3","CIMS1","Local System","40192","0","0","0","40192",null,null,null,"0","0","0",null,"0",null,null,"0","0","0",null,null,null,"0",null,"0","0","0","0","0","0",null,"1 Dec 2024 to 31 Dec 2024","Department of Health COVID-19 Vaccination Programme","DH COVID-19 VACCINE PROG.","DH","3681219587","IMMU","3","Local System","Local System","40192","0","0","0","40192","","0","0","0","0","0","0","0","0","0","0","0","0","","40192","1","0","0","0","0","0","0","0","0"]
[null,null,"Y","2024-12-01","DISTRICT HEALTH CENTRE-SHAM SHUI PO (SJS)",null,"DHC","9681600318","ENCTR","3","DHCCMS","Local System","27524","0","0","0","27524",null,null,null,"0","0","0",null,"0",null,null,"0","0","0",null,null,null,"0",null,"0","0","0","0","0","0",null,"1 Dec 2024 to 31 Dec 2024","DISTRICT HEALTH CENTRE-SHAM SHUI PO (SJS)","DHC-SHAM SHUI PO","DHC","9681600318","ENCTR","3","Local System","Local System","27524","0","0","0","27524","","0","0","0","0","0","0","0","0","0","0","0","0","","27524","1","0","0","0","0","0","0","0","0"]
[null,null,"Y","2024-12-01","DISTRICT HEALTH CENTRE-SHAM SHUI PO (SJS)",null,"DHC","9681600318","EPIS","1","DHCCMS","Local System","7400","0","7400","0","0",null,null,null,"0","0","0",null,"0",null,null,"0","0","0",null,null,null,"0",null,"0","0","0","0","0","0",null,"1 Dec 2024 to 31 Dec 2024","DISTRICT HEALTH CENTRE-SHAM SHUI PO (SJS)","DHC-SHAM SHUI PO","DHC","9681600318","EPIS","1","Local System","Local System","7400","0","7400","0","0","","0","0","0","0","0","0","0","0","0","0","0","0","","0","0","0","0","0","0","0","0","0","0"]
[null,null,"Y","2024-12-01","DISTRICT HEALTH CENTRE-SHAM SHUI PO (SJS)",null,"DHC","9681600318","AL1","3","DHCCMS","Local System","10","0","0","1","9",null,null,null,"0","0","1",null,"1",null,null,"1","0","0",null,null,null,"0",null,"0","0","0","0","0","0",null,"1 Dec 2024 to 31 Dec 2024","DISTRICT HEALTH CENTRE-SHAM SHUI PO (SJS)","DHC-SHAM SHUI PO","DHC","9681600318","AL1","3","Local System","Local System","10","0","0","1","9","","0","0","0","0","1","0.1","1","0","0","1","0","0","","9","0.9","0","0","0","0","0","0","0","0"]
[null,null,"Y","2024-12-01","DISTRICT HEALTH CENTRE-SHAM SHUI PO (SJS)",null,"DHC","9681600318","ADR","3","DHCCMS","Local System","2","0","0","0","2",null,null,null,"0","0","0",null,"0",null,null,"0","0","0",null,null,null,"0",null,"0","0","0","0","0","0",null,"1 Dec 2024 to 31 Dec 2024","DISTRICT HEALTH CENTRE-SHAM SHUI PO (SJS)","DHC-SHAM SHUI PO","DHC","9681600318","ADR","3","Local System","Local System","2","0","0","0","2","","0","0","0","0","0","0","0","0","0","0","0","0","","2","1","0","0","0","0","0","0","0","0"]
[null,null,"Y","2024-12-01","DISTRICT HEALTH CENTRE-TUEN MUN (ELCHK)",null,"DHC","6303033042","ENCTR","3","DHCCMS","Local System","26830","0","0","0","26830",null,null,null,"0","0","0",null,"0",null,null,"0","0","0",null,null,null,"0",null,"0","0","0","0","0","0",null,"1 Dec 2024 to 31 Dec 2024","DISTRICT HEALTH CENTRE-TUEN MUN (ELCHK)","DHC-TUEN MUN-CC","DHC","6303033042","ENCTR","3","Local System","Local System","26830","0","0","0","26830","","0","0","0","0","0","0","0","0","0","0","0","0","","26830","1","0","0","0","0","0","0","0","0"]
[null,null,"Y","2024-12-01","DISTRICT HEALTH CENTRE-TUEN MUN (ELCHK)",null,"DHC","6303033042","EPIS","1","DHCCMS","Local System","7770","0","7770","0","0",null,null,null,"0","0","0",null,"0",null,null,"0","0","0",null,null,null,"0",null,"0","0","0","0","0","0",null,"1 Dec 2024 to 31 Dec 2024","DISTRICT HEALTH CENTRE-TUEN MUN (ELCHK)","DHC-TUEN MUN-CC","DHC","6303033042","EPIS","1","Local System","Local System","7770","0","7770","0","0","","0","0","0","0","0","0","0","0","0","0","0","0","","0","0","0","0","0","0","0","0","0","0"]
[null,null,"Y","2024-12-01","DISTRICT HEALTH CENTRE-TUEN MUN (ELCHK)",null,"DHC","6303033042","AL1","3","DHCCMS","Local System","12","0","0","0","12",null,null,null,"0","0","0",null,"0",null,null,"0","0","0",null,null,null,"0",null,"0","0","0","0","0","0",null,"1 Dec 2024 to 31 Dec 2024","DISTRICT HEALTH CENTRE-TUEN MUN (ELCHK)","DHC-TUEN MUN-CC","DHC","6303033042","AL1","3","Local System","Local System","12","0","0","0","12","","0","0","0","0","0","0","0","0","0","0","0","0","","12","1","0","0","0","0","0","0","0","0"]
[null,null,"Y","2024-12-01","DISTRICT HEALTH CENTRE-TUEN MUN (ELCHK)",null,"DHC","6303033042","ADR","3","DHCCMS","Local System","2","0","0","0","2",null,null,null,"0","0","0",null,"0",null,null,"0","0","0",null,null,null,"0",null,"0","0","0","0","0","0",null,"1 Dec 2024 to 31 Dec 2024","DISTRICT HEALTH CENTRE-TUEN MUN (ELCHK)","DHC-TUEN MUN-CC","DHC","6303033042","ADR","3","Local System","Local System","2","0","0","0","2","","0","0","0","0","0","0","0","0","0","0","0","0","","2","1","0","0","0","0","0","0","0","0"]
[null,null,"Y","2024-12-01","DISTRICT HEALTH CENTRE-YUEN LONG (POH)",null,"DHC","7218241485","ENCTR","3","DHCCMS","Local System","17632","0","0","0","17632",null,null,null,"0","0","0",null,"0",null,null,"0","0","0",null,null,null,"0",null,"0","0","0","0","0","0",null,"1 Dec 2024 to 31 Dec 2024","DISTRICT HEALTH CENTRE-YUEN LONG (POH)","DHC-YUEN LONG","DHC","7218241485","ENCTR","3","Local System","Local System","17632","0","0","0","17632","","0","0","0","0","0","0","0","0","0","0","0","0","","17632","1","0","0","0","0","0","0","0","0"]
[null,null,"Y","2024-12-01","DISTRICT HEALTH CENTRE-YUEN LONG (POH)",null,"DHC","7218241485","EPIS","1","DHCCMS","Local System","10110","0","10110","0","0",null,null,null,"0","0","0",null,"0",null,null,"0","0","0",null,null,null,"0",null,"0","0","0","0","0","0",null,"1 Dec 2024 to 31 Dec 2024","DISTRICT HEALTH CENTRE-YUEN LONG (POH)","DHC-YUEN LONG","DHC","7218241485","EPIS","1","Local System","Local System","10110","0","10110","0","0","","0","0","0","0","0","0","0","0","0","0","0","0","","0","0","0","0","0","0","0","0","0","0"]
[null,null,"Y","2024-12-01","DISTRICT HEALTH CENTRE-YUEN LONG (POH)",null,"DHC","7218241485","AL1","3","DHCCMS","Local System","9","0","0","0","9",null,null,null,"0","0","0",null,"0",null,null,"0","0","0",null,null,null,"0",null,"0","0","0","0","0","0",null,"1 Dec 2024 to 31 Dec 2024","DISTRICT HEALTH CENTRE-YUEN LONG (POH)","DHC-YUEN LONG","DHC","7218241485","AL1","3","Local System","Local System","9","0","0","0","9","","0","0","0","0","0","0","0","0","0","0","0","0","","9","1","0","0","0","0","0","0","0","0"]
[null,null,"Y","2024-12-01","DISTRICT HEALTH CENTRE-YUEN LONG (POH)",null,"DHC","7218241485","ADR","3","DHCCMS","Local System","1","0","0","0","1",null,null,null,"0","0","0",null,"0",null,null,"0","0","0",null,null,null,"0",null,"0","0","0","0","0","0",null,"1 Dec 2024 to 31 Dec 2024","DISTRICT HEALTH CENTRE-YUEN LONG (POH)","DHC-YUEN LONG","DHC","7218241485","ADR","3","Local System","Local System","1","0","0","0","1","","0","0","0","0","0","0","0","0","0","0","0","0","","1","1","0","0","0","0","0","0","0","0"]
[null,null,"Y","2024-12-01","DISTRICT HEALTH CENTRE-WONG TAI SIN (HKSKHWCL)",null,"DHC","4437392776","ENCTR","3","DHCCMS","Local System","18772","0","0","0","18772",null,null,null,"0","0","0",null,"0",null,null,"0","0","0",null,null,null,"0",null,"0","0","0","0","0","0",null,"1 Dec 2024 to 31 Dec 2024","DISTRICT HEALTH CENTRE-WONG TAI SIN (HKSKHWCL)","DHC-WONG TAI SIN","DHC","4437392776","ENCTR","3","Local System","Local System","18772","0","0","0","18772","","0","0","0","0","0","0","0","0","0","0","0","0","","18772","1","0","0","0","0","0","0","0","0"]
[null,null,"Y","2024-12-01","DISTRICT HEALTH CENTRE-WONG TAI SIN (HKSKHWCL)",null,"DHC","4437392776","EPIS","1","DHCCMS","Local System","8336","0","8336","0","0",null,null,null,"0","0","0",null,"0",null,null,"0","0","0",null,null,null,"0",null,"0","0","0","0","0","0",null,"1 Dec 2024 to 31 Dec 2024","DISTRICT HEALTH CENTRE-WONG TAI SIN (HKSKHWCL)","DHC-WONG TAI SIN","DHC","4437392776","EPIS","1","Local System","Local System","8336","0","8336","0","0","","0","0","0","0","0","0","0","0","0","0","0","0","","0","0","0","0","0","0","0","0","0","0"]
[null,null,"Y","2024-12-01","DISTRICT HEALTH CENTRE-WONG TAI SIN (HKSKHWCL)",null,"DHC","4437392776","AL1","3","DHCCMS","Local System","20","0","0","4","16",null,null,null,"0","0","2",null,"2",null,null,"2","0","0",null,null,null,"0",null,"0","0","0","0","0","0",null,"1 Dec 2024 to 31 Dec 2024","DISTRICT HEALTH CENTRE-WONG TAI SIN (HKSKHWCL)","DHC-WONG TAI SIN","DHC","4437392776","AL1","3","Local System","Local System","20","0","0","4","16","","0","0","0","0","2","0.1","2","0","0","2","0","0","","16","0.8","0","0","0","0","0","0","0","0"]
[null,null,"Y","2024-12-01","DISTRICT HEALTH CENTRE-WONG TAI SIN (HKSKHWCL)",null,"DHC","4437392776","ADR","3","DHCCMS","Local System","1","0","0","0","1",null,null,null,"0","0","0",null,"0",null,null,"0","0","0",null,null,null,"0",null,"0","0","0","0","0","0",null,"1 Dec 2024 to 31 Dec 2024","DISTRICT HEALTH CENTRE-WONG TAI SIN (HKSKHWCL)","DHC-WONG TAI SIN","DHC","4437392776","ADR","3","Local System","Local System","1","0","0","0","1","","0","0","0","0","0","0","0","0","0","0","0","0","","1","1","0","0","0","0","0","0","0","0"]
[null,null,"Y","2024-12-01","DISTRICT HEALTH CENTRE-SOUTHERN (AKA)",null,"DHC","8900325933","ENCTR","3","DHCCMS","Local System","21974","0","0","0","21974",null,null,null,"0","0","0",null,"0",null,null,"0","0","0",null,null,null,"0",null,"0","0","0","0","0","0",null,"1 Dec 2024 to 31 Dec 2024","DISTRICT HEALTH CENTRE-SOUTHERN (AKA)","DHC-SOUTHERN","DHC","8900325933","ENCTR","3","Local System","Local System","21974","0","0","0","21974","","0","0","0","0","0","0","0","0","0","0","0","0","","21974","1","0","0","0","0","0","0","0","0"]
[null,null,"Y","2024-12-01","DISTRICT HEALTH CENTRE-SOUTHERN (AKA)",null,"DHC","8900325933","EPIS","1","DHCCMS","Local System","2836","0","2836","0","0",null,null,null,"0","0","0",null,"0",null,null,"0","0","0",null,null,null,"0",null,"0","0","0","0","0","0",null,"1 Dec 2024 to 31 Dec 2024","DISTRICT HEALTH CENTRE-SOUTHERN (AKA)","DHC-SOUTHERN","DHC","8900325933","EPIS","1","Local System","Local System","2836","0","2836","0","0","","0","0","0","0","0","0","0","0","0","0","0","0","","0","0","0","0","0","0","0","0","0","0"]
[null,null,"Y","2024-12-01","DISTRICT HEALTH CENTRE-SOUTHERN (AKA)",null,"DHC","8900325933","AL1","3","DHCCMS","Local System","1","0","0","0","1",null,null,null,"0","0","0",null,"0",null,null,"0","0","0",null,null,null,"0",null,"0","0","0","0","0","0",null,"1 Dec 2024 to 31 Dec 2024","DISTRICT HEALTH CENTRE-SOUTHERN (AKA)","DHC-SOUTHERN","DHC","8900325933","AL1","3","Local System","Local System","1","0","0","0","1","","0","0","0","0","0","0","0","0","0","0","0","0","","1","1","0","0","0","0","0","0","0","0"]
[null,null,"Y","2024-12-01","HKSH MEDICAL GROUP LIMITED",null,"PH","4773496701","RAD","3,2","HKSH e-HR gateway","Local System","3702","0","0","0","3702",null,null,null,"0","0","0",null,"0",null,null,"0","0","0",null,null,null,"0",null,"0","0","0","0","0","0",null,"1 Dec 2024 to 31 Dec 2024","HKSH Medical Group Limited","HKSH MEDICAL FROUP","PH","4773496701","RAD","3","HKSH e-HR gateway","Local System","3702","0","0","0","3702","","0","0","0","0","0","0","0","0","0","0","0","0","","3702","1","0","0","0","0","0","0","0","0"]
[null,null,"Y","2024-12-01","DISTRICT HEALTH CENTRE-KWAI TSING (KTSCHCA)",null,"DHC","3040418583","ENCTR","3","DHCCMS","Local System","18442","0","0","0","18442",null,null,null,"0","0","0",null,"0",null,null,"0","0","0",null,null,null,"0",null,"0","0","0","0","0","0",null,"1 Dec 2024 to 31 Dec 2024","DISTRICT HEALTH CENTRE-KWAI TSING (KTSCHCA)","DHC-KWAI TSING","DHC","3040418583","ENCTR","3","Local System","Local System","18442","0","0","0","18442","","0","0","0","0","0","0","0","0","0","0","0","0","","18442","1","0","0","0","0","0","0","0","0"]
[null,null,"Y","2024-12-01","DISTRICT HEALTH CENTRE-KWAI TSING (KTSCHCA)",null,"DHC","3040418583","EPIS","1","DHCCMS","Local System","3116","0","3116","0","0",null,null,null,"0","0","0",null,"0",null,null,"0","0","0",null,null,null,"0",null,"0","0","0","0","0","0",null,"1 Dec 2024 to 31 Dec 2024","DISTRICT HEALTH CENTRE-KWAI TSING (KTSCHCA)","DHC-KWAI TSING","DHC","3040418583","EPIS","1","Local System","Local System","3116","0","3116","0","0","","0","0","0","0","0","0","0","0","0","0","0","0","","0","0","0","0","0","0","0","0","0","0"]
[null,null,"Y","2024-12-01","HONG KONG BAPTIST HOSPITAL",null,"PH","3650324540","RAD","3,2","Trakcare","Local System","4293","0","0","0","4293",null,null,null,"0","0","0",null,"0",null,null,"0","0","0",null,null,null,"0",null,"0","0","0","0","0","0",null,"1 Dec 2024 to 31 Dec 2024","HONG KONG BAPTIST HOSPITAL","HK BAPTIST HOSPITAL","PH","3650324540","RAD","3","Trakcare","Local System","4293","0","0","0","4293","","0","0","0","0","0","0","0","0","0","0","0","0","","4293","1","0","0","0","0","0","0","0","0"]
[null,null,"Y","2024-12-01","HONG KONG BAPTIST HOSPITAL",null,"PH","3650324540","AL1","3","Trakcare","Local System","1805","2","0","1123","680",null,null,null,"1","1","1108",null,"1108",null,null,"1108","0","0",null,null,null,"0",null,"0","0","0","0","0","0",null,"1 Dec 2024 to 31 Dec 2024","HONG KONG BAPTIST HOSPITAL","HK BAPTIST HOSPITAL","PH","3650324540","AL1","3","Trakcare","Local System","1804","1","0","1123","680","","1","0.000554323725055432","1","0","1108","0.614190687361419","1108","0","0","1108","0","0","","680","0.376940133037694","0","0","0","0","0","0","0","0"]
[null,null,"Y","2024-12-01","HONG KONG BAPTIST HOSPITAL",null,"PH","4480228848","RXD","3,2","CMS On-ramp","CMS On-ramp","657","0","0","54","603",null,null,null,"0","0","0",null,"0",null,null,"0","0","0",null,null,null,"0",null,"0","0","0","0","0","0",null,"1 Dec 2024 to 31 Dec 2024","HONG KONG BAPTIST HOSPITAL (COMMUNITY CLINIC)","HK BAPTIST HOSPITAL","PH","4480228848","RXD","3","Onramp","Local System","657","0","0","54","603","","0","0","0","0","0","0","0","0","0","0","0","0","","603","0.917808219178082","0","0","0","0","0","0","0","0"]
[null,null,"Y","2024-12-01","HONG KONG BAPTIST HOSPITAL",null,"PH","4480228848","RXO","3,2","CMS On-ramp","CMS On-ramp","657","0","0","54","603",null,null,null,"0","0","0",null,"0",null,null,"0","0","0",null,null,null,"0",null,"0","0","0","0","0","0",null,"1 Dec 2024 to 31 Dec 2024","HONG KONG BAPTIST HOSPITAL (COMMUNITY CLINIC)","HK BAPTIST HOSPITAL","PH","4480228848","RXO","3","Onramp","Local System","657","0","0","54","603","","0","0","0","0","0","0","0","0","0","0","0","0","","603","0.917808219178082","0","0","0","0","0","0","0","0"]
[null,null,"Y","2024-12-01","HONG KONG BAPTIST HOSPITAL",null,"PH","4480228848","PROB","3,2","CMS On-ramp","CMS On-ramp","181","0","0","10","171",null,null,null,"0","0","0",null,"0",null,null,"0","0","0",null,null,null,"0",null,"0","0","0","0","0","0",null,"1 Dec 2024 to 31 Dec 2024","HONG KONG BAPTIST HOSPITAL (COMMUNITY CLINIC)","HK BAPTIST HOSPITAL","PH","4480228848","PROB","3","Onramp","Local System","181","0","0","10","171","","0","0","0","0","0","0","0","0","0","0","0","0","","171","0.94475138121547","0","0","0","0","0","0","0","0"]
[null,null,"Y","2024-12-01","HONG KONG BAPTIST HOSPITAL",null,"PH","4480228848","ENCTR","3","CMS On-ramp","CMS On-ramp","149","0","0","0","149",null,null,null,"0","0","0",null,"0",null,null,"0","0","0",null,null,null,"0",null,"0","0","0","0","0","0",null,"1 Dec 2024 to 31 Dec 2024","HONG KONG BAPTIST HOSPITAL (COMMUNITY CLINIC)","HK BAPTIST HOSPITAL","PH","4480228848","ENCTR","3","Onramp","Local System","149","0","0","0","149","","0","0","0","0","0","0","0","0","0","0","0","0","","149","1","0","0","0","0","0","0","0","0"]
[null,null,"Y","2024-12-01","HONG KONG BAPTIST HOSPITAL",null,"PH","4480228848","IMMU","3,2","CMS On-ramp","CMS On-ramp","5","0","0","0","5",null,null,null,"0","0","0",null,"0",null,null,"0","0","0",null,null,null,"0",null,"0","0","0","0","0","0",null,"1 Dec 2024 to 31 Dec 2024","HONG KONG BAPTIST HOSPITAL (COMMUNITY CLINIC)","HK BAPTIST HOSPITAL","PH","4480228848","IMMU","3","Onramp","Local System","5","0","0","0","5","","0","0","0","0","0","0","0","0","0","0","0","0","","5","1","0","0","0","0","0","0","0","0"]
[null,null,"Y","2024-12-01","DISTRICT HEALTH CENTRE-TSUEN WAN (YCHB)",null,"DHC","9043776781","ENCTR","3","DHCCMS","Local System","12666","0","0","0","12666",null,null,null,"0","0","0",null,"0",null,null,"0","0","0",null,null,null,"0",null,"0","0","0","0","0","0",null,"1 Dec 2024 to 31 Dec 2024","DISTRICT HEALTH CENTRE-TSUEN WAN (YCHB)","DHC-TSUEN WAN","DHC","9043776781","ENCTR","3","Local System","Local System","12666","0","0","0","12666","","0","0","0","0","0","0","0","0","0","0","0","0","","12666","1","0","0","0","0","0","0","0","0"]
[null,null,"Y","2024-12-01","DISTRICT HEALTH CENTRE-TSUEN WAN (YCHB)",null,"DHC","9043776781","EPIS","1","DHCCMS","Local System","7911","0","7911","0","0",null,null,null,"0","0","0",null,"0",null,null,"0","0","0",null,null,null,"0",null,"0","0","0","0","0","0",null,"1 Dec 2024 to 31 Dec 2024","DISTRICT HEALTH CENTRE-TSUEN WAN (YCHB)","DHC-TSUEN WAN","DHC","9043776781","EPIS","1","Local System","Local System","7911","0","7911","0","0","","0","0","0","0","0","0","0","0","0","0","0","0","","0","0","0","0","0","0","0","0","0","0"]
[null,null,"Y","2024-12-01","ST. TERESA'S HOSPITAL",null,"PH","7969980015","RXD","3","STH HIS","Local System","12986","18","0","454","12514",null,null,null,"9","9","454",null,"454",null,null,"454","0","0",null,null,null,"0",null,"0","0","0","0","0","0",null,"1 Dec 2024 to 31 Dec 2024","ST.TERESA's HOSPITAL","STH","PH","7969980015","RXD","3","STH HIS","Local System","12977","9","0","454","12514","","9","0.00069353471526547","9","0","454","0.0349849734145026","454","0","0","454","0","0","","12514","0.964321491870232","0","0","0","0","0","0","0","0"]
[null,null,"Y","2024-12-01","ST. TERESA'S HOSPITAL",null,"PH","7969980015","RAD","3","STH HIS","Local System","4563","0","0","0","4563",null,null,null,"0","0","0",null,"0",null,null,"0","0","0",null,null,null,"0",null,"0","0","0","0","0","0",null,"1 Dec 2024 to 31 Dec 2024","ST.TERESA's HOSPITAL","STH","PH","7969980015","RAD","3","STH HIS","Local System","4563","0","0","0","4563","","0","0","0","0","0","0","0","0","0","0","0","0","","4563","1","0","0","0","0","0","0","0","0"]
[null,null,"Y","2024-12-01","ST. TERESA'S HOSPITAL",null,"PH","7969980015","EPIS","1","STH HIS","Local System","1400","0","1400","0","0",null,null,null,"0","0","0",null,"0",null,null,"0","0","0",null,null,null,"0",null,"0","0","0","0","0","0",null,"1 Dec 2024 to 31 Dec 2024","ST.TERESA's HOSPITAL","STH","PH","7969980015","EPIS","1","STH HIS","Local System","1400","0","1400","0","0","","0","0","0","0","0","0","0","0","0","0","0","0","","0","0","0","0","0","0","0","0","0","0"]
[null,null,"Y","2024-12-01","ST. TERESA'S HOSPITAL",null,"PH","7969980015","LABAP","1","STH HIS","Local System","870","0","870","0","0",null,null,null,"0","0","0",null,"0",null,null,"0","0","0",null,null,null,"0",null,"0","0","0","0","0","0",null,"1 Dec 2024 to 31 Dec 2024","ST.TERESA's HOSPITAL","STH","PH","7969980015","LABAP","1","STH HIS","Local System","870","0","870","0","0","","0","0","0","0","0","0","0","0","0","0","0","0","","0","0","0","0","0","0","0","0","0","0"]
[null,null,"Y","2024-12-01","ST. TERESA'S HOSPITAL",null,"PH","7969980015","AL1","3","STH HIS","Local System","350","0","0","113","237",null,null,null,"0","0","106",null,"106",null,null,"106","0","0",null,null,null,"0",null,"0","0","0","0","0","0",null,"1 Dec 2024 to 31 Dec 2024","ST.TERESA's HOSPITAL","STH","PH","7969980015","AL1","3","STH HIS","Local System","350","0","0","113","237","","0","0","0","0","106","0.302857142857143","106","0","0","106","0","0","","237","0.677142857142857","0","0","0","0","0","0","0","0"]
[null,null,"Y","2024-12-01","ST. TERESA'S HOSPITAL",null,"PH","7969980015","ADR","3","STH HIS","Local System","17","0","0","2","15",null,null,null,"0","0","3",null,"3",null,null,"3","0","0",null,null,null,"0",null,"0","0","0","0","0","0",null,"1 Dec 2024 to 31 Dec 2024","ST.TERESA's HOSPITAL","STH","PH","7969980015","ADR","3","STH HIS","Local System","17","0","0","2","15","","0","0","0","0","3","0.176470588235294","3","0","0","3","0","0","","15","0.882352941176471","0","0","0","0","0","0","0","0"]
[null,null,"Y","2024-12-01","ST. TERESA'S HOSPITAL",null,"PH","7969980015","BIRTH","3","STH HIS","Local System","7","0","0","0","7",null,null,null,"0","0","0",null,"0",null,null,"0","0","0",null,null,null,"0",null,"0","0","0","0","0","0",null,"1 Dec 2024 to 31 Dec 2024","ST.TERESA's HOSPITAL","STH","PH","7969980015","BIRTH","3","STH HIS","Local System","7","0","0","0","7","","0","0","0","0","0","0","0","0","0","0","0","0","","7","1","0","0","0","0","0","0","0","0"]
[null,null,"Y","2024-12-01","ST. PAUL'S HOSPITAL",null,"PH","5156724947","AL1","3","SPH HIS","Adaptation","297","0","0","151","146",null,null,null,"0","0","116",null,"116",null,null,"116","0","0",null,null,null,"0",null,"0","0","0","0","0","0",null,"1 Dec 2024 to 31 Dec 2024","ST. PAUL'S HOSPITAL","SPH","PH","5156724947","AL1","3","SPH HIS","Local System","297","0","0","151","146","","0","0","0","0","116","0.390572390572391","116","0","0","116","0","0","","146","0.491582491582492","0","0","0","0","0","0","0","0"]
[null,null,"Y","2024-12-01","ST. PAUL'S HOSPITAL",null,"PH","5156724947","ADR","3","SPH HIS","Adaptation","25","0","0","2","23",null,null,null,"0","0","2",null,"2",null,null,"2","0","0",null,null,null,"0",null,"0","0","0","0","0","0",null,"1 Dec 2024 to 31 Dec 2024","ST. PAUL'S HOSPITAL","SPH","PH","5156724947","ADR","3","SPH HIS","Local System","25","0","0","2","23","","0","0","0","0","2","0.08","2","0","0","2","0","0","","23","0.92","0","0","0","0","0","0","0","0"]
[null,null,"Y","2024-12-01","KINGMED DIAGNOSTICS (HONG KONG) LIMITED",null,"GRP","3150524068","LABGEN","3","PLDMS","Local System","8336","0","1005","6811","520",null,null,null,"0","0","6815",null,"6815",null,null,"6811","4","0",null,null,null,"0",null,"0","0","0","0","0","0",null,"1 Dec 2024 to 31 Dec 2024","KingMed Diagnostics (Hong Kong) Limited","KINGMED DIAGNOSTICS (HK)","GROUP","3150524068","LABGEN","3","Pathways Laboratory Information System","Local System","8336","0","1005","6811","520","","0","0","0","0","6815","0.817538387715931","6815","0","0","6811","4","0","","520","0.0623800383877159","0","0","0","0","0","0","0","0"]
[null,null,"Y","2024-12-01","18 CHINESE MEDICINE CLINIC CUM TRAINING AND RESEARCH CENTRE (POK OI HOSPITAL)",null,"NGO","6758313621","CMPROB","3","HA CMIS","Local System","3045","0","0","968","2077",null,null,null,"0","0","507",null,"507",null,null,"507","0","0",null,null,null,"0",null,"0","0","0","0","0","0",null,"1 Dec 2024 to 31 Dec 2024","18 Chinese Medicine Clinic cum Traing and Research Centre (Pok Oi Hospital)","18CMCTRs (POH)","NGO","6758313621","CMPROB","3","Local System","EC Connect","3045","0","0","968","2077","","0","0","0","0","507","0.166502463054187","507","0","0","507","0","0","","2077","0.682101806239737","0","0","0","0","0","0","0","0"]
[null,null,"Y","2024-12-01","18 CHINESE MEDICINE CLINIC CUM TRAINING AND RESEARCH CENTRE (POK OI HOSPITAL)",null,"NGO","6758313621","ENCTR","3","HA CMIS","Local System","2520","0","0","0","2520",null,null,null,"0","0","0",null,"0",null,null,"0","0","0",null,null,null,"0",null,"0","0","0","0","0","0",null,"1 Dec 2024 to 31 Dec 2024","18 Chinese Medicine Clinic cum Traing and Research Centre (Pok Oi Hospital)","18CMCTRs (POH)","NGO","6758313621","ENCTR","3","Local System","Local System","2520","0","0","0","2520","","0","0","0","0","0","0","0","0","0","0","0","0","","2520","1","0","0","0","0","0","0","0","0"]
[null,null,"Y","2024-12-01","18 CHINESE MEDICINE CLINIC CUM TRAINING AND RESEARCH CENTRE (POK OI HOSPITAL)",null,"NGO","6758313621","CMRXO","3","HA CMIS","Local System","1401","0","0","380","1021",null,null,null,"0","0","380",null,"380",null,null,"380","0","0",null,null,null,"0",null,"0","0","0","0","0","0",null,"1 Dec 2024 to 31 Dec 2024","18 Chinese Medicine Clinic cum Traing and Research Centre (Pok Oi Hospital)","18CMCTRs (POH)","NGO","6758313621","CMRXO","3","Local System","EC Connect","1401","0","0","380","1021","","0","0","0","0","380","0.27123483226267","380","0","0","380","0","0","","1021","0.72876516773733","0","0","0","0","0","0","0","0"]
[null,null,"Y","2024-12-01","18 CHINESE MEDICINE CLINIC CUM TRAINING AND RESEARCH CENTRE (POK OI HOSPITAL)",null,"NGO","6758313621","CMPX","3","HA CMIS","Local System","852","0","0","26","826",null,null,null,"0","0","26",null,"26",null,null,"26","0","0",null,null,null,"0",null,"0","0","0","0","0","0",null,"1 Dec 2024 to 31 Dec 2024","18 Chinese Medicine Clinic cum Traing and Research Centre (Pok Oi Hospital)","18CMCTRs (POH)","NGO","6758313621","CMPX","3","Local System","EC Connect","852","0","0","26","826","","0","0","0","0","26","0.0305164319248826","26","0","0","26","0","0","","826","0.969483568075117","0","0","0","0","0","0","0","0"]
[null,null,"Y","2024-12-01","DHC EXPRESS-WAN CHAI (MC)",null,"DHC","9421690548","ENCTR","3","DHCCMS","Local System","5024","0","0","0","5024",null,null,null,"0","0","0",null,"0",null,null,"0","0","0",null,null,null,"0",null,"0","0","0","0","0","0",null,"1 Dec 2024 to 31 Dec 2024","DHC EXPRESS-WAN CHAI (MC)","DHC EXPRESS-WAN CHAI-CC","DHC","9421690548","ENCTR","3","Local System","Local System","5024","0","0","0","5024","","0","0","0","0","0","0","0","0","0","0","0","0","","5024","1","0","0","0","0","0","0","0","0"]
[null,null,"Y","2024-12-01","DHC EXPRESS-WAN CHAI (MC)",null,"DHC","9421690548","EPIS","1","DHCCMS","Local System","1348","0","1348","0","0",null,null,null,"0","0","0",null,"0",null,null,"0","0","0",null,null,null,"0",null,"0","0","0","0","0","0",null,"1 Dec 2024 to 31 Dec 2024","DHC EXPRESS-WAN CHAI (MC)","DHC EXPRESS-WAN CHAI-CC","DHC","9421690548","EPIS","1","Local System","Local System","1348","0","1348","0","0","","0","0","0","0","0","0","0","0","0","0","0","0","","0","0","0","0","0","0","0","0","0","0"]
[null,null,"Y","2024-12-01","DHC EXPRESS-WAN CHAI (MC)",null,"DHC","9421690548","AL1","3","DHCCMS","Local System","3","0","0","0","3",null,null,null,"0","0","0",null,"0",null,null,"0","0","0",null,null,null,"0",null,"0","0","0","0","0","0",null,"1 Dec 2024 to 31 Dec 2024","DHC EXPRESS-WAN CHAI (MC)","DHC EXPRESS-WAN CHAI-CC","DHC","9421690548","AL1","3","Local System","Local System","3","0","0","0","3","","0","0","0","0","0","0","0","0","0","0","0","0","","3","1","0","0","0","0","0","0","0","0"]
[null,null,"Y","2024-12-01","18 CHINESE MEDICINE CLINIC CUM TRAINING AND RESEARCH CENTRE (TUNG WAH GROUP OF HOSPITALS)",null,"NGO","5249502353","CMPROB","3","HA CMIS","Local System","2543","0","0","664","1879",null,null,null,"0","0","365",null,"365",null,null,"365","0","0",null,null,null,"0",null,"0","0","0","0","0","0",null,"1 Dec 2024 to 31 Dec 2024","18 Chinese Medicine Clinic cum Traing and Research Centre (Tung Wah Group of Hospital)","18CMCTRs(TWGHS)","NGO","5249502353","CMPROB","3","Local System","EC Connect","2543","0","0","664","1879","","0","0","0","0","365","0.143531262288635","365","0","0","365","0","0","","1879","0.738891073535195","0","0","0","0","0","0","0","0"]
[null,null,"Y","2024-12-01","18 CHINESE MEDICINE CLINIC CUM TRAINING AND RESEARCH CENTRE (TUNG WAH GROUP OF HOSPITALS)",null,"NGO","5249502353","ENCTR","3","HA CMIS","Local System","2163","0","0","0","2163",null,null,null,"0","0","0",null,"0",null,null,"0","0","0",null,null,null,"0",null,"0","0","0","0","0","0",null,"1 Dec 2024 to 31 Dec 2024","18 Chinese Medicine Clinic cum Traing and Research Centre (Tung Wah Group of Hospital)","18CMCTRs(TWGHS)","NGO","5249502353","ENCTR","3","Local System","Local System","2163","0","0","0","2163","","0","0","0","0","0","0","0","0","0","0","0","0","","2163","1","0","0","0","0","0","0","0","0"]
[null,null,"Y","2024-12-01","18 CHINESE MEDICINE CLINIC CUM TRAINING AND RESEARCH CENTRE (TUNG WAH GROUP OF HOSPITALS)",null,"NGO","5249502353","CMRXO","3","HA CMIS","Local System","1016","0","0","257","759",null,null,null,"0","0","257",null,"257",null,null,"257","0","0",null,null,null,"0",null,"0","0","0","0","0","0",null,"1 Dec 2024 to 31 Dec 2024","18 Chinese Medicine Clinic cum Traing and Research Centre (Tung Wah Group of Hospital)","18CMCTRs(TWGHS)","NGO","5249502353","CMRXO","3","Local System","EC Connect","1016","0","0","257","759","","0","0","0","0","257","0.252952755905512","257","0","0","257","0","0","","759","0.747047244094488","0","0","0","0","0","0","0","0"]
[null,null,"Y","2024-12-01","18 CHINESE MEDICINE CLINIC CUM TRAINING AND RESEARCH CENTRE (TUNG WAH GROUP OF HOSPITALS)",null,"NGO","5249502353","CMPX","3","HA CMIS","Local System","626","0","0","0","626",null,null,null,"0","0","0",null,"0",null,null,"0","0","0",null,null,null,"0",null,"0","0","0","0","0","0",null,"1 Dec 2024 to 31 Dec 2024","18 Chinese Medicine Clinic cum Traing and Research Centre (Tung Wah Group of Hospital)","18CMCTRs(TWGHS)","NGO","5249502353","CMPX","3","Local System","EC Connect","626","0","0","0","626","","0","0","0","0","0","0","0","0","0","0","0","0","","626","1","0","0","0","0","0","0","0","0"]
[null,null,"Y","2024-12-01","DHC EXPRESS-SHA TIN (HKSR)",null,"DHC","3628187450","ENCTR","3","DHCCMS","Local System","3901","0","0","0","3901",null,null,null,"0","0","0",null,"0",null,null,"0","0","0",null,null,null,"0",null,"0","0","0","0","0","0",null,"1 Dec 2024 to 31 Dec 2024","DHC EXPRESS-SHA TIN (HKSR)","DHC EXPRESS-SHA TIN-CC","DHC","3628187450","ENCTR","3","Local System","Local System","3901","0","0","0","3901","","0","0","0","0","0","0","0","0","0","0","0","0","","3901","1","0","0","0","0","0","0","0","0"]
[null,null,"Y","2024-12-01","DHC EXPRESS-SHA TIN (HKSR)",null,"DHC","3628187450","EPIS","1","DHCCMS","Local System","2361","0","2361","0","0",null,null,null,"0","0","0",null,"0",null,null,"0","0","0",null,null,null,"0",null,"0","0","0","0","0","0",null,"1 Dec 2024 to 31 Dec 2024","DHC EXPRESS-SHA TIN (HKSR)","DHC EXPRESS-SHA TIN-CC","DHC","3628187450","EPIS","1","Local System","Local System","2361","0","2361","0","0","","0","0","0","0","0","0","0","0","0","0","0","0","","0","0","0","0","0","0","0","0","0","0"]
[null,null,"Y","2024-12-01","DHC EXPRESS-SHA TIN (HKSR)",null,"DHC","3628187450","ADR","3","DHCCMS","Local System","1","0","0","0","1",null,null,null,"0","0","0",null,"0",null,null,"0","0","0",null,null,null,"0",null,"0","0","0","0","0","0",null,"1 Dec 2024 to 31 Dec 2024","DHC EXPRESS-SHA TIN (HKSR)","DHC EXPRESS-SHA TIN-CC","DHC","3628187450","ADR","3","Local System","Local System","1","0","0","0","1","","0","0","0","0","0","0","0","0","0","0","0","0","","1","1","0","0","0","0","0","0","0","0"]
[null,null,"Y","2024-12-01","18 CHINESE MEDICINE CLINIC CUM TRAINING AND RESEARCH CENTRE (HAVEN OF HOPE)",null,"NGO","3237753992","ENCTR","3","HA CMIS","Local System","2178","0","0","0","2178",null,null,null,"0","0","0",null,"0",null,null,"0","0","0",null,null,null,"0",null,"0","0","0","0","0","0",null,"1 Dec 2024 to 31 Dec 2024","18 Chinese Medicine Clinic cum Traing and Research Centre (Haven of Hope)","18CMCTRs(HOHCS)","NGO","3237753992","ENCTR","3","Local System","Local System","2178","0","0","0","2178","","0","0","0","0","0","0","0","0","0","0","0","0","","2178","1","0","0","0","0","0","0","0","0"]
[null,null,"Y","2024-12-01","18 CHINESE MEDICINE CLINIC CUM TRAINING AND RESEARCH CENTRE (HAVEN OF HOPE)",null,"NGO","3237753992","CMPROB","3","HA CMIS","Local System","2075","0","0","341","1734",null,null,null,"0","0","256",null,"256",null,null,"256","0","0",null,null,null,"0",null,"0","0","0","0","0","0",null,"1 Dec 2024 to 31 Dec 2024","18 Chinese Medicine Clinic cum Traing and Research Centre (Haven of Hope)","18CMCTRs(HOHCS)","NGO","3237753992","CMPROB","3","Local System","EC Connect","2075","0","0","341","1734","","0","0","0","0","256","0.123373493975904","256","0","0","256","0","0","","1734","0.83566265060241","0","0","0","0","0","0","0","0"]
[null,null,"Y","2024-12-01","18 CHINESE MEDICINE CLINIC CUM TRAINING AND RESEARCH CENTRE (HAVEN OF HOPE)",null,"NGO","3237753992","CMRXO","3","HA CMIS","Local System","1106","0","0","293","813",null,null,null,"0","0","293",null,"293",null,null,"293","0","0",null,null,null,"0",null,"0","0","0","0","0","0",null,"1 Dec 2024 to 31 Dec 2024","18 Chinese Medicine Clinic cum Traing and Research Centre (Haven of Hope)","18CMCTRs(HOHCS)","NGO","3237753992","CMRXO","3","Local System","EC Connect","1106","0","0","293","813","","0","0","0","0","293","0.264918625678119","293","0","0","293","0","0","","813","0.735081374321881","0","0","0","0","0","0","0","0"]
[null,null,"Y","2024-12-01","18 CHINESE MEDICINE CLINIC CUM TRAINING AND RESEARCH CENTRE (HAVEN OF HOPE)",null,"NGO","3237753992","CMPX","3","HA CMIS","Local System","286","0","0","0","286",null,null,null,"0","0","0",null,"0",null,null,"0","0","0",null,null,null,"0",null,"0","0","0","0","0","0",null,"1 Dec 2024 to 31 Dec 2024","18 Chinese Medicine Clinic cum Traing and Research Centre (Haven of Hope)","18CMCTRs(HOHCS)","NGO","3237753992","CMPX","3","Local System","EC Connect","286","0","0","0","286","","0","0","0","0","0","0","0","0","0","0","0","0","","286","1","0","0","0","0","0","0","0","0"]
[null,null,"Y","2024-12-01","18 CHINESE MEDICINE CLINIC CUM TRAINING AND RESEARCH CENTRE (UNITED CHRISTIAN NETHERSOLE COMMUNITY HEALTH SERVICE)",null,"NGO","3740691088","CMPROB","3","HA CMIS","Local System","2012","0","0","233","1779",null,null,null,"0","0","182",null,"182",null,null,"182","0","0",null,null,null,"0",null,"0","0","0","0","0","0",null,"1 Dec 2024 to 31 Dec 2024","18 Chinese Medicine Clinic cum Traing and Research Centre (United Christian Nethersole Community Health Service)","18CMCTRs (UCN)","NGO","3740691088","CMPROB","3","Local System","EC Connect","2012","0","0","233","1779","","0","0","0","0","182","0.0904572564612326","182","0","0","182","0","0","","1779","0.884194831013916","0","0","0","0","0","0","0","0"]
[null,null,"Y","2024-12-01","18 CHINESE MEDICINE CLINIC CUM TRAINING AND RESEARCH CENTRE (UNITED CHRISTIAN NETHERSOLE COMMUNITY HEALTH SERVICE)",null,"NGO","3740691088","ENCTR","3","HA CMIS","Local System","1850","0","0","0","1850",null,null,null,"0","0","0",null,"0",null,null,"0","0","0",null,null,null,"0",null,"0","0","0","0","0","0",null,"1 Dec 2024 to 31 Dec 2024","18 Chinese Medicine Clinic cum Traing and Research Centre (United Christian Nethersole Community Health Service)","18CMCTRs (UCN)","NGO","3740691088","ENCTR","3","Local System","Local System","1850","0","0","0","1850","","0","0","0","0","0","0","0","0","0","0","0","0","","1850","1","0","0","0","0","0","0","0","0"]
[null,null,"Y","2024-12-01","18 CHINESE MEDICINE CLINIC CUM TRAINING AND RESEARCH CENTRE (UNITED CHRISTIAN NETHERSOLE COMMUNITY HEALTH SERVICE)",null,"NGO","3740691088","CMRXO","3","HA CMIS","Local System","1168","0","0","394","774",null,null,null,"0","0","394",null,"394",null,null,"394","0","0",null,null,null,"0",null,"0","0","0","0","0","0",null,"1 Dec 2024 to 31 Dec 2024","18 Chinese Medicine Clinic cum Traing and Research Centre (United Christian Nethersole Community Health Service)","18CMCTRs (UCN)","NGO","3740691088","CMRXO","3","Local System","EC Connect","1168","0","0","394","774","","0","0","0","0","394","0.337328767123288","394","0","0","394","0","0","","774","0.662671232876712","0","0","0","0","0","0","0","0"]
[null,null,"Y","2024-12-01","18 CHINESE MEDICINE CLINIC CUM TRAINING AND RESEARCH CENTRE (UNITED CHRISTIAN NETHERSOLE COMMUNITY HEALTH SERVICE)",null,"NGO","3740691088","CMPX","3","HA CMIS","Local System","449","0","0","0","449",null,null,null,"0","0","0",null,"0",null,null,"0","0","0",null,null,null,"0",null,"0","0","0","0","0","0",null,"1 Dec 2024 to 31 Dec 2024","18 Chinese Medicine Clinic cum Traing and Research Centre (United Christian Nethersole Community Health Service)","18CMCTRs (UCN)","NGO","3740691088","CMPX","3","Local System","EC Connect","449","0","0","0","449","","0","0","0","0","0","0","0","0","0","0","0","0","","449","1","0","0","0","0","0","0","0","0"]
[null,null,"Y","2024-12-01","UNION HOSPITAL",null,"PH","5712620300","AL1","3","UHLAAM","Adaptation","1265","0","0","278","987",null,null,null,"0","0","265",null,"265",null,null,"265","0","0",null,null,null,"0",null,"0","0","0","0","0","0",null,"1 Dec 2024 to 31 Dec 2024","UNION HOSPITAL","UNION HOSPITAL","PH","5712620300","AL1","3","UHLAAM","Local System","1265","0","0","278","987","","0","0","0","0","265","0.209486166007905","265","0","0","265","0","0","","987","0.780237154150198","0","0","0","0","0","0","0","0"]
[null,null,"Y","2024-12-01","UNION HOSPITAL",null,"PH","5712620300","ADR","3","UHLAAM","Adaptation","39","0","0","6","33",null,null,null,"0","0","6",null,"6",null,null,"6","0","0",null,null,null,"0",null,"0","0","0","0","0","0",null,"1 Dec 2024 to 31 Dec 2024","UNION HOSPITAL","UNION HOSPITAL","PH","5712620300","ADR","3","UHLAAM","Local System","39","0","0","6","33","","0","0","0","0","6","0.153846153846154","6","0","0","6","0","0","","33","0.846153846153846","0","0","0","0","0","0","0","0"]
[null,null,"Y","2024-12-01","UNION HOSPITAL",null,"PH","5712620300","BIRTH","3","UHLAAM","Local System","6","0","0","6","0",null,null,null,"0","0","6",null,"0",null,null,"6","0","0",null,null,null,"0",null,"0","0","0","0","0","0",null,"1 Dec 2024 to 31 Dec 2024","UNION HOSPITAL","UNION HOSPITAL","PH","5712620300","BIRTH","3","UHLAAM","Local System","6","0","0","6","0","","0","0","0","0","0","0","0","0","0","0","0","0","","0","0","0","0","0","0","0","0","0","0"]
[null,null,"Y","2024-12-01","HONG KONG MEDICAL ADVANCED IMAGING LIMITED",null,"GRP","5414310424","RAD","3","CSP","Local System","4831","0","0","0","4831",null,null,null,"0","0","0",null,"0",null,null,"0","0","0",null,null,null,"0",null,"0","0","0","0","0","0",null,"1 Dec 2024 to 31 Dec 2024","HONG KONG MEDICAL ADVANCED IMAGING LIMITED","HKMAIL","GROUP","5414310424","RAD","3","CSP","Local System","4831","0","0","0","4831","","0","0","0","0","0","0","0","0","0","0","0","0","","4831","1","0","0","0","0","0","0","0","0"]
[null,null,"Y","2024-12-01","DHC EXPRESS-NORTH (YWCA)",null,"DHC","6678116401","ENCTR","3","DHCCMS","Local System","3009","0","0","0","3009",null,null,null,"0","0","0",null,"0",null,null,"0","0","0",null,null,null,"0",null,"0","0","0","0","0","0",null,"1 Dec 2024 to 31 Dec 2024","DHC EXPRESS-NORTH (HKSR)","DHC EXPRESS-NORTH-CC","DHC","6678116401","ENCTR","3","Local System","Local System","3009","0","0","0","3009","","0","0","0","0","0","0","0","0","0","0","0","0","","3009","1","0","0","0","0","0","0","0","0"]
[null,null,"Y","2024-12-01","DHC EXPRESS-NORTH (YWCA)",null,"DHC","6678116401","EPIS","1","DHCCMS","Local System","1288","0","1288","0","0",null,null,null,"0","0","0",null,"0",null,null,"0","0","0",null,null,null,"0",null,"0","0","0","0","0","0",null,"1 Dec 2024 to 31 Dec 2024","DHC EXPRESS-NORTH (HKSR)","DHC EXPRESS-NORTH-CC","DHC","6678116401","EPIS","1","Local System","Local System","1288","0","1288","0","0","","0","0","0","0","0","0","0","0","0","0","0","0","","0","0","0","0","0","0","0","0","0","0"]
[null,null,"Y","2024-12-01","DHC EXPRESS-SAI KUNG (HOHCS)",null,"DHC","6402782674","ENCTR","3","DHCCMS","Local System","3059","0","0","0","3059",null,null,null,"0","0","0",null,"0",null,null,"0","0","0",null,null,null,"0",null,"0","0","0","0","0","0",null,"1 Dec 2024 to 31 Dec 2024","DHC EXPRESS-SAI KUNG (HOHCS)","DHC EXPRESS-SAI KUNG-CC","DHC","6402782674","ENCTR","3","Local System","Local System","3059","0","0","0","3059","","0","0","0","0","0","0","0","0","0","0","0","0","","3059","1","0","0","0","0","0","0","0","0"]
[null,null,"Y","2024-12-01","DHC EXPRESS-SAI KUNG (HOHCS)",null,"DHC","6402782674","EPIS","1","DHCCMS","Local System","1168","0","1168","0","0",null,null,null,"0","0","0",null,"0",null,null,"0","0","0",null,null,null,"0",null,"0","0","0","0","0","0",null,"1 Dec 2024 to 31 Dec 2024","DHC EXPRESS-SAI KUNG (HOHCS)","DHC EXPRESS-SAI KUNG-CC","DHC","6402782674","EPIS","1","Local System","Local System","1168","0","1168","0","0","","0","0","0","0","0","0","0","0","0","0","0","0","","0","0","0","0","0","0","0","0","0","0"]
[null,null,"Y","2024-12-01","DHC EXPRESS-EASTERN (HKSR)",null,"DHC","6542377532","ENCTR","3","DHCCMS","Local System","2272","0","0","0","2272",null,null,null,"0","0","0",null,"0",null,null,"0","0","0",null,null,null,"0",null,"0","0","0","0","0","0",null,"1 Dec 2024 to 31 Dec 2024","DHC EXPRESS-EASTERN (HKSR)","DHC EXPRESS-EASTERN-CC","DHC","6542377532","ENCTR","3","Local System","Local System","2272","0","0","0","2272","","0","0","0","0","0","0","0","0","0","0","0","0","","2272","1","0","0","0","0","0","0","0","0"]
[null,null,"Y","2024-12-01","DHC EXPRESS-EASTERN (HKSR)",null,"DHC","6542377532","EPIS","1","DHCCMS","Local System","1154","0","1154","0","0",null,null,null,"0","0","0",null,"0",null,null,"0","0","0",null,null,null,"0",null,"0","0","0","0","0","0",null,"1 Dec 2024 to 31 Dec 2024","DHC EXPRESS-EASTERN (HKSR)","DHC EXPRESS-EASTERN-CC","DHC","6542377532","EPIS","1","Local System","Local System","1154","0","1154","0","0","","0","0","0","0","0","0","0","0","0","0","0","0","","0","0","0","0","0","0","0","0","0","0"]
[null,null,"Y","2024-12-01","DHC EXPRESS-YAU TSIM MONG (LOKSINTONG)",null,"DHC","5832575528","ENCTR","3","DHCCMS","Local System","2065","0","0","0","2065",null,null,null,"0","0","0",null,"0",null,null,"0","0","0",null,null,null,"0",null,"0","0","0","0","0","0",null,"1 Dec 2024 to 31 Dec 2024","DHC EXPRESS-YAU TSIM MONG (LOKSINTONG)","DHC EXPRESS-YTM-CC","DHC","5832575528","ENCTR","3","Local System","Local System","2065","0","0","0","2065","","0","0","0","0","0","0","0","0","0","0","0","0","","2065","1","0","0","0","0","0","0","0","0"]
[null,null,"Y","2024-12-01","DHC EXPRESS-YAU TSIM MONG (LOKSINTONG)",null,"DHC","5832575528","EPIS","1","DHCCMS","Local System","1239","0","1239","0","0",null,null,null,"0","0","0",null,"0",null,null,"0","0","0",null,null,null,"0",null,"0","0","0","0","0","0",null,"1 Dec 2024 to 31 Dec 2024","DHC EXPRESS-YAU TSIM MONG (LOKSINTONG)","DHC EXPRESS-YTM-CC","DHC","5832575528","EPIS","1","Local System","Local System","1239","0","1239","0","0","","0","0","0","0","0","0","0","0","0","0","0","0","","0","0","0","0","0","0","0","0","0","0"]
[null,null,"Y","2024-12-01","DHC EXPRESS-KWUN TONG (UCMS)",null,"DHC","7334960147","ENCTR","3","DHCCMS","Local System","2136","0","0","0","2136",null,null,null,"0","0","0",null,"0",null,null,"0","0","0",null,null,null,"0",null,"0","0","0","0","0","0",null,"1 Dec 2024 to 31 Dec 2024","DHC EXPRESS-KWUN TONG (UCMS)","DHC EXPRESS-KWUN TONG-CC","DHC","7334960147","ENCTR","3","Local System","Local System","2136","0","0","0","2136","","0","0","0","0","0","0","0","0","0","0","0","0","","2136","1","0","0","0","0","0","0","0","0"]
[null,null,"Y","2024-12-01","DHC EXPRESS-KWUN TONG (UCMS)",null,"DHC","7334960147","EPIS","1","DHCCMS","Local System","1149","0","1149","0","0",null,null,null,"0","0","0",null,"0",null,null,"0","0","0",null,null,null,"0",null,"0","0","0","0","0","0",null,"1 Dec 2024 to 31 Dec 2024","DHC EXPRESS-KWUN TONG (UCMS)","DHC EXPRESS-KWUN TONG-CC","DHC","7334960147","EPIS","1","Local System","Local System","1149","0","1149","0","0","","0","0","0","0","0","0","0","0","0","0","0","0","","0","0","0","0","0","0","0","0","0","0"]
[null,null,"Y","2024-12-01","DHC EXPRESS-ISLANDS (NAAC)",null,"DHC","6142872901","ENCTR","3","DHCCMS","Local System","2390","0","0","0","2390",null,null,null,"0","0","0",null,"0",null,null,"0","0","0",null,null,null,"0",null,"0","0","0","0","0","0",null,"1 Dec 2024 to 31 Dec 2024","DHC EXPRESS-ISLANDS (NAAC)","DHC EXPRESS-ISLANDS-CC","DHC","6142872901","ENCTR","3","Local System","Local System","2390","0","0","0","2390","","0","0","0","0","0","0","0","0","0","0","0","0","","2390","1","0","0","0","0","0","0","0","0"]
[null,null,"Y","2024-12-01","DHC EXPRESS-ISLANDS (NAAC)",null,"DHC","6142872901","EPIS","1","DHCCMS","Local System","795","0","795","0","0",null,null,null,"0","0","0",null,"0",null,null,"0","0","0",null,null,null,"0",null,"0","0","0","0","0","0",null,"1 Dec 2024 to 31 Dec 2024","DHC EXPRESS-ISLANDS (NAAC)","DHC EXPRESS-ISLANDS-CC","DHC","6142872901","EPIS","1","Local System","Local System","795","0","795","0","0","","0","0","0","0","0","0","0","0","0","0","0","0","","0","0","0","0","0","0","0","0","0","0"]
[null,null,"Y","2024-12-01","DR WONG CHUN POR",null,"SOLO","5528991274","RXO","3,2","CMS On-ramp","CMS On-ramp","904","0","0","100","804",null,null,null,"0","0","0",null,"0",null,null,"0","0","0",null,null,null,"0",null,"0","0","0","0","0","0",null,"1 Dec 2024 to 31 Dec 2024","DR WONG CHUN POR","DR CP WONG CLINIC","SOLO","5528991274","RXO","3","Local System","Local System","904","0","0","100","804","","0","0","0","0","0","0","0","0","0","0","0","0","","804","0.889380530973451","0","0","0","0","0","0","0","0"]
[null,null,"Y","2024-12-01","DR WONG CHUN POR",null,"SOLO","5528991274","RXD","3,2","CMS On-ramp","CMS On-ramp","868","0","0","96","772",null,null,null,"0","0","0",null,"0",null,null,"0","0","0",null,null,null,"0",null,"0","0","0","0","0","0",null,"1 Dec 2024 to 31 Dec 2024","DR WONG CHUN POR","DR CP WONG CLINIC","SOLO","5528991274","RXD","3","Local System","Local System","868","0","0","96","772","","0","0","0","0","0","0","0","0","0","0","0","0","","772","0.889400921658986","0","0","0","0","0","0","0","0"]
[null,null,"Y","2024-12-01","DR WONG CHUN POR",null,"SOLO","5528991274","ENCTR","3","CMS On-ramp","CMS On-ramp","687","0","0","0","687",null,null,null,"0","0","0",null,"0",null,null,"0","0","0",null,null,null,"0",null,"0","0","0","0","0","0",null,"1 Dec 2024 to 31 Dec 2024","DR WONG CHUN POR","DR CP WONG CLINIC","SOLO","5528991274","ENCTR","3","Local System","Local System","687","0","0","0","687","","0","0","0","0","0","0","0","0","0","0","0","0","","687","1","0","0","0","0","0","0","0","0"]
[null,null,"Y","2024-12-01","DR WONG CHUN POR",null,"SOLO","5528991274","PROB","3,2","CMS On-ramp","CMS On-ramp","678","0","0","18","660",null,null,null,"0","0","0",null,"0",null,null,"0","0","0",null,null,null,"0",null,"0","0","0","0","0","0",null,"1 Dec 2024 to 31 Dec 2024","DR WONG CHUN POR","DR CP WONG CLINIC","SOLO","5528991274","PROB","3","Local System","Local System","678","0","0","18","660","","0","0","0","0","0","0","0","0","0","0","0","0","","660","0.973451327433628","0","0","0","0","0","0","0","0"]
[null,null,"Y","2024-12-01","DR WONG CHUN POR",null,"SOLO","5528991274","IMMU","3,2","CMS On-ramp","CMS On-ramp","25","0","0","0","25",null,null,null,"0","0","0",null,"0",null,null,"0","0","0",null,null,null,"0",null,"0","0","0","0","0","0",null,"1 Dec 2024 to 31 Dec 2024","DR WONG CHUN POR","DR CP WONG CLINIC","SOLO","5528991274","IMMU","3","Local System","Local System","25","0","0","0","25","","0","0","0","0","0","0","0","0","0","0","0","0","","25","1","0","0","0","0","0","0","0","0"]
[null,null,"Y","2024-12-01","DR WONG CHUN POR",null,"SOLO","5528991274","ADR","3,2","CMS On-ramp","CMS On-ramp","1","0","0","0","1",null,null,null,"0","0","0",null,"0",null,null,"0","0","0",null,null,null,"0",null,"0","0","0","0","0","0",null,"1 Dec 2024 to 31 Dec 2024","DR WONG CHUN POR","DR CP WONG CLINIC","SOLO","5528991274","ADR","3","Local System","Local System","1","0","0","0","1","","0","0","0","0","0","0","0","0","0","0","0","0","","1","1","0","0","0","0","0","0","0","0"]
[null,null,"Y","2024-12-01","DR WONG CHUN POR",null,"SOLO","5528991274","AL1","3,2","CMS On-ramp","CMS On-ramp","1","0","0","0","1",null,null,null,"0","0","0",null,"0",null,null,"0","0","0",null,null,null,"0",null,"0","0","0","0","0","0",null,"1 Dec 2024 to 31 Dec 2024","DR WONG CHUN POR","DR CP WONG CLINIC","SOLO","5528991274","AL1","3","Local System","Local System","1","0","0","0","1","","0","0","0","0","0","0","0","0","0","0","0","0","","1","1","0","0","0","0","0","0","0","0"]
[null,null,"Y","2024-12-01","18 CHINESE MEDICINE CLINIC CUM TRAINING AND RESEARCH CENTRE (YAN CHAI HOSPITAL)",null,"NGO","6255376532","CMPROB","3","HA CMIS","Local System","1194","0","0","261","933",null,null,null,"0","0","145",null,"145",null,null,"145","0","0",null,null,null,"0",null,"0","0","0","0","0","0",null,"1 Dec 2024 to 31 Dec 2024","18 Chinese Medicine Clinic cum Traing and Research Centre (Yan Chai Hospital)","18CMCTRs (YCH)","NGO","6255376532","CMPROB","3","Local System","EC Connect","1194","0","0","261","933","","0","0","0","0","145","0.1214405360134","145","0","0","145","0","0","","933","0.781407035175879","0","0","0","0","0","0","0","0"]
[null,null,"Y","2024-12-01","18 CHINESE MEDICINE CLINIC CUM TRAINING AND RESEARCH CENTRE (YAN CHAI HOSPITAL)",null,"NGO","6255376532","ENCTR","3","HA CMIS","Local System","1107","0","0","0","1107",null,null,null,"0","0","0",null,"0",null,null,"0","0","0",null,null,null,"0",null,"0","0","0","0","0","0",null,"1 Dec 2024 to 31 Dec 2024","18 Chinese Medicine Clinic cum Traing and Research Centre (Yan Chai Hospital)","18CMCTRs (YCH)","NGO","6255376532","ENCTR","3","Local System","Local System","1107","0","0","0","1107","","0","0","0","0","0","0","0","0","0","0","0","0","","1107","1","0","0","0","0","0","0","0","0"]
[null,null,"Y","2024-12-01","18 CHINESE MEDICINE CLINIC CUM TRAINING AND RESEARCH CENTRE (YAN CHAI HOSPITAL)",null,"NGO","6255376532","CMRXO","3","HA CMIS","Local System","638","0","0","272","366",null,null,null,"0","0","272",null,"272",null,null,"272","0","0",null,null,null,"0",null,"0","0","0","0","0","0",null,"1 Dec 2024 to 31 Dec 2024","18 Chinese Medicine Clinic cum Traing and Research Centre (Yan Chai Hospital)","18CMCTRs (YCH)","NGO","6255376532","CMRXO","3","Local System","EC Connect","638","0","0","272","366","","0","0","0","0","272","0.426332288401254","272","0","0","272","0","0","","366","0.573667711598746","0","0","0","0","0","0","0","0"]
[null,null,"Y","2024-12-01","18 CHINESE MEDICINE CLINIC CUM TRAINING AND RESEARCH CENTRE (YAN CHAI HOSPITAL)",null,"NGO","6255376532","CMPX","3","HA CMIS","Local System","149","0","0","0","149",null,null,null,"0","0","0",null,"0",null,null,"0","0","0",null,null,null,"0",null,"0","0","0","0","0","0",null,"1 Dec 2024 to 31 Dec 2024","18 Chinese Medicine Clinic cum Traing and Research Centre (Yan Chai Hospital)","18CMCTRs (YCH)","NGO","6255376532","CMPX","3","Local System","EC Connect","149","0","0","0","149","","0","0","0","0","0","0","0","0","0","0","0","0","","149","1","0","0","0","0","0","0","0","0"]
[null,null,"Y","2024-12-01","DHC EXPRESS-TAI PO (UCMS)",null,"DHC","7444819250","ENCTR","3","DHCCMS","Local System","1886","0","0","0","1886",null,null,null,"0","0","0",null,"0",null,null,"0","0","0",null,null,null,"0",null,"0","0","0","0","0","0",null,"1 Dec 2024 to 31 Dec 2024","DHC EXPRESS-TAI PO (UCMS)","DHC EXPRESS-TAI PO-CC","DHC","7444819250","ENCTR","3","Local System","Local System","1886","0","0","0","1886","","0","0","0","0","0","0","0","0","0","0","0","0","","1886","1","0","0","0","0","0","0","0","0"]
[null,null,"Y","2024-12-01","DHC EXPRESS-TAI PO (UCMS)",null,"DHC","7444819250","EPIS","1","DHCCMS","Local System","1189","0","1189","0","0",null,null,null,"0","0","0",null,"0",null,null,"0","0","0",null,null,null,"0",null,"0","0","0","0","0","0",null,"1 Dec 2024 to 31 Dec 2024","DHC EXPRESS-TAI PO (UCMS)","DHC EXPRESS-TAI PO-CC","DHC","7444819250","EPIS","1","Local System","Local System","1189","0","1189","0","0","","0","0","0","0","0","0","0","0","0","0","0","0","","0","0","0","0","0","0","0","0","0","0"]
[null,null,"Y","2024-12-01","DHC EXPRESS-CENTRAL AND WESTERN (HKSR)",null,"DHC","6645809992","ENCTR","3","DHCCMS","Local System","2061","0","0","0","2061",null,null,null,"0","0","0",null,"0",null,null,"0","0","0",null,null,null,"0",null,"0","0","0","0","0","0",null,"1 Dec 2024 to 31 Dec 2024","DHC EXPRESS-CENTRAL AND WESTERN (HKSR)","DHC EXPRESS-C&W-CC","DHC","6645809992","ENCTR","3","Local System","Local System","2061","0","0","0","2061","","0","0","0","0","0","0","0","0","0","0","0","0","","2061","1","0","0","0","0","0","0","0","0"]
[null,null,"Y","2024-12-01","DHC EXPRESS-CENTRAL AND WESTERN (HKSR)",null,"DHC","6645809992","EPIS","1","DHCCMS","Local System","704","0","704","0","0",null,null,null,"0","0","0",null,"0",null,null,"0","0","0",null,null,null,"0",null,"0","0","0","0","0","0",null,"1 Dec 2024 to 31 Dec 2024","DHC EXPRESS-CENTRAL AND WESTERN (HKSR)","DHC EXPRESS-C&W-CC","DHC","6645809992","EPIS","1","Local System","Local System","704","0","704","0","0","","0","0","0","0","0","0","0","0","0","0","0","0","","0","0","0","0","0","0","0","0","0","0"]
[null,null,"Y","2024-12-01","HONG KONG ADVENTIST HOSPITAL - STUBBS ROAD",null,"PH","7029571085","RAD","3,2","HKAHLAAM","Local System","466","0","0","0","466",null,null,null,"0","0","0",null,"0",null,null,"0","0","0",null,null,null,"0",null,"0","0","0","0","0","0",null,"1 Dec 2024 to 31 Dec 2024","HONG KONG ADVENTIST HOSPITAL - STUBBS ROAD","HK ADVENTIST - SR","PH","7029571085","RAD","2","HKAHLAAM","Local System","466","0","0","0","466","","0","0","0","0","0","0","0","0","0","0","0","0","","466","1","0","0","0","0","0","0","0","0"]
[null,null,"Y","2024-12-01","IRAD MEDICAL HOLDING LIMITED",null,"GRP","6609847497","RAD","3","RHI2","Local System","2253","4","0","0","2249",null,null,null,"0","4","0",null,"0",null,null,"0","0","0",null,null,null,"0",null,"0","0","0","0","0","0",null,"1 Dec 2024 to 31 Dec 2024","IRAD MEDICAL HOLDING LIMITED","IRAD MEDICAL","GROUP","6609847497","RAD","3","RHI2","Local System","2253","4","0","0","2249","","4","0.00177541056369285","0","4","0","0","0","0","0","0","0","0","","2249","0.998224589436307","0","0","0","0","0","0","0","0"]
[null,null,"Y","2024-12-01","DR. YEE YUK KEI",null,"SOLO","2310917092","RXO","3","CMS On-ramp","CMS On-ramp","384","0","0","299","85",null,null,null,"0","0","0",null,"0",null,null,"0","0","0",null,null,null,"0",null,"0","0","0","0","0","0",null,"1 Dec 2024 to 31 Dec 2024","DR. YEE YUK KEI","DR. YK YEE","SOLO","2310917092","RXO","3","Local System","Local System","384","0","0","299","85","","0","0","0","0","0","0","0","0","0","0","0","0","","85","0.221354166666667","0","0","0","0","0","0","0","0"]
[null,null,"Y","2024-12-01","DR. YEE YUK KEI",null,"SOLO","2310917092","RXD","3","CMS On-ramp","CMS On-ramp","381","0","0","297","84",null,null,null,"0","0","0",null,"0",null,null,"0","0","0",null,null,null,"0",null,"0","0","0","0","0","0",null,"1 Dec 2024 to 31 Dec 2024","DR. YEE YUK KEI","DR. YK YEE","SOLO","2310917092","RXD","3","Local System","Local System","381","0","0","297","84","","0","0","0","0","0","0","0","0","0","0","0","0","","84","0.220472440944882","0","0","0","0","0","0","0","0"]
[null,null,"Y","2024-12-01","DR. YEE YUK KEI",null,"SOLO","2310917092","PROB","3","CMS On-ramp","CMS On-ramp","358","0","0","12","346",null,null,null,"0","0","0",null,"0",null,null,"0","0","0",null,null,null,"0",null,"0","0","0","0","0","0",null,"1 Dec 2024 to 31 Dec 2024","DR. YEE YUK KEI","DR. YK YEE","SOLO","2310917092","PROB","3","Local System","Local System","358","0","0","12","346","","0","0","0","0","0","0","0","0","0","0","0","0","","346","0.966480446927374","0","0","0","0","0","0","0","0"]
[null,null,"Y","2024-12-01","DR. YEE YUK KEI",null,"SOLO","2310917092","ENCTR","3","CMS On-ramp","CMS On-ramp","213","0","0","0","213",null,null,null,"0","0","0",null,"0",null,null,"0","0","0",null,null,null,"0",null,"0","0","0","0","0","0",null,"1 Dec 2024 to 31 Dec 2024","DR. YEE YUK KEI","DR. YK YEE","SOLO","2310917092","ENCTR","3","Local System","Local System","213","0","0","0","213","","0","0","0","0","0","0","0","0","0","0","0","0","","213","1","0","0","0","0","0","0","0","0"]
[null,null,"Y","2024-12-01","DR. YEE YUK KEI",null,"SOLO","2310917092","EPIS","1","CMS On-ramp","CMS On-ramp","199","0","199","0","0",null,null,null,"0","0","0",null,"0",null,null,"0","0","0",null,null,null,"0",null,"0","0","0","0","0","0",null,"1 Dec 2024 to 31 Dec 2024","DR. YEE YUK KEI","DR. YK YEE","SOLO","2310917092","EPIS","1","Local System","Local System","199","0","199","0","0","","0","0","0","0","0","0","0","0","0","0","0","0","","0","0","0","0","0","0","0","0","0","0"]
[null,null,"Y","2024-12-01","DR. YEE YUK KEI",null,"SOLO","2310917092","PX","3","CMS On-ramp","CMS On-ramp","44","0","0","0","44",null,null,null,"0","0","0",null,"0",null,null,"0","0","0",null,null,null,"0",null,"0","0","0","0","0","0",null,"1 Dec 2024 to 31 Dec 2024","DR. YEE YUK KEI","DR. YK YEE","SOLO","2310917092","PX","3","Local System","Local System","44","0","0","0","44","","0","0","0","0","0","0","0","0","0","0","0","0","","44","1","0","0","0","0","0","0","0","0"]
[null,null,"Y","2024-12-01","DR. YEE YUK KEI",null,"SOLO","2310917092","IMMU","3","CMS On-ramp","CMS On-ramp","12","0","0","11","1",null,null,null,"0","0","0",null,"0",null,null,"0","0","0",null,null,null,"0",null,"0","0","0","0","0","0",null,"1 Dec 2024 to 31 Dec 2024","DR. YEE YUK KEI","DR. YK YEE","SOLO","2310917092","IMMU","3","Local System","Local System","12","0","0","11","1","","0","0","0","0","0","0","0","0","0","0","0","0","","1","0.0833333333333333","0","0","0","0","0","0","0","0"]
[null,null,"Y","2024-12-01","DR. YEE YUK KEI",null,"SOLO","2310917092","AL1","3","CMS On-ramp","CMS On-ramp","3","0","0","0","3",null,null,null,"0","0","0",null,"0",null,null,"0","0","0",null,null,null,"0",null,"0","0","0","0","0","0",null,"1 Dec 2024 to 31 Dec 2024","DR. YEE YUK KEI","DR. YK YEE","SOLO","2310917092","AL1","3","Local System","Local System","3","0","0","0","3","","0","0","0","0","0","0","0","0","0","0","0","0","","3","1","0","0","0","0","0","0","0","0"]
[null,null,"Y","2024-12-01","18 CHINESE MEDICINE CLINIC CUM TRAINING AND RESEARCH CENTRE (THE HONG KONG TUBERCULOSIS ASSOCIATION)",null,"NGO","2231879813","CMPROB","3","HA CMIS","Local System","534","0","0","191","343",null,null,null,"0","0","118",null,"118",null,null,"118","0","0",null,null,null,"0",null,"0","0","0","0","0","0",null,"1 Dec 2024 to 31 Dec 2024","18 Chinese Medicine Clinic cum Traing and Research Centre (The Hong Kong Tuberculosis Association)","18CMCTRs(HKTBA)","NGO","2231879813","CMPROB","3","Local System","EC Connect","534","0","0","191","343","","0","0","0","0","118","0.220973782771536","118","0","0","118","0","0","","343","0.642322097378277","0","0","0","0","0","0","0","0"]
[null,null,"Y","2024-12-01","18 CHINESE MEDICINE CLINIC CUM TRAINING AND RESEARCH CENTRE (THE HONG KONG TUBERCULOSIS ASSOCIATION)",null,"NGO","2231879813","ENCTR","3","HA CMIS","Local System","513","0","0","0","513",null,null,null,"0","0","0",null,"0",null,null,"0","0","0",null,null,null,"0",null,"0","0","0","0","0","0",null,"1 Dec 2024 to 31 Dec 2024","18 Chinese Medicine Clinic cum Traing and Research Centre (The Hong Kong Tuberculosis Association)","18CMCTRs(HKTBA)","NGO","2231879813","ENCTR","3","Local System","Local System","513","0","0","0","513","","0","0","0","0","0","0","0","0","0","0","0","0","","513","1","0","0","0","0","0","0","0","0"]
[null,null,"Y","2024-12-01","18 CHINESE MEDICINE CLINIC CUM TRAINING AND RESEARCH CENTRE (THE HONG KONG TUBERCULOSIS ASSOCIATION)",null,"NGO","2231879813","CMRXO","3","HA CMIS","Local System","279","0","0","57","222",null,null,null,"0","0","57",null,"57",null,null,"57","0","0",null,null,null,"0",null,"0","0","0","0","0","0",null,"1 Dec 2024 to 31 Dec 2024","18 Chinese Medicine Clinic cum Traing and Research Centre (The Hong Kong Tuberculosis Association)","18CMCTRs(HKTBA)","NGO","2231879813","CMRXO","3","Local System","EC Connect","279","0","0","57","222","","0","0","0","0","57","0.204301075268817","57","0","0","57","0","0","","222","0.795698924731183","0","0","0","0","0","0","0","0"]
[null,null,"Y","2024-12-01","18 CHINESE MEDICINE CLINIC CUM TRAINING AND RESEARCH CENTRE (THE HONG KONG TUBERCULOSIS ASSOCIATION)",null,"NGO","2231879813","CMPX","3","HA CMIS","Local System","150","0","0","0","150",null,null,null,"0","0","0",null,"0",null,null,"0","0","0",null,null,null,"0",null,"0","0","0","0","0","0",null,"1 Dec 2024 to 31 Dec 2024","18 Chinese Medicine Clinic cum Traing and Research Centre (The Hong Kong Tuberculosis Association)","18CMCTRs(HKTBA)","NGO","2231879813","CMPX","3","Local System","EC Connect","150","0","0","0","150","","0","0","0","0","0","0","0","0","0","0","0","0","","150","1","0","0","0","0","0","0","0","0"]
[null,null,"Y","2024-12-01","18 CHINESE MEDICINE CLINIC CUM TRAINING AND RESEARCH CENTRE (YAN OI TONG)",null,"NGO","2971417573","ENCTR","3","HA CMIS","Local System","573","0","0","0","573",null,null,null,"0","0","0",null,"0",null,null,"0","0","0",null,null,null,"0",null,"0","0","0","0","0","0",null,"1 Dec 2024 to 31 Dec 2024","18 Chinese Medicine Clinic cum Traing and Research Centre (Yan Oi Tong)","18CMCTRs (YOT)","NGO","2971417573","ENCTR","3","Local System","Local System","573","0","0","0","573","","0","0","0","0","0","0","0","0","0","0","0","0","","573","1","0","0","0","0","0","0","0","0"]
[null,null,"Y","2024-12-01","18 CHINESE MEDICINE CLINIC CUM TRAINING AND RESEARCH CENTRE (YAN OI TONG)",null,"NGO","2971417573","CMPROB","3","HA CMIS","Local System","500","0","0","122","378",null,null,null,"0","0","82",null,"82",null,null,"82","0","0",null,null,null,"0",null,"0","0","0","0","0","0",null,"1 Dec 2024 to 31 Dec 2024","18 Chinese Medicine Clinic cum Traing and Research Centre (Yan Oi Tong)","18CMCTRs (YOT)","NGO","2971417573","CMPROB","3","Local System","EC Connect","500","0","0","122","378","","0","0","0","0","82","0.164","82","0","0","82","0","0","","378","0.756","0","0","0","0","0","0","0","0"]
[null,null,"Y","2024-12-01","18 CHINESE MEDICINE CLINIC CUM TRAINING AND RESEARCH CENTRE (YAN OI TONG)",null,"NGO","2971417573","CMRXO","3","HA CMIS","Local System","263","0","0","0","263",null,null,null,"0","0","0",null,"0",null,null,"0","0","0",null,null,null,"0",null,"0","0","0","0","0","0",null,"1 Dec 2024 to 31 Dec 2024","18 Chinese Medicine Clinic cum Traing and Research Centre (Yan Oi Tong)","18CMCTRs (YOT)","NGO","2971417573","CMRXO","3","Local System","EC Connect","263","0","0","0","263","","0","0","0","0","0","0","0","0","0","0","0","0","","263","1","0","0","0","0","0","0","0","0"]
[null,null,"Y","2024-12-01","18 CHINESE MEDICINE CLINIC CUM TRAINING AND RESEARCH CENTRE (YAN OI TONG)",null,"NGO","2971417573","CMPX","3","HA CMIS","Local System","122","0","0","0","122",null,null,null,"0","0","0",null,"0",null,null,"0","0","0",null,null,null,"0",null,"0","0","0","0","0","0",null,"1 Dec 2024 to 31 Dec 2024","18 Chinese Medicine Clinic cum Traing and Research Centre (Yan Oi Tong)","18CMCTRs (YOT)","NGO","2971417573","CMPX","3","Local System","EC Connect","122","0","0","0","122","","0","0","0","0","0","0","0","0","0","0","0","0","","122","1","0","0","0","0","0","0","0","0"]
[null,null,"Y","2024-12-01","HK MERCY MEDICAL LIMITED",null,"SOLO","9056383716","RXO","3,2","CMS On-ramp","CMS On-ramp","492","0","0","179","313",null,null,null,"0","0","0",null,"0",null,null,"0","0","0",null,null,null,"0",null,"0","0","0","0","0","0",null,"1 Dec 2024 to 31 Dec 2024","HK MERCY MEDICAL LIMITED","HK MERCY MEDICAL LIMITED","SOLO","9056383716","RXO","3","Local System","Local System","492","0","0","179","313","","0","0","0","0","0","0","0","0","0","0","0","0","","313","0.636178861788618","0","0","0","0","0","0","0","0"]
[null,null,"Y","2024-12-01","HK MERCY MEDICAL LIMITED",null,"SOLO","9056383716","RXD","3,2","CMS On-ramp","CMS On-ramp","491","0","0","178","313",null,null,null,"0","0","0",null,"0",null,null,"0","0","0",null,null,null,"0",null,"0","0","0","0","0","0",null,"1 Dec 2024 to 31 Dec 2024","HK MERCY MEDICAL LIMITED","HK MERCY MEDICAL LIMITED","SOLO","9056383716","RXD","3","Local System","Local System","491","0","0","178","313","","0","0","0","0","0","0","0","0","0","0","0","0","","313","0.637474541751528","0","0","0","0","0","0","0","0"]
[null,null,"Y","2024-12-01","HK MERCY MEDICAL LIMITED",null,"SOLO","9056383716","PROB","3,2","CMS On-ramp","CMS On-ramp","173","0","0","71","102",null,null,null,"0","0","0",null,"0",null,null,"0","0","0",null,null,null,"0",null,"0","0","0","0","0","0",null,"1 Dec 2024 to 31 Dec 2024","HK MERCY MEDICAL LIMITED","HK MERCY MEDICAL LIMITED","SOLO","9056383716","PROB","3","Local System","Local System","173","0","0","71","102","","0","0","0","0","0","0","0","0","0","0","0","0","","102","0.589595375722543","0","0","0","0","0","0","0","0"]
[null,null,"Y","2024-12-01","HK MERCY MEDICAL LIMITED",null,"SOLO","9056383716","ENCTR","3","CMS On-ramp","CMS On-ramp","169","0","0","0","169",null,null,null,"0","0","0",null,"0",null,null,"0","0","0",null,null,null,"0",null,"0","0","0","0","0","0",null,"1 Dec 2024 to 31 Dec 2024","HK MERCY MEDICAL LIMITED","HK MERCY MEDICAL LIMITED","SOLO","9056383716","ENCTR","3","Local System","Local System","169","0","0","0","169","","0","0","0","0","0","0","0","0","0","0","0","0","","169","1","0","0","0","0","0","0","0","0"]
[null,null,"Y","2024-12-01","18 CHINESE MEDICINE CLINIC CUM TRAINING AND RESEARCH CENTRE (CHRISTIAN FAMILY SERVICE CENTRE)",null,"NGO","9805671910","CMPROB","3","HA CMIS","Local System","576","0","0","171","405",null,null,null,"0","0","70",null,"70",null,null,"70","0","0",null,null,null,"0",null,"0","0","0","0","0","0",null,"1 Dec 2024 to 31 Dec 2024","18 Chinese Medicine Clinic cum Traing and Research Centre (Christiam Family Service Centre)","18CMCTRs (CFSC)","NGO","9805671910","CMPROB","3","Local System","EC Connect","576","0","0","171","405","","0","0","0","0","70","0.121527777777778","70","0","0","70","0","0","","405","0.703125","0","0","0","0","0","0","0","0"]
[null,null,"Y","2024-12-01","18 CHINESE MEDICINE CLINIC CUM TRAINING AND RESEARCH CENTRE (CHRISTIAN FAMILY SERVICE CENTRE)",null,"NGO","9805671910","ENCTR","3","HA CMIS","Local System","422","0","0","0","422",null,null,null,"0","0","0",null,"0",null,null,"0","0","0",null,null,null,"0",null,"0","0","0","0","0","0",null,"1 Dec 2024 to 31 Dec 2024","18 Chinese Medicine Clinic cum Traing and Research Centre (Christiam Family Service Centre)","18CMCTRs (CFSC)","NGO","9805671910","ENCTR","3","Local System","Local System","422","0","0","0","422","","0","0","0","0","0","0","0","0","0","0","0","0","","422","1","0","0","0","0","0","0","0","0"]
[null,null,"Y","2024-12-01","18 CHINESE MEDICINE CLINIC CUM TRAINING AND RESEARCH CENTRE (CHRISTIAN FAMILY SERVICE CENTRE)",null,"NGO","9805671910","CMRXO","3","HA CMIS","Local System","192","0","0","1","191",null,null,null,"0","0","1",null,"1",null,null,"1","0","0",null,null,null,"0",null,"0","0","0","0","0","0",null,"1 Dec 2024 to 31 Dec 2024","18 Chinese Medicine Clinic cum Traing and Research Centre (Christiam Family Service Centre)","18CMCTRs (CFSC)","NGO","9805671910","CMRXO","3","Local System","EC Connect","192","0","0","1","191","","0","0","0","0","1","0.00520833333333333","1","0","0","1","0","0","","191","0.994791666666667","0","0","0","0","0","0","0","0"]
[null,null,"Y","2024-12-01","18 CHINESE MEDICINE CLINIC CUM TRAINING AND RESEARCH CENTRE (CHRISTIAN FAMILY SERVICE CENTRE)",null,"NGO","9805671910","CMPX","3","HA CMIS","Local System","112","0","0","0","112",null,null,null,"0","0","0",null,"0",null,null,"0","0","0",null,null,null,"0",null,"0","0","0","0","0","0",null,"1 Dec 2024 to 31 Dec 2024","18 Chinese Medicine Clinic cum Traing and Research Centre (Christiam Family Service Centre)","18CMCTRs (CFSC)","NGO","9805671910","CMPX","3","Local System","EC Connect","112","0","0","0","112","","0","0","0","0","0","0","0","0","0","0","0","0","","112","1","0","0","0","0","0","0","0","0"]
[null,null,"Y","2024-12-01","DR. CHAN KIT YAN SELINA",null,"SOLO","8895790679","RXO","3,2","CMS On-ramp","CMS On-ramp","306","0","0","19","287",null,null,null,"0","0","0",null,"0",null,null,"0","0","0",null,null,null,"0",null,"0","0","0","0","0","0",null,"1 Dec 2024 to 31 Dec 2024","DR. CHAN KIT YAN SELINA","DR. CHAN KIT YAN SELINA","SOLO","8895790679","RXO","3","Local System","Local System","306","0","0","19","287","","0","0","0","0","0","0","0","0","0","0","0","0","","287","0.937908496732026","0","0","0","0","0","0","0","0"]
[null,null,"Y","2024-12-01","DR. CHAN KIT YAN SELINA",null,"SOLO","8895790679","ENCTR","3","CMS On-ramp","CMS On-ramp","290","0","0","0","290",null,null,null,"0","0","0",null,"0",null,null,"0","0","0",null,null,null,"0",null,"0","0","0","0","0","0",null,"1 Dec 2024 to 31 Dec 2024","DR. CHAN KIT YAN SELINA","DR. CHAN KIT YAN SELINA","SOLO","8895790679","ENCTR","3","Local System","Local System","290","0","0","0","290","","0","0","0","0","0","0","0","0","0","0","0","0","","290","1","0","0","0","0","0","0","0","0"]
[null,null,"Y","2024-12-01","DR. CHAN KIT YAN SELINA",null,"SOLO","8895790679","RXD","3,2","CMS On-ramp","CMS On-ramp","283","0","0","5","278",null,null,null,"0","0","0",null,"0",null,null,"0","0","0",null,null,null,"0",null,"0","0","0","0","0","0",null,"1 Dec 2024 to 31 Dec 2024","DR. CHAN KIT YAN SELINA","DR. CHAN KIT YAN SELINA","SOLO","8895790679","RXD","3","Local System","Local System","283","0","0","5","278","","0","0","0","0","0","0","0","0","0","0","0","0","","278","0.982332155477032","0","0","0","0","0","0","0","0"]
[null,null,"Y","2024-12-01","DR. CHAN KIT YAN SELINA",null,"SOLO","8895790679","PROB","3,2","CMS On-ramp","CMS On-ramp","206","0","0","40","166",null,null,null,"0","0","0",null,"0",null,null,"0","0","0",null,null,null,"0",null,"0","0","0","0","0","0",null,"1 Dec 2024 to 31 Dec 2024","DR. CHAN KIT YAN SELINA","DR. CHAN KIT YAN SELINA","SOLO","8895790679","PROB","3","Local System","Local System","206","0","0","40","166","","0","0","0","0","0","0","0","0","0","0","0","0","","166","0.805825242718447","0","0","0","0","0","0","0","0"]
[null,null,"Y","2024-12-01","DR. CHAN KIT YAN SELINA",null,"SOLO","8895790679","IMMU","3,2","CMS On-ramp","CMS On-ramp","8","0","0","0","8",null,null,null,"0","0","0",null,"0",null,null,"0","0","0",null,null,null,"0",null,"0","0","0","0","0","0",null,"1 Dec 2024 to 31 Dec 2024","DR. CHAN KIT YAN SELINA","DR. CHAN KIT YAN SELINA","SOLO","8895790679","IMMU","3","Local System","Local System","8","0","0","0","8","","0","0","0","0","0","0","0","0","0","0","0","0","","8","1","0","0","0","0","0","0","0","0"]
[null,null,"Y","2024-12-01","DR. CHAN KIT YAN SELINA",null,"SOLO","8895790679","ADR","3,2","CMS On-ramp","CMS On-ramp","1","0","0","0","1",null,null,null,"0","0","0",null,"0",null,null,"0","0","0",null,null,null,"0",null,"0","0","0","0","0","0",null,"1 Dec 2024 to 31 Dec 2024","DR. CHAN KIT YAN SELINA","DR. CHAN KIT YAN SELINA","SOLO","8895790679","ADR","3","Local System","Local System","1","0","0","0","1","","0","0","0","0","0","0","0","0","0","0","0","0","","1","1","0","0","0","0","0","0","0","0"]
[null,null,"Y","2024-12-01","18 CHINESE MEDICINE CLINIC CUM TRAINING AND RESEARCH CENTRE (HKFTU WORKERS' MEDICAL CLINICS)",null,"NGO","4746565267","CMPROB","3","HA CMIS","Local System","410","0","0","87","323",null,null,null,"0","0","41",null,"41",null,null,"41","0","0",null,null,null,"0",null,"0","0","0","0","0","0",null,"1 Dec 2024 to 31 Dec 2024","18 Chinese Medicine Clinic cum Traing and Research Centre (HKFTU Worker's Medical Clinics)","18CMCTRs(HKFTU)","NGO","4746565267","CMPROB","3","Local System","EC Connect","410","0","0","87","323","","0","0","0","0","41","0.1","41","0","0","41","0","0","","323","0.787804878048781","0","0","0","0","0","0","0","0"]
[null,null,"Y","2024-12-01","18 CHINESE MEDICINE CLINIC CUM TRAINING AND RESEARCH CENTRE (HKFTU WORKERS' MEDICAL CLINICS)",null,"NGO","4746565267","ENCTR","3","HA CMIS","Local System","369","0","0","0","369",null,null,null,"0","0","0",null,"0",null,null,"0","0","0",null,null,null,"0",null,"0","0","0","0","0","0",null,"1 Dec 2024 to 31 Dec 2024","18 Chinese Medicine Clinic cum Traing and Research Centre (HKFTU Worker's Medical Clinics)","18CMCTRs(HKFTU)","NGO","4746565267","ENCTR","3","Local System","Local System","369","0","0","0","369","","0","0","0","0","0","0","0","0","0","0","0","0","","369","1","0","0","0","0","0","0","0","0"]
[null,null,"Y","2024-12-01","18 CHINESE MEDICINE CLINIC CUM TRAINING AND RESEARCH CENTRE (HKFTU WORKERS' MEDICAL CLINICS)",null,"NGO","4746565267","CMRXO","3","HA CMIS","Local System","197","0","0","54","143",null,null,null,"0","0","54",null,"54",null,null,"54","0","0",null,null,null,"0",null,"0","0","0","0","0","0",null,"1 Dec 2024 to 31 Dec 2024","18 Chinese Medicine Clinic cum Traing and Research Centre (HKFTU Worker's Medical Clinics)","18CMCTRs(HKFTU)","NGO","4746565267","CMRXO","3","Local System","EC Connect","197","0","0","54","143","","0","0","0","0","54","0.274111675126904","54","0","0","54","0","0","","143","0.725888324873096","0","0","0","0","0","0","0","0"]
[null,null,"Y","2024-12-01","18 CHINESE MEDICINE CLINIC CUM TRAINING AND RESEARCH CENTRE (HKFTU WORKERS' MEDICAL CLINICS)",null,"NGO","4746565267","CMPX","3","HA CMIS","Local System","88","0","0","0","88",null,null,null,"0","0","0",null,"0",null,null,"0","0","0",null,null,null,"0",null,"0","0","0","0","0","0",null,"1 Dec 2024 to 31 Dec 2024","18 Chinese Medicine Clinic cum Traing and Research Centre (HKFTU Worker's Medical Clinics)","18CMCTRs(HKFTU)","NGO","4746565267","CMPX","3","Local System","EC Connect","88","0","0","0","88","","0","0","0","0","0","0","0","0","0","0","0","0","","88","1","0","0","0","0","0","0","0","0"]
[null,null,"Y","2024-12-01","HONG KONG HEALTH CHECK (HEAD OFFICE)",null,"GRP","5596680865","RAD","3","RHI2","Local System","1046","0","0","0","1046",null,null,null,"0","0","0",null,"0",null,null,"0","0","0",null,null,null,"0",null,"0","0","0","0","0","0",null,"1 Dec 2024 to 31 Dec 2024","HONG KONG HEALTH CHECK (HEAD OFFICE)","HONG KONG HEALTH CHECK","GROUP","5596680865","RAD","3","RHI2","Local System","1046","0","0","0","1046","","0","0","0","0","0","0","0","0","0","0","0","0","","1046","1","0","0","0","0","0","0","0","0"]
[null,null,"Y","2024-12-01","DR HO CHUNG PING",null,"SOLO","7889756707","RXO","3,2","CMSEHR","Local System","320","0","0","36","284",null,null,null,"0","0","0",null,"0",null,null,"0","0","0",null,null,null,"0",null,"0","0","0","0","0","0",null,"1 Dec 2024 to 31 Dec 2024","DR HO CHUNG PING","C.P. HO","SOLO","7889756707","RXO","3","Local System","Local System","320","0","0","36","284","","0","0","0","0","0","0","0","0","0","0","0","0","","284","0.8875","0","0","0","0","0","0","0","0"]
[null,null,"Y","2024-12-01","DR HO CHUNG PING",null,"SOLO","7889756707","RXD","3,2","CMSEHR","Local System","316","0","0","36","280",null,null,null,"0","0","0",null,"0",null,null,"0","0","0",null,null,null,"0",null,"0","0","0","0","0","0",null,"1 Dec 2024 to 31 Dec 2024","DR HO CHUNG PING","C.P. HO","SOLO","7889756707","RXD","3","Local System","Local System","316","0","0","36","280","","0","0","0","0","0","0","0","0","0","0","0","0","","280","0.886075949367089","0","0","0","0","0","0","0","0"]
[null,null,"Y","2024-12-01","DR HO CHUNG PING",null,"SOLO","7889756707","ENCTR","3","CMSEHR","Local System","138","0","0","0","138",null,null,null,"0","0","0",null,"0",null,null,"0","0","0",null,null,null,"0",null,"0","0","0","0","0","0",null,"1 Dec 2024 to 31 Dec 2024","DR HO CHUNG PING","C.P. HO","SOLO","7889756707","ENCTR","3","Local System","Local System","138","0","0","0","138","","0","0","0","0","0","0","0","0","0","0","0","0","","138","1","0","0","0","0","0","0","0","0"]
[null,null,"Y","2024-12-01","DR HO CHUNG PING",null,"SOLO","7889756707","PROB","3,2","CMSEHR","Local System","125","0","0","5","120",null,null,null,"0","0","0",null,"0",null,null,"0","0","0",null,null,null,"0",null,"0","0","0","0","0","0",null,"1 Dec 2024 to 31 Dec 2024","DR HO CHUNG PING","C.P. HO","SOLO","7889756707","PROB","3","Local System","Local System","125","0","0","5","120","","0","0","0","0","0","0","0","0","0","0","0","0","","120","0.96","0","0","0","0","0","0","0","0"]
[null,null,"Y","2024-12-01","DR HO CHUNG PING",null,"SOLO","7889756707","EPIS","1","CMSEHR","Local System","122","0","122","0","0",null,null,null,"0","0","0",null,"0",null,null,"0","0","0",null,null,null,"0",null,"0","0","0","0","0","0",null,"1 Dec 2024 to 31 Dec 2024","DR HO CHUNG PING","C.P. HO","SOLO","7889756707","EPIS","1","Local System","Local System","122","0","122","0","0","","0","0","0","0","0","0","0","0","0","0","0","0","","0","0","0","0","0","0","0","0","0","0"]
[null,null,"Y","2024-12-01","DR HO CHUNG PING",null,"SOLO","7889756707","IMMU","3,2","CMSEHR","Local System","4","0","0","0","4",null,null,null,"0","0","0",null,"0",null,null,"0","0","0",null,null,null,"0",null,"0","0","0","0","0","0",null,"1 Dec 2024 to 31 Dec 2024","DR HO CHUNG PING","C.P. HO","SOLO","7889756707","IMMU","3","Local System","Local System","4","0","0","0","4","","0","0","0","0","0","0","0","0","0","0","0","0","","4","1","0","0","0","0","0","0","0","0"]
[null,null,"Y","2024-12-01","THE HONG KONG POLYTECHNIC UNIVERSITY",null,"ACAD","4578805814","RXO","3","ClinicMaster Information System","Local System","563","0","0","76","487",null,null,null,"0","0","76",null,"76",null,null,"76","0","0",null,null,null,"0",null,"0","0","0","0","0","0",null,"1 Dec 2024 to 31 Dec 2024","THE HONG KONG POLYTECHNIC UNIVERSITY","POLYU","HCAI","4578805814","RXO","3","ClinicMaster Information System","Local System","563","0","0","76","487","","0","0","0","0","76","0.134991119005329","76","0","0","76","0","0","","487","0.865008880994671","0","0","0","0","0","0","0","0"]
[null,null,"Y","2024-12-01","THE HONG KONG POLYTECHNIC UNIVERSITY",null,"ACAD","4578805814","ENCTR","3","ClinicMaster Information System","Local System","397","0","0","0","397",null,null,null,"0","0","0",null,"0",null,null,"0","0","0",null,null,null,"0",null,"0","0","0","0","0","0",null,"1 Dec 2024 to 31 Dec 2024","THE HONG KONG POLYTECHNIC UNIVERSITY","POLYU","HCAI","4578805814","ENCTR","3","ClinicMaster Information System","Local System","397","0","0","0","397","","0","0","0","0","0","0","0","0","0","0","0","0","","397","1","0","0","0","0","0","0","0","0"]
[null,null,"Y","2024-12-01","THE HONG KONG POLYTECHNIC UNIVERSITY",null,"ACAD","4578805814","IMMU","3","ClinicMaster Information System","Local System","18","0","0","0","18",null,null,null,"0","0","0",null,"0",null,null,"0","0","0",null,null,null,"0",null,"0","0","0","0","0","0",null,"1 Dec 2024 to 31 Dec 2024","THE HONG KONG POLYTECHNIC UNIVERSITY","POLYU","HCAI","4578805814","IMMU","3","ClinicMaster Information System","Local System","18","0","0","0","18","","0","0","0","0","0","0","0","0","0","0","0","0","","18","1","0","0","0","0","0","0","0","0"]
[null,null,"Y","2024-12-01","THE HONG KONG POLYTECHNIC UNIVERSITY",null,"ACAD","4578805814","AL1","3","ClinicMaster Information System","Local System","1","0","0","1","0",null,null,null,"0","0","1",null,"1",null,null,"1","0","0",null,null,null,"0",null,"0","0","0","0","0","0",null,"1 Dec 2024 to 31 Dec 2024","THE HONG KONG POLYTECHNIC UNIVERSITY","POLYU","HCAI","4578805814","AL1","3","ClinicMaster Information System","Local System","1","0","0","1","0","","0","0","0","0","1","1","1","0","0","1","0","0","","0","0","0","0","0","0","0","0","0","0"]
[null,null,"Y","2024-12-01","HONG KONG INTEGRATED ONCOLOGY CENTRE",null,"GRP","6691242811","RAD","3","RHI2","Local System","836","0","0","0","836",null,null,null,"0","0","0",null,"0",null,null,"0","0","0",null,null,null,"0",null,"0","0","0","0","0","0",null,"1 Dec 2024 to 31 Dec 2024","HONG KONG INTEGRATED IMAGING AND ENDOSCOPY DIANOSTIC CENTRE","HKIDIC","GROUP","6691242811","RAD","3","Local System","Local System","836","0","0","0","836","","0","0","0","0","0","0","0","0","0","0","0","0","","836","1","0","0","0","0","0","0","0","0"]
[null,null,"Y","2024-12-01","18 CHINESE MEDICINE CLINIC CUM TRAINING AND RESEARCH CENTRE (THE HONG KONG BUDDHIST ASSOCIATION)",null,"NGO","8296860643","ENCTR","3","HA CMIS","Local System","307","0","0","0","307",null,null,null,"0","0","0",null,"0",null,null,"0","0","0",null,null,null,"0",null,"0","0","0","0","0","0",null,"1 Dec 2024 to 31 Dec 2024","18 Chinese Medicine Clinic cum Traing and Research Centre (The Hong Kong Buddist Association)","18CMCTRs (HKBA)","NGO","8296860643","ENCTR","3","Local System","Local System","307","0","0","0","307","","0","0","0","0","0","0","0","0","0","0","0","0","","307","1","0","0","0","0","0","0","0","0"]
[null,null,"Y","2024-12-01","18 CHINESE MEDICINE CLINIC CUM TRAINING AND RESEARCH CENTRE (THE HONG KONG BUDDHIST ASSOCIATION)",null,"NGO","8296860643","CMPROB","3","HA CMIS","Local System","278","0","0","55","223",null,null,null,"0","0","41",null,"41",null,null,"41","0","0",null,null,null,"0",null,"0","0","0","0","0","0",null,"1 Dec 2024 to 31 Dec 2024","18 Chinese Medicine Clinic cum Traing and Research Centre (The Hong Kong Buddist Association)","18CMCTRs (HKBA)","NGO","8296860643","CMPROB","3","Local System","EC Connect","278","0","0","55","223","","0","0","0","0","41","0.147482014388489","41","0","0","41","0","0","","223","0.802158273381295","0","0","0","0","0","0","0","0"]
[null,null,"Y","2024-12-01","18 CHINESE MEDICINE CLINIC CUM TRAINING AND RESEARCH CENTRE (THE HONG KONG BUDDHIST ASSOCIATION)",null,"NGO","8296860643","CMRXO","3","HA CMIS","Local System","160","0","0","21","139",null,null,null,"0","0","21",null,"21",null,null,"21","0","0",null,null,null,"0",null,"0","0","0","0","0","0",null,"1 Dec 2024 to 31 Dec 2024","18 Chinese Medicine Clinic cum Traing and Research Centre (The Hong Kong Buddist Association)","18CMCTRs (HKBA)","NGO","8296860643","CMRXO","3","Local System","EC Connect","160","0","0","21","139","","0","0","0","0","21","0.13125","21","0","0","21","0","0","","139","0.86875","0","0","0","0","0","0","0","0"]
[null,null,"Y","2024-12-01","18 CHINESE MEDICINE CLINIC CUM TRAINING AND RESEARCH CENTRE (THE HONG KONG BUDDHIST ASSOCIATION)",null,"NGO","8296860643","CMPX","3","HA CMIS","Local System","63","0","0","0","63",null,null,null,"0","0","0",null,"0",null,null,"0","0","0",null,null,null,"0",null,"0","0","0","0","0","0",null,"1 Dec 2024 to 31 Dec 2024","18 Chinese Medicine Clinic cum Traing and Research Centre (The Hong Kong Buddist Association)","18CMCTRs (HKBA)","NGO","8296860643","CMPX","3","Local System","EC Connect","63","0","0","0","63","","0","0","0","0","0","0","0","0","0","0","0","0","","63","1","0","0","0","0","0","0","0","0"]
[null,null,"Y","2024-12-01","PATHLAB MEDICAL LABORATORIES LIMITED",null,"GRP","2381250555","LABGEN","3","PLDMS","Local System","793","0","30","1","762",null,null,null,"0","0","28",null,"28",null,null,"0","28","0",null,null,null,"1",null,"0","0","0","0","0","2",null,"1 Dec 2024 to 31 Dec 2024","Pathlab Medical Laboratories Limited","PATHLAB MED LAB LTD","GROUP","2381250555","LABGEN","3","Local System","Local System","793","0","30","1","762","","0","0","0","0","28","0.0353089533417402","28","0","0","0","28","0","","762","0.960907944514502","1","0.00126103404791929","0","0","0","0","0","2"]
[null,null,"Y","2024-12-01","MODERN ASCENT LIMITED",null,"SOLO","2342444283","RAD","3","RHI2","Local System","682","0","0","60","622",null,null,null,"0","0","0",null,"0",null,null,"0","0","0",null,null,null,"60",null,"0","0","0","0","60","0",null,"1 Dec 2024 to 31 Dec 2024","MORDERN ASCENT LIMITED","MORDERN ASCENT LIMITED","SOLO","2342444283","RAD","3","RHI2","Local System","682","0","0","60","622","","0","0","0","0","0","0","0","0","0","0","0","0","","622","0.912023460410557","60","0.0879765395894428","0","0","0","0","60","0"]
[null,null,"Y","2024-12-01","UMP MEDICAL CENTRE",null,"GRP","9927384828","RAD","3","RHI2","Local System","645","1","0","0","644",null,null,null,"1","0","0",null,"0",null,null,"0","0","0",null,null,null,"0",null,"0","0","0","0","0","0",null,"1 Dec 2024 to 31 Dec 2024","UMP MEDICAL CENTRE","UMP MEDICAL CENTRE","GROUP","9927384828","RAD","3","RHI2","Local System","645","1","0","0","644","","1","0.00155038759689922","1","0","0","0","0","0","0","0","0","0","","644","0.998449612403101","0","0","0","0","0","0","0","0"]
[null,null,"Y","2024-12-01","ST. TERESA'S HOSPITAL - CHINESE MEDICINE CENTRE",null,"PH","1728942726","ENCTR","3","STH HIS","EC Connect","149","0","0","0","149",null,null,null,"0","0","0",null,"0",null,null,"0","0","0",null,null,null,"0",null,"0","0","0","0","0","0",null,"1 Dec 2024 to 31 Dec 2024","St. Teresa's Hospital - Chinese Medicine Centre","STH-CMC","PH","1728942726","ENCTR","3","STH HIS","Local System","149","0","0","0","149","","0","0","0","0","0","0","0","0","0","0","0","0","","149","1","0","0","0","0","0","0","0","0"]
[null,null,"Y","2024-12-01","HONG KONG CHRISTIAN SERVICE",null,"NGO","9179355867","RXO","3,2","CMS On-ramp","CMS On-ramp","199","0","0","105","94",null,null,null,"0","0","0",null,"0",null,null,"0","0","0",null,null,null,"0",null,"0","0","0","0","0","0",null,"1 Dec 2024 to 31 Dec 2024","Hong Kong Christian Service","HKCS","GROUP","9179355867","RXO","3","Local System","Local System","199","0","0","105","94","","0","0","0","0","0","0","0","0","0","0","0","0","","94","0.472361809045226","0","0","0","0","0","0","0","0"]
[null,null,"Y","2024-12-01","HONG KONG CHRISTIAN SERVICE",null,"NGO","9179355867","RXD","3,2","CMS On-ramp","CMS On-ramp","193","0","0","100","93",null,null,null,"0","0","0",null,"0",null,null,"0","0","0",null,null,null,"0",null,"0","0","0","0","0","0",null,"1 Dec 2024 to 31 Dec 2024","Hong Kong Christian Service","HKCS","GROUP","9179355867","RXD","3","Local System","Local System","193","0","0","100","93","","0","0","0","0","0","0","0","0","0","0","0","0","","93","0.481865284974093","0","0","0","0","0","0","0","0"]
[null,null,"Y","2024-12-01","HONG KONG CHRISTIAN SERVICE",null,"NGO","9179355867","ENCTR","3","CMS On-ramp","CMS On-ramp","78","0","0","0","78",null,null,null,"0","0","0",null,"0",null,null,"0","0","0",null,null,null,"0",null,"0","0","0","0","0","0",null,"1 Dec 2024 to 31 Dec 2024","Hong Kong Christian Service","HKCS","GROUP","9179355867","ENCTR","3","Local System","Local System","78","0","0","0","78","","0","0","0","0","0","0","0","0","0","0","0","0","","78","1","0","0","0","0","0","0","0","0"]
[null,null,"Y","2024-12-01","HONG KONG CHRISTIAN SERVICE",null,"NGO","9179355867","IMMU","3,2","CMS On-ramp","CMS On-ramp","4","0","0","2","2",null,null,null,"0","0","0",null,"0",null,null,"0","0","0",null,null,null,"0",null,"0","0","0","0","0","0",null,"1 Dec 2024 to 31 Dec 2024","Hong Kong Christian Service","HKCS","GROUP","9179355867","IMMU","3","Local System","Local System","4","0","0","2","2","","0","0","0","0","0","0","0","0","0","0","0","0","","2","0.5","0","0","0","0","0","0","0","0"]
[null,null,"Y","2024-12-01","HONG KONG CHRISTIAN SERVICE",null,"NGO","9179355867","AL1","3,2","CMS On-ramp","CMS On-ramp","3","0","0","1","2",null,null,null,"0","0","1",null,"1",null,null,"1","0","0",null,null,null,"0",null,"0","0","0","0","0","0",null,"1 Dec 2024 to 31 Dec 2024","Hong Kong Christian Service","HKCS","GROUP","9179355867","AL1","3","Local System","Local System","3","0","0","1","2","","0","0","0","0","1","0.333333333333333","1","0","0","1","0","0","","2","0.666666666666667","0","0","0","0","0","0","0","0"]
[null,null,"Y","2024-12-01","CENTRUM / CENTRA MRI CENTRE LIMITED",null,"SOLO","3603160126","RAD","3","RHI2","Local System","422","0","0","0","422",null,null,null,"0","0","0",null,"0",null,null,"0","0","0",null,null,null,"0",null,"0","0","0","0","0","0",null,"1 Dec 2024 to 31 Dec 2024","CENTRUM / CENTRAMRI CENTRE LIMITED","CENTRUM / CENTRA MRI","SOLO","3603160126","RAD","3","RHI2","Local System","422","0","0","0","422","","0","0","0","0","0","0","0","0","0","0","0","0","","422","1","0","0","0","0","0","0","0","0"]
[null,null,"Y","2024-12-01","DR. LEUNG KIN KAY",null,"SOLO","3226804803","ENCTR","3","CMS On-ramp","CMS On-ramp","138","0","0","0","138",null,null,null,"0","0","0",null,"0",null,null,"0","0","0",null,null,null,"0",null,"0","0","0","0","0","0",null,"1 Dec 2024 to 31 Dec 2024","DR. LEUNG KIN KAY","DR. LEUNG KIN KAY","SOLO","3226804803","ENCTR","3","Local System","Local System","138","0","0","0","138","","0","0","0","0","0","0","0","0","0","0","0","0","","138","1","0","0","0","0","0","0","0","0"]
[null,null,"Y","2024-12-01","DR. LEUNG KIN KAY",null,"SOLO","3226804803","RXO","3,2","CMS On-ramp","CMS On-ramp","105","0","0","22","83",null,null,null,"0","0","0",null,"0",null,null,"0","0","0",null,null,null,"22",null,"0","0","0","22","0","0",null,"1 Dec 2024 to 31 Dec 2024","DR. LEUNG KIN KAY","DR. LEUNG KIN KAY","SOLO","3226804803","RXO","3","Local System","Local System","105","0","0","22","83","","0","0","0","0","0","0","0","0","0","0","0","0","","83","0.79047619047619","22","0.20952380952381","0","0","0","22","0","0"]
[null,null,"Y","2024-12-01","DR. LEUNG KIN KAY",null,"SOLO","3226804803","RXD","3,2","CMS On-ramp","CMS On-ramp","98","0","0","21","77",null,null,null,"0","0","0",null,"0",null,null,"0","0","0",null,null,null,"21",null,"0","0","0","21","0","0",null,"1 Dec 2024 to 31 Dec 2024","DR. LEUNG KIN KAY","DR. LEUNG KIN KAY","SOLO","3226804803","RXD","3","Local System","Local System","98","0","0","21","77","","0","0","0","0","0","0","0","0","0","0","0","0","","77","0.785714285714286","21","0.214285714285714","0","0","0","21","0","0"]
[null,null,"Y","2024-12-01","DR. LEUNG KIN KAY",null,"SOLO","3226804803","PROB","3,2","CMS On-ramp","CMS On-ramp","79","0","0","6","73",null,null,null,"0","0","0",null,"0",null,null,"0","0","0",null,null,null,"0",null,"0","0","0","0","0","0",null,"1 Dec 2024 to 31 Dec 2024","DR. LEUNG KIN KAY","DR. LEUNG KIN KAY","SOLO","3226804803","PROB","3","Local System","Local System","79","0","0","6","73","","0","0","0","0","0","0","0","0","0","0","0","0","","73","0.924050632911392","0","0","0","0","0","0","0","0"]
[null,null,"Y","2024-12-01","DR. LEUNG KIN KAY",null,"SOLO","3226804803","IMMU","3,2","CMS On-ramp","CMS On-ramp","2","0","0","0","2",null,null,null,"0","0","0",null,"0",null,null,"0","0","0",null,null,null,"0",null,"0","0","0","0","0","0",null,"1 Dec 2024 to 31 Dec 2024","DR. LEUNG KIN KAY","DR. LEUNG KIN KAY","SOLO","3226804803","IMMU","3","Local System","Local System","2","0","0","0","2","","0","0","0","0","0","0","0","0","0","0","0","0","","2","1","0","0","0","0","0","0","0","0"]
[null,null,"Y","2024-12-01","ALPHA MEDICAL (CWB)",null,"GRP","5292537029","RAD","3","RIS (LAAM)","Local System","406","0","0","0","406",null,null,null,"0","0","0",null,"0",null,null,"0","0","0",null,null,null,"0",null,"0","0","0","0","0","0",null,"1 Dec 2024 to 31 Dec 2024","Alpha Medical (CWB)","ALPHA MEDICAL (CWB)","GROUP","5292537029","RAD","3","RIS (LAAM)","Local System","406","0","0","0","406","","0","0","0","0","0","0","0","0","0","0","0","0","","406","1","0","0","0","0","0","0","0","0"]
[null,null,"Y","2024-12-01","DR SHUM NAM CHU'S CLINIC",null,"SOLO","2308765964","RXO","3","CMS On-ramp","CMS On-ramp","125","0","0","20","105",null,null,null,"0","0","0",null,"0",null,null,"0","0","0",null,null,null,"0",null,"0","0","0","0","0","0",null,"1 Dec 2024 to 31 Dec 2024","DR SUM NAM CHU'S CLINIC","DR SUM NAM CHU'S CLINIC","SOLO","2308765964","RXO","3","Local System","Local System","125","0","0","20","105","","0","0","0","0","0","0","0","0","0","0","0","0","","105","0.84","0","0","0","0","0","0","0","0"]
[null,null,"Y","2024-12-01","DR SHUM NAM CHU'S CLINIC",null,"SOLO","2308765964","RXD","3","CMS On-ramp","CMS On-ramp","109","0","0","17","92",null,null,null,"0","0","0",null,"0",null,null,"0","0","0",null,null,null,"0",null,"0","0","0","0","0","0",null,"1 Dec 2024 to 31 Dec 2024","DR SUM NAM CHU'S CLINIC","DR SUM NAM CHU'S CLINIC","SOLO","2308765964","RXD","3","Local System","Local System","109","0","0","17","92","","0","0","0","0","0","0","0","0","0","0","0","0","","92","0.844036697247706","0","0","0","0","0","0","0","0"]
[null,null,"Y","2024-12-01","DR SHUM NAM CHU'S CLINIC",null,"SOLO","2308765964","PROB","3","CMS On-ramp","CMS On-ramp","73","0","0","3","70",null,null,null,"0","0","0",null,"0",null,null,"0","0","0",null,null,null,"0",null,"0","0","0","0","0","0",null,"1 Dec 2024 to 31 Dec 2024","DR SUM NAM CHU'S CLINIC","DR SUM NAM CHU'S CLINIC","SOLO","2308765964","PROB","3","Local System","Local System","73","0","0","3","70","","0","0","0","0","0","0","0","0","0","0","0","0","","70","0.958904109589041","0","0","0","0","0","0","0","0"]
[null,null,"Y","2024-12-01","DR SHUM NAM CHU'S CLINIC",null,"SOLO","2308765964","ENCTR","3","CMS On-ramp","CMS On-ramp","62","0","0","0","62",null,null,null,"0","0","0",null,"0",null,null,"0","0","0",null,null,null,"0",null,"0","0","0","0","0","0",null,"1 Dec 2024 to 31 Dec 2024","DR SUM NAM CHU'S CLINIC","DR SUM NAM CHU'S CLINIC","SOLO","2308765964","ENCTR","3","Local System","Local System","62","0","0","0","62","","0","0","0","0","0","0","0","0","0","0","0","0","","62","1","0","0","0","0","0","0","0","0"]
[null,null,"Y","2024-12-01","DR SHUM NAM CHU'S CLINIC",null,"SOLO","2308765964","IMMU","3","CMS On-ramp","CMS On-ramp","12","0","0","4","8",null,null,null,"0","0","0",null,"0",null,null,"0","0","0",null,null,null,"0",null,"0","0","0","0","0","0",null,"1 Dec 2024 to 31 Dec 2024","DR SUM NAM CHU'S CLINIC","DR SUM NAM CHU'S CLINIC","SOLO","2308765964","IMMU","3","Local System","Local System","12","0","0","4","8","","0","0","0","0","0","0","0","0","0","0","0","0","","8","0.666666666666667","0","0","0","0","0","0","0","0"]
[null,null,"Y","2024-12-01","DR SHUM NAM CHU'S CLINIC",null,"SOLO","2308765964","AL1","3","CMS On-ramp","CMS On-ramp","1","0","0","0","1",null,null,null,"0","0","0",null,"0",null,null,"0","0","0",null,null,null,"0",null,"0","0","0","0","0","0",null,"1 Dec 2024 to 31 Dec 2024","DR SUM NAM CHU'S CLINIC","DR SUM NAM CHU'S CLINIC","SOLO","2308765964","AL1","3","Local System","Local System","1","0","0","0","1","","0","0","0","0","0","0","0","0","0","0","0","0","","1","1","0","0","0","0","0","0","0","0"]
[null,null,"Y","2024-12-01","THE UNIVERSITY OF HONG KONG",null,"ACAD","3726405388","RAD","3","RHI2","Local System","359","0","0","0","359",null,null,null,"0","0","0",null,"0",null,null,"0","0","0",null,null,null,"0",null,"0","0","0","0","0","0",null,"1 Dec 2024 to 31 Dec 2024","The University of Hong Kong","HKU","HCAI","3726405388","RAD","3","Local System","Local System","359","0","0","0","359","","0","0","0","0","0","0","0","0","0","0","0","0","","359","1","0","0","0","0","0","0","0","0"]
[null,null,"Y","2024-12-01","ANCHOR ONCOLOGY AND HEMATOLOGY CENTRE LIMITED",null,"GRP","9713227452","ENCTR","3","ClinicSolution","Local System","236","0","0","0","236",null,null,null,"0","0","0",null,"0",null,null,"0","0","0",null,null,null,"0",null,"0","0","0","0","0","0",null,"1 Dec 2024 to 31 Dec 2024","ANCHOR ONCOLOGY AND HEMATOLOGY CENTRE LIMITED","AOHC","GROUP","9713227452","ENCTR","3","ClinicSolution","Local System","236","0","0","0","236","","0","0","0","0","0","0","0","0","0","0","0","0","","236","1","0","0","0","0","0","0","0","0"]
[null,null,"Y","2024-12-01","ANCHOR ONCOLOGY AND HEMATOLOGY CENTRE LIMITED",null,"GRP","9713227452","RXD","2","ClinicSolution","Local System","57","0","0","57","0",null,null,null,"0","0","0",null,"0",null,null,"0","0","0",null,null,null,"0",null,"0","0","0","0","0","0",null,"1 Dec 2024 to 31 Dec 2024","ANCHOR ONCOLOGY AND HEMATOLOGY CENTRE LIMITED","AOHC","GROUP","9713227452","RXD","2","ClinicSolution","Local System","57","0","0","57","0","","0","0","0","0","0","0","0","0","0","0","0","0","","0","0","0","0","0","0","0","0","0","0"]
[null,null,"Y","2024-12-01","ANCHOR ONCOLOGY AND HEMATOLOGY CENTRE LIMITED",null,"GRP","9713227452","RXO","2","ClinicSolution","Local System","57","0","0","57","0",null,null,null,"0","0","0",null,"0",null,null,"0","0","0",null,null,null,"0",null,"0","0","0","0","0","0",null,"1 Dec 2024 to 31 Dec 2024","ANCHOR ONCOLOGY AND HEMATOLOGY CENTRE LIMITED","AOHC","GROUP","9713227452","RXO","2","ClinicSolution","Local System","57","0","0","57","0","","0","0","0","0","0","0","0","0","0","0","0","0","","0","0","0","0","0","0","0","0","0","0"]
[null,null,"Y","2024-12-01","CITY SURGICAL CENTER LIMITED",null,"GRP","6467582028","ENCTR","3","ClinicSolution","Local System","156","0","0","0","156",null,null,null,"0","0","0",null,"0",null,null,"0","0","0",null,null,null,"0",null,"0","0","0","0","0","0",null,"1 Dec 2024 to 31 Dec 2024","CITY SURGICAL CENTER LIMITED","CITY SURGICAL CENTER","GROUP","6467582028","ENCTR","3","ClinicSolution","Local System","156","0","0","0","156","","0","0","0","0","0","0","0","0","0","0","0","0","","156","1","0","0","0","0","0","0","0","0"]
[null,null,"Y","2024-12-01","CITY SURGICAL CENTER LIMITED",null,"GRP","6467582028","PROB","3","ClinicSolution","Local System","94","5","0","89","0",null,null,null,"5","0","89",null,"89",null,null,"89","0","0",null,null,null,"0",null,"0","0","0","0","0","0",null,"1 Dec 2024 to 31 Dec 2024","CITY SURGICAL CENTER LIMITED","CITY SURGICAL CENTER","GROUP","6467582028","PROB","3","ClinicSolution","Local System","94","5","0","89","0","","5","0.0531914893617021","5","0","89","0.946808510638298","89","0","0","89","0","0","","0","0","0","0","0","0","0","0","0","0"]
[null,null,"Y","2024-12-01","CITY SURGICAL CENTER LIMITED",null,"GRP","6467582028","RXD","2","ClinicSolution","Local System","20","0","0","20","0",null,null,null,"0","0","0",null,"0",null,null,"0","0","0",null,null,null,"0",null,"0","0","0","0","0","0",null,"1 Dec 2024 to 31 Dec 2024","CITY SURGICAL CENTER LIMITED","CITY SURGICAL CENTER","GROUP","6467582028","RXD","2","ClinicSolution","Local System","20","0","0","20","0","","0","0","0","0","0","0","0","0","0","0","0","0","","0","0","0","0","0","0","0","0","0","0"]
[null,null,"Y","2024-12-01","CITY SURGICAL CENTER LIMITED",null,"GRP","6467582028","RXO","2","ClinicSolution","Local System","20","0","0","20","0",null,null,null,"0","0","0",null,"0",null,null,"0","0","0",null,null,null,"0",null,"0","0","0","0","0","0",null,"1 Dec 2024 to 31 Dec 2024","CITY SURGICAL CENTER LIMITED","CITY SURGICAL CENTER","GROUP","6467582028","RXO","2","ClinicSolution","Local System","20","0","0","20","0","","0","0","0","0","0","0","0","0","0","0","0","0","","0","0","0","0","0","0","0","0","0","0"]
[null,null,"Y","2024-12-01","CITY SURGICAL CENTER LIMITED",null,"GRP","6467582028","AL1","2","ClinicSolution","Local System","2","0","0","2","0",null,null,null,"0","0","0",null,"0",null,null,"0","0","0",null,null,null,"0",null,"0","0","0","0","0","0",null,"1 Dec 2024 to 31 Dec 2024","CITY SURGICAL CENTER LIMITED","CITY SURGICAL CENTER","GROUP","6467582028","AL1","2","ClinicSolution","Local System","2","0","0","2","0","","0","0","0","0","0","0","0","0","0","0","0","0","","0","0","0","0","0","0","0","0","0","0"]
[null,null,"Y","2024-12-01","MONGKOK MRI CENTRE LIMITED",null,"GRP","5833341375","RAD","3","RHI2","Local System","291","0","0","0","291",null,null,null,"0","0","0",null,"0",null,null,"0","0","0",null,null,null,"0",null,"0","0","0","0","0","0",null,"1 Dec 2024 to 31 Dec 2024","Mongkok MRI Centre Limited","MONGKOK MRI CENTRE LTD","GROUP","5833341375","RAD","3","RHI2","Local System","291","0","0","0","291","","0","0","0","0","0","0","0","0","0","0","0","0","","291","1","0","0","0","0","0","0","0","0"]
[null,null,"Y","2024-12-01","HUMAN HEALTH MEDICAL CENTRE.",null,"GRP","5634981022","EPIS","1","RCMS_LAAM","Local System","161","0","161","0","0",null,null,null,"0","0","0",null,"0",null,null,"0","0","0",null,null,null,"0",null,"0","0","0","0","0","0",null,"1 Dec 2024 to 31 Dec 2024","HUMAN HEALTH MEDICAL CENTRE.","HUMAN HEALTH","GROUP","5634981022","EPIS","1","RCMS_LAAM","Local System","161","0","161","0","0","","0","0","0","0","0","0","0","0","0","0","0","0","","0","0","0","0","0","0","0","0","0","0"]
[null,null,"Y","2024-12-01","HUMAN HEALTH MEDICAL CENTRE.",null,"GRP","5634981022","RAD","1","RCMS_LAAM","Local System","106","0","106","0","0",null,null,null,"0","0","0",null,"0",null,null,"0","0","0",null,null,null,"0",null,"0","0","0","0","0","0",null,"1 Dec 2024 to 31 Dec 2024","HUMAN HEALTH MEDICAL CENTRE.","HUMAN HEALTH","GROUP","5634981022","RAD","1","RCMS_LAAM","Local System","106","0","106","0","0","","0","0","0","0","0","0","0","0","0","0","0","0","","0","0","0","0","0","0","0","0","0","0"]
[null,null,"Y","2024-12-01","ALL WELL (ASIA) LIMITED",null,"GRP","8891674942","ENCTR","3","ClinicSolution","Local System","117","0","0","0","117",null,null,null,"0","0","0",null,"0",null,null,"0","0","0",null,null,null,"0",null,"0","0","0","0","0","0",null,"1 Dec 2024 to 31 Dec 2024","ALL WELL (ASIA) LIMITED","ADVANZ PHYSIO CENTRE","GROUP","8891674942","ENCTR","3","ClinicSolution","Local System","117","0","0","0","117","","0","0","0","0","0","0","0","0","0","0","0","0","","117","1","0","0","0","0","0","0","0","0"]
[null,null,"Y","2024-12-01","ALL WELL (ASIA) LIMITED",null,"GRP","8891674942","PROB","3","ClinicSolution","Local System","27","0","0","27","0",null,null,null,"0","0","27",null,"27",null,null,"27","0","0",null,null,null,"0",null,"0","0","0","0","0","0",null,"1 Dec 2024 to 31 Dec 2024","ALL WELL (ASIA) LIMITED","ADVANZ PHYSIO CENTRE","GROUP","8891674942","PROB","3","ClinicSolution","Local System","27","0","0","27","0","","0","0","0","0","27","1","27","0","0","27","0","0","","0","0","0","0","0","0","0","0","0","0"]
[null,null,"Y","2024-12-01","HEALTH INTEGRATED LIMITED",null,"SOLO","5368445357","RXD","2","ClinicSolution","Local System","61","0","0","61","0",null,null,null,"0","0","0",null,"0",null,null,"0","0","0",null,null,null,"0",null,"0","0","0","0","0","0",null,"1 Dec 2024 to 31 Dec 2024","HEALTH INTEGRATED LIMITED","HEALTH INTEGRATED LIMITED","OTH","5368445357","RXD","2","ClinicSolution","Local System","61","0","0","61","0","","0","0","0","0","0","0","0","0","0","0","0","0","","0","0","0","0","0","0","0","0","0","0"]
[null,null,"Y","2024-12-01","HEALTH INTEGRATED LIMITED",null,"SOLO","5368445357","RXO","2","ClinicSolution","Local System","61","0","0","61","0",null,null,null,"0","0","0",null,"0",null,null,"0","0","0",null,null,null,"0",null,"0","0","0","0","0","0",null,"1 Dec 2024 to 31 Dec 2024","HEALTH INTEGRATED LIMITED","HEALTH INTEGRATED LIMITED","OTH","5368445357","RXO","2","ClinicSolution","Local System","61","0","0","61","0","","0","0","0","0","0","0","0","0","0","0","0","0","","0","0","0","0","0","0","0","0","0","0"]
[null,null,"Y","2024-12-01","HEALTH INTEGRATED LIMITED",null,"SOLO","5368445357","ENCTR","3","ClinicSolution","Local System","13","0","0","0","13",null,null,null,"0","0","0",null,"0",null,null,"0","0","0",null,null,null,"0",null,"0","0","0","0","0","0",null,"1 Dec 2024 to 31 Dec 2024","HEALTH INTEGRATED LIMITED","HEALTH INTEGRATED LIMITED","OTH","5368445357","ENCTR","3","ClinicSolution","Local System","13","0","0","0","13","","0","0","0","0","0","0","0","0","0","0","0","0","","13","1","0","0","0","0","0","0","0","0"]
[null,null,"Y","2024-12-01","HEALTH INTEGRATED LIMITED",null,"SOLO","5368445357","PROB","3","ClinicSolution","Local System","1","0","0","1","0",null,null,null,"0","0","1",null,"1",null,null,"1","0","0",null,null,null,"0",null,"0","0","0","0","0","0",null,"1 Dec 2024 to 31 Dec 2024","HEALTH INTEGRATED LIMITED","HEALTH INTEGRATED LIMITED","OTH","5368445357","PROB","3","ClinicSolution","Local System","1","0","0","1","0","","0","0","0","0","1","1","1","0","0","1","0","0","","0","0","0","0","0","0","0","0","0","0"]
[null,null,"Y","2024-12-01","IPATH LABORATORY LIMITED",null,"GRP","4178262222","LABAP","1","iPath","Local System","132","0","132","0","0",null,null,null,"0","0","0",null,"0",null,null,"0","0","0",null,null,null,"0",null,"0","0","0","0","0","0",null,"1 Dec 2024 to 31 Dec 2024","IPATH LABORATORY LIMITED","IPATH LABORATORY LIMITED","GROUP","4178262222","LABAP","1","Local System","Local System","132","0","132","0","0","","0","0","0","0","0","0","0","0","0","0","0","0","","0","0","0","0","0","0","0","0","0","0"]
[null,null,"Y","2024-12-01","BNS MEDICAL IMAGING LIMITED",null,"GRP","7417567584","RAD","3","RHI2","Local System","84","0","0","0","84",null,null,null,"0","0","0",null,"0",null,null,"0","0","0",null,null,null,"0",null,"0","0","0","0","0","0",null,"1 Dec 2024 to 31 Dec 2024","BNS Medical Imaging Limited","BNS MEDICAL IMAGING LTD","GROUP","7417567584","RAD","3","RHI2","Local System","84","0","0","0","84","","0","0","0","0","0","0","0","0","0","0","0","0","","84","1","0","0","0","0","0","0","0","0"]
[null,null,"Y","2024-12-01","ACTON DIGITAL PET-CT CENTRE LIMITED",null,"GRP","7221331623","RAD","3","RHI2","Local System","76","0","0","0","76",null,null,null,"0","0","0",null,"0",null,null,"0","0","0",null,null,null,"0",null,"0","0","0","0","0","0",null,"1 Dec 2024 to 31 Dec 2024","Acton Digital PET-CT Centre Limited","ACTON DIGITAL PET-CT CTR","GROUP","7221331623","RAD","3","Local System","Local System","76","0","0","0","76","","0","0","0","0","0","0","0","0","0","0","0","0","","76","1","0","0","0","0","0","0","0","0"]
[null,null,"Y","2024-12-01","HONG KONG BREAST CANCER AND DISEASE CENTRE LIMITED",null,"SOLO","9407305541","RXO","3,2","CMS On-ramp","CMS On-ramp","37","0","0","5","32",null,null,null,"0","0","0",null,"0",null,null,"0","0","0",null,null,null,"0",null,"0","0","0","0","0","0",null,"1 Dec 2024 to 31 Dec 2024","Hong Kong Breast Cancer and Disease Centre Limited","HKBCADC","SOLO","9407305541","RXO","3","Local System","Local System","37","0","0","5","32","","0","0","0","0","0","0","0","0","0","0","0","0","","32","0.864864864864865","0","0","0","0","0","0","0","0"]
[null,null,"Y","2024-12-01","HONG KONG BREAST CANCER AND DISEASE CENTRE LIMITED",null,"SOLO","9407305541","RXD","3,2","CMS On-ramp","CMS On-ramp","33","0","0","1","32",null,null,null,"0","0","0",null,"0",null,null,"0","0","0",null,null,null,"0",null,"0","0","0","0","0","0",null,"1 Dec 2024 to 31 Dec 2024","Hong Kong Breast Cancer and Disease Centre Limited","HKBCADC","SOLO","9407305541","RXD","3","Local System","Local System","33","0","0","1","32","","0","0","0","0","0","0","0","0","0","0","0","0","","32","0.96969696969697","0","0","0","0","0","0","0","0"]
[null,null,"Y","2024-12-01","HONG KONG BREAST CANCER AND DISEASE CENTRE LIMITED",null,"SOLO","9407305541","AL1","3,2","CMS On-ramp","CMS On-ramp","4","0","0","0","4",null,null,null,"0","0","0",null,"0",null,null,"0","0","0",null,null,null,"0",null,"0","0","0","0","0","0",null,"1 Dec 2024 to 31 Dec 2024","Hong Kong Breast Cancer and Disease Centre Limited","HKBCADC","SOLO","9407305541","AL1","3","Local System","Local System","4","0","0","0","4","","0","0","0","0","0","0","0","0","0","0","0","0","","4","1","0","0","0","0","0","0","0","0"]
[null,null,"Y","2024-12-01","INSTA MEDLAB MRI CENTRE LIMITED",null,"GRP","3426117536","RAD","3","RIS(LAAM for Insta MedLab PRD)","Local System","66","0","0","0","66",null,null,null,"0","0","0",null,"0",null,null,"0","0","0",null,null,null,"0",null,"0","0","0","0","0","0",null,"1 Dec 2024 to 31 Dec 2024","INSTA MELAB MRI CENTRE LIMITED","INSTA MELAB MRI CTR LTD","GROUP","3426117536","RAD","3","RIS(LAAM for Insta MedLab PRD)","Local System","66","0","0","0","66","","0","0","0","0","0","0","0","0","0","0","0","0","","66","1","0","0","0","0","0","0","0","0"]
[null,null,"Y","2024-12-01","DR. TONY CHUN KIT LEE MEDICAL PRACTICE LIMITED",null,"SOLO","7071207758","ENCTR","3","ClinicSolution","Local System","16","0","0","0","16",null,null,null,"0","0","0",null,"0",null,null,"0","0","0",null,null,null,"0",null,"0","0","0","0","0","0",null,"1 Dec 2024 to 31 Dec 2024","DR. TONY CHUN KIT LEE MEDICAL PRATICE LIMITED","DR. TONY CHUN KIT LEE","SOLO","7071207758","ENCTR","3","ClinicSolution","Local System","16","0","0","0","16","","0","0","0","0","0","0","0","0","0","0","0","0","","16","1","0","0","0","0","0","0","0","0"]
[null,null,"Y","2024-12-01","DR. TONY CHUN KIT LEE MEDICAL PRACTICE LIMITED",null,"SOLO","7071207758","RXD","2","ClinicSolution","Local System","16","0","0","16","0",null,null,null,"0","0","0",null,"0",null,null,"0","0","0",null,null,null,"0",null,"0","0","0","0","0","0",null,"1 Dec 2024 to 31 Dec 2024","DR. TONY CHUN KIT LEE MEDICAL PRATICE LIMITED","DR. TONY CHUN KIT LEE","SOLO","7071207758","RXD","2","ClinicSolution","Local System","16","0","0","16","0","","0","0","0","0","0","0","0","0","0","0","0","0","","0","0","0","0","0","0","0","0","0","0"]
[null,null,"Y","2024-12-01","DR. TONY CHUN KIT LEE MEDICAL PRACTICE LIMITED",null,"SOLO","7071207758","RXO","2","ClinicSolution","Local System","16","0","0","16","0",null,null,null,"0","0","0",null,"0",null,null,"0","0","0",null,null,null,"0",null,"0","0","0","0","0","0",null,"1 Dec 2024 to 31 Dec 2024","DR. TONY CHUN KIT LEE MEDICAL PRATICE LIMITED","DR. TONY CHUN KIT LEE","SOLO","7071207758","RXO","2","ClinicSolution","Local System","16","0","0","16","0","","0","0","0","0","0","0","0","0","0","0","0","0","","0","0","0","0","0","0","0","0","0","0"]
[null,null,"Y","2024-12-01","DR. TONY CHUN KIT LEE MEDICAL PRACTICE LIMITED",null,"SOLO","7071207758","AL1","2","ClinicSolution","Local System","2","0","0","2","0",null,null,null,"0","0","0",null,"0",null,null,"0","0","0",null,null,null,"0",null,"0","0","0","0","0","0",null,"1 Dec 2024 to 31 Dec 2024","DR. TONY CHUN KIT LEE MEDICAL PRATICE LIMITED","DR. TONY CHUN KIT LEE","SOLO","7071207758","AL1","2","ClinicSolution","Local System","2","0","0","2","0","","0","0","0","0","0","0","0","0","0","0","0","0","","0","0","0","0","0","0","0","0","0","0"]
[null,null,"Y","2024-12-01","DR. TONY CHUN KIT LEE MEDICAL PRACTICE LIMITED",null,"SOLO","7071207758","PROB","3","ClinicSolution","Local System","2","0","0","2","0",null,null,null,"0","0","2",null,"2",null,null,"2","0","0",null,null,null,"0",null,"0","0","0","0","0","0",null,"1 Dec 2024 to 31 Dec 2024","DR. TONY CHUN KIT LEE MEDICAL PRATICE LIMITED","DR. TONY CHUN KIT LEE","SOLO","7071207758","PROB","3","ClinicSolution","Local System","2","0","0","2","0","","0","0","0","0","2","1","2","0","0","2","0","0","","0","0","0","0","0","0","0","0","0","0"]
[null,null,"Y","2024-12-01","THE SPECIALISTS HEALTH CHECK AND DIAGNOSTIC IMAGING CENTRE LIMITED",null,"SOLO","1999740540","RAD","3","RHI2","Local System","46","0","0","0","46",null,null,null,"0","0","0",null,"0",null,null,"0","0","0",null,null,null,"0",null,"0","0","0","0","0","0",null,"1 Dec 2024 to 31 Dec 2024","The Specialists Health Check and Diagnostic Centre Limited","SHC-DIC","SOLO","1999740540","RAD","3","RHI2","Local System","46","0","0","0","46","","0","0","0","0","0","0","0","0","0","0","0","0","","46","1","0","0","0","0","0","0","0","0"]
[null,null,"Y","2024-12-01","ADVANCE X-RAY & MEDICAL DIAGNOSTIC CENTRE LTD",null,"SOLO","9306084059","ENCTR","3","HKMA CMS for LAAM","Local System","21","0","0","0","21",null,null,null,"0","0","0",null,"0",null,null,"0","0","0",null,null,null,"0",null,"0","0","0","0","0","0",null,"1 Dec 2024 to 31 Dec 2024","Advance X-Ray & Medical Diagnostic Centre Ltd","AXMDCL","SOLO","9306084059","ENCTR","3","CMS5.0 (HKMA)","Local System","21","0","0","0","21","","0","0","0","0","0","0","0","0","0","0","0","0","","21","1","0","0","0","0","0","0","0","0"]
[null,null,"Y","2024-12-01","ADVANCE X-RAY & MEDICAL DIAGNOSTIC CENTRE LTD",null,"SOLO","9306084059","LABGEN","1","HKMA CMS for LAAM","Local System","21","0","21","0","0",null,null,null,"0","0","0",null,"0",null,null,"0","0","0",null,null,null,"0",null,"0","0","0","0","0","0",null,"1 Dec 2024 to 31 Dec 2024","Advance X-Ray & Medical Diagnostic Centre Ltd","AXMDCL","SOLO","9306084059","LABGEN","1","CMS5.0 (HKMA)","Local System","21","0","21","0","0","","0","0","0","0","0","0","0","0","0","0","0","0","","0","0","0","0","0","0","0","0","0","0"]
[null,null,"Y","2024-12-01","L & C CLINICAL PRACTICE",null,"GRP","5251825990","RXD","2","ClinicSolution","Local System","13","0","0","13","0",null,null,null,"0","0","0",null,"0",null,null,"0","0","0",null,null,null,"0",null,"0","0","0","0","0","0",null,"1 Dec 2024 to 31 Dec 2024","L & C CLINICAL PRACTICE","L & C CLINICAL PRACTICE","GROUP","5251825990","RXD","2","ClinicSolution","Local System","13","0","0","13","0","","0","0","0","0","0","0","0","0","0","0","0","0","","0","0","0","0","0","0","0","0","0","0"]
[null,null,"Y","2024-12-01","L & C CLINICAL PRACTICE",null,"GRP","5251825990","RXO","2","ClinicSolution","Local System","13","0","0","13","0",null,null,null,"0","0","0",null,"0",null,null,"0","0","0",null,null,null,"0",null,"0","0","0","0","0","0",null,"1 Dec 2024 to 31 Dec 2024","L & C CLINICAL PRACTICE","L & C CLINICAL PRACTICE","GROUP","5251825990","RXO","2","ClinicSolution","Local System","13","0","0","13","0","","0","0","0","0","0","0","0","0","0","0","0","0","","0","0","0","0","0","0","0","0","0","0"]
[null,null,"Y","2024-12-01","L & C CLINICAL PRACTICE",null,"GRP","5251825990","ENCTR","3","ClinicSolution","Local System","4","0","0","0","4",null,null,null,"0","0","0",null,"0",null,null,"0","0","0",null,null,null,"0",null,"0","0","0","0","0","0",null,"1 Dec 2024 to 31 Dec 2024","L & C CLINICAL PRACTICE","L & C CLINICAL PRACTICE","GROUP","5251825990","ENCTR","3","ClinicSolution","Local System","4","0","0","0","4","","0","0","0","0","0","0","0","0","0","0","0","0","","4","1","0","0","0","0","0","0","0","0"]
[null,null,"Y","2024-12-01","L & C CLINICAL PRACTICE",null,"GRP","5251825990","PROB","3","ClinicSolution","Local System","3","0","0","3","0",null,null,null,"0","0","3",null,"3",null,null,"3","0","0",null,null,null,"0",null,"0","0","0","0","0","0",null,"1 Dec 2024 to 31 Dec 2024","L & C CLINICAL PRACTICE","L & C CLINICAL PRACTICE","GROUP","5251825990","PROB","3","ClinicSolution","Local System","3","0","0","3","0","","0","0","0","0","3","1","3","0","0","3","0","0","","0","0","0","0","0","0","0","0","0","0"]
[null,null,"Y","2024-12-01","KINDNESS CHINESE MEDICAL CLINIC LIMITED",null,"SOLO","9165130652","ENCTR","3","EC Connect","EC Connect","8","0","0","0","8",null,null,null,"0","0","0",null,"0",null,null,"0","0","0",null,null,null,"0",null,"0","0","0","0","0","0",null,"1 Dec 2024 to 31 Dec 2024","KINDNESS CHINESE MEDICAL CLINIC LIMITED","KINDNESS CHINESE MEDICAL","SOLO","9165130652","ENCTR","3","Local System","Local System","8","0","0","0","8","","0","0","0","0","0","0","0","0","0","0","0","0","","8","1","0","0","0","0","0","0","0","0"]
[null,null,"Y","2024-12-01","KINDNESS CHINESE MEDICAL CLINIC LIMITED",null,"SOLO","9165130652","CMPROB","3","EC Connect","EC Connect","7","0","0","3","4",null,null,null,"0","0","0",null,"0",null,null,"0","0","0",null,null,null,"0",null,"0","0","0","0","0","0",null,"1 Dec 2024 to 31 Dec 2024","KINDNESS CHINESE MEDICAL CLINIC LIMITED","KINDNESS CHINESE MEDICAL","SOLO","9165130652","CMPROB","3","Local System","EC Connect","7","0","0","3","4","","0","0","0","0","0","0","0","0","0","0","0","0","","4","0.571428571428571","0","0","0","0","0","0","0","0"]
[null,null,"Y","2024-12-01","KINDNESS CHINESE MEDICAL CLINIC LIMITED",null,"SOLO","9165130652","CMRXD","3","EC Connect","EC Connect","6","0","0","0","6",null,null,null,"0","0","0",null,"0",null,null,"0","0","0",null,null,null,"0",null,"0","0","0","0","0","0",null,"1 Dec 2024 to 31 Dec 2024","KINDNESS CHINESE MEDICAL CLINIC LIMITED","KINDNESS CHINESE MEDICAL","SOLO","9165130652","CMRXD","3","Local System","EC Connect","6","0","0","0","6","","0","0","0","0","0","0","0","0","0","0","0","0","","6","1","0","0","0","0","0","0","0","0"]
[null,null,"Y","2024-12-01","KINDNESS CHINESE MEDICAL CLINIC LIMITED",null,"SOLO","9165130652","CMRXO","3","EC Connect","EC Connect","6","0","0","0","6",null,null,null,"0","0","0",null,"0",null,null,"0","0","0",null,null,null,"0",null,"0","0","0","0","0","0",null,"1 Dec 2024 to 31 Dec 2024","KINDNESS CHINESE MEDICAL CLINIC LIMITED","KINDNESS CHINESE MEDICAL","SOLO","9165130652","CMRXO","3","Local System","EC Connect","6","0","0","0","6","","0","0","0","0","0","0","0","0","0","0","0","0","","6","1","0","0","0","0","0","0","0","0"]
[null,null,"Y","2024-12-01","KINDNESS CHINESE MEDICAL CLINIC LIMITED",null,"SOLO","9165130652","CMPX","3","EC Connect","EC Connect","1","0","0","0","1",null,null,null,"0","0","0",null,"0",null,null,"0","0","0",null,null,null,"0",null,"0","0","0","0","0","0",null,"1 Dec 2024 to 31 Dec 2024","KINDNESS CHINESE MEDICAL CLINIC LIMITED","KINDNESS CHINESE MEDICAL","SOLO","9165130652","CMPX","3","Local System","EC Connect","1","0","0","0","1","","0","0","0","0","0","0","0","0","0","0","0","0","","1","1","0","0","0","0","0","0","0","0"]
[null,null,"Y","2024-12-01","HAN QI CHINESE MEDICINE LIMITED",null,"GRP","2091864776","CMPROB","3","EC Connect","EC Connect","7","0","0","1","6",null,null,null,"0","0","0",null,"0",null,null,"0","0","0",null,null,null,"0",null,"0","0","0","0","0","0",null,"1 Dec 2024 to 31 Dec 2024","Han Qi Chinese Medicine Limited","HAN QI CHINESE MEDICINE","GROUP","2091864776","CMPROB","3","Local System","EC Connect","7","0","0","1","6","","0","0","0","0","0","0","0","0","0","0","0","0","","6","0.857142857142857","0","0","0","0","0","0","0","0"]
[null,null,"Y","2024-12-01","HAN QI CHINESE MEDICINE LIMITED",null,"GRP","2091864776","CMRXD","3","EC Connect","EC Connect","6","0","0","6","0",null,null,null,"0","0","0",null,"0",null,null,"0","0","0",null,null,null,"0",null,"0","0","0","0","0","0",null,"1 Dec 2024 to 31 Dec 2024","Han Qi Chinese Medicine Limited","HAN QI CHINESE MEDICINE","GROUP","2091864776","CMRXD","3","Local System","EC Connect","6","0","0","6","0","","0","0","0","0","0","0","0","0","0","0","0","0","","0","0","0","0","0","0","0","0","0","0"]
[null,null,"Y","2024-12-01","HAN QI CHINESE MEDICINE LIMITED",null,"GRP","2091864776","CMRXO","3","EC Connect","EC Connect","6","0","0","6","0",null,null,null,"0","0","0",null,"0",null,null,"0","0","0",null,null,null,"0",null,"0","0","0","0","0","0",null,"1 Dec 2024 to 31 Dec 2024","Han Qi Chinese Medicine Limited","HAN QI CHINESE MEDICINE","GROUP","2091864776","CMRXO","3","Local System","EC Connect","6","0","0","6","0","","0","0","0","0","0","0","0","0","0","0","0","0","","0","0","0","0","0","0","0","0","0","0"]
[null,null,"Y","2024-12-01","HAN QI CHINESE MEDICINE LIMITED",null,"GRP","2091864776","ENCTR","3","EC Connect","EC Connect","6","0","0","0","6",null,null,null,"0","0","0",null,"0",null,null,"0","0","0",null,null,null,"0",null,"0","0","0","0","0","0",null,"1 Dec 2024 to 31 Dec 2024","Han Qi Chinese Medicine Limited","HAN QI CHINESE MEDICINE","GROUP","2091864776","ENCTR","3","Local System","Local System","6","0","0","0","6","","0","0","0","0","0","0","0","0","0","0","0","0","","6","1","0","0","0","0","0","0","0","0"]
[null,null,"Y","2024-12-01","WELL BEING CHINESE MEDICINE CLINIC",null,"SOLO","1667592556","CMRXO","3","EC Connect","EC Connect","8","0","0","0","8",null,null,null,"0","0","0",null,"0",null,null,"0","0","0",null,null,null,"0",null,"0","0","0","0","0","0",null,"1 Dec 2024 to 31 Dec 2024","WELL BEING CHINESE MEDICINE CLINIC","WBCMC","SOLO","1667592556","CMRXO","3","Local System","EC Connect","8","0","0","0","8","","0","0","0","0","0","0","0","0","0","0","0","0","","8","1","0","0","0","0","0","0","0","0"]
[null,null,"Y","2024-12-01","WELL BEING CHINESE MEDICINE CLINIC",null,"SOLO","1667592556","CMPROB","3","EC Connect","EC Connect","6","0","0","3","3",null,null,null,"0","0","0",null,"0",null,null,"0","0","0",null,null,null,"0",null,"0","0","0","0","0","0",null,"1 Dec 2024 to 31 Dec 2024","WELL BEING CHINESE MEDICINE CLINIC","WBCMC","SOLO","1667592556","CMPROB","3","Local System","EC Connect","6","0","0","3","3","","0","0","0","0","0","0","0","0","0","0","0","0","","3","0.5","0","0","0","0","0","0","0","0"]
[null,null,"Y","2024-12-01","WELL BEING CHINESE MEDICINE CLINIC",null,"SOLO","1667592556","ENCTR","3","EC Connect","EC Connect","5","0","0","0","5",null,null,null,"0","0","0",null,"0",null,null,"0","0","0",null,null,null,"0",null,"0","0","0","0","0","0",null,"1 Dec 2024 to 31 Dec 2024","WELL BEING CHINESE MEDICINE CLINIC","WBCMC","SOLO","1667592556","ENCTR","3","Local System","Local System","5","0","0","0","5","","0","0","0","0","0","0","0","0","0","0","0","0","","5","1","0","0","0","0","0","0","0","0"]
[null,null,"Y","2024-12-01","WELL BEING CHINESE MEDICINE CLINIC",null,"SOLO","1667592556","CMRXD","3","EC Connect","EC Connect","1","0","0","0","1",null,null,null,"0","0","0",null,"0",null,null,"0","0","0",null,null,null,"0",null,"0","0","0","0","0","0",null,"1 Dec 2024 to 31 Dec 2024","WELL BEING CHINESE MEDICINE CLINIC","WBCMC","SOLO","1667592556","CMRXD","3","Local System","EC Connect","1","0","0","0","1","","0","0","0","0","0","0","0","0","0","0","0","0","","1","1","0","0","0","0","0","0","0","0"]
[null,null,"Y","2024-12-01","MEDIC-TECH X-RAY & LABORATORY SERVICE",null,"SOLO","1960920902","ENCTR","3","HKMA CMS for LAAM","Local System","10","0","0","0","10",null,null,null,"0","0","0",null,"0",null,null,"0","0","0",null,null,null,"0",null,"0","0","0","0","0","0",null,"1 Dec 2024 to 31 Dec 2024","MEDIC-TECH X-RAY & LABORATORY SERVICE","MEDIC-TECH X-RAY & LAB","SOLO","1960920902","ENCTR","3","CMS5.0 (HKMA)","Local System","10","0","0","0","10","","0","0","0","0","0","0","0","0","0","0","0","0","","10","1","0","0","0","0","0","0","0","0"]
[null,null,"Y","2024-12-01","MEDIC-TECH X-RAY & LABORATORY SERVICE",null,"SOLO","1960920902","LABGEN","1","HKMA CMS for LAAM","Local System","9","0","9","0","0",null,null,null,"0","0","0",null,"0",null,null,"0","0","0",null,null,null,"0",null,"0","0","0","0","0","0",null,"1 Dec 2024 to 31 Dec 2024","MEDIC-TECH X-RAY & LABORATORY SERVICE","MEDIC-TECH X-RAY & LAB","SOLO","1960920902","LABGEN","1","CMS5.0 (HKMA)","Local System","9","0","9","0","0","","0","0","0","0","0","0","0","0","0","0","0","0","","0","0","0","0","0","0","0","0","0","0"]
[null,null,"Y","2024-12-01","SHAO YAO CHINESE MEDICINE CLINIC LIMITED",null,"SOLO","8061038543","ENCTR","3","EC Connect","EC Connect","3","0","0","0","3",null,null,null,"0","0","0",null,"0",null,null,"0","0","0",null,null,null,"0",null,"0","0","0","0","0","0",null,"1 Dec 2024 to 31 Dec 2024","Shao Yao Chinese Medicine Clinic Limited","SYCMC LTD","SOLO","8061038543","ENCTR","3","Local System","Local System","3","0","0","0","3","","0","0","0","0","0","0","0","0","0","0","0","0","","3","1","0","0","0","0","0","0","0","0"]
[null,null,"Y","2024-12-01","SHAO YAO CHINESE MEDICINE CLINIC LIMITED",null,"SOLO","8061038543","CMPROB","3","EC Connect","EC Connect","1","0","0","0","1",null,null,null,"0","0","0",null,"0",null,null,"0","0","0",null,null,null,"0",null,"0","0","0","0","0","0",null,"1 Dec 2024 to 31 Dec 2024","Shao Yao Chinese Medicine Clinic Limited","SYCMC LTD","SOLO","8061038543","CMPROB","3","Local System","EC Connect","1","0","0","0","1","","0","0","0","0","0","0","0","0","0","0","0","0","","1","1","0","0","0","0","0","0","0","0"]
[null,null,"Y","2024-12-01","SHAO YAO CHINESE MEDICINE CLINIC LIMITED",null,"SOLO","8061038543","CMPX","3","EC Connect","EC Connect","1","0","0","0","1",null,null,null,"0","0","0",null,"0",null,null,"0","0","0",null,null,null,"0",null,"0","0","0","0","0","0",null,"1 Dec 2024 to 31 Dec 2024","Shao Yao Chinese Medicine Clinic Limited","SYCMC LTD","SOLO","8061038543","CMPX","3","Local System","EC Connect","1","0","0","0","1","","0","0","0","0","0","0","0","0","0","0","0","0","","1","1","0","0","0","0","0","0","0","0"]
[null,null,"Y","2024-12-01","SHAO YAO CHINESE MEDICINE CLINIC LIMITED",null,"SOLO","8061038543","CMRXD","3","EC Connect","EC Connect","1","0","0","0","1",null,null,null,"0","0","0",null,"0",null,null,"0","0","0",null,null,null,"0",null,"0","0","0","0","0","0",null,"1 Dec 2024 to 31 Dec 2024","Shao Yao Chinese Medicine Clinic Limited","SYCMC LTD","SOLO","8061038543","CMRXD","3","Local System","EC Connect","1","0","0","0","1","","0","0","0","0","0","0","0","0","0","0","0","0","","1","1","0","0","0","0","0","0","0","0"]
[null,null,"Y","2024-12-01","SHAO YAO CHINESE MEDICINE CLINIC LIMITED",null,"SOLO","8061038543","CMRXO","3","EC Connect","EC Connect","1","0","0","0","1",null,null,null,"0","0","0",null,"0",null,null,"0","0","0",null,null,null,"0",null,"0","0","0","0","0","0",null,"1 Dec 2024 to 31 Dec 2024","Shao Yao Chinese Medicine Clinic Limited","SYCMC LTD","SOLO","8061038543","CMRXO","3","Local System","EC Connect","1","0","0","0","1","","0","0","0","0","0","0","0","0","0","0","0","0","","1","1","0","0","0","0","0","0","0","0"]
[null,null,"Y","2024-12-01","MAN YEE (TCM) MEDICAL CLINIC LIMITED",null,"GRP","2822145488","ENCTR","3","EC Connect","EC Connect","3","0","0","0","3",null,null,null,"0","0","0",null,"0",null,null,"0","0","0",null,null,null,"0",null,"0","0","0","0","0","0",null,"1 Dec 2024 to 31 Dec 2024","Man Yee (TCM) Medical Clinic Limited","MAN YEE (TCM)","GROUP","2822145488","ENCTR","3","Local System","Local System","3","0","0","0","3","","0","0","0","0","0","0","0","0","0","0","0","0","","3","1","0","0","0","0","0","0","0","0"]